{"text_format":"1","workbook":"xlsx","n_sheets":11,"sheets":["README","ReleaseNotes","unique_contracts","Calcs","resources","lse_names","misc","btm_pv_forecast","Reliability","ReportSheet","CSPReportSheet"],"not_rendered":{"charts":2,"images":0,"macros":1,"external_links":0,"defined_names":62,"comments":0,"pivot_tables":0},"unopened":[],"bounds":{"document_bytes":16777216,"sheet_cells":100000,"rows_first":2000,"rows_last":500,"rows_between":2000,"halvings":0,"cell_chars":16384,"cell_head_chars":4096},"cells_cut":0,"cells_raw":0,"read":"whole","date_system":"1900"}

{"sheet":"README","index":0,"n_rows":4,"n_cols":4,"rows_kept":4,"cut":false,"hidden":false,"merged":[[3,0,3,1],[3,3,4,6]]}
["ReleaseVersion","rdtv3"]
["ReleaseDate","2022-09-23"]
[]
[null,null,null," In order to run the macro, LSEs must FIRST enable macros. Then, they are instructed to complete the RDT data entry fully, then push the button on the README tab. "]

{"sheet":"ReleaseNotes","index":1,"n_rows":9,"n_cols":4,"rows_kept":9,"cut":false,"hidden":false,"merged":[]}
["ReleaseVersion","ReleaseDate","ID","Note"]
["RDTv3 beta","2022-06-06"]
["RDTv3 Release","2022-06-15"]
["RDTv3 Updated","2022-06-20",null,"Minor updates in columns' names"]
["RDTv3 Updated","2022-07-15",null,"Reliability tabs updates & some minor updates to the resource tab"]
["RDTv3 Updated","2022-07-29",null,"1)\"misc\" tab: updated with all ELCC % values and added MRN/TRN ratios\n2)“Reliability” tab: added formulas to pull MRN/TRN ratios from the “misc” worksheet; updated formatting for cells H23:J50 and L23:P50 (previously greyed out since results weren’t available for those years)\n3)“Calcs” tab: updated formulas in columns S:T so that battery contracts with durations greater than or equal to 9 hours will get “8hr_batteries” ELCC%; updated formulas in columns S:T and added formulas in column Y so that battery contracts with durations less than 4 hours will get (“4hr_batteries” ELCC%) * (contract duration) / 4hr"]
["RDTv3 Updated","2022-08-23",null,"1)\"resources\" tab: updated to include several new resource IDs, remove duplicates, adjust how baseline hybrid/paired resources are characterized, and update some project-specific information\n2) \"btm_pv_forecast\" tab: Added an additional LSE\n3)“ReportSheet” tab: new macro generated error flag, Rows with invalid buying_energy_capacity and csp_resource_category; flags contracts with non-storage CSP resources is marked as CapacityOnly and is marked as CSP.\n4)“ReportSheet” tab: summation now includes contracts that ara both \"Buy\" and \"Owned\""]
["RDTv3 Updated","2022-09-23",null,"1) corrects made to macro\n2) fixes the ELCC type issues for a few generic resources"]
["RDTv3 Updated","2022-10-11",null,"1) corrects made to the \"CSPReportSheet\""]

{"sheet":"unique_contracts","index":2,"n_rows":193,"n_cols":77,"rows_kept":193,"cut":false,"hidden":false,"merged":[]}
["lse_unique_contract_id","resource","alternative_resource_name","contract_status","project_interconnection_position","interconnection_substation","marginal_addition","marginal_addition_to","total_nameplate_capacity","contracted_nameplate_capacity","sep_contracted_mw_nqc","contract_gwh_annual","is_hybrid_paired","can_charge_from_grid","total_generator_mw","contracted_generator_mw","total_storage_mw","contracted_storage_mw","solar_technology_sub_type","storage_technology_sub_type","total_storage_depth_mwh","contracted_storage_depth_mwh","viability_cod_reasonableness","viability_technical_feasibility","viability_financing_sitecontrol","resource_mix","cam_d1911016_vamo_ghgfreepcia","buy_sell_own","counterparty","generator_supplier","developer_name","capacity_area","capacity_sub_area","cpuc_approval_ref","county","COD_year","COD_month","COD_day","contract_start_date_year","contract_start_date_month","contract_start_date_day","contract_end_date_year","contract_end_date_month","contract_end_date_day","contract_execution_date_year","contract_execution_date_month","contract_execution_date_day","tx_upgrades","tx_upgrade_date_year","tx_upgrade_date_month","tx_upgrade_date_day","tx_upgrade_description","d1911016_tranche","d2106035_procurement_cat","mtr_tranche1_NQC","mtr_tranche2_NQC","mtr_tranche3_NQC","mtr_tranche4_NQC_LDES","mtr_tranche4_NQC_firm_ZE","mtr_NQC_ZE_gen_paired_dr","previous_COD_year","previous_COD_month","previous_COD_day","remediation_plan","signed_contract","notice_to_proceed","public_contract","buying_energy_capacity","NQC_reporting_source","procurement_origin","csp_resource_category","csp_annual_2024","csp_annual_2026","csp_annual_2030","csp_annual_2035","macro_supertype","notes"]
["Badger Filtration Plant","MSSION_2_QF","RE Badger Filtration Plant","Online",null,"N/A","N/A",null,2,0.6,0.37,1.7768551199999969,"NotHybrid","NA",null,null,null,null,null,null,null,null,null,null,null,null,null,null,null,null,"NA","SDGE",null,null,"SanDiegoCounty",2020,7,1,2020,7,1,2027,7,1,2019,10,7,"NA","NA","NA","NA","NA","NA",null,null,null,null,null,null,null,null,null,null,"NA","YES",null,"YES","EnergyOnly","Calculated",null,"Small Hydro (GWh)",1.7768567786818381,1.7768567786818381,0,0,"physical"]
["Borrego Advanced Energy Storage","_NEW_GENERIC_BATTERY_STORAGE",null,"Development","Unknown - Can't find","Borrego Substation","N/A",null,7.3,7.3,6.4604999999999997,8.3888676350000004,"NotHybrid","NA",null,null,null,null,null,null,null,17.446999999999999,null,null,"N/A - No Financing Required. Utility Owned",null,null,"Owned",null,null,"SDGE","SanDiegoImperialValley","No_sub_area","SDG&E's 2019 GRC","SanDiegoCounty",null,null,null,null,null,null,2060,12,31,2019,10,1,"NA","NA","NA","NA","NA","NA",null,null,null,null,null,null,null,null,null,null,"NA","YES",null,"Yes, See CPUC approval referance column","EnergyCapacity","In the contract","SDG&E 2019 GRC","Battery Storage (MWh Energy Capacity)",17.446999999999999,17.446999999999999,17.446999999999999,17.446999999999999,"newgeneric"]
["Boulevard Substation","_NEW_GENERIC_BATTERY_STORAGE",null,"Development","WDAT 127","Boulevard","N/A",null,10,10,8.85,11.4915995,"NotHybrid","NA",null,null,null,null,null,null,null,40,null,null,"N/A - No Financing Required. Utility Owned",null,"CAM","Owned",null,null,"SDGE","SDGE","San Diego/Imperial Valley  San Diego","3929-E","SanDiegoCounty",null,null,null,null,null,null,2060,12,31,2022,3,3,"NA","NA","NA","NA","NA","NA",null,null,null,null,null,null,null,null,null,null,"NA","YES",null,"Yes, See CPUC approval referance column","EnergyCapacity","In the contract","summerreliability","Battery Storage (MWh Energy Capacity)",40,40,40,40,"newgeneric"]
["Boulevard Substation - Allocation","_NEW_GENERIC_BATTERY_STORAGE",null,"Development","WDAT 127","Boulevard","N/A",null,10,7.58,6.7082999999999995,8.7106324209999997,"NotHybrid","NA",null,null,null,null,null,null,null,30.32,null,null,"N/A - No Financing Required. Utility Owned",null,"CAM","sell","Multiple non-IOU LSEs",null,"SDGE","SDGE","San Diego/Imperial Valley  San Diego","3929-E","SanDiegoCounty",null,null,null,null,null,null,2060,12,31,2022,3,3,"NA","NA","NA","NA","NA","NA",null,null,null,null,null,null,null,null,null,null,"NA","YES",null,"Yes, See CPUC approval referance column","EnergyCapacity",null,null,"Battery Storage (MWh Energy Capacity)",30.32,30.32,30.32,30.32,"newgeneric"]
["Carlsbad 1","CARLS1_2_CARCT1",null,"Online",null,"N/A","N/A",null,422,422,422,148.97781600000002,"NotHybrid","NA",null,null,null,null,null,null,null,null,null,null,null,null,"CAM",null,null,null,"NA","SDGE",null,null,"SanDiegoCounty",2018,12,12,2018,12,12,2038,12,13,2015,6,1,"NA","NA","NA","NA","NA","NA",null,null,null,null,null,null,null,null,null,null,"NA","YES",null,"YES","EnergyCapacity","Calculated",null,"NA",0,0,0,0,"physical"]
["Carlsbad 1 - Allocation","_EXISTING_GENERIC_PEAKER",null,"Online",null,"N/A","N/A",null,422,319.87599999999998,319.87599999999998,0,"NotHybrid","NA",null,null,null,null,null,null,null,null,null,null,null,null,"CAM","sell","Multiple non-IOU LSEs",null,"NA","SDGE",null,null,"SanDiegoCounty",2018,12,12,2018,12,12,2038,12,13,2015,6,1,"NA","NA","NA","NA","NA","NA",null,null,null,null,null,null,null,null,null,null,"NA","YES",null,"YES","EnergyCapacity",null,null,"NA",0,0,0,0,"existinggeneric"]
["Carlsbad 2","CARLS2_1_CARCT1",null,"Online",null,"N/A","N/A",null,105.5,105.5,105.5,37.244454000000005,"NotHybrid","NA",null,null,null,null,null,null,null,null,null,null,null,null,"CAM",null,null,null,"NA","SDGE",null,null,"SanDiegoCounty",2018,12,12,2018,12,12,2038,12,13,2015,6,1,"NA","NA","NA","NA","NA","NA",null,null,null,null,null,null,null,null,null,null,"NA","YES",null,"YES","EnergyCapacity","Calculated",null,"NA",0,0,0,0,"physical"]
["Carlsbad 2 - Allocation","_EXISTING_GENERIC_PEAKER",null,"Online",null,"N/A","N/A",null,105.5,79.968999999999994,79.968999999999994,0,"NotHybrid","NA",null,null,null,null,null,null,null,null,null,null,null,null,"CAM","sell","Multiple non-IOU LSEs",null,"NA","SDGE",null,null,"SanDiegoCounty",2018,12,12,2018,12,12,2038,12,13,2015,6,1,"NA","NA","NA","NA","NA","NA",null,null,null,null,null,null,null,null,null,null,"NA","YES",null,"YES","EnergyCapacity",null,null,"NA",0,0,0,0,"existinggeneric"]
["Clairemont Substation","_NEW_GENERIC_BATTERY_STORAGE",null,"Development","WDAT 128","Clairemont","N/A",null,10,10,8.85,11.4915995,"NotHybrid","NA",null,null,null,null,null,null,null,40,null,null,"N/A - No Financing Required. Utility Owned",null,"CAM","Owned",null,null,"SDGE","SDGE","San Diego/Imperial Valley  San Diego","3929-E","SanDiegoCounty",null,null,null,null,null,null,2060,12,31,2022,3,2,"NA","NA","NA","NA","NA","NA",null,null,null,null,null,null,null,null,null,null,"NA","YES",null,"Yes, See CPUC approval referance column","EnergyCapacity","In the contract","summerreliability","Battery Storage (MWh Energy Capacity)",40,40,40,40,"newgeneric"]
["Clairemont Substation - Allocation","_NEW_GENERIC_BATTERY_STORAGE",null,"Development","WDAT 128","Clairemont","N/A",null,10,7.58,6.7082999999999995,8.7106324209999997,"NotHybrid","NA",null,null,null,null,null,null,null,30.32,null,null,"N/A - No Financing Required. Utility Owned",null,"CAM","sell","Multiple non-IOU LSEs",null,"SDGE","SDGE","San Diego/Imperial Valley  San Diego","3929-E","SanDiegoCounty",null,null,null,null,null,null,2060,12,31,2022,3,2,"NA","NA","NA","NA","NA","NA",null,null,null,null,null,null,null,null,null,null,"NA","YES",null,"Yes, See CPUC approval referance column","EnergyCapacity",null,null,"Battery Storage (MWh Energy Capacity)",30.32,30.32,30.32,30.32,"newgeneric"]
["Cuyamaca - SDGE","ELCAJN_6_UNITA1","Cuyamaca","Online",null,"N/A","N/A",null,45.42,45,45.42,13.797000000000002,"NotHybrid","NA",null,null,null,null,null,null,null,null,null,null,null,null,null,"Owned",null,null,"NA","SDGE",null,null,"SanDiegoCounty",2012,1,1,2012,1,1,2060,12,31,2011,12,1,"NA","NA","NA","NA","NA","NA",null,null,null,null,null,null,null,null,null,null,"NA","YES",null,"YES","EnergyCapacity","Calculated",null,"NA",0,0,0,0,"physical"]
["Desert Star - SDGE","MRCHNT_2_PL1X3","Desert Star","Online",null,"N/A","N/A",null,494.58,485,419.25,1359.5519999999999,"NotHybrid","NA",null,null,null,null,null,null,null,null,null,null,null,null,null,"Owned",null,null,"NA","SCE",null,null,"Nevada",2011,10,1,2011,10,1,2060,12,31,2007,11,16,"NA","NA","NA","NA","NA","NA",null,null,null,null,null,null,null,null,null,null,"NA","YES",null,"YES","EnergyCapacity","Calculated",null,"NA",0,0,0,0,"physical"]
["Edward-Sanborn Hybrid","_EXISTING_GENERIC_BATTERY_STORAGE",null,"Online",null,"N/A","N/A",null,434,25,24.524999999999999,0,"ExistingSolarExistingStorage","NO",345,25,179,25,"Fixed","Li",716,100,null,null,null,null,"D.19-11-016",null,null,null,"NA","BigCreekVentura","No_sub_area","AL 4010-E","KernCounty",2022,9,1,2022,9,1,2034,8,31,2022,5,15,"NA","NA","NA","NA","NA","1&2&3",null,null,null,null,null,null,null,"N/A","N/A","N/A","NO","YES","NO","YES","EnergyCapacity","In the contract","summerreliability, D1911016","Hybrid_or_Paired_Solar_and_Battery (GWh)",0,0,0,0,"existinggeneric"]
["Edward-Sanborn Hybrid - Allocation","_EXISTING_GENERIC_BATTERY_STORAGE",null,"Online",null,"N/A","N/A",null,434,10.055,9.8639549999999989,0,"ExistingSolarExistingStorage","NO",345,0,179,10.055,"Fixed","Li",716,0,null,null,null,null,"D.19-11-016","sell","Multiple non-IOU LSEs",null,"NA","BigCreekVentura",null,null,"KernCounty",2022,9,1,2022,9,1,2034,8,31,2022,5,15,"NA","NA","NA","NA","NA","1&2&3",null,null,null,null,null,null,null,"N/A","N/A","N/A","NO","YES",null,"YES","EnergyCapacity",null,null,"Hybrid_or_Paired_Solar_and_Battery (GWh)",0,0,0,0,"existinggeneric"]
["El Cajon Energy Center (Wellhead)","ELCAJN_6_LM6K","El Cajon Energy Center","Online",null,"N/A","N/A",null,48.1,47,48.1,16.592316000000004,"NotHybrid","NA",null,null,null,null,null,null,null,null,null,null,null,null,null,null,null,null,"NA","SDGE",null,null,"SanDiegoCounty",2010,6,16,2010,6,16,2035,12,31,2010,6,16,"NA","NA","NA","NA","NA","NA",null,null,null,null,null,null,null,null,null,null,"NA","YES",null,"YES","EnergyCapacity","Calculated",null,"NA",0,0,0,0,"physical"]
["El Cajon Energy Storage","ELCAJN_6_EB1BT1"," Eastern BESS","Online",null,"N/A","N/A",null,7.5,7.5,7.5,8.6186996250000014,"NotHybrid","NA",null,null,null,null,null,null,null,30,null,null,null,null,"CAM","Owned",null,null,"NA","SDGE",null,null,"SanDiegoCounty",2017,3,2,2017,3,2,2060,12,31,2016,5,26,"NA","NA","NA","NA","NA","NA",null,null,null,null,null,null,null,null,null,null,"NA","YES",null,"YES","EnergyCapacity","Calculated",null,"Battery Storage (MWh Energy Capacity)",30,30,30,30,"physical"]
["El Cajon Energy Storage - Allocation","_EXISTING_GENERIC_BATTERY_STORAGE"," Eastern BESS","Online",null,"N/A","N/A",null,7.5,5.6850000000000005,5.6850000000000005,6.5329743157500015,"NotHybrid","NA",null,null,null,null,null,null,null,22.740000000000002,null,null,null,null,"CAM","sell","Multiple non-IOU LSEs",null,"NA","SDGE",null,null,"SanDiegoCounty",2017,3,2,2017,3,2,2060,12,31,2016,5,26,"NA","NA","NA","NA","NA","NA",null,null,null,null,null,null,null,null,null,null,"NA","YES",null,"YES","EnergyCapacity",null,null,"Battery Storage (MWh Energy Capacity)",22.740000000000002,22.740000000000002,22.740000000000002,22.740000000000002,"existinggeneric"]
["Elliott Substation","_NEW_GENERIC_BATTERY_STORAGE",null,"Development","WDAT 129","Elliott","N/A",null,10,10,8.85,11.4915995,"NotHybrid","NA",null,null,null,null,null,null,null,40,null,null,"N/A - No Financing Required. Utility Owned",null,"CAM","Owned",null,null,"SDGE","SDGE","San Diego/Imperial Valley  San Diego","3929-E","SanDiegoCounty",null,null,null,null,null,null,2060,12,31,2022,3,2,"NA","NA","NA","NA","NA","NA",null,null,null,null,null,null,null,null,null,null,"NA","YES",null,"Yes, See CPUC approval referance column","EnergyCapacity","In the contract","summerreliability","Battery Storage (MWh Energy Capacity)",40,40,40,40,"newgeneric"]
["Elliott Substation - Allocation","_NEW_GENERIC_BATTERY_STORAGE",null,"Development","WDAT 129","Elliott","N/A",null,10,7.58,6.7082999999999995,8.7106324209999997,"NotHybrid","NA",null,null,null,null,null,null,null,30.32,null,null,"N/A - No Financing Required. Utility Owned",null,"CAM","sell","Multiple non-IOU LSEs",null,"SDGE","SDGE","San Diego/Imperial Valley  San Diego","3929-E","SanDiegoCounty",null,null,null,null,null,null,2060,12,31,2022,3,2,"NA","NA","NA","NA","NA","NA",null,null,null,null,null,null,null,null,null,null,"NA","YES",null,"Yes, See CPUC approval referance column","EnergyCapacity",null,null,"Battery Storage (MWh Energy Capacity)",30.32,30.32,30.32,30.32,"newgeneric"]
["Escondido Energy Center","ESCNDO_6_PL1X2","Escondido Energy Center (Wellhead)","Online",null,"N/A","N/A",null,48.71,47.8,48.71,16.874738400000002,"NotHybrid","NA",null,null,null,null,null,null,null,null,null,null,null,null,"CAM",null,null,null,"NA","SDGE",null,null,"SanDiegoCounty",2014,1,25,2014,1,25,2039,12,31,2011,2,25,"NA","NA","NA","NA","NA","NA",null,null,null,null,null,null,null,null,null,null,"NA","YES",null,"YES","EnergyCapacity","Calculated",null,"NA",0,0,0,0,"physical"]
["Escondido Energy Center - Allocation","_EXISTING_GENERIC_PEAKER","Escondido Energy Center (Wellhead)","Online",null,"N/A","N/A",null,48.71,36.232399999999998,36.922180000000004,0,"NotHybrid","NA",null,null,null,null,null,null,null,null,null,null,null,null,"CAM","sell","Multiple non-IOU LSEs",null,"NA","SDGE",null,null,"SanDiegoCounty",2014,1,25,2014,1,25,2039,12,31,2011,2,25,"NA","NA","NA","NA","NA","NA",null,null,null,null,null,null,null,null,null,null,"NA","YES",null,"YES","EnergyCapacity",null,null,"NA",0,0,0,0,"existinggeneric"]
["Escondido Energy Storage 1","ESCNDO_6_EB1BT1",null,"Online",null,"N/A","N/A",null,10,10,10,11.4915995,"NotHybrid","NA",null,null,null,null,null,null,null,40,null,null,null,null,"CAM","Owned",null,null,"NA","SDGE",null,null,"SanDiegoCounty",2017,3,1,2017,3,1,2060,12,31,2016,5,26,"NA","NA","NA","NA","NA","NA",null,null,null,null,null,null,null,null,null,null,"NA","YES",null,"YES","EnergyCapacity","Calculated",null,"Battery Storage (MWh Energy Capacity)",40,40,40,40,"physical"]
["Escondido Energy Storage 1 - Allocation","_EXISTING_GENERIC_BATTERY_STORAGE",null,"Online",null,"N/A","N/A",null,10,7.58,7.58,8.7106324209999997,"NotHybrid","NA",null,null,null,null,null,null,null,30.32,null,null,null,null,"CAM","sell","Multiple non-IOU LSEs",null,"NA","SDGE",null,null,"SanDiegoCounty",2017,3,1,2017,3,1,2060,12,31,2016,5,26,"NA","NA","NA","NA","NA","NA",null,null,null,null,null,null,null,null,null,null,"NA","YES",null,"YES","EnergyCapacity",null,null,"Battery Storage (MWh Energy Capacity)",30.32,30.32,30.32,30.32,"existinggeneric"]
["Escondido Energy Storage 2","ESCNDO_6_EB2BT2",null,"Online",null,"N/A","N/A",null,10,10,10,11.4915995,"NotHybrid","NA",null,null,null,null,null,null,null,40,null,null,null,null,"CAM","Owned",null,null,"NA","SDGE",null,null,"SanDiegoCounty",2017,3,1,2017,3,1,2060,12,31,2016,5,26,"NA","NA","NA","NA","NA","NA",null,null,null,null,null,null,null,null,null,null,"NA","YES",null,"YES","EnergyCapacity","Calculated",null,"Battery Storage (MWh Energy Capacity)",40,40,40,40,"physical"]
["Escondido Energy Storage 2 - Allocation","_EXISTING_GENERIC_BATTERY_STORAGE",null,"Online",null,"N/A","N/A",null,10,7.58,7.58,8.7106324209999997,"NotHybrid","NA",null,null,null,null,null,null,null,30.32,null,null,null,null,"CAM","sell","Multiple non-IOU LSEs",null,"NA","SDGE",null,null,"SanDiegoCounty",2017,3,1,2017,3,1,2060,12,31,2016,5,26,"NA","NA","NA","NA","NA","NA",null,null,null,null,null,null,null,null,null,null,"NA","YES",null,"YES","EnergyCapacity",null,null,"Battery Storage (MWh Energy Capacity)",30.32,30.32,30.32,30.32,"existinggeneric"]
["Escondido Energy Storage 3","ESCNDO_6_EB3BT3",null,"Online",null,"N/A","N/A",null,10,10,10,11.4915995,"NotHybrid","NA",null,null,null,null,null,null,null,40,null,null,null,null,"CAM","Owned",null,null,"NA","SDGE",null,null,"SanDiegoCounty",2017,3,1,2017,3,1,2060,12,31,2016,5,26,"NA","NA","NA","NA","NA","NA",null,null,null,null,null,null,null,null,null,null,"NA","YES",null,"YES","EnergyCapacity","Calculated",null,"Battery Storage (MWh Energy Capacity)",40,40,40,40,"physical"]
["Escondido Energy Storage 3 - Allocation","_EXISTING_GENERIC_BATTERY_STORAGE",null,"Online",null,"N/A","N/A",null,10,7.58,7.58,8.7106324209999997,"NotHybrid","NA",null,null,null,null,null,null,null,30.32,null,null,null,null,"CAM","sell","Multiple non-IOU LSEs",null,"NA","SDGE",null,null,"SanDiegoCounty",2017,3,1,2017,3,1,2060,12,31,2016,5,26,"NA","NA","NA","NA","NA","NA",null,null,null,null,null,null,null,null,null,null,"NA","YES",null,"YES","EnergyCapacity",null,null,"Battery Storage (MWh Energy Capacity)",30.32,30.32,30.32,30.32,"existinggeneric"]
["Fallbrook Energy Storage","FALLBROOKSTORAGE",null,"Development",1169,"Avocado Substation","N/A",null,40,40,35.4,45.966397999999998,"NotHybrid","NA",null,null,null,null,null,null,null,160,4,3,5,null,"CAM","Owned",null,null,"SDG&E","SDGE","San Diego/Imperial Valley  San Diego","D.18‐05‐024","SanDiegoCounty",null,null,null,null,null,null,2060,12,31,2017,3,30,"NA","NA","NA","NA","NA","NA",null,null,null,null,null,null,null,null,null,null,"NA","YES",null,"Yes, See CPUC approval referance column","EnergyCapacity","Calculated",null,"Battery Storage (MWh Energy Capacity)",160,160,160,160,"physical"]
["Fallbrook Energy Storage - Allocation","FALLBROOKSTORAGE",null,"Development",1169,"Avocado Substation","N/A",null,40,30.32,26.833199999999998,34.842529683999999,"NotHybrid","NA",null,null,null,null,null,null,null,121.28,4,3,5,null,"CAM","sell","Multiple non-IOU LSEs",null,"SDG&E","SDGE","San Diego/Imperial Valley  San Diego","D.18‐05‐024","SanDiegoCounty",null,null,null,null,null,null,2060,12,31,2017,3,30,"NA","NA","NA","NA","NA","NA",null,null,null,null,null,null,null,null,null,null,"NA","YES",null,"Yes, See CPUC approval referance column","EnergyCapacity",null,null,"Battery Storage (MWh Energy Capacity)",121.28,121.28,121.28,121.28,"physical"]
["Gateway Storage","GATEWY_2_GESBT1",null,"Online",null,"N/A","N/A",null,250,10,175,0,"NotHybrid","NA",null,null,null,null,null,null,null,40,null,null,null,null,"D.19-11-016",null,null,null,"NA","SanDiegoImperialValley","San Diego/Imperial Valley  San Diego","AL 4010-E","SanDiegoCounty",2022,8,1,2022,9,1,2036,8,31,2022,5,25,"NA","NA","NA","NA","NA","1&2&3",null,null,null,null,null,null,null,"N/A","N/A","N/A","NO","YES","NO","YES","CapacityOnly","In the contract","summerreliability, D1911016","Battery Storage (MWh Energy Capacity)",0,0,0,0,"physical"]
["Gateway Storage - Allocation","_EXISTING_GENERIC_BATTERY_STORAGE",null,"Online",null,"N/A","N/A",null,250,4.0220000000000002,70.385000000000005,0,"NotHybrid","NA",null,null,null,null,null,null,null,null,null,null,null,null,"D.19-11-016","sell","Multiple non-IOU LSEs",null,"NA","SanDiegoImperialValley",null,null,"SanDiegoCounty",2022,8,1,2022,9,1,2036,8,31,2022,5,25,"NA","NA","NA","NA","NA","1&2&3",null,null,null,null,null,null,null,"N/A","N/A","N/A","NO","YES",null,"YES","CapacityOnly",null,null,"Battery Storage (MWh Energy Capacity)",0,0,0,0,"existinggeneric"]
["Goal Line (CHP)","ESCO_6_GLMQF",null,"Online",null,"N/A","N/A",null,49.9,49.9,49.9,244.88836176000027,"NotHybrid","NA",null,null,null,null,null,null,null,null,null,null,null,null,null,null,null,null,"NA","SDGE",null,null,"SanDiegoCounty",1995,2,15,1995,2,15,2025,2,14,2013,7,2,"NA","NA","NA","NA","NA","NA",null,null,null,null,null,null,null,null,null,null,"NA","YES",null,"YES","EnergyCapacity","Calculated",null,"NA",0,0,0,0,"physical"]
["Grossmont Hospital (CHP)","MURRAY_6_UNIT",null,"Online",null,"N/A","N/A",null,4.12,4.12,0,20.154786620000007,"NotHybrid","NA",null,null,null,null,null,null,null,null,null,null,null,null,"CAM",null,null,null,"NA","SDGE",null,null,"SanDiegoCounty",2017,1,1,2017,1,1,2026,12,31,2016,5,1,"NA","NA","NA","NA","NA","NA",null,null,null,null,null,null,null,null,null,null,"NA","YES",null,"YES","EnergyOnly","Calculated",null,"NA",0,0,0,0,"physical"]
["Grossmont Hospital (CHP) - Allocation","_EXISTING_GENERIC_COGEN",null,"Online",null,"N/A","N/A",null,4.12,3.12296,0,0,"NotHybrid","NA",null,null,null,null,null,null,null,null,null,null,null,null,"CAM","sell","Multiple non-IOU LSEs",null,"NA","SDGE",null,null,"SanDiegoCounty",2017,1,1,2017,1,1,2026,12,31,2016,5,1,"NA","NA","NA","NA","NA","NA",null,null,null,null,null,null,null,null,null,null,"NA","YES",null,"YES","EnergyOnly",null,null,"NA",0,0,0,0,"existinggeneric"]
["Johanna Energy Center","_EXISTING_GENERIC_BATTERY_STORAGE",null,"Online","WDT1396 and WDT1483","N/A","N/A",null,20,20,17.7,22.788016000000013,"NotHybrid","NA",null,null,null,null,null,null,null,80,null,null,null,null,"D.19-11-016",null,null,null,"NA","LABasin","LA Basin  Western","E-5139, SDGE AL 3666-E","OrangeCounty",2022,7,15,2022,9,1,2032,8,31,2020,11,18,"NA","NA","NA","NA","NA","2&3",null,null,null,null,null,null,null,2022,8,1,"NO","YES","NO","YES","EnergyCapacity","In the contract","D1911016","Battery Storage (MWh Energy Capacity)",80,80,80,0,"existinggeneric"]
["Johanna Energy Center - Allocation","_EXISTING_GENERIC_BATTERY_STORAGE",null,"Online","WDT1396 and WDT1483","N/A","N/A",null,20,8.0440000000000005,7.1189399999999994,0,"NotHybrid","NA",null,null,null,null,null,null,null,null,null,null,null,null,"D.19-11-016","sell","Multiple non-IOU LSEs",null,"NA","LABasin",null,null,"OrangeCounty",2022,7,15,2022,9,1,2032,8,31,2020,11,18,"NA","NA","NA","NA","NA","2&3",null,null,null,null,null,null,null,2022,8,1,"NO","YES",null,"YES","CapacityOnly",null,null,"Battery Storage (MWh Energy Capacity)",0,0,0,0,"existinggeneric"]
["Kearny Energy Storage North","KEARNY_6_NESBT1",null,"Online","WDAT125","N/A","N/A",null,10,10,10,11.4915995,"NotHybrid","NA",null,null,null,null,null,null,null,40,null,null,null,null,"D.19-11-016","Owned",null,null,"NA","SanDiegoImperialValley","San Diego/Imperial Valley  San Diego","E-5117, SDGE AL 3605-E","SanDiegoCounty",2022,3,10,2022,3,10,2060,12,31,2021,1,14,"NA","NA","NA","NA","NA","1&2&3",null,null,null,null,null,null,null,2022,2,14,"NO","YES","NO","YES","EnergyCapacity","In the contract","D1911016","Battery Storage (MWh Energy Capacity)",40,40,40,40,"physical"]
["Kearny Energy Storage North - Allocation","_EXISTING_GENERIC_BATTERY_STORAGE",null,"Online","WDAT125","N/A","N/A",null,10,4.0220000000000002,4.0220000000000002,0,"NotHybrid","NA",null,null,null,null,null,null,null,null,null,null,null,null,"D.19-11-016","sell","Multiple non-IOU LSEs",null,"NA","SanDiegoImperialValley",null,null,"SanDiegoCounty",2022,3,10,2022,3,10,2060,12,31,2021,1,14,"NA","NA","NA","NA","NA","1&2&3",null,null,null,null,null,null,null,2022,2,14,"NO","YES",null,"YES","CapacityOnly",null,null,"Battery Storage (MWh Energy Capacity)",0,0,0,0,"existinggeneric"]
["Kearny Energy Storage South","KEARNY_6_SESBT2",null,"Online","WDAT126","N/A","N/A",null,10,10,10,11.4915995,"NotHybrid","NA",null,null,null,null,null,null,null,40,null,null,null,null,"D.19-11-016","Owned",null,null,"NA","SanDiegoImperialValley","San Diego/Imperial Valley  San Diego","E-5117, SDGE AL 3605-E","SanDiegoCounty",2022,3,10,2022,3,10,2060,12,31,2021,1,14,"NA","NA","NA","NA","NA","1&2&3",null,null,null,null,null,null,null,2022,2,14,"NO","YES","NO","YES","EnergyCapacity","In the contract","D1911016","Battery Storage (MWh Energy Capacity)",40,40,40,40,"physical"]
["Kearny Energy Storage South - Allocation","_EXISTING_GENERIC_BATTERY_STORAGE",null,"Online","WDAT126","N/A","N/A",null,10,4.0220000000000002,4.0220000000000002,0,"NotHybrid","NA",null,null,null,null,null,null,null,null,null,null,null,null,"D.19-11-016","sell","Multiple non-IOU LSEs",null,"NA","SanDiegoImperialValley",null,null,"SanDiegoCounty",2022,3,10,2022,3,10,2060,12,31,2021,1,14,"NA","NA","NA","NA","NA","1&2&3",null,null,null,null,null,null,null,2022,2,14,"NO","YES",null,"YES","CapacityOnly",null,null,"Battery Storage (MWh Energy Capacity)",0,0,0,0,"existinggeneric"]
["Kelco","SAMPSN_6_KELCO1","Kelco CHP","Online",null,"N/A","N/A",null,25,25,1.85,8.8257000000000012,"NotHybrid","NA",null,null,null,null,null,null,null,null,null,null,null,null,"CAM",null,null,null,"NA","SDGE",null,null,"SanDiegoCounty",2017,6,1,2017,6,1,2024,5,31,2015,11,19,"NA","NA","NA","NA","NA","NA",null,null,null,null,null,null,null,null,null,null,"NA","YES",null,"YES","EnergyCapacity","Calculated",null,"NA",0,0,0,0,"physical"]
["Kelco - Allocation","_EXISTING_GENERIC_COGEN","Kelco CHP","Online",null,"N/A","N/A",null,25,18.95,1.4023000000000001,0,"NotHybrid","NA",null,null,null,null,null,null,null,null,null,null,null,null,"CAM","sell","Multiple non-IOU LSEs",null,"NA","SDGE",null,null,"SanDiegoCounty",2017,6,1,2017,6,1,2024,5,31,2015,11,19,"NA","NA","NA","NA","NA","NA",null,null,null,null,null,null,null,null,null,null,"NA","YES",null,"YES","EnergyCapacity",null,null,"NA",0,0,0,0,"existinggeneric"]
["Lake Hodges 1","LAKHDG_6_UNIT 1","Olivenhain-Lake Hodges 1","Online",null,"N/A","N/A",null,20,20,20,38.79964499999997,"NotHybrid","NA",null,null,null,null,null,null,null,null,null,null,null,null,null,null,null,null,"NA","SDGE",null,null,"SanDiegoCounty",2012,8,27,2012,8,27,2037,8,26,2008,12,1,"NA","NA","NA","NA","NA","NA",null,null,null,null,null,null,null,null,null,null,"NA","YES",null,"YES","EnergyCapacity","Calculated",null,"Pumped Storage (MW)",20,20,20,20,"physical"]
["Lake Hodges 2","LAKHDG_6_UNIT 2","Olivenhain-Lake Hodges 2","Online",null,"N/A","N/A",null,20,20,20,38.79964499999997,"NotHybrid","NA",null,null,null,null,null,null,null,null,null,null,null,null,null,null,null,null,"NA","SDGE",null,null,"SanDiegoCounty",2012,8,27,2012,8,27,2037,8,26,2008,12,1,"NA","NA","NA","NA","NA","NA",null,null,null,null,null,null,null,null,null,null,"NA","YES",null,"YES","EnergyCapacity","Calculated",null,"Pumped Storage (MW)",20,20,20,20,"physical"]
["Los Alamitos (Bright Canyon)","_NEW_GENERIC_BATTERY_STORAGE",null,"Development","WDT1582 and WDT1583","Shawnee Substation and Cypress Substation","N/A",null,10,10,9.8099999999999987,28.88814766666669,"NewSolarNewStorage","NO",20,20,10,10,"Fixed","Li",40,40,4,3,5,null,"D.19-11-016",null,null,null,"Bright Canyon","LABasin","LA Basin  Western","E-5139, SDGE AL 3666-E","OrangeCounty",null,null,null,null,null,null,null,null,null,2020,12,23,"NA","NA","NA","NA","NA","2&3",null,null,null,null,null,null,null,2023,5,15,"NO","YES","NO","Yes, See CPUC approval referance column","EnergyCapacity","In the contract","D1911016","Hybrid_or_Paired_Solar_and_Battery (GWh)",57.715567999999919,57.793358000000033,57.819960000000165,0,"newgeneric"]
["Los Alamitos (Bright Canyon) - Allocation D.19-11-016","_NEW_GENERIC_BATTERY_STORAGE",null,"Development","WDT1582 and WDT1583","Shawnee Substation and Cypress Substation","N/A",null,10,4.0220000000000002,3.9455819999999995,0,"NewSolarNewStorage","NO",20,0,10,4.0220000000000002,"Fixed","Li",40,0,4,3,5,null,"D.19-11-016","sell","Multiple non-IOU LSEs",null,"Bright Canyon","LABasin","LA Basin  Western","E-5139, SDGE AL 3666-E","OrangeCounty",null,null,null,null,null,null,null,null,null,2020,12,23,"NA","NA","NA","NA","NA","2&3",null,null,null,null,null,null,null,2023,5,15,"NO","YES",null,"Yes, See CPUC approval referance column","EnergyCapacity",null,null,"Hybrid_or_Paired_Solar_and_Battery (GWh)",0,0,0,0,"newgeneric"]
["Los Alamitos (Bright Canyon) - Allocation VAMO","_NEW_GENERIC_SOLAR_1AXIS",null,"Development","WDT1582 and WDT1583","Shawnee Substation and Cypress Substation","N/A",null,10,0,0,22.070544817333353,"NewSolarNewStorage","NO",20,15.28,10,0,"Fixed","Li",40,0,4,3,5,null,"VAMO","sell","Multiple non-IOU LSEs",null,"Bright Canyon","LABasin","LA Basin  Western","E-5139, SDGE AL 3666-E","OrangeCounty",null,null,null,null,null,null,null,null,null,2020,12,23,"NA","NA","NA","NA","NA","2&3",null,null,null,null,null,null,null,2023,5,15,"NO","YES",null,"Yes, See CPUC approval referance column","EnergyOnly",null,null,"Hybrid_or_Paired_Solar_and_Battery (GWh)",44.094693951999936,44.154125512000029,44.174449440000124,0,"newgeneric"]
["Melrose Storage","_NEW_GENERIC_BATTERY_STORAGE",null,"Development","WDAT 122 and WDAT 123","Melrose Substation","N/A",null,20,20,17.7,22.983198999999999,"NotHybrid","NA",null,null,null,null,null,null,null,80,3,3,"N/A - No Financing Required. Utility Owned",null,"CAM","Owned",null,null,"Fluence","SDGE","San Diego/Imperial Valley  San Diego","5193-E","SanDiegoCounty",null,null,null,null,null,null,2060,12,31,2021,12,10,"NA","NA","NA","NA","NA","NA",null,null,null,null,null,null,null,null,null,null,"NA","YES",null,"Yes, See CPUC approval referance column","EnergyCapacity","In the contract","summerreliability","Battery Storage (MWh Energy Capacity)",80,80,80,80,"newgeneric"]
["Melrose Storage - Allocation","_NEW_GENERIC_BATTERY_STORAGE",null,"Development","WDAT 122 and WDAT 123","Melrose Substation","N/A",null,20,15.16,13.416599999999999,17.421264841999999,"NotHybrid","NA",null,null,null,null,null,null,null,60.64,3,3,"N/A - No Financing Required. Utility Owned",null,"CAM","sell","Multiple non-IOU LSEs",null,"Fluence","SDGE","San Diego/Imperial Valley  San Diego","5193-E","SanDiegoCounty",null,null,null,null,null,null,2060,12,31,2021,12,10,"NA","NA","NA","NA","NA","NA",null,null,null,null,null,null,null,null,null,null,"NA","YES",null,"Yes, See CPUC approval referance column","EnergyCapacity",null,null,"Battery Storage (MWh Energy Capacity)",60.64,60.64,60.64,60.64,"newgeneric"]
["Miguel BESS","PRCTVY_1_MIGBT1",null,"Online",null,"N/A","N/A",null,2,2,0,2.2983199000000001,"NotHybrid","NA",null,null,null,null,null,null,null,8,null,null,null,null,null,"Owned",null,null,"NA","SDGE",null,null,"SanDiegoCounty",2018,12,31,2018,12,31,2060,12,31,2016,3,23,"NA","NA","NA","NA","NA","NA",null,null,null,null,null,null,null,null,null,null,"NA","YES",null,"YES","EnergyCapacity","Calculated",null,"Battery Storage (MWh Energy Capacity)",8,8,8,8,"physical"]
["Miramar - SDGE","MRGT_6_MMAREF","Miramar","Online",null,"N/A","N/A",null,45,45,45,18.5274,"NotHybrid","NA",null,null,null,null,null,null,null,null,null,null,null,null,null,"Owned",null,null,"NA","SDGE",null,null,"SanDiegoCounty",2005,7,1,2005,7,1,2060,12,31,2004,6,9,"NA","NA","NA","NA","NA","NA",null,null,null,null,null,null,null,null,null,null,"NA","YES",null,"YES","EnergyCapacity","Calculated",null,"NA",0,0,0,0,"physical"]
["Miramar 2 - SDGE","MRGT_6_MEF2","Miramar 2","Online",null,"N/A","N/A",null,44,44,44,15.032159999999999,"NotHybrid","NA",null,null,null,null,null,null,null,null,null,null,null,null,null,"Owned",null,null,"NA","SDGE",null,null,"SanDiegoCounty",2009,7,1,2009,7,1,2060,12,31,2008,11,17,"NA","NA","NA","NA","NA","NA",null,null,null,null,null,null,null,null,null,null,"NA","YES",null,"YES","EnergyCapacity","Calculated",null,"NA",0,0,0,0,"physical"]
["Modeling Build - Offshore Wind Humboldt","_NEW_GENERIC_WIND",null,"PlannedNew",null,"N/A","N/A",null,39.5,39.5,21.685500000000001,190.329170000001,"NotHybrid","NA",null,null,null,null,null,null,null,null,1,2,1,null,null,null,null,null,"NA","Humboldt",null,null,"HumboldtCounty",2030,1,1,2030,1,1,2040,1,1,2025,6,15,"NA","NA","NA","NA","NA","NA",null,null,null,null,null,null,null,null,null,null,"NA","NO",null,"NO","EnergyCapacity","Calculated","SDG&E 2022 IRP","Wind Offshore Humboldt (GWh)",0,0,190.48906577664098,190.48906577664098,"newgeneric"]
["Modeling Build - Offshore Wind Morro Bay","_NEW_GENERIC_WIND",null,"PlannedNew",null,"N/A","N/A",null,76.3,76.3,41.8887,310.55320800000237,"NotHybrid","NA",null,null,null,null,null,null,null,null,1,2,1,null,null,null,null,null,"NA","BigCreekVentura",null,null,"SanLuisObispoCounty",2030,1,1,2030,1,1,2040,1,1,2025,6,15,"NA","NA","NA","NA","NA","NA",null,null,null,null,null,null,null,null,null,null,"NA","NO",null,"NO","EnergyCapacity","Calculated","SDG&E 2022 IRP","Wind Offshore Morro Bay (GWh)",0,0,310.39040160000235,310.39040160000235,"newgeneric"]
["Modeling Build - Out of State Wind","_NEW_GENERIC_WIND",null,"PlannedNew",null,"N/A","N/A",null,137,137,48.902033898305085,374.59910000000053,"NotHybrid","NA",null,null,null,null,null,null,null,null,1,2,1,null,null,null,null,null,"NA","Baja CA, New Mexico, Wyoming",null,null,null,2027,1,1,2027,1,1,2037,1,1,2025,6,15,"NA","NA","NA","NA","NA","NA",null,null,null,null,null,null,null,null,null,null,"NA","NO",null,"NO","EnergyCapacity","Calculated","SDG&E 2022 IRP","Wind New SCE SDG&E (GWh)",0,0,374.59910000000053,374.59910000000053,"newgeneric"]
["Modeling Build - Shed DR","_NEW_GENERIC_DR",null,"PlannedNew",null,"N/A","N/A",null,67,67,59.831000000000003,0.23226666666666668,"NotHybrid","NA",null,null,null,null,null,null,null,null,1,2,1,null,null,null,null,null,"NA","SDGE",null,null,"SanDiegoCounty",2027,1,1,2027,1,1,2037,1,1,2025,6,15,"NA","NA","NA","NA","NA","NA",null,null,null,null,null,null,null,null,null,null,"NA","NO",null,"NO","EnergyCapacity","Calculated","SDG&E 2022 IRP","Shed DR (MW)",0,67,67,67,"newgeneric"]
["Modeling Build - Solar 2028","_NEW_GENERIC_SOLAR_1AXIS",null,"PlannedNew",null,"N/A","N/A",null,86,86,8.166504704947549,227.75917500000079,"NotHybrid","NA",null,null,null,null,null,null,null,null,1,2,1,null,null,null,null,null,"NA","SanDiegoImperialValley",null,null,null,2028,1,1,2028,1,1,2038,1,1,2025,6,15,"NA","NA","NA","NA","NA","NA",null,null,null,null,null,null,null,null,null,null,"NA","NO",null,"NO","EnergyCapacity","Calculated","SDG&E 2022 IRP","Solar New SCE SDG&E (GWh)",0,0,256.06577400000083,256.06577400000083,"newgeneric"]
["Modeling Build - Solar 2029","_NEW_GENERIC_SOLAR_1AXIS",null,"PlannedNew",null,"N/A","N/A",null,158,158,12.241789205707633,418.4412750000015,"NotHybrid","NA",null,null,null,null,null,null,null,null,1,2,1,null,null,null,null,null,"NA","SanDiegoImperialValley",null,null,null,2029,1,1,2029,1,1,2039,1,1,2025,6,15,"NA","NA","NA","NA","NA","NA",null,null,null,null,null,null,null,null,null,null,"NA","NO",null,"NO","EnergyCapacity","Calculated","SDG&E 2022 IRP","Solar New SCE SDG&E (GWh)",0,0,470.44642200000152,470.44642200000152,"newgeneric"]
["Modeling Build - Solar 2030","_NEW_GENERIC_SOLAR_1AXIS",null,"PlannedNew",null,"N/A","N/A",null,183,183,10.98,544.88414700000112,"NotHybrid","NA",null,null,null,null,null,null,null,null,1,2,1,null,null,null,null,null,"NA","SanDiegoImperialValley",null,null,null,2030,1,1,2030,1,1,2040,1,1,2025,6,15,"NA","NA","NA","NA","NA","NA",null,null,null,null,null,null,null,null,null,null,"NA","NO",null,"NO","EnergyCapacity","Calculated","SDG&E 2022 IRP","Solar New SCE SDG&E (GWh)",0,0,544.88414700000169,544.88414700000169,"newgeneric"]
["Modeling Build - Solar 2031","_NEW_GENERIC_SOLAR_1AXIS",null,"PlannedNew",null,"N/A","N/A",null,43,43,2.6143999999999998,128.03288700000027,"NotHybrid","NA",null,null,null,null,null,null,null,null,1,2,1,null,null,null,null,null,"NA","SanDiegoImperialValley",null,null,null,2031,1,1,2031,1,1,2041,1,1,2025,6,15,"NA","NA","NA","NA","NA","NA",null,null,null,null,null,null,null,null,null,null,"NA","NO",null,"NO","EnergyCapacity","Calculated","SDG&E 2022 IRP","Solar New SCE SDG&E (GWh)",0,0,0,128.03288700000041,"newgeneric"]
["Modeling Build - Solar 2032","_NEW_GENERIC_SOLAR_1AXIS",null,"PlannedNew",null,"N/A","N/A",null,26,26,1.6016000000000001,77.415234000000154,"NotHybrid","NA",null,null,null,null,null,null,null,null,1,2,1,null,null,null,null,null,"NA","SanDiegoImperialValley",null,null,null,2032,1,1,2032,1,1,2042,1,1,2025,6,15,"NA","NA","NA","NA","NA","NA",null,null,null,null,null,null,null,null,null,null,"NA","NO",null,"NO","EnergyCapacity","Calculated","SDG&E 2022 IRP","Solar New SCE SDG&E (GWh)",0,0,0,77.41523400000024,"newgeneric"]
["Modeling Build - Solar 2033","_NEW_GENERIC_SOLAR_1AXIS",null,"PlannedNew",null,"N/A","N/A",null,63,63,3.9312000000000005,187.5830670000004,"NotHybrid","NA",null,null,null,null,null,null,null,null,1,2,1,null,null,null,null,null,"NA","SanDiegoImperialValley",null,null,null,2033,1,1,2033,1,1,2043,1,1,2025,6,15,"NA","NA","NA","NA","NA","NA",null,null,null,null,null,null,null,null,null,null,"NA","NO",null,"NO","EnergyCapacity","Calculated","SDG&E 2022 IRP","Solar New SCE SDG&E (GWh)",0,0,0,187.58306700000063,"newgeneric"]
["Modeling Build - Solar 2034","_NEW_GENERIC_SOLAR_1AXIS",null,"PlannedNew",null,"N/A","N/A",null,44,44,2.7808000000000002,131.01039600000027,"NotHybrid","NA",null,null,null,null,null,null,null,null,1,2,1,null,null,null,null,null,"NA","SanDiegoImperialValley",null,null,null,2034,1,1,2034,1,1,2044,1,1,2025,6,15,"NA","NA","NA","NA","NA","NA",null,null,null,null,null,null,null,null,null,null,"NA","NO",null,"NO","EnergyCapacity","Calculated","SDG&E 2022 IRP","Solar New SCE SDG&E (GWh)",0,0,0,131.01039600000044,"newgeneric"]
["Modeling Build - Wind","_NEW_GENERIC_WIND",null,"PlannedNew",null,"N/A","N/A",null,7,7,1.5858088473705925,19.140100000000029,"NotHybrid","NA",null,null,null,null,null,null,null,null,1,2,1,null,null,null,null,null,"NA","Kern",null,null,null,2027,1,1,2027,1,1,2037,1,1,2025,6,15,"NA","NA","NA","NA","NA","NA",null,null,null,null,null,null,null,null,null,null,"NA","NO",null,"NO","EnergyCapacity","Calculated","SDG&E 2022 IRP","Wind New SCE SDG&E (GWh)",0,0,19.140100000000029,19.140100000000029,"newgeneric"]
["Morgan Stanley (NOB)","_SUPPLIERS_CHOICE","Morgan Stanley","Online",null,"N/A","N/A",null,175,175,0,61.779900000000005,"NotHybrid","NA",null,null,null,null,null,null,null,null,null,null,null,"[unknown, 175]",null,null,null,"Morgan_Stanley_Capital_Group_NOB","NA","PacGE",null,null,"Oregon",2013,5,1,2013,5,1,2022,10,31,2011,10,26,"NA","NA","NA","NA","NA","NA",null,null,null,null,null,null,null,null,null,null,"NA","YES",null,"YES","EnergyCapacity","Calculated",null,"NA",0,0,0,0,"supplierschoice"]
["MTR Procurement (Firm Zero-Emitting)","_NEW_GENERIC_GEOTHERMAL",null,"PlannedNew",null,"N/A","N/A",null,42,42,39.784599042423153,332.01978460000072,"NotHybrid","NA",null,null,null,null,null,null,null,null,1,2,1,null,null,null,null,null,"NA",null,null,null,null,2026,1,1,2026,1,1,2036,1,1,2022,12,31,"NA","NA","NA","NA","NA","NA","firm_ZE",null,null,null,null,42,null,null,null,null,"NA","NO",null,"NO","EnergyCapacity","Calculated","D2106035","Geothermal (GWh)",0,335.48693220000172,331.34062920000054,329.23179239999985,"newgeneric"]
["MTR Procurement (Hybrid) 2023","_NEW_GENERIC_BATTERY_STORAGE",null,"PlannedNew",null,"N/A","N/A",null,80,80,78.47999999999999,231.14862200000042,"NewSolarNewStorage","NO",80,80,80,80,"1Axis","Li",320,320,1,2,1,null,null,null,null,null,"NA",null,null,null,null,2023,1,1,2023,1,1,2038,1,1,2022,12,31,"NA","NA","NA","NA","NA","NA","general",77,null,null,null,null,null,null,null,null,"NA","NO",null,"NO","EnergyCapacity","Calculated","D2106035","Hybrid_or_Paired_Solar_and_Battery (GWh)",230.86227199999968,230.86227199999968,230.86227199999968,230.86227199999968,"newgeneric"]
["MTR Procurement (Hybrid) 2025","_NEW_GENERIC_BATTERY_STORAGE",null,"PlannedNew",null,"N/A","N/A",null,159,159,73.935000000000002,459.40788622500077,"NewSolarNewStorage","YES",173.5,173.5,158.5,158.5,"1Axis","Li",634,634,1,2,1,null,null,null,null,null,"NA",null,null,null,null,2025,1,1,2025,1,1,2037,1,1,2022,12,31,"NA","NA","NA","NA","NA","NA","general_&_ZE_gen_paired_dr",null,null,117,null,null,117,null,null,null,"NA","NO",null,"NO","EnergyCapacity","Calculated","D2106035","Hybrid_or_Paired_Solar_and_Battery (GWh)",0,459.45719610000032,459.66868200000124,459.66690120000226,"newgeneric"]
["MTR Procurement (LDS)","_NEW_GENERIC_BATTERY_STORAGE",null,"PlannedNew",null,"N/A","N/A",null,55,55,49.06,64.208576666666644,"NotHybrid","NA",null,null,null,null,null,null,null,440,1,2,1,null,null,null,null,null,"NA",null,null,null,null,2026,1,1,2026,1,1,2036,1,1,2022,12,31,"NA","NA","NA","NA","NA","NA","long_duration_storage",null,null,null,42,null,null,null,null,null,"NA","NO",null,"NO","EnergyCapacity","Calculated","D2106035","Battery Storage (MWh Energy Capacity)",0,440,440,440,"newgeneric"]
["MTR Procurement (Utility Battery)","_NEW_GENERIC_BATTERY_STORAGE",null,"PlannedNew",null,"N/A","N/A",null,280,280,247.8,321.76478600000002,"NotHybrid","NA",null,null,null,null,null,null,null,1120,1,2,1,null,null,null,null,null,"NA",null,null,null,null,2024,1,1,2024,1,1,2036,1,1,2022,12,31,"NA","NA","NA","NA","NA","NA","general",null,255,null,null,null,null,null,null,null,"NA","NO",null,"NO","EnergyCapacity","Calculated","D2106035","Battery Storage (MWh Energy Capacity)",1120,1120,1120,1120,"newgeneric"]
["OhmConnect","_EXISTING_GENERIC_DR","OhmConnect Demand Response","Online",null,"N/A","N/A",null,3.6,4.5,4.0185000000000004,1.44E-2,"NotHybrid","NA",null,null,null,null,null,null,null,null,null,null,null,null,"CAM",null,null,null,"NA","SDGE",null,null,"SanDiegoCounty",2019,1,1,2019,1,1,2024,12,31,2017,3,30,"NA","NA","NA","NA","NA","NA",null,null,null,null,null,null,null,null,null,null,"NA","YES",null,"YES","EnergyCapacity","Calculated",null,"Shed DR (MW)",4.5,0,0,0,"existinggeneric"]
["OhmConnect - Allocation","_EXISTING_GENERIC_DR","OhmConnect Demand Response","Online",null,"N/A","N/A",null,3.6,3.411,3.0460230000000004,1.44E-2,"NotHybrid","NA",null,null,null,null,null,null,null,null,null,null,null,null,"CAM","sell","Multiple non-IOU LSEs",null,"NA","SDGE",null,null,"SanDiegoCounty",2019,1,1,2019,1,1,2024,12,31,2017,3,30,"NA","NA","NA","NA","NA","NA",null,null,null,null,null,null,null,null,null,null,"NA","YES",null,"YES","EnergyCapacity",null,null,"Shed DR (MW)",3.411,0,0,0,"existinggeneric"]
["Orange Grove","OGROVE_6_PL1X2",null,"Online",null,"N/A","N/A",null,96,99.21,96,35.023907879999996,"NotHybrid","NA",null,null,null,null,null,null,null,null,null,null,null,null,null,null,null,null,"NA","SDGE",null,null,"SanDiegoCounty",2010,6,17,2010,6,17,2035,6,16,2010,6,17,"NA","NA","NA","NA","NA","NA",null,null,null,null,null,null,null,null,null,null,"NA","YES",null,"YES","EnergyCapacity","Calculated",null,"NA",0,0,0,0,"physical"]
["Ortega Grid","_NEW_GENERIC_BATTERY_STORAGE",null,"Development","WDT1636","Elsinore 115/33 kV Substation","N/A",null,10,10,8.85,0,"NotHybrid","NA",null,null,null,null,null,null,null,40,null,null,5,null,"D.19-11-016",null,null,null,"Able Grid","LABasin","LA Basin  Eastern","E-5139, SDGE AL 3666-E","RiversideCounty",null,null,null,null,null,null,null,null,null,2020,12,4,"NA","NA","NA","NA","NA","2&3",null,null,null,null,null,null,null,2023,6,1,"NO","YES","NO","Yes, See CPUC approval referance column","CapacityOnly","In the contract","D1911016","Battery Storage (MWh Energy Capacity)",0,0,0,0,"newgeneric"]
["Ortega Grid - Allocation","_NEW_GENERIC_BATTERY_STORAGE",null,"Development","WDT1636","Elsinore 115/33 kV Substation","N/A",null,10,4.0220000000000002,3.5594699999999997,0,"NotHybrid","NA",null,null,null,null,null,null,null,null,null,null,5,null,"D.19-11-016","sell","Multiple non-IOU LSEs",null,"Able Grid","LABasin","LA Basin  Eastern","E-5139, SDGE AL 3666-E","RiversideCounty",null,null,null,null,null,null,null,null,null,2020,12,4,"NA","NA","NA","NA","NA","2&3",null,null,null,null,null,null,null,2023,6,1,"NO","YES",null,"Yes, See CPUC approval referance column","CapacityOnly",null,null,"Battery Storage (MWh Energy Capacity)",0,0,0,0,"newgeneric"]
["Otay Mesa Energy Center","OTMESA_2_PL1X3","OMEC","Online",null,"N/A","N/A",null,603.67999999999995,603.6,603.6,0,"NotHybrid","NA",null,null,null,null,null,null,null,null,null,null,null,null,null,null,null,null,"NA","SDGE",null,null,"SanDiegoCounty",2019,10,3,2019,10,3,2024,8,30,2007,5,1,"NA","NA","NA","NA","NA","NA",null,null,null,null,null,null,null,null,null,null,"NA","YES",null,"YES","CapacityOnly","Calculated",null,"NA",0,0,0,0,"physical"]
["Pala-Gomez Creek Storage","_NEW_GENERIC_BATTERY_STORAGE",null,"Development","WDAT 188","Pala Substation","N/A",null,15,10,8.8850000000000016,11.4915995,"NotHybrid","NA",null,null,null,null,null,null,null,60,null,null,"N/A - No Financing Required. Utility Owned",null,"CAM","Owned",null,null,"Mitsubishi","SDGE","San Diego/Imperial Valley  San Diego","5193-E","SanDiegoCounty",null,null,null,null,null,null,2060,12,31,2021,12,10,"NA","NA","NA","NA","NA","NA",null,null,null,null,null,null,null,null,null,null,"NA","YES",null,"Yes, See CPUC approval referance column","EnergyCapacity","In the contract","summerreliability","Battery Storage (MWh Energy Capacity)",60,60,60,60,"newgeneric"]
["Pala-Gomez Creek Storage - Allocation","_NEW_GENERIC_BATTERY_STORAGE",null,"Development","WDAT 188","Pala Substation","N/A",null,15,7.58,6.7348300000000014,8.7106324209999997,"NotHybrid","NA",null,null,null,null,null,null,null,45.480000000000004,null,null,"N/A - No Financing Required. Utility Owned",null,"CAM","sell","Multiple non-IOU LSEs",null,"Mitsubishi","SDGE","San Diego/Imperial Valley  San Diego","5193-E","SanDiegoCounty",null,null,null,null,null,null,2060,12,31,2021,12,10,"NA","NA","NA","NA","NA","NA",null,null,null,null,null,null,null,null,null,null,"NA","YES",null,"Yes, See CPUC approval referance column","EnergyCapacity",null,null,"Battery Storage (MWh Energy Capacity)",45.480000000000004,45.480000000000004,45.480000000000004,45.480000000000004,"newgeneric"]
["Palomar - SDGE","PALOMR_2_PL1X3","Palomar","Online",null,"N/A","N/A",null,588.21,588.21,588.21,2251.7384652000005,"NotHybrid","NA",null,null,null,null,null,null,null,null,null,null,null,null,null,"Owned",null,null,"NA","SDGE",null,null,"SanDiegoCounty",2006,4,1,2006,4,1,2060,12,31,2004,6,9,"NA","NA","NA","NA","NA","NA",null,null,null,null,null,null,null,null,null,null,"NA","YES",null,"YES","EnergyCapacity","Calculated",null,"NA",0,0,0,0,"physical"]
["Paradise Substation","_NEW_GENERIC_BATTERY_STORAGE",null,"Development","WDAT 130","Paradise","N/A",null,10,10,8.85,11.4915995,"NotHybrid","NA",null,null,null,null,null,null,null,40,null,null,"N/A - No Financing Required. Utility Owned",null,"CAM","Owned",null,null,"SDGE","SDGE","San Diego/Imperial Valley  San Diego","3929-E","SanDiegoCounty",null,null,null,null,null,null,2060,12,31,2022,3,2,"NA","NA","NA","NA","NA","NA",null,null,null,null,null,null,null,null,null,null,"NA","YES",null,"Yes, See CPUC approval referance column","EnergyCapacity","In the contract","summerreliability","Battery Storage (MWh Energy Capacity)",40,40,40,40,"newgeneric"]
["Paradise Substation - Allocation","_NEW_GENERIC_BATTERY_STORAGE",null,"Development","WDAT 130","Paradise","N/A",null,10,7.58,6.7082999999999995,8.7106324209999997,"NotHybrid","NA",null,null,null,null,null,null,null,30.32,null,null,"N/A - No Financing Required. Utility Owned",null,"CAM","sell","Multiple non-IOU LSEs",null,"SDGE","SDGE","San Diego/Imperial Valley  San Diego","3929-E","SanDiegoCounty",null,null,null,null,null,null,2060,12,31,2022,3,2,"NA","NA","NA","NA","NA","NA",null,null,null,null,null,null,null,null,null,null,"NA","YES",null,"Yes, See CPUC approval referance column","EnergyCapacity",null,null,"Battery Storage (MWh Energy Capacity)",30.32,30.32,30.32,30.32,"newgeneric"]
["Pio Pico 1","PIOPIC_2_CTG1","Pio Pico Energy Center LLC (Southwest Generation) - Unit 1","Online",null,"N/A","N/A",null,111.3,111.3,111.3,39.292016400000001,"NotHybrid","NA",null,null,null,null,null,null,null,null,null,null,null,null,"CAM",null,null,null,"NA","SDGE",null,null,"SanDiegoCounty",2017,6,1,2017,6,1,2037,12,31,2011,2,2,"NA","NA","NA","NA","NA","NA",null,null,null,null,null,null,null,null,null,null,"NA","YES",null,"YES","EnergyCapacity","Calculated",null,"NA",0,0,0,0,"physical"]
["Pio Pico 1 - Allocation","_EXISTING_GENERIC_PEAKER","Pio Pico Energy Center LLC (Southwest Generation) - Unit 1","Online",null,"N/A","N/A",null,111.3,84.365399999999994,84.365399999999994,0,"NotHybrid","NA",null,null,null,null,null,null,null,null,null,null,null,null,"CAM","sell","Multiple non-IOU LSEs",null,"NA","SDGE",null,null,"SanDiegoCounty",2017,6,1,2017,6,1,2037,12,31,2011,2,2,"NA","NA","NA","NA","NA","NA",null,null,null,null,null,null,null,null,null,null,"NA","YES",null,"YES","EnergyCapacity",null,null,"NA",0,0,0,0,"existinggeneric"]
["Pio Pico 2","PIOPIC_2_CTG2","Pio Pico Energy Center LLC (Southwest Generation) - Unit 2","Online",null,"N/A","N/A",null,112.7,112.7,112.7,39.786255600000004,"NotHybrid","NA",null,null,null,null,null,null,null,null,null,null,null,null,"CAM",null,null,null,"NA","SDGE",null,null,"SanDiegoCounty",2017,6,1,2017,6,1,2037,12,31,2011,2,2,"NA","NA","NA","NA","NA","NA",null,null,null,null,null,null,null,null,null,null,"NA","YES",null,"YES","EnergyCapacity","Calculated",null,"NA",0,0,0,0,"physical"]
["Pio Pico 2 - Allocation","_EXISTING_GENERIC_PEAKER","Pio Pico Energy Center LLC (Southwest Generation) - Unit 2","Online",null,"N/A","N/A",null,112.7,85.426600000000008,85.426600000000008,0,"NotHybrid","NA",null,null,null,null,null,null,null,null,null,null,null,null,"CAM","sell","Multiple non-IOU LSEs",null,"NA","SDGE",null,null,"SanDiegoCounty",2017,6,1,2017,6,1,2037,12,31,2011,2,2,"NA","NA","NA","NA","NA","NA",null,null,null,null,null,null,null,null,null,null,"NA","YES",null,"YES","EnergyCapacity",null,null,"NA",0,0,0,0,"existinggeneric"]
["Pio Pico 3","PIOPIC_2_CTG3","Pio Pico Energy Center LLC (Southwest Generation) - Unit 3","Online",null,"N/A","N/A",null,112,112,112,39.539136000000006,"NotHybrid","NA",null,null,null,null,null,null,null,null,null,null,null,null,"CAM",null,null,null,"NA","SDGE",null,null,"SanDiegoCounty",2017,6,1,2017,6,1,2037,12,31,2011,2,2,"NA","NA","NA","NA","NA","NA",null,null,null,null,null,null,null,null,null,null,"NA","YES",null,"YES","EnergyCapacity","Calculated",null,"NA",0,0,0,0,"physical"]
["Pio Pico 3 - Allocation","_EXISTING_GENERIC_PEAKER","Pio Pico Energy Center LLC (Southwest Generation) - Unit 3","Online",null,"N/A","N/A",null,112,84.896000000000001,84.896000000000001,0,"NotHybrid","NA",null,null,null,null,null,null,null,null,null,null,null,null,"CAM","sell","Multiple non-IOU LSEs",null,"NA","SDGE",null,null,"SanDiegoCounty",2017,6,1,2017,6,1,2037,12,31,2011,2,2,"NA","NA","NA","NA","NA","NA",null,null,null,null,null,null,null,null,null,null,"NA","YES",null,"YES","EnergyCapacity",null,null,"NA",0,0,0,0,"existinggeneric"]
["Sagebrush Storage","_NEW_GENERIC_BATTERY_STORAGE",null,"Development","Q1325","Vincent Substation","N/A",null,80,80,70.8,91.152064000000053,"NotHybrid","NA",null,null,null,null,null,null,null,320,null,null,5,null,"D.19-11-016",null,null,null,"Terra-Gen","BigCreekVentura","No_sub_area","3868-E","KernCounty",null,null,null,null,null,null,null,null,null,2021,10,6,"NA","NA","NA","NA","NA","2&3",null,null,null,null,null,null,null,2022,9,16,"NO","YES","NO","Yes, See CPUC approval referance column","EnergyCapacity","In the contract","summerreliability, D1911016","Battery Storage (MWh Energy Capacity)",320,320,320,0,"newgeneric"]
["Sagebrush Storage - Allocation","_NEW_GENERIC_BATTERY_STORAGE",null,"Development","Q1325","Vincent Substation","N/A",null,80,32.176000000000002,28.475759999999998,0,"NotHybrid","NA",null,null,null,null,null,null,null,null,null,null,5,null,"D.19-11-016","sell","Multiple non-IOU LSEs",null,"Terra-Gen","BigCreekVentura","No_sub_area","3868-E","KernCounty",null,null,null,null,null,null,null,null,null,2021,10,6,"NA","NA","NA","NA","NA","2&3",null,null,null,null,null,null,null,2022,9,16,"NO","YES",null,"Yes, See CPUC approval referance column","CapacityOnly",null,null,"Battery Storage (MWh Energy Capacity)",0,0,0,0,"newgeneric"]
["SD1004","CHILLS_1_SYCENG","Sycamore Landfill 1","Online",null,"N/A","N/A",null,1.5,1.5,0.7,8.5471104000000047,"NotHybrid","NA",null,null,null,null,null,null,null,null,null,null,null,null,"VAMO",null,null,null,"NA","SDGE",null,null,"SanDiegoCounty",2011,5,16,2011,5,16,2031,5,15,2009,11,20,"NA","NA","NA","NA","NA","NA",null,null,null,null,null,null,null,null,null,null,"NA","YES",null,"YES","EnergyCapacity","Calculated",null,"Biogas (GWh)",8.8713052499999918,8.670792600000004,8.0992333500000129,0,"physical"]
["SD1004 - Allocation","_EXISTING_GENERIC_SOLAR_1AXIS","Sycamore Landfill 1","Online",null,"N/A","N/A",null,1.5,0,0,6.5299923456000037,"NotHybrid","NA",null,null,null,null,null,null,null,null,null,null,null,null,"VAMO","sell","Multiple non-IOU LSEs",null,"NA","SDGE",null,null,"SanDiegoCounty",2011,5,16,2011,5,16,2031,5,15,2009,11,20,"NA","NA","NA","NA","NA","NA",null,null,null,null,null,null,null,null,null,null,"NA","YES",null,"YES","EnergyOnly",null,null,"Biogas (GWh)",6.7776772109999941,6.6244855464000034,6.1878142794000102,0,"existinggeneric"]
["SD1009","CPSTNO_7_PRMADS","Prima Deshecha","Online",null,"N/A","N/A",null,6.1,6.1,4.9000000000000004,36.076641349999974,"NotHybrid","NA",null,null,null,null,null,null,null,null,null,null,null,null,null,null,null,null,"NA","LABasin",null,null,"OrangeCounty",2007,10,1,2007,10,1,2022,9,30,2005,9,6,"NA","NA","NA","NA","NA","NA",null,null,null,null,null,null,null,null,null,null,"NA","YES",null,"YES","EnergyCapacity","Calculated",null,"Biogas (GWh)",0,0,0,0,"physical"]
["SD1012","SMRCOS_6_LNDFIL","San Marcos Landfill","Online",null,"N/A","N/A",null,1.5,1.5,1.5,8.5471104000000047,"NotHybrid","NA",null,null,null,null,null,null,null,null,null,null,null,null,"VAMO",null,null,null,"NA","SDGE",null,null,"SanDiegoCounty",2011,5,18,2011,5,18,2031,5,17,2009,11,20,"NA","NA","NA","NA","NA","NA",null,null,null,null,null,null,null,null,null,null,"NA","YES",null,"YES","EnergyCapacity","Calculated",null,"Biogas (GWh)",8.8713052499999918,8.670792600000004,8.0992333500000129,0,"physical"]
["SD1012 - Allocation","_EXISTING_GENERIC_SOLAR_1AXIS","San Marcos Landfill","Online",null,"N/A","N/A",null,1.5,0,0,6.5299923456000037,"NotHybrid","NA",null,null,null,null,null,null,null,null,null,null,null,null,"VAMO","sell","Multiple non-IOU LSEs",null,"NA","SDGE",null,null,"SanDiegoCounty",2011,5,18,2011,5,18,2031,5,17,2009,11,20,"NA","NA","NA","NA","NA","NA",null,null,null,null,null,null,null,null,null,null,"NA","YES",null,"YES","EnergyOnly",null,null,"Biogas (GWh)",6.7776772109999941,6.6244855464000034,6.1878142794000102,0,"existinggeneric"]
["SD1026","MSHGTS_6_MMARLF","Miramar Biogas","Online",null,"N/A","N/A",null,5,4.5,3.7,26.613915749999983,"NotHybrid","NA",null,null,null,null,null,null,null,null,null,null,null,null,"VAMO",null,null,null,"NA","SDGE",null,null,"SanDiegoCounty",2013,5,20,2013,5,20,2023,5,19,2012,11,9,"NA","NA","NA","NA","NA","NA",null,null,null,null,null,null,null,null,null,null,"NA","YES",null,"YES","EnergyCapacity","Calculated",null,"Biogas (GWh)",0,0,0,0,"physical"]
["SD1026 - Allocation","_EXISTING_GENERIC_SOLAR_1AXIS","Miramar Biogas","Online",null,"N/A","N/A",null,5,0,0,20.333031632999987,"NotHybrid","NA",null,null,null,null,null,null,null,null,null,null,null,null,"VAMO","sell","Multiple non-IOU LSEs",null,"NA","SDGE",null,null,"SanDiegoCounty",2013,5,20,2013,5,20,2023,5,19,2012,11,9,"NA","NA","NA","NA","NA","NA",null,null,null,null,null,null,null,null,null,null,"NA","YES",null,"YES","EnergyOnly",null,null,"Biogas (GWh)",0,0,0,0,"existinggeneric"]
["SD1028","CHILLS_7_UNITA1","Sycamore Landfill 2","Online",null,"N/A","N/A",null,2.25,2.25,1.74,13.306957874999991,"NotHybrid","NA",null,null,null,null,null,null,null,null,null,null,null,null,null,null,null,null,"NA","SDGE",null,null,"SanDiegoCounty",2014,3,30,2014,3,30,2024,3,29,2014,3,7,"NA","NA","NA","NA","NA","NA",null,null,null,null,null,null,null,null,null,null,"NA","YES",null,"YES","EnergyCapacity","Calculated",null,"Biogas (GWh)",13.306957874999991,0,0,0,"physical"]
["SD2002","LASSEN_6_UNITS","HL Power Company, LP","Online",null,"N/A","N/A",null,30,30,30,145.82226359999967,"NotHybrid","NA",null,null,null,null,null,null,null,null,null,null,null,null,null,null,null,null,"NA","PacGE",null,null,"LassenCounty",2017,2,1,2017,2,1,2027,1,31,2016,11,14,"NA","NA","NA","NA","NA","NA",null,null,null,null,null,null,null,null,null,null,"NA","YES",null,"YES","EnergyCapacity","Calculated",null,"Biomass (GWh)",144.1365743999998,147.50795279999954,0,0,"physical"]
["SD4006","_EXISTING_GENERIC_INSTATE_SMALL_HYDRO","Olivenhain","Online",null,"N/A","N/A",null,0.45,0.45,0.18286461170490853,1.3326425840113787,"NotHybrid","NA",null,null,null,null,null,null,null,null,null,null,null,null,null,null,null,null,"NA","SDGE",null,null,"SanDiegoCounty",2013,10,1,2013,10,1,2033,9,30,2013,7,23,"NA","NA","NA","NA","NA","NA",null,null,null,null,null,null,null,null,null,null,"NA","YES",null,"YES","EnergyOnly","Calculated",null,"Small Hydro (GWh)",1.3326425840113787,1.3326425840113787,1.3326425840113787,0,"existinggeneric"]
["SD4007","_EXISTING_GENERIC_INSTATE_SMALL_HYDRO","San Francisco Hydro","Online",null,"N/A","N/A",null,0.35,0.35,0.14222803132603995,1.0364988199999983,"NotHybrid","NA",null,null,null,null,null,null,null,null,null,null,null,null,null,null,null,null,"NA","SDGE",null,null,"SanDiegoCounty",1985,12,15,1985,12,15,2060,12,31,1985,8,29,"NA","NA","NA","NA","NA","NA",null,null,null,null,null,null,null,null,null,null,"NA","YES",null,"YES","EnergyOnly","Calculated",null,"Small Hydro (GWh)",1.0364997875644055,1.0364997875644055,1.0364997875644055,1.0364997875644055,"existinggeneric"]
["SD4008","_EXISTING_GENERIC_INSTATE_SMALL_HYDRO","Bear Valley Hydro","Online",null,"N/A","N/A",null,1.5,1.5,0.60954870568302844,4.4421377999999923,"NotHybrid","NA",null,null,null,null,null,null,null,null,null,null,null,null,null,null,null,null,"NA","SDGE",null,null,"SanDiegoCounty",1994,4,13,1994,4,13,2060,12,31,1994,4,13,"NA","NA","NA","NA","NA","NA",null,null,null,null,null,null,null,null,null,null,"NA","YES",null,"YES","EnergyOnly","Calculated",null,"Small Hydro (GWh)",4.4421419467045951,4.4421419467045951,4.4421419467045951,4.4421419467045951,"existinggeneric"]
["SD5001","CNTNLA_2_SOLAR1","Centinela","Online",null,"N/A","N/A",null,125,125,17.5,331.04531250000116,"NotHybrid","NA",null,null,null,null,null,null,null,null,null,null,null,null,"VAMO",null,null,null,"NA","SanDiegoImperialValley",null,null,"ImperialCounty",2014,8,1,2014,8,1,2034,7,31,2010,5,10,"NA","NA","NA","NA","NA","NA",null,null,null,null,null,null,null,null,null,null,"NA","YES",null,"YES","EnergyCapacity","Calculated",null,"Solar Existing California (GWh)",331.04661088892459,331.04661088892459,331.04661088892459,0,"physical"]
["SD5001 - Allocation","_EXISTING_GENERIC_SOLAR_1AXIS","Centinela","Online",null,"N/A","N/A",null,125,0,0,252.91861875000089,"NotHybrid","NA",null,null,null,null,null,null,null,null,null,null,null,null,"VAMO","sell","Multiple non-IOU LSEs",null,"NA","SanDiegoImperialValley",null,null,"ImperialCounty",2014,8,1,2014,8,1,2034,7,31,2010,5,10,"NA","NA","NA","NA","NA","NA",null,null,null,null,null,null,null,null,null,null,"NA","YES",null,"YES","EnergyOnly",null,null,"Solar Existing California (GWh)",252.9196107191384,252.9196107191384,252.9196107191384,0,"existinggeneric"]
["SD5002","CNTNLA_2_SOLAR2","Centinela Expansion","Online",null,"N/A","N/A",null,45.6,45,6.38,119.17631250000042,"NotHybrid","NA",null,null,null,null,null,null,null,null,null,null,null,null,"VAMO",null,null,null,"NA","SanDiegoImperialValley",null,null,"ImperialCounty",2014,8,15,2014,8,15,2034,8,15,2010,7,29,"NA","NA","NA","NA","NA","NA",null,null,null,null,null,null,null,null,null,null,"NA","YES",null,"YES","EnergyCapacity","Calculated",null,"Solar Existing California (GWh)",119.17677992001285,119.17677992001285,119.17677992001285,0,"physical"]
["SD5002 - Allocation","_EXISTING_GENERIC_SOLAR_1AXIS","Centinela Expansion","Online",null,"N/A","N/A",null,45.6,0,0,91.050702750000326,"NotHybrid","NA",null,null,null,null,null,null,null,null,null,null,null,null,"VAMO","sell","Multiple non-IOU LSEs",null,"NA","SanDiegoImperialValley",null,null,"ImperialCounty",2014,8,15,2014,8,15,2034,8,15,2010,7,29,"NA","NA","NA","NA","NA","NA",null,null,null,null,null,null,null,null,null,null,"NA","YES",null,"YES","EnergyOnly",null,null,"Solar Existing California (GWh)",91.051059858889815,91.051059858889815,91.051059858889815,0,"existinggeneric"]
["SD5003","CSLR4S_2_SOLAR","CSOLAR South","Online",null,"N/A","N/A",null,130,130,18.2,344.2871250000012,"NotHybrid","NA",null,null,null,null,null,null,null,null,null,null,null,null,"VAMO",null,null,null,"NA","SanDiegoImperialValley",null,null,"ImperialCounty",2013,11,1,2013,11,1,2038,10,31,2010,11,10,"NA","NA","NA","NA","NA","NA",null,null,null,null,null,null,null,null,null,null,"NA","YES",null,"YES","EnergyCapacity","Calculated",null,"Solar Existing California (GWh)",344.28847532448157,344.28847532448157,344.28847532448157,344.28847532448157,"physical"]
["SD5003 - Allocation","_EXISTING_GENERIC_SOLAR_1AXIS","CSOLAR South","Online",null,"N/A","N/A",null,130,0,0,263.03536350000093,"NotHybrid","NA",null,null,null,null,null,null,null,null,null,null,null,null,"VAMO","sell","Multiple non-IOU LSEs",null,"NA","SanDiegoImperialValley",null,null,"ImperialCounty",2013,11,1,2013,11,1,2038,10,31,2010,11,10,"NA","NA","NA","NA","NA","NA",null,null,null,null,null,null,null,null,null,null,"NA","YES",null,"YES","EnergyOnly",null,null,"Solar Existing California (GWh)",263.03639514790393,263.03639514790393,263.03639514790393,263.03639514790393,"existinggeneric"]
["SD5004","IVWEST_2_SOLAR1","CSOLAR West","Online",null,"N/A","N/A",null,150,150,21,397.2543750000014,"NotHybrid","NA",null,null,null,null,null,null,null,null,null,null,null,null,"VAMO",null,null,null,"NA","SanDiegoImperialValley",null,null,"ImperialCounty",2016,4,12,2016,4,12,2041,4,12,2011,3,8,"NA","NA","NA","NA","NA","NA",null,null,null,null,null,null,null,null,null,null,"NA","YES",null,"YES","EnergyCapacity","Calculated",null,"Solar Existing California (GWh)",397.25593306670947,397.25593306670947,397.25593306670947,397.25593306670947,"physical"]
["SD5004 - Allocation","_EXISTING_GENERIC_SOLAR_1AXIS","CSOLAR West","Online",null,"N/A","N/A",null,150,0,0,303.50234250000108,"NotHybrid","NA",null,null,null,null,null,null,null,null,null,null,null,null,"VAMO","sell","Multiple non-IOU LSEs",null,"NA","SanDiegoImperialValley",null,null,"ImperialCounty",2016,4,12,2016,4,12,2041,4,12,2011,3,8,"NA","NA","NA","NA","NA","NA",null,null,null,null,null,null,null,null,null,null,"NA","YES",null,"YES","EnergyOnly",null,null,"Solar Existing California (GWh)",303.50353286296604,303.50353286296604,303.50353286296604,303.50353286296604,"existinggeneric"]
["SD5005","BREGGO_6_SOLAR","Borrego","Online",null,"N/A","N/A",null,26,26,3.64,68.857425000000248,"NotHybrid","NA",null,null,null,null,null,null,null,null,null,null,null,null,"VAMO",null,null,null,"NA","SanDiegoImperialValley",null,null,"ImperialCounty",2013,2,12,2013,2,12,2038,2,11,2011,1,25,"NA","NA","NA","NA","NA","NA",null,null,null,null,null,null,null,null,null,null,"NA","YES",null,"YES","EnergyCapacity","Calculated",null,"Solar Existing California (GWh)",68.857695064896305,68.857695064896305,68.857695064896305,68.857695064896305,"physical"]
["SD5005 - Allocation","_EXISTING_GENERIC_SOLAR_1AXIS","Borrego","Online",null,"N/A","N/A",null,26,0,0,52.607072700000188,"NotHybrid","NA",null,null,null,null,null,null,null,null,null,null,null,null,"VAMO","sell","Multiple non-IOU LSEs",null,"NA","SanDiegoImperialValley",null,null,"ImperialCounty",2013,2,12,2013,2,12,2038,2,11,2011,1,25,"NA","NA","NA","NA","NA","NA",null,null,null,null,null,null,null,null,null,null,"NA","YES",null,"YES","EnergyOnly",null,null,"Solar Existing California (GWh)",52.607279029580781,52.607279029580781,52.607279029580781,52.607279029580781,"existinggeneric"]
["SD5008","BREGGO_6_DEGRSL","Desert Green","Online",null,"N/A","N/A",null,6.3,6.3,0.88,16.684683750000058,"NotHybrid","NA",null,null,null,null,null,null,null,null,null,null,null,null,"VAMO",null,null,null,"NA","SDGE",null,null,"SanDiegoCounty",2014,11,26,2014,11,26,2039,11,26,2011,3,31,"NA","NA","NA","NA","NA","NA",null,null,null,null,null,null,null,null,null,null,"NA","YES",null,"YES","EnergyCapacity","Calculated",null,"Solar Existing California (GWh)",16.684749188801799,16.684749188801799,16.684749188801799,16.684749188801799,"physical"]
["SD5008 - Allocation","_EXISTING_GENERIC_WIND","Desert Green","Online",null,"N/A","N/A",null,6.3,0,0,12.747098385000045,"NotHybrid","NA",null,null,null,null,null,null,null,null,null,null,null,null,"VAMO","sell","Multiple non-IOU LSEs",null,"NA","SDGE",null,null,"SanDiegoCounty",2014,11,26,2014,11,26,2039,11,26,2011,3,31,"NA","NA","NA","NA","NA","NA",null,null,null,null,null,null,null,null,null,null,"NA","YES",null,"YES","EnergyOnly",null,null,"Solar Existing California (GWh)",12.747148380244575,12.747148380244575,12.747148380244575,12.747148380244575,"existinggeneric"]
["SD5016","CPVERD_2_SOLAR","Campo Verde","Online",null,"N/A","N/A",null,139,139,19.46,368.12238750000131,"NotHybrid","NA",null,null,null,null,null,null,null,null,null,null,null,null,"VAMO",null,null,null,"NA","SanDiegoImperialValley",null,null,"ImperialCounty",2013,10,25,2013,10,25,2033,10,24,2006,10,31,"NA","NA","NA","NA","NA","NA",null,null,null,null,null,null,null,null,null,null,"NA","YES",null,"YES","EnergyCapacity","Calculated",null,"Solar Existing California (GWh)",368.12383130848406,368.12383130848406,368.12383130848406,0,"physical"]
["SD5016 - Allocation","_EXISTING_GENERIC_SOLAR_1AXIS","Campo Verde","Online",null,"N/A","N/A",null,139,0,0,281.24550405000099,"NotHybrid","NA",null,null,null,null,null,null,null,null,null,null,null,null,"VAMO","sell","Multiple non-IOU LSEs",null,"NA","SanDiegoImperialValley",null,null,"ImperialCounty",2013,10,25,2013,10,25,2033,10,24,2006,10,31,"NA","NA","NA","NA","NA","NA",null,null,null,null,null,null,null,null,null,null,"NA","YES",null,"YES","EnergyOnly",null,null,"Solar Existing California (GWh)",281.24660711968181,281.24660711968181,281.24660711968181,0,"existinggeneric"]
["SD5026","CRELMN_6_RAMON1","Ramona 1","Online",null,"N/A","N/A",null,2,2,0.28000000000000003,5.2967250000000181,"NotHybrid","NA",null,null,null,null,null,null,null,null,null,null,null,null,"VAMO",null,null,null,"NA","SDGE",null,null,"SanDiegoCounty",2013,12,31,2013,12,31,2038,12,30,2011,4,11,"NA","NA","NA","NA","NA","NA",null,null,null,null,null,null,null,null,null,null,"NA","YES",null,"YES","EnergyCapacity","Calculated",null,"Solar Existing California (GWh)",5.296745774222793,5.296745774222793,5.296745774222793,5.296745774222793,"physical"]
["SD5026 - Allocation","_EXISTING_GENERIC_SOLAR_1AXIS","Ramona 1","Online",null,"N/A","N/A",null,2,0,0,4.0466979000000141,"NotHybrid","NA",null,null,null,null,null,null,null,null,null,null,null,null,"VAMO","sell","Multiple non-IOU LSEs",null,"NA","SDGE",null,null,"SanDiegoCounty",2013,12,31,2013,12,31,2038,12,30,2011,4,11,"NA","NA","NA","NA","NA","NA",null,null,null,null,null,null,null,null,null,null,"NA","YES",null,"YES","EnergyOnly",null,null,"Solar Existing California (GWh)",4.046713771506214,4.046713771506214,4.046713771506214,4.046713771506214,"existinggeneric"]
["SD5027","CRELMN_6_RAMON2","Ramona 2","Online",null,"N/A","N/A",null,5,5,0.7,13.241812500000048,"NotHybrid","NA",null,null,null,null,null,null,null,null,null,null,null,null,"VAMO",null,null,null,"NA","SDGE",null,null,"SanDiegoCounty",2013,12,31,2013,12,31,2038,12,30,2011,4,11,"NA","NA","NA","NA","NA","NA",null,null,null,null,null,null,null,null,null,null,"NA","YES",null,"YES","EnergyCapacity","Calculated",null,"Solar Existing California (GWh)",13.241864435556984,13.241864435556984,13.241864435556984,13.241864435556984,"physical"]
["SD5027 - Allocation","_EXISTING_GENERIC_SOLAR_1AXIS","Ramona 2","Online",null,"N/A","N/A",null,5,0,0,10.116744750000036,"NotHybrid","NA",null,null,null,null,null,null,null,null,null,null,null,null,"VAMO","sell","Multiple non-IOU LSEs",null,"NA","SDGE",null,null,"SanDiegoCounty",2013,12,31,2013,12,31,2038,12,30,2011,4,11,"NA","NA","NA","NA","NA","NA",null,null,null,null,null,null,null,null,null,null,"NA","YES",null,"YES","EnergyOnly",null,null,"Solar Existing California (GWh)",10.116784428765536,10.116784428765536,10.116784428765536,10.116784428765536,"existinggeneric"]
["SD5028","VLCNTR_6_VCSLR1","Valley Center 1","Online",null,"N/A","N/A",null,2.5,2.5,0.35,6.620906250000024,"NotHybrid","NA",null,null,null,null,null,null,null,null,null,null,null,null,"VAMO",null,null,null,"NA","SDGE",null,null,"SanDiegoCounty",2013,12,31,2013,12,31,2038,12,30,2011,4,11,"NA","NA","NA","NA","NA","NA",null,null,null,null,null,null,null,null,null,null,"NA","YES",null,"YES","EnergyCapacity","Calculated",null,"Solar Existing California (GWh)",6.6209322177784919,6.6209322177784919,6.6209322177784919,6.6209322177784919,"physical"]
["SD5028 - Allocation","_EXISTING_GENERIC_WIND","Valley Center 1","Online",null,"N/A","N/A",null,2.5,0,0,5.058372375000018,"NotHybrid","NA",null,null,null,null,null,null,null,null,null,null,null,null,"VAMO","sell","Multiple non-IOU LSEs",null,"NA","SDGE",null,null,"SanDiegoCounty",2013,12,31,2013,12,31,2038,12,30,2011,4,11,"NA","NA","NA","NA","NA","NA",null,null,null,null,null,null,null,null,null,null,"NA","YES",null,"YES","EnergyOnly",null,null,"Solar Existing California (GWh)",5.058392214382768,5.058392214382768,5.058392214382768,5.058392214382768,"existinggeneric"]
["SD5029","VLCNTR_6_VCSLR2","Valley Center 2","Online",null,"N/A","N/A",null,5,5,0.7,13.241812500000048,"NotHybrid","NA",null,null,null,null,null,null,null,null,null,null,null,null,"VAMO",null,null,null,"NA","SDGE",null,null,"SanDiegoCounty",2013,12,31,2013,12,31,2038,12,30,2011,4,11,"NA","NA","NA","NA","NA","NA",null,null,null,null,null,null,null,null,null,null,"NA","YES",null,"YES","EnergyCapacity","Calculated",null,"Solar Existing California (GWh)",13.241864435556984,13.241864435556984,13.241864435556984,13.241864435556984,"physical"]
["SD5029 - Allocation","_EXISTING_GENERIC_WIND","Valley Center 2","Online",0,"N/A","N/A",null,5,0,0,10.116744750000036,"NotHybrid","NA",null,null,null,null,null,null,null,null,null,null,null,null,"VAMO","sell","Multiple non-IOU LSEs",null,"NA","SDGE",null,null,"SanDiegoCounty",2013,12,31,2013,12,31,2038,12,30,2011,4,11,"NA","NA","NA","NA","NA","NA",null,null,null,null,null,null,null,null,null,null,"NA","YES",null,"YES","EnergyOnly",null,null,"Solar Existing California (GWh)",10.116784428765536,10.116784428765536,10.116784428765536,10.116784428765536,"existinggeneric"]
["SD5032","ARLVAL_5_SOLAR","Arlington Valley","Online",null,"N/A","N/A",null,127,127,17.78,336.3420375000012,"NotHybrid","NA",null,null,null,null,null,null,null,null,null,null,null,null,"VAMO",null,null,null,"NA","AZPS",null,null,"Arizona",2013,11,5,2013,11,5,2038,11,5,2011,6,3,"NA","NA","NA","NA","NA","NA",null,null,null,null,null,null,null,null,null,null,"NA","YES",null,"YES","EnergyCapacity","Calculated",null,"Solar Existing California (GWh)",336.34335666314735,336.34335666314735,336.34335666314735,336.34335666314735,"specifiedimport"]
["SD5032 - Allocation","_EXISTING_GENERIC_SOLAR_1AXIS","Arlington Valley","Online",null,"N/A","N/A",null,127,0,0,256.96531665000094,"NotHybrid","NA",null,null,null,null,null,null,null,null,null,null,null,null,"VAMO","sell","Multiple non-IOU LSEs",null,"NA","AZPS",null,null,"Arizona",2013,11,5,2013,11,5,2038,11,5,2011,6,3,"NA","NA","NA","NA","NA","NA",null,null,null,null,null,null,null,null,null,null,"NA","YES",null,"YES","EnergyOnly",null,null,"Solar Existing California (GWh)",256.96632449064458,256.96632449064458,256.96632449064458,256.96632449064458,"existinggeneric"]
["SD5033","CATLNA_2_SOLAR","Catalina","Online",null,"N/A","N/A",null,110,109.4,15.4,289.73085750000104,"NotHybrid","NA",null,null,null,null,null,null,null,null,null,null,null,null,"VAMO",null,null,null,"NA","Kern",null,null,"KernCounty",2013,11,27,2013,11,27,2038,11,27,2011,6,3,"NA","NA","NA","NA","NA","NA",null,null,null,null,null,null,null,null,null,null,"NA","YES",null,"YES","EnergyCapacity","Calculated",null,"Solar Existing California (GWh)",289.73199384998679,289.73199384998679,289.73199384998679,289.73199384998679,"physical"]
["SD5033 - Allocation","_EXISTING_GENERIC_SOLAR_1AXIS","Catalina","Online",null,"N/A","N/A",null,110,0,0,221.35437513000079,"NotHybrid","NA",null,null,null,null,null,null,null,null,null,null,null,null,"VAMO","sell","Multiple non-IOU LSEs",null,"NA","Kern",null,null,"KernCounty",2013,11,27,2013,11,27,2038,11,27,2011,6,3,"NA","NA","NA","NA","NA","NA",null,null,null,null,null,null,null,null,null,null,"NA","YES",null,"YES","EnergyOnly",null,null,"Solar Existing California (GWh)",221.35524330138992,221.35524330138992,221.35524330138992,221.35524330138992,"existinggeneric"]
["SD5034 - 1","ALHMBR_1_ALHSLR","SG2 Imperial Valley 1","Online",null,"N/A","N/A",null,50,50,4.8,132.41812500000046,"NotHybrid","NA",null,null,null,null,null,null,null,null,null,null,null,null,"VAMO",null,null,null,"NA","SanDiegoImperialValley",null,null,"ImperialCounty",2014,11,25,2014,11,25,2039,11,24,2011,6,24,"NA","NA","NA","NA","NA","NA",null,null,null,null,null,null,null,null,null,null,"NA","YES",null,"YES","EnergyCapacity","Calculated",null,"Solar Existing California (GWh)",132.41864435556982,132.41864435556982,132.41864435556982,132.41864435556982,"specifiedimport"]
["SD5034 - 1 - Allocation","_EXISTING_GENERIC_SOLAR_1AXIS","SG2 Imperial Valley 1","Online",null,"N/A","N/A",null,50,0,0,101.16744750000035,"NotHybrid","NA",null,null,null,null,null,null,null,null,null,null,null,null,"VAMO","sell","Multiple non-IOU LSEs",null,"NA","SanDiegoImperialValley",null,null,"ImperialCounty",2014,11,25,2014,11,25,2039,11,24,2011,6,24,"NA","NA","NA","NA","NA","NA",null,null,null,null,null,null,null,null,null,null,"NA","YES",null,"YES","EnergyOnly",null,null,"Solar Existing California (GWh)",101.16784428765534,101.16784428765534,101.16784428765534,101.16784428765534,"existinggeneric"]
["SD5034 - 2","ARKANS_1_ARKSLR","SG2 Imperial Valley 2","Online",null,"N/A","N/A",null,50,50,4.8,132.41812500000046,"NotHybrid","NA",null,null,null,null,null,null,null,null,null,null,null,null,"VAMO",null,null,null,"NA","SanDiegoImperialValley",null,null,"ImperialCounty",2014,11,25,2014,11,25,2039,11,24,2011,6,24,"NA","NA","NA","NA","NA","NA",null,null,null,null,null,null,null,null,null,null,"NA","YES",null,"YES","EnergyCapacity","Calculated",null,"Solar Existing California (GWh)",132.41864435556982,132.41864435556982,132.41864435556982,132.41864435556982,"specifiedimport"]
["SD5034 - 2 - Allocation","_EXISTING_GENERIC_SOLAR_1AXIS","SG2 Imperial Valley 2","Online",null,"N/A","N/A",null,50,0,0,101.16744750000035,"NotHybrid","NA",null,null,null,null,null,null,null,null,null,null,null,null,"VAMO","sell","Multiple non-IOU LSEs",null,"NA","SanDiegoImperialValley",null,null,"ImperialCounty",2014,11,25,2014,11,25,2039,11,24,2011,6,24,"NA","NA","NA","NA","NA","NA",null,null,null,null,null,null,null,null,null,null,"NA","YES",null,"YES","EnergyOnly",null,null,"Solar Existing California (GWh)",101.16784428765534,101.16784428765534,101.16784428765534,101.16784428765534,"existinggeneric"]
["SD5034 - 3","SNORA_2_SNRSLR","SG2 Imperial Valley 3","Online",null,"N/A","N/A",null,50,50,4.8,132.41812500000046,"NotHybrid","NA",null,null,null,null,null,null,null,null,null,null,null,null,"VAMO",null,null,null,"NA","SanDiegoImperialValley",null,null,"ImperialCounty",2014,11,25,2014,11,25,2039,11,24,2011,6,24,"NA","NA","NA","NA","NA","NA",null,null,null,null,null,null,null,null,null,null,"NA","YES",null,"YES","EnergyCapacity","Calculated",null,"Solar Existing California (GWh)",132.41864435556982,132.41864435556982,132.41864435556982,132.41864435556982,"specifiedimport"]
["SD5034 - 3 - Allocation","_EXISTING_GENERIC_SOLAR_1AXIS","SG2 Imperial Valley 3","Online",null,"N/A","N/A",null,50,0,0,101.16744750000035,"NotHybrid","NA",null,null,null,null,null,null,null,null,null,null,null,null,"VAMO","sell","Multiple non-IOU LSEs",null,"NA","SanDiegoImperialValley",null,null,"ImperialCounty",2014,11,25,2014,11,25,2039,11,24,2011,6,24,"NA","NA","NA","NA","NA","NA",null,null,null,null,null,null,null,null,null,null,"NA","YES",null,"YES","EnergyOnly",null,null,"Solar Existing California (GWh)",101.16784428765534,101.16784428765534,101.16784428765534,101.16784428765534,"existinggeneric"]
["SD5037","IVSLRP_2_SOLAR1","Silver Ridge Mt Signal","Online",null,"N/A","N/A",null,200,200,28,529.67250000000183,"NotHybrid","NA",null,null,null,null,null,null,null,null,null,null,null,null,"VAMO",null,null,null,"NA","SanDiegoImperialValley",null,null,"ImperialCounty",2013,10,10,2013,10,10,2038,10,9,2012,2,3,"NA","NA","NA","NA","NA","NA",null,null,null,null,null,null,null,null,null,null,"NA","YES",null,"YES","EnergyCapacity","Calculated",null,"Solar Existing California (GWh)",529.6745774222793,529.6745774222793,529.6745774222793,529.6745774222793,"physical"]
["SD5037 - Allocation","_EXISTING_GENERIC_BIOGAS_LANDFILLGAS","Silver Ridge Mt Signal","Online",null,"N/A","N/A",null,200,0,0,404.6697900000014,"NotHybrid","NA",null,null,null,null,null,null,null,null,null,null,null,null,"VAMO","sell","Multiple non-IOU LSEs",null,"NA","SanDiegoImperialValley",null,null,"ImperialCounty",2013,10,10,2013,10,10,2038,10,9,2012,2,3,"NA","NA","NA","NA","NA","NA",null,null,null,null,null,null,null,null,null,null,"NA","YES",null,"YES","EnergyOnly",null,null,"Solar Existing California (GWh)",404.67137715062137,404.67137715062137,404.67137715062137,404.67137715062137,"existinggeneric"]
["SD5040","CRELMN_6_RAMSR3","Ramona Solar","Online",null,"N/A","N/A",null,4.32,4.32,0.48,11.440926000000042,"NotHybrid","NA",null,null,null,null,null,null,null,null,null,null,null,null,"VAMO","Owned",null,null,"NA","SDGE",null,null,"SanDiegoCounty",2017,4,21,2017,4,21,2042,9,30,2012,6,20,"NA","NA","NA","NA","NA","NA",null,null,null,null,null,null,null,null,null,null,"NA","YES",null,"YES","EnergyCapacity","Calculated",null,"Solar Existing California (GWh)",11.440970872321234,11.440970872321234,11.440970872321234,11.440970872321234,"physical"]
["SD5040 - Allocation","_EXISTING_GENERIC_SOLAR_1AXIS","Ramona Solar","Online",null,"N/A","N/A",null,4.32,0,0,8.7408674640000328,"NotHybrid","NA",null,null,null,null,null,null,null,null,null,null,null,null,"VAMO","sell","Multiple non-IOU LSEs",null,"NA","SDGE",null,null,"SanDiegoCounty",2017,4,21,2017,4,21,2042,9,30,2012,6,20,"NA","NA","NA","NA","NA","NA",null,null,null,null,null,null,null,null,null,null,"NA","YES",null,"YES","EnergyOnly",null,null,"Solar Existing California (GWh)",8.7409017464534227,8.7409017464534227,8.7409017464534227,8.7409017464534227,"existinggeneric"]
["SD5048","DEVERS_1_SOLAR","Cascade","Online",null,"N/A","N/A",null,18.5,18.5,0,48.994706250000171,"NotHybrid","NA",null,null,null,null,null,null,null,null,null,null,null,null,"VAMO",null,null,null,"NA","LABasin",null,null,"SanBernardinoCounty",2013,12,24,2013,12,24,2033,12,23,2012,10,19,"NA","NA","NA","NA","NA","NA",null,null,null,null,null,null,null,null,null,null,"NA","YES",null,"YES","EnergyOnly","Calculated",null,"Solar Existing California (GWh)",48.994898411560833,48.994898411560833,48.994898411560833,0,"physical"]
["SD5048 - Allocation","_EXISTING_GENERIC_WIND","Cascade","Online",null,"N/A","N/A",null,18.5,0,0,37.431955575000131,"NotHybrid","NA",null,null,null,null,null,null,null,null,null,null,null,null,"VAMO","sell","Multiple non-IOU LSEs",null,"NA","LABasin",null,null,"SanBernardinoCounty",2013,12,24,2013,12,24,2033,12,23,2012,10,19,"NA","NA","NA","NA","NA","NA",null,null,null,null,null,null,null,null,null,null,"NA","YES",null,"YES","EnergyOnly",null,null,"Solar Existing California (GWh)",37.432102386432476,37.432102386432476,37.432102386432476,0,"existinggeneric"]
["SD5049","CALPSS_6_SOLAR1","Calipatria","Online",null,"N/A","N/A",null,19.899999999999999,20,1.92,52.967250000000192,"NotHybrid","NA",null,null,null,null,null,null,null,null,null,null,null,null,"VAMO",null,null,null,"NA","SanDiegoImperialValley",null,null,"ImperialCounty",2016,2,11,2016,2,11,2036,2,28,2012,12,13,"NA","NA","NA","NA","NA","NA",null,null,null,null,null,null,null,null,null,null,"NA","YES",null,"YES","EnergyCapacity","Calculated",null,"Solar Existing California (GWh)",52.967457742227936,52.967457742227936,52.967457742227936,52.967457742227936,"specifiedimport"]
["SD5049 - Allocation","_EXISTING_GENERIC_WIND","Calipatria","Online",null,"N/A","N/A",null,19.899999999999999,0,0,40.466979000000144,"NotHybrid","NA",null,null,null,null,null,null,null,null,null,null,null,null,"VAMO","sell","Multiple non-IOU LSEs",null,"NA","SanDiegoImperialValley",null,null,"ImperialCounty",2016,2,11,2016,2,11,2036,2,28,2012,12,13,"NA","NA","NA","NA","NA","NA",null,null,null,null,null,null,null,null,null,null,"NA","YES",null,"YES","EnergyOnly",null,null,"Solar Existing California (GWh)",40.467137715062144,40.467137715062144,40.467137715062144,40.467137715062144,"existinggeneric"]
["SD5050","ANZA_6_SOLAR1","Seville","Online",null,"N/A","N/A",null,20,20,1.92,52.967250000000192,"NotHybrid","NA",null,null,null,null,null,null,null,null,null,null,null,null,"VAMO",null,null,null,"NA","SanDiegoImperialValley",null,null,"ImperialCounty",2015,12,30,2015,12,30,2035,12,31,2012,12,13,"NA","NA","NA","NA","NA","NA",null,null,null,null,null,null,null,null,null,null,"NA","YES",null,"YES","EnergyCapacity","Calculated",null,"Solar Existing California (GWh)",52.967457742227936,52.967457742227936,52.967457742227936,52.967457742227936,"specifiedimport"]
["SD5050 - Allocation","_EXISTING_GENERIC_WIND","Seville","Online",null,"N/A","N/A",null,20,0,0,40.466979000000144,"NotHybrid","NA",null,null,null,null,null,null,null,null,null,null,null,null,"VAMO","sell","Multiple non-IOU LSEs",null,"NA","SanDiegoImperialValley",null,null,"ImperialCounty",2015,12,30,2015,12,30,2035,12,31,2012,12,13,"NA","NA","NA","NA","NA","NA",null,null,null,null,null,null,null,null,null,null,"NA","YES",null,"YES","EnergyOnly",null,null,"Solar Existing California (GWh)",40.467137715062144,40.467137715062144,40.467137715062144,40.467137715062144,"existinggeneric"]
["SD5052","MARCPW_6_SOLAR1","Maricopa West","Online",null,"N/A","N/A",null,20,20,2.8,52.967250000000192,"NotHybrid","NA",null,null,null,null,null,null,null,null,null,null,null,null,"VAMO",null,null,null,"NA","Kern",null,null,"KernCounty",2015,12,15,2015,12,15,2030,12,14,2013,4,16,"NA","NA","NA","NA","NA","NA",null,null,null,null,null,null,null,null,null,null,"NA","YES",null,"YES","EnergyCapacity","Calculated",null,"Solar Existing California (GWh)",52.967457742227936,52.967457742227936,52.967457742227936,0,"physical"]
["SD5052 - Allocation","_EXISTING_GENERIC_SOLAR_1AXIS","Maricopa West","Online",null,"N/A","N/A",null,20,0,0,40.466979000000144,"NotHybrid","NA",null,null,null,null,null,null,null,null,null,null,null,null,"VAMO","sell","Multiple non-IOU LSEs",null,"NA","Kern",null,null,"KernCounty",2015,12,15,2015,12,15,2030,12,14,2013,4,16,"NA","NA","NA","NA","NA","NA",null,null,null,null,null,null,null,null,null,null,"NA","YES",null,"YES","EnergyOnly",null,null,"Solar Existing California (GWh)",40.467137715062144,40.467137715062144,40.467137715062144,0,"existinggeneric"]
["SD5064","LILIAC_6_SOLAR","NLP Granger A82","Online",null,"N/A","N/A",null,3,3,0.42,7.9450875000000281,"NotHybrid","NA",null,null,null,null,null,null,null,null,null,null,null,null,null,null,null,null,"NA","SDGE",null,null,"SanDiegoCounty",2016,9,17,2016,9,17,2036,9,16,2014,4,3,"NA","NA","NA","NA","NA","NA",null,null,null,null,null,null,null,null,null,null,"NA","YES",null,"YES","EnergyCapacity","Calculated",null,"Solar Existing California (GWh)",7.94511866133419,7.94511866133419,7.94511866133419,7.94511866133419,"physical"]
["SD5065","VLCNTR_6_VCSLR","Valley Center Solar","Online",null,"N/A","N/A",null,2.33,2.33,0.33,6.170684625000022,"NotHybrid","NA",null,null,null,null,null,null,null,null,null,null,null,null,null,null,null,null,"NA","SDGE",null,null,"SanDiegoCounty",2016,12,7,2016,12,7,2036,12,6,2015,7,20,"NA","NA","NA","NA","NA","NA",null,null,null,null,null,null,null,null,null,null,"NA","YES",null,"YES","EnergyCapacity","Calculated",null,"Solar Existing California (GWh)",6.1707088269695545,6.1707088269695545,6.1707088269695545,6.1707088269695545,"physical"]
["SD5080","MIDWY3_2_MDSSR1","Midway Solar Farm III","Online",null,"N/A","N/A",null,20,20,1.92,52.967250000000192,"NotHybrid","NA",null,null,null,null,null,null,null,null,null,null,null,null,"VAMO",null,null,null,"NA","SanDiegoImperialValley",null,null,"ImperialCounty",2018,9,6,2018,9,6,2038,9,5,2015,12,11,"NA","NA","NA","NA","NA","NA",null,null,null,null,null,null,null,null,null,null,"NA","YES",null,"YES","EnergyOnly","Calculated",null,"Solar Existing California (GWh)",52.967457742227936,52.967457742227936,52.967457742227936,52.967457742227936,"specifiedimport"]
["SD5080 - Allocation","_EXISTING_GENERIC_SOLAR_1AXIS","Midway Solar Farm III","Online",null,"N/A","N/A",null,20,0,0,40.466979000000144,"NotHybrid","NA",null,null,null,null,null,null,null,null,null,null,null,null,"VAMO","sell","Multiple non-IOU LSEs",null,"NA","SanDiegoImperialValley",null,null,"ImperialCounty",2018,9,6,2018,9,6,2038,9,5,2015,12,11,"NA","NA","NA","NA","NA","NA",null,null,null,null,null,null,null,null,null,null,"NA","YES",null,"YES","EnergyOnly",null,null,"Solar Existing California (GWh)",40.467137715062144,40.467137715062144,40.467137715062144,40.467137715062144,"existinggeneric"]
["SD5081","_EXISTING_GENERIC_SOLAR_1AXIS","Wister Solar Project","Online","GI-2018-55","N/A","N/A",null,20,20,1.92,59.550180000000125,"NotHybrid","NA",null,null,null,null,null,null,null,null,null,null,null,null,"VAMO",null,null,null,"NA","SanDiegoImperialValley",null,"3214-E","ImperialCounty",2022,7,15,2022,7,15,2042,7,14,2018,4,19,"NA","NA","NA","NA","NA","NA",null,null,null,null,null,null,null,null,null,null,"NA","YES",null,"YES","EnergyCapacity","Calculated",null,"Solar Existing California (GWh)",52.967457742227936,52.967457742227936,52.967457742227936,52.967457742227936,"existinggeneric"]
["SD5081 - Allocation","_EXISTING_GENERIC_SOLAR_1AXIS","Wister Solar Project","Online","GI-2018-55","N/A","N/A",null,20,0,0,45.496337520000097,"NotHybrid","NA",null,null,null,null,null,null,null,null,null,null,null,null,"VAMO","sell","Multiple non-IOU LSEs",null,"NA","SanDiegoImperialValley",null,"3214-E","ImperialCounty",2022,7,15,2022,7,15,2042,7,14,2018,4,19,"NA","NA","NA","NA","NA","NA",null,null,null,null,null,null,null,null,null,null,null,"YES",null,"YES","EnergyOnly",null,null,"Solar Existing California (GWh)",40.467137715062144,40.467137715062144,40.467137715062144,40.467137715062144,"existinggeneric"]
["SD7004","CRSTWD_6_KUMYAY","Kumeyaay Wind","Online",null,"N/A","N/A",null,50,50,7.5,134.31947999999966,"NotHybrid","NA",null,null,null,null,null,null,null,null,null,null,null,null,"VAMO",null,null,null,"NA","SDGE",null,null,"SanDiegoCounty",2006,3,21,2006,3,21,2025,12,31,2004,5,31,"NA","NA","NA","NA","NA","NA",null,null,null,null,null,null,null,null,null,null,"NA","YES",null,"YES","EnergyCapacity","Calculated",null,"Wind Existing California (GWh)",134.31935447188027,0,0,0,"physical"]
["SD7004 - Allocation","_EXISTING_GENERIC_WIND","Kumeyaay Wind","Online",null,"N/A","N/A",null,50,0,0,102.62008271999974,"NotHybrid","NA",null,null,null,null,null,null,null,null,null,null,null,null,"VAMO","sell","Multiple non-IOU LSEs",null,"NA","SDGE",null,null,"SanDiegoCounty",2006,3,21,2006,3,21,2025,12,31,2004,5,31,"NA","NA","NA","NA","NA","NA",null,null,null,null,null,null,null,null,null,null,"NA","YES",null,"YES","EnergyOnly",null,null,"Wind Existing California (GWh)",102.61998681651653,0,0,0,"existinggeneric"]
["SD7005","_CREZ_UNBUNDLEDREC_NW_EXT_TX_WIND","Glacier 1","Online",null,"N/A","N/A",null,0,0,0,0,"NotHybrid","NA",null,null,null,null,null,null,null,null,null,null,null,null,"VAMO",null,null,null,"NA","PacGE",null,null,"Montana",2008,12,29,2008,12,29,2023,12,28,2008,5,16,"NA","NA","NA","NA","NA","NA",null,null,null,null,null,null,null,null,null,null,"NA","YES",null,"YES","EnergyOnly","Calculated",null,"Wind Existing California (GWh)",0,0,0,0,"unbundledrec"]
["SD7005 - Allocation","_CREZ_UNBUNDLEDREC_NW_EXT_TX_WIND","Glacier 1","Online",null,"N/A","N/A",null,0,0,0,0,"NotHybrid","NA",null,null,null,null,null,null,null,null,null,null,null,null,"VAMO","sell","Multiple non-IOU LSEs",null,"NA","PacGE",null,null,"Montana",2008,12,29,2008,12,29,2023,12,28,2008,5,16,"NA","NA","NA","NA","NA","NA",null,null,null,null,null,null,null,null,null,null,"NA","YES",null,"YES","EnergyOnly",null,null,"Wind Existing California (GWh)",0,0,0,0,"unbundledrec"]
["SD7006","_CREZ_UNBUNDLEDREC_NW_EXT_TX_WIND","Glacier 2","Online",null,"N/A","N/A",null,0,0,0,0,"NotHybrid","NA",null,null,null,null,null,null,null,null,null,null,null,null,"VAMO",null,null,null,"NA","PacGE",null,null,"Montana",2009,10,16,2009,10,16,2024,10,15,2008,5,23,"NA","NA","NA","NA","NA","NA",null,null,null,null,null,null,null,null,null,null,"NA","YES",null,"YES","EnergyOnly","Calculated",null,"Wind Existing California (GWh)",0,0,0,0,"unbundledrec"]
["SD7006 - Allocation","_CREZ_UNBUNDLEDREC_NW_EXT_TX_WIND","Glacier 2","Online",null,"N/A","N/A",null,0,0,0,0,"NotHybrid","NA",null,null,null,null,null,null,null,null,null,null,null,null,"VAMO","sell","Multiple non-IOU LSEs",null,"NA","PacGE",null,null,"Montana",2009,10,16,2009,10,16,2024,10,15,2008,5,23,"NA","NA","NA","NA","NA","NA",null,null,null,null,null,null,null,null,null,null,"NA","YES",null,"YES","EnergyOnly",null,null,"Wind Existing California (GWh)",0,0,0,0,"unbundledrec"]
["SD7007","_CREZ_UNBUNDLEDREC_NW_EXT_TX_WIND","Rim Rock","Online",null,"N/A","N/A",null,0,0,0,0,"NotHybrid","NA",null,null,null,null,null,null,null,null,null,null,null,null,"VAMO",null,null,null,"NA","PacGE",null,null,"Montana",2013,10,15,2013,10,15,2033,10,14,2009,5,5,"NA","NA","NA","NA","NA","NA",null,null,null,null,null,null,null,null,null,null,"NA","YES",null,"YES","EnergyOnly","Calculated",null,"Wind Existing California (GWh)",0,0,0,0,"unbundledrec"]
["SD7007 - Allocation","_CREZ_UNBUNDLEDREC_NW_EXT_TX_WIND","Rim Rock","Online",null,"N/A","N/A",null,0,0,0,0,"NotHybrid","NA",null,null,null,null,null,null,null,null,null,null,null,null,"VAMO","sell","Multiple non-IOU LSEs",null,"NA","PacGE",null,null,"Montana",2013,10,15,2013,10,15,2033,10,14,2009,5,5,"NA","NA","NA","NA","NA","NA",null,null,null,null,null,null,null,null,null,null,"NA","YES",null,"YES","EnergyOnly",null,null,"Wind Existing California (GWh)",0,0,0,0,"unbundledrec"]
["SD7014","ROSMDW_2_WIND1","Pacific Wind","Online",null,"N/A","N/A",null,140,140,21,376.09454399999908,"NotHybrid","NA",null,null,null,null,null,null,null,null,null,null,null,null,"VAMO",null,null,null,"NA","Kern",null,null,"KernCounty",2012,8,16,2012,8,16,2032,8,15,2005,10,12,"NA","NA","NA","NA","NA","NA",null,null,null,null,null,null,null,null,null,null,"NA","YES",null,"YES","EnergyCapacity","Calculated",null,"Wind Existing California (GWh)",376.09419252126474,376.09419252126474,376.09419252126474,0,"physical"]
["SD7014 - Allocation","_EXISTING_GENERIC_WIND","Pacific Wind","Online",null,"N/A","N/A",null,140,0,0,287.33623161599928,"NotHybrid","NA",null,null,null,null,null,null,null,null,null,null,null,null,"VAMO","sell","Multiple non-IOU LSEs",null,"NA","Kern",null,null,"KernCounty",2012,8,16,2012,8,16,2032,8,15,2005,10,12,"NA","NA","NA","NA","NA","NA",null,null,null,null,null,null,null,null,null,null,"NA","YES",null,"YES","EnergyOnly",null,null,"Wind Existing California (GWh)",287.3359630862463,287.3359630862463,287.3359630862463,0,"existinggeneric"]
["SD7015","MIDWD_7_CORAMB","Coram","Online",null,"N/A","N/A",null,7.5,7.5,1.1299999999999999,20.147921999999948,"NotHybrid","NA",null,null,null,null,null,null,null,null,null,null,null,null,"VAMO",null,null,null,"NA","Kern",null,null,"KernCounty",2011,3,1,2011,3,1,2026,3,1,2010,7,12,"NA","NA","NA","NA","NA","NA",null,null,null,null,null,null,null,null,null,null,"NA","YES",null,"YES","EnergyCapacity","Calculated",null,"Wind Existing California (GWh)",20.14790317078204,20.14790317078204,0,0,"physical"]
["SD7015 - Allocation","_EXISTING_GENERIC_SOLAR_1AXIS","Coram","Online",null,"N/A","N/A",null,7.5,0,0,15.39301240799996,"NotHybrid","NA",null,null,null,null,null,null,null,null,null,null,null,null,"VAMO","sell","Multiple non-IOU LSEs",null,"NA","Kern",null,null,"KernCounty",2011,3,1,2011,3,1,2026,3,1,2010,7,12,"NA","NA","NA","NA","NA","NA",null,null,null,null,null,null,null,null,null,null,"NA","YES",null,"YES","EnergyOnly",null,null,"Wind Existing California (GWh)",15.39299802247748,15.39299802247748,0,0,"existinggeneric"]
["SD7016","OCTILO_5_WIND","Ocotillo Express","Online",null,"N/A","N/A",null,265,265.29000000000002,39.75,712.67229698399831,"NotHybrid","NA",null,null,null,null,null,null,null,null,null,null,null,null,"VAMO",null,null,null,"NA","SanDiegoImperialValley",null,null,"ImperialCounty",2013,7,30,2013,7,30,2033,7,30,2011,2,1,"NA","NA","NA","NA","NA","NA",null,null,null,null,null,null,null,null,null,null,"NA","YES",null,"YES","EnergyCapacity","Calculated",null,"Wind Existing California (GWh)",712.67163095690239,712.67163095690239,712.67163095690239,0,"physical"]
["SD7016 - Allocation","_EXISTING_GENERIC_SOLAR_1AXIS","Ocotillo Express","Online",null,"N/A","N/A",null,265,0,0,544.48163489577473,"NotHybrid","NA",null,null,null,null,null,null,null,null,null,null,null,null,"VAMO","sell","Multiple non-IOU LSEs",null,"NA","SanDiegoImperialValley",null,null,"ImperialCounty",2013,7,30,2013,7,30,2033,7,30,2011,2,1,"NA","NA","NA","NA","NA","NA",null,null,null,null,null,null,null,null,null,null,"NA","YES",null,"YES","EnergyOnly",null,null,"Wind Existing California (GWh)",544.48112605107349,544.48112605107349,544.48112605107349,0,"existinggeneric"]
["SD7017","ENERSJ_2_WIND","Energia Sierra Juarez 1","Online",null,"N/A","N/A",null,155.1,155,23.27,416.39038799999895,"NotHybrid","NA",null,null,null,null,null,null,null,null,null,null,null,null,"VAMO",null,null,null,"NA","SanDiegoImperialValley",null,null,"BajaCaliforniaMexico",2015,6,5,2015,6,5,2035,6,4,2011,4,6,"NA","NA","NA","NA","NA","NA",null,null,null,null,null,null,null,null,null,null,"NA","YES",null,"YES","EnergyCapacity","Calculated",null,"Wind Existing California (GWh)",416.3899988628288,416.3899988628288,416.3899988628288,416.3899988628288,"physical"]
["SD7017 - Allocation","_EXISTING_GENERIC_BIOGAS_LANDFILLGAS","Energia Sierra Juarez 1","Online",null,"N/A","N/A",null,155.1,0,0,318.12225643199918,"NotHybrid","NA",null,null,null,null,null,null,null,null,null,null,null,null,"VAMO","sell","Multiple non-IOU LSEs",null,"NA","SanDiegoImperialValley",null,null,"BajaCaliforniaMexico",2015,6,5,2015,6,5,2035,6,4,2011,4,6,"NA","NA","NA","NA","NA","NA",null,null,null,null,null,null,null,null,null,null,"NA","YES",null,"YES","EnergyOnly",null,null,"Wind Existing California (GWh)",318.12195913120121,318.12195913120121,318.12195913120121,318.12195913120121,"existinggeneric"]
["SD7019","MANZNA_2_WIND","Manzana Wind","Online",null,"N/A","N/A",null,189,100,28.35,268.63895999999932,"NotHybrid","NA",null,null,null,null,null,null,null,null,null,null,null,null,"VAMO",null,null,null,"NA","Kern",null,null,"KernCounty",2012,12,31,2012,12,31,2032,12,30,2012,2,14,"NA","NA","NA","NA","NA","NA",null,null,null,null,null,null,null,null,null,null,"NA","YES",null,"YES","EnergyCapacity","Calculated",null,"Wind Existing California (GWh)",268.63870894376055,268.63870894376055,268.63870894376055,0,"physical"]
["SD7019 - Allocation","_EXISTING_GENERIC_SOLAR_1AXIS","Manzana Wind","Online",null,"N/A","N/A",null,189,0,0,205.24016543999949,"NotHybrid","NA",null,null,null,null,null,null,null,null,null,null,null,null,"VAMO","sell","Multiple non-IOU LSEs",null,"NA","Kern",null,null,"KernCounty",2012,12,31,2012,12,31,2032,12,30,2012,2,14,"NA","NA","NA","NA","NA","NA",null,null,null,null,null,null,null,null,null,null,"NA","YES",null,"YES","EnergyOnly",null,null,"Wind Existing California (GWh)",205.23997363303306,205.23997363303306,205.23997363303306,0,"existinggeneric"]
["SD7020","ENERSJ_5_ESJWD2","Energia Sierra Juarez 2","Online","159A","N/A","N/A",null,105,105,15.75,282.07090799999929,"NotHybrid","NA",null,null,null,null,null,null,null,null,null,null,null,null,"VAMO",null,null,null,"NA","SanDiegoImperialValley",null,"3151-E","BajaCaliforniaMexico",2022,1,15,2022,1,15,2042,1,14,2017,11,16,"NA","NA","NA","NA","NA","NA",null,null,null,null,null,null,null,null,null,null,"NA","YES",null,"YES","EnergyCapacity","Calculated",null,"Wind Existing California (GWh)",282.07064439094859,282.07064439094859,282.07064439094859,282.07064439094859,"physical"]
["SD7020 - Allocation","_EXISTING_GENERIC_SOLAR_1AXIS","Energia Sierra Juarez 2","Online",null,"N/A","N/A",null,105,0,0,215.50217371199946,"NotHybrid","NA",null,null,null,null,null,null,null,null,null,null,null,null,"VAMO","sell","Multiple non-IOU LSEs",null,"NA","SanDiegoImperialValley",null,null,"BajaCaliforniaMexico",2022,1,15,2022,1,15,2042,1,14,2017,11,16,"NA","NA","NA","NA","NA","NA",null,null,null,null,null,null,null,null,null,null,"NA","YES",null,"YES","EnergyOnly",null,null,"Wind Existing California (GWh)",215.50197231468474,215.50197231468474,215.50197231468474,215.50197231468474,"existinggeneric"]
["SD7029","OAKWD_6_ZEPHWD","Oak Creek","Online",null,"N/A","N/A",null,3.5,3.5,0.53,9.4023635999999762,"NotHybrid","NA",null,null,null,null,null,null,null,null,null,null,null,null,"VAMO",null,null,null,"NA","SanDiegoImperialValley",null,null,"ImperialCounty",2014,1,26,2014,1,26,2024,1,25,2013,4,16,"NA","NA","NA","NA","NA","NA",null,null,null,null,null,null,null,null,null,null,"NA","YES",null,"YES","EnergyCapacity","Calculated",null,"Wind Existing California (GWh)",9.4023548130316197,0,0,0,"physical"]
["SD7029 - Allocation","_EXISTING_GENERIC_WIND","Oak Creek","Online",null,"N/A","N/A",null,3.5,0,0,7.1834057903999815,"NotHybrid","NA",null,null,null,null,null,null,null,null,null,null,null,null,"VAMO","sell","Multiple non-IOU LSEs",null,"NA","SanDiegoImperialValley",null,null,"ImperialCounty",2014,1,26,2014,1,26,2024,1,25,2013,4,16,"NA","NA","NA","NA","NA","NA",null,null,null,null,null,null,null,null,null,null,"NA","YES",null,"YES","EnergyOnly",null,null,"Wind Existing California (GWh)",7.1833990771561576,0,0,0,"existinggeneric"]
["SD7030","GARNET_2_WIND1","San Gorgonio","Online",null,"N/A","N/A",null,11.2,11.2,1.68,30.087563519999922,"NotHybrid","NA",null,null,null,null,null,null,null,null,null,null,null,null,"VAMO",null,null,null,"NA","LABasin",null,null,"RiversideCounty",2015,1,20,2015,1,20,2025,1,19,2013,4,16,"NA","NA","NA","NA","NA","NA",null,null,null,null,null,null,null,null,null,null,"NA","YES",null,"YES","EnergyCapacity","Calculated",null,"Wind Existing California (GWh)",30.087535401701178,0,0,0,"physical"]
["SD7030 - Allocation","_EXISTING_GENERIC_WIND","San Gorgonio","Online",null,"N/A","N/A",null,11.2,0,0,22.986898529279941,"NotHybrid","NA",null,null,null,null,null,null,null,null,null,null,null,null,"VAMO","sell","Multiple non-IOU LSEs",null,"NA","LABasin",null,null,"RiversideCounty",2015,1,20,2015,1,20,2025,1,19,2013,4,16,"NA","NA","NA","NA","NA","NA",null,null,null,null,null,null,null,null,null,null,"NA","YES",null,"YES","EnergyOnly",null,null,"Wind Existing California (GWh)",22.9868770468997,0,0,0,"existinggeneric"]
["Sentinel Energy","_EXISTING_GENERIC_PEAKER",null,"Online",null,"N/A","N/A",null,1054,20,16.962951594975106,0,"NotHybrid","NA",null,null,null,null,null,null,null,null,null,null,null,null,"D.19-11-016",null,null,null,"NA","LABasin","LA Basin  Eastern","E-5117, SDGE AL 3689-E","RiversideCounty",2013,5,16,2021,6,1,2026,5,31,2021,2,12,"NA","NA","NA","NA","NA","1&2&3",null,null,null,null,null,null,null,2021,6,1,"NO","YES","NO","YES","CapacityOnly","In the contract","D1911016","NA",0,0,0,0,"existinggeneric"]
["Sentinel Energy - Allocation","_EXISTING_GENERIC_PEAKER",null,"Online",null,"N/A","N/A",null,1054,8.0440000000000005,6.8224991314989873,0,"NotHybrid","NA",null,null,null,null,null,null,null,null,null,null,null,null,"D.19-11-016","sell","Multiple non-IOU LSEs",null,"NA","LABasin",null,null,"RiversideCounty",2013,5,16,2021,6,1,2026,5,31,2021,2,12,"NA","NA","NA","NA","NA","1&2&3",null,null,null,null,null,null,null,2021,6,1,"NO","YES",null,"YES","CapacityOnly",null,null,"NA",0,0,0,0,"existinggeneric"]
["Sentinel Portion 2","_EXISTING_GENERIC_PEAKER",null,"Online",null,"N/A","N/A",null,27,27,22.899984653216393,0,"NotHybrid","NA",null,null,null,null,null,null,null,null,null,null,null,null,"CAM",null,null,null,"NA","LABasin","LA Basin  Eastern","E-5117, SDGE AL 3689-E","RiversideCounty",2013,5,16,2021,6,1,2026,5,31,2021,2,12,"NA","NA","NA","NA","NA","NA",null,null,null,null,null,null,null,null,null,null,"NA","YES",null,"YES","CapacityOnly","In the contract","summerreliability","NA",0,0,0,0,"existinggeneric"]
["Sentinel Portion 2 - Allocation","_EXISTING_GENERIC_PEAKER",null,"Online",null,"N/A","N/A",null,27,20.466000000000001,17.358188367138027,0,"NotHybrid","NA",null,null,null,null,null,null,null,null,null,null,null,null,"CAM","sell","Multiple non-IOU LSEs",null,"NA","LABasin",null,null,"RiversideCounty",2013,5,16,2021,6,1,2026,5,31,2021,2,12,"NA","NA","NA","NA","NA","NA",null,null,null,null,null,null,null,null,null,null,"NA","YES",null,"YES","CapacityOnly",null,null,"NA",0,0,0,0,"existinggeneric"]
["Top Gun Miramar","MRGT_6_TGEBT1","Top Gun Miramar Storage","Online",null,"N/A","N/A",null,30,30,30,34.474798500000006,"NotHybrid","NA",null,null,null,null,null,null,null,120,null,null,null,null,"CAM","Owned",null,null,"NA","SDGE",null,null,"SanDiegoCounty",2021,6,30,2021,6,30,2060,12,31,2017,3,30,"NA","NA","NA","NA","NA","NA",null,null,null,null,null,null,null,null,null,null,"NA","YES",null,"YES","EnergyCapacity","Calculated",null,"Battery Storage (MWh Energy Capacity)",120,120,120,120,"physical"]
["Top Gun Miramar - Allocation","_EXISTING_GENERIC_BATTERY_STORAGE","Top Gun Miramar Storage","Online",null,"N/A","N/A",null,30,22.740000000000002,22.740000000000002,26.131897263000006,"NotHybrid","NA",null,null,null,null,null,null,null,90.960000000000008,null,null,null,null,"CAM","sell","Multiple non-IOU LSEs",null,"NA","SDGE",null,null,"SanDiegoCounty",2021,6,30,2021,6,30,2060,12,31,2017,3,30,"NA","NA","NA","NA","NA","NA",null,null,null,null,null,null,null,null,null,null,"NA","YES",null,"YES","EnergyCapacity",null,null,"Battery Storage (MWh Energy Capacity)",90.960000000000008,90.960000000000008,90.960000000000008,90.960000000000008,"existinggeneric"]
["Valley Center Energy Storage 1","VLCNTR_6_VCEBT2",null,"Online",1191,"N/A","N/A",null,50,50,50,0,"NotHybrid","NA",null,null,null,null,null,null,null,200,null,null,null,null,"D.19-11-016",null,null,null,"NA","SanDiegoImperialValley","San Diego/Imperial Valley  San Diego","E-5117, SDGE AL 3605-E","SanDiegoCounty",2021,12,16,2021,12,16,2036,12,15,2020,8,31,"NA","NA","NA","NA","NA","1&2&3",null,null,null,null,null,null,null,2021,12,16,"NO","YES","NO","YES","CapacityOnly","In the contract","D1911016","Battery Storage (MWh Energy Capacity)",0,0,0,0,"physical"]
["Valley Center Energy Storage 1 - Allocation","_EXISTING_GENERIC_BATTERY_STORAGE",null,"Online",1191,"N/A","N/A",null,50,20.11,20.11,0,"NotHybrid","NA",null,null,null,null,null,null,null,null,null,null,null,null,"D.19-11-016","sell","Multiple non-IOU LSEs",null,"NA","SanDiegoImperialValley",null,null,"SanDiegoCounty",2021,12,16,2021,12,16,2036,12,15,2020,8,31,"NA","NA","NA","NA","NA","1&2&3",null,null,null,null,null,null,null,2021,12,16,"NO","YES",null,"YES","CapacityOnly",null,null,"Battery Storage (MWh Energy Capacity)",0,0,0,0,"existinggeneric"]
["Valley Center Energy Storage 2","VLCNTR_6_VCEBT1",null,"Online",1675,"N/A","N/A",null,54,54,54,62.054637300000003,"NotHybrid","NA",null,null,null,null,null,null,null,216,null,null,null,null,"D.19-11-016",null,null,null,"NA","SanDiegoImperialValley","San Diego/Imperial Valley  San Diego","E-5117, SDGE AL 3605-E","SanDiegoCounty",2021,11,29,2021,11,29,2036,11,28,2020,8,31,"NA","NA","NA","NA","NA","1&2&3",null,null,null,null,null,null,null,2021,11,29,"NO","YES","NO","YES","EnergyCapacity","In the contract","D1911016","Battery Storage (MWh Energy Capacity)",216,216,216,216,"physical"]
["Valley Center Energy Storage 2 - Allocation","_EXISTING_GENERIC_BATTERY_STORAGE",null,"Online",1675,"N/A","N/A",null,54,21.718800000000002,21.718800000000002,0,"NotHybrid","NA",null,null,null,null,null,null,null,null,null,null,null,null,"D.19-11-016","sell","Multiple non-IOU LSEs",null,"NA","SanDiegoImperialValley",null,null,"SanDiegoCounty",2021,11,29,2021,11,29,2036,11,28,2020,8,31,"NA","NA","NA","NA","NA","1&2&3",null,null,null,null,null,null,null,2021,11,29,"NO","YES",null,"YES","CapacityOnly",null,null,"Battery Storage (MWh Energy Capacity)",0,0,0,0,"existinggeneric"]
["Vista Energy Storage 1","VSTAES_6_VESBT1",null,"Online",1294,"N/A","N/A",null,10,10,10,0,"NotHybrid","NA",null,null,null,null,null,null,null,40,null,null,null,null,"D.19-11-016",null,null,null,"NA","SanDiegoImperialValley","San Diego/Imperial Valley  San Diego","E-5117, SDGE AL 3605-E","SanDiegoCounty",2021,8,1,2021,8,1,2036,7,31,2020,8,31,"NA","NA","NA","NA","NA","1&2&3",null,null,null,null,null,null,null,2021,8,1,"NO","YES","NO","YES","CapacityOnly","In the contract","D1911016","Battery Storage (MWh Energy Capacity)",0,0,0,0,"physical"]
["Vista Energy Storage 1 - Allocation","_EXISTING_GENERIC_BATTERY_STORAGE",null,"Online",1294,"N/A","N/A",null,10,4.0220000000000002,4.0220000000000002,0,"NotHybrid","NA",null,null,null,null,null,null,null,null,null,null,null,null,"D.19-11-016","sell","Multiple non-IOU LSEs",null,"NA","SanDiegoImperialValley",null,null,"SanDiegoCounty",2021,8,1,2021,8,1,2036,7,31,2020,8,31,"NA","NA","NA","NA","NA","1&2&3",null,null,null,null,null,null,null,2021,8,1,"NO","YES",null,"YES","CapacityOnly",null,null,"Battery Storage (MWh Energy Capacity)",0,0,0,0,"existinggeneric"]
["Westside Canal Storage","_NEW_GENERIC_BATTERY_STORAGE",null,"Development","Q1531","SDG&E’s Imperial Valley Substation.","N/A",null,131,131,115.935,150.53995345000001,"NotHybrid","NA",null,null,null,null,null,null,null,524,null,null,"N/A - No Financing Required. Utility Owned",null,"CAM","Owned",null,null,"ConEdDev","SanDiegoImperialValley","No_sub_area","5193-E","SanDiegoCounty",null,null,null,null,null,null,2060,12,31,2021,12,13,"NA","NA","NA","NA","NA","NA",null,null,null,null,null,null,null,null,null,null,"NA","YES",null,"Yes, See CPUC approval referance column","EnergyCapacity","In the contract","summerreliability","Battery Storage (MWh Energy Capacity)",524,524,524,524,"newgeneric"]
["Westside Canal Storage - Allocation","_NEW_GENERIC_BATTERY_STORAGE",null,"Development","Q1531","SDG&E’s Imperial Valley Substation.","N/A",null,131,99.298000000000002,87.878730000000004,114.10928471510002,"NotHybrid","NA",null,null,null,null,null,null,null,397.19200000000001,null,null,"N/A - No Financing Required. Utility Owned",null,"CAM","sell","Multiple non-IOU LSEs",null,"ConEdDev","SanDiegoImperialValley","No_sub_area","5193-E","SanDiegoCounty",null,null,null,null,null,null,2060,12,31,2021,12,13,"NA","NA","NA","NA","NA","NA",null,null,null,null,null,null,null,null,null,null,"NA","YES",null,"Yes, See CPUC approval referance column","EnergyCapacity",null,null,"Battery Storage (MWh Energy Capacity)",397.19200000000001,397.19200000000001,397.19200000000001,397.19200000000001,"newgeneric"]
["Yuma Cogeneration Associates (CHP)","NGILAA_5_SDGDYN","YCA","Online",null,"N/A","N/A",null,57,54.93,46.58874655559913,269.5735012320003,"NotHybrid","NA",null,null,null,null,null,null,null,null,null,null,null,null,null,null,null,null,"NA","AZPS",null,null,"Arizona",2015,12,1,2015,12,1,2024,5,27,2014,8,14,"NA","NA","NA","NA","NA","NA",null,null,null,null,null,null,null,null,null,null,"NA","YES",null,"YES","EnergyCapacity","Calculated",null,"NA",0,0,0,0,"specifiedimport"]
["SD2002 - Allocation RA","LASSEN_6_UNITS","HL Power Company, LP","Online",null,"N/A","N/A",null,30,24,24,0,"NotHybrid","NA",null,null,null,null,null,null,null,null,null,null,null,null,null,"sell","Sonoma Clean Power Authority",null,"NA","PacGE",null,null,"LassenCounty",2017,2,1,2020,1,1,2024,9,31,2019,10,7,"NA","NA","NA","NA","NA","NA",null,null,null,null,null,null,null,null,null,null,"NA","YES",null,"YES","EnergyCapacity","Calculated",null,"Biomass (GWh)",0,0,0,0,"physical","RA Only Sale from HL Power"]
["SD2002 - Allocation RPS","LASSEN_6_UNITS","HL Power Company, LP","Online",null,"N/A","N/A",null,30,0,0,145.82226359999967,"NotHybrid","NA",null,null,null,null,null,null,null,null,null,null,null,null,null,"sell","San Diego Community Power",null,"NA","PacGE",null,"4054-E","LassenCounty",2017,2,1,2023,1,1,2025,12,31,2022,8,24,"NA","NA","NA","NA","NA","NA",null,null,null,null,null,null,null,null,null,null,"NA","YES",null,"YES","EnergyOnly","Calculated",null,"Biomass (GWh)",144.1365743999998,0,0,0,"physical","REC Only Sale from HL Power"]

{"sheet":"Calcs","index":3,"n_rows":193,"n_cols":37,"rows_kept":193,"cut":false,"hidden":false,"merged":[[0,0,20,0]]}
["Instruction: This worksheet consists of formulas only. LSEs should extend formulas in columns B:AK to cover all contracts entered in the \"unique_contracts\" worksheet (i.e. the last row that has formulas in this worksheet should have a row number that is greater than or equal to that of the last row in the \"unique_contracts\" worksheet). To extend formulas in this worksheet, please select one row (e.g. B500:AK500) and drag down the formulas vertically. PLEASE DO NOT DRAG FORMULAS HORIZONTALLY. Please do not hard-code values in this worksheet. All contract information should be entered in the \"unique_contracts\" tab.","resource","contract_status","contracted_nameplate_capacity","is_hybrid_paired","can_charge_from_grid","contracted_generator_mw","contracted_storage_mw","contracted_storage_depth_mwh","buy_sell_own","contract_start_date_year","contract_start_date_month","contract_start_date_day","contract_end_date_year","contract_end_date_month","contract_end_date_day","buying_energy_capacity","multiplier","resource elcc type","hybrid/paired storage elcc type","elcc type (for summary tables and charts)","start year","end year","hybrid storage derate (100% means no derates)","short duration derate",2024,2025,2026,2027,2028,2029,2030,2031,2032,2033,2034,2035]
[null,{"$f":"unique_contracts!B2","v":"MSSION_2_QF"},{"$f":"unique_contracts!D2","v":"Online"},{"$f":"unique_contracts!J2","v":0.6},{"$f":"unique_contracts!M2","v":"NotHybrid"},{"$f":"unique_contracts!N2","v":"NA"},{"$f":"unique_contracts!P2","v":0},{"$f":"unique_contracts!R2","v":0},{"$f":"unique_contracts!V2","v":0},{"$f":"unique_contracts!AB2","v":0},{"$f":"unique_contracts!AM2","v":2020},{"$f":"unique_contracts!AN2","v":7},{"$f":"unique_contracts!AO2","v":1},{"$f":"unique_contracts!AP2","v":2027},{"$f":"unique_contracts!AQ2","v":7},{"$f":"unique_contracts!AR2","v":1},{"$f":"unique_contracts!BP2","v":"EnergyOnly"},{"$f":"IF(AND(J2=\"Sell\",ISNUMBER(SEARCH(\"Capacity\",Q2))),-1,IF(AND(NOT(J2=\"Sell\"),ISNUMBER(SEARCH(\"Capacity\",Q2))),1,0))","v":0},{"$f":"IFERROR(IF(AND(I2>0,E2=\"NotHybrid\"),_xlfn.CONCAT(MAX(MIN(ROUNDDOWN(I2/D2,0),8),4),INDEX(resources!$G:$G,MATCH(B2,resources!$A:$A,0))),INDEX(resources!$G:$G,MATCH(B2,resources!$A:$A,0))),\"n/a\")","v":"small_hydro"},{"$f":"IFERROR(IF(NOT(E2=\"NotHybrid\"),_xlfn.CONCAT(MAX(MIN(ROUNDDOWN(I2/H2,0),8),4),\"hr_batteries\"),\"n/a\"),\"n/a\")","v":"n/a"},{"$f":"IF(T2=\"n/a\",S2,\"hybrid\")","v":"small_hydro"},{"$f":"IFERROR(IF(DATE(K2,L2,M2)<=DATE(K2,6,1),K2,K2+1),0)","v":2021},{"$f":"IFERROR(IF(DATE(N2,O2,P2)>=DATE(N2,10,1),N2,N2-1),0)","v":2026},{"$f":"IF(OR(T2=\"n/a\",NOT(F2=\"NO\")),100%,IF(ISNUMBER(SEARCH(\"pv\",S2)),MIN(G2/(1*(ROUNDDOWN(I2/H2,0)/4)),H2)/H2,IF(ISNUMBER(SEARCH(\"wind\",S2)),MIN(G2/(2*(ROUNDDOWN(I2/H2,0)/4)),H2)/H2,1)))","v":1},{"$f":"IF(ISNUMBER(SEARCH(\"batteries\",S2)),MIN(ROUNDDOWN(I2/D2,0)/4,1), IF(ISNUMBER(SEARCH(\"batteries\",T2)),MIN(ROUNDDOWN(I2/H2,0)/4,1),1))","v":1},{"$f":"MIN((IFERROR(IF(AND($V2<=Z$1,$W2>=Z$1),INDEX(Reliability!E$23:E$50,MATCH($S2,Reliability!$C$23:$C$50,0)),0),0)*IF($T2=\"n/a\",$D2*$Y2,$G2)+IFERROR(IF(AND($V2<=Z$1,$W2>=Z$1),INDEX(Reliability!E$23:E$50,MATCH($T2,Reliability!$C$23:$C$50,0)),0),0)*$H2*$X2*$Y2),$D2)*$R2","v":0},{"$f":"MIN((IFERROR(IF(AND($V2<=AA$1,$W2>=AA$1),INDEX(Reliability!F$23:F$50,MATCH($S2,Reliability!$C$23:$C$50,0)),0),0)*IF($T2=\"n/a\",$D2*$Y2,$G2)+IFERROR(IF(AND($V2<=AA$1,$W2>=AA$1),INDEX(Reliability!F$23:F$50,MATCH($T2,Reliability!$C$23:$C$50,0)),0),0)*$H2*$X2*$Y2),$D2)*$R2","v":0},{"$f":"MIN((IFERROR(IF(AND($V2<=AB$1,$W2>=AB$1),INDEX(Reliability!G$23:G$50,MATCH($S2,Reliability!$C$23:$C$50,0)),0),0)*IF($T2=\"n/a\",$D2*$Y2,$G2)+IFERROR(IF(AND($V2<=AB$1,$W2>=AB$1),INDEX(Reliability!G$23:G$50,MATCH($T2,Reliability!$C$23:$C$50,0)),0),0)*$H2*$X2*$Y2),$D2)*$R2","v":0},{"$f":"MIN((IFERROR(IF(AND($V2<=AC$1,$W2>=AC$1),INDEX(Reliability!H$23:H$50,MATCH($S2,Reliability!$C$23:$C$50,0)),0),0)*IF($T2=\"n/a\",$D2*$Y2,$G2)+IFERROR(IF(AND($V2<=AC$1,$W2>=AC$1),INDEX(Reliability!H$23:H$50,MATCH($T2,Reliability!$C$23:$C$50,0)),0),0)*$H2*$X2*$Y2),$D2)*$R2","v":0},{"$f":"MIN((IFERROR(IF(AND($V2<=AD$1,$W2>=AD$1),INDEX(Reliability!I$23:I$50,MATCH($S2,Reliability!$C$23:$C$50,0)),0),0)*IF($T2=\"n/a\",$D2*$Y2,$G2)+IFERROR(IF(AND($V2<=AD$1,$W2>=AD$1),INDEX(Reliability!I$23:I$50,MATCH($T2,Reliability!$C$23:$C$50,0)),0),0)*$H2*$X2*$Y2),$D2)*$R2","v":0},{"$f":"MIN((IFERROR(IF(AND($V2<=AE$1,$W2>=AE$1),INDEX(Reliability!J$23:J$50,MATCH($S2,Reliability!$C$23:$C$50,0)),0),0)*IF($T2=\"n/a\",$D2*$Y2,$G2)+IFERROR(IF(AND($V2<=AE$1,$W2>=AE$1),INDEX(Reliability!J$23:J$50,MATCH($T2,Reliability!$C$23:$C$50,0)),0),0)*$H2*$X2*$Y2),$D2)*$R2","v":0},{"$f":"MIN((IFERROR(IF(AND($V2<=AF$1,$W2>=AF$1),INDEX(Reliability!K$23:K$50,MATCH($S2,Reliability!$C$23:$C$50,0)),0),0)*IF($T2=\"n/a\",$D2*$Y2,$G2)+IFERROR(IF(AND($V2<=AF$1,$W2>=AF$1),INDEX(Reliability!K$23:K$50,MATCH($T2,Reliability!$C$23:$C$50,0)),0),0)*$H2*$X2*$Y2),$D2)*$R2","v":0},{"$f":"MIN((IFERROR(IF(AND($V2<=AG$1,$W2>=AG$1),INDEX(Reliability!L$23:L$50,MATCH($S2,Reliability!$C$23:$C$50,0)),0),0)*IF($T2=\"n/a\",$D2*$Y2,$G2)+IFERROR(IF(AND($V2<=AG$1,$W2>=AG$1),INDEX(Reliability!L$23:L$50,MATCH($T2,Reliability!$C$23:$C$50,0)),0),0)*$H2*$X2*$Y2),$D2)*$R2","v":0},{"$f":"MIN((IFERROR(IF(AND($V2<=AH$1,$W2>=AH$1),INDEX(Reliability!M$23:M$50,MATCH($S2,Reliability!$C$23:$C$50,0)),0),0)*IF($T2=\"n/a\",$D2*$Y2,$G2)+IFERROR(IF(AND($V2<=AH$1,$W2>=AH$1),INDEX(Reliability!M$23:M$50,MATCH($T2,Reliability!$C$23:$C$50,0)),0),0)*$H2*$X2*$Y2),$D2)*$R2","v":0},{"$f":"MIN((IFERROR(IF(AND($V2<=AI$1,$W2>=AI$1),INDEX(Reliability!N$23:N$50,MATCH($S2,Reliability!$C$23:$C$50,0)),0),0)*IF($T2=\"n/a\",$D2*$Y2,$G2)+IFERROR(IF(AND($V2<=AI$1,$W2>=AI$1),INDEX(Reliability!N$23:N$50,MATCH($T2,Reliability!$C$23:$C$50,0)),0),0)*$H2*$X2*$Y2),$D2)*$R2","v":0},{"$f":"MIN((IFERROR(IF(AND($V2<=AJ$1,$W2>=AJ$1),INDEX(Reliability!O$23:O$50,MATCH($S2,Reliability!$C$23:$C$50,0)),0),0)*IF($T2=\"n/a\",$D2*$Y2,$G2)+IFERROR(IF(AND($V2<=AJ$1,$W2>=AJ$1),INDEX(Reliability!O$23:O$50,MATCH($T2,Reliability!$C$23:$C$50,0)),0),0)*$H2*$X2*$Y2),$D2)*$R2","v":0},{"$f":"MIN((IFERROR(IF(AND($V2<=AK$1,$W2>=AK$1),INDEX(Reliability!P$23:P$50,MATCH($S2,Reliability!$C$23:$C$50,0)),0),0)*IF($T2=\"n/a\",$D2*$Y2,$G2)+IFERROR(IF(AND($V2<=AK$1,$W2>=AK$1),INDEX(Reliability!P$23:P$50,MATCH($T2,Reliability!$C$23:$C$50,0)),0),0)*$H2*$X2*$Y2),$D2)*$R2","v":0}]
[null,{"$f":"unique_contracts!B3","v":"_NEW_GENERIC_BATTERY_STORAGE"},{"$f":"unique_contracts!D3","v":"Development"},{"$f":"unique_contracts!J3","v":7.3},{"$f":"unique_contracts!M3","v":"NotHybrid"},{"$f":"unique_contracts!N3","v":"NA"},{"$f":"unique_contracts!P3","v":0},{"$f":"unique_contracts!R3","v":0},{"$f":"unique_contracts!V3","v":17.446999999999999},{"$f":"unique_contracts!AB3","v":"Owned"},{"$f":"unique_contracts!AM3","v":0},{"$f":"unique_contracts!AN3","v":0},{"$f":"unique_contracts!AO3","v":0},{"$f":"unique_contracts!AP3","v":2060},{"$f":"unique_contracts!AQ3","v":12},{"$f":"unique_contracts!AR3","v":31},{"$f":"unique_contracts!BP3","v":"EnergyCapacity"},{"$f":"IF(AND(J3=\"Sell\",ISNUMBER(SEARCH(\"Capacity\",Q3))),-1,IF(AND(NOT(J3=\"Sell\"),ISNUMBER(SEARCH(\"Capacity\",Q3))),1,0))","v":1},{"$f":"IFERROR(IF(AND(I3>0,E3=\"NotHybrid\"),_xlfn.CONCAT(MAX(MIN(ROUNDDOWN(I3/D3,0),8),4),INDEX(resources!$G:$G,MATCH(B3,resources!$A:$A,0))),INDEX(resources!$G:$G,MATCH(B3,resources!$A:$A,0))),\"n/a\")","v":"4hr_batteries"},{"$f":"IFERROR(IF(NOT(E3=\"NotHybrid\"),_xlfn.CONCAT(MAX(MIN(ROUNDDOWN(I3/H3,0),8),4),\"hr_batteries\"),\"n/a\"),\"n/a\")","v":"n/a"},{"$f":"IF(T3=\"n/a\",S3,\"hybrid\")","v":"4hr_batteries"},{"$f":"IFERROR(IF(DATE(K3,L3,M3)<=DATE(K3,6,1),K3,K3+1),0)","v":0},{"$f":"IFERROR(IF(DATE(N3,O3,P3)>=DATE(N3,10,1),N3,N3-1),0)","v":2060},{"$f":"IF(OR(T3=\"n/a\",NOT(F3=\"NO\")),100%,IF(ISNUMBER(SEARCH(\"pv\",S3)),MIN(G3/(1*(ROUNDDOWN(I3/H3,0)/4)),H3)/H3,IF(ISNUMBER(SEARCH(\"wind\",S3)),MIN(G3/(2*(ROUNDDOWN(I3/H3,0)/4)),H3)/H3,1)))","v":1},{"$f":"IF(ISNUMBER(SEARCH(\"batteries\",S3)),MIN(ROUNDDOWN(I3/D3,0)/4,1), IF(ISNUMBER(SEARCH(\"batteries\",T3)),MIN(ROUNDDOWN(I3/H3,0)/4,1),1))","v":0.5},{"$f":"MIN((IFERROR(IF(AND($V3<=Z$1,$W3>=Z$1),INDEX(Reliability!E$23:E$50,MATCH($S3,Reliability!$C$23:$C$50,0)),0),0)*IF($T3=\"n/a\",$D3*$Y3,$G3)+IFERROR(IF(AND($V3<=Z$1,$W3>=Z$1),INDEX(Reliability!E$23:E$50,MATCH($T3,Reliability!$C$23:$C$50,0)),0),0)*$H3*$X3*$Y3),$D3)*$R3","v":3.2302499999999998},{"$f":"MIN((IFERROR(IF(AND($V3<=AA$1,$W3>=AA$1),INDEX(Reliability!F$23:F$50,MATCH($S3,Reliability!$C$23:$C$50,0)),0),0)*IF($T3=\"n/a\",$D3*$Y3,$G3)+IFERROR(IF(AND($V3<=AA$1,$W3>=AA$1),INDEX(Reliability!F$23:F$50,MATCH($T3,Reliability!$C$23:$C$50,0)),0),0)*$H3*$X3*$Y3),$D3)*$R3","v":3.2904749999999998},{"$f":"MIN((IFERROR(IF(AND($V3<=AB$1,$W3>=AB$1),INDEX(Reliability!G$23:G$50,MATCH($S3,Reliability!$C$23:$C$50,0)),0),0)*IF($T3=\"n/a\",$D3*$Y3,$G3)+IFERROR(IF(AND($V3<=AB$1,$W3>=AB$1),INDEX(Reliability!G$23:G$50,MATCH($T3,Reliability!$C$23:$C$50,0)),0),0)*$H3*$X3*$Y3),$D3)*$R3","v":3.3507000000000002},{"$f":"MIN((IFERROR(IF(AND($V3<=AC$1,$W3>=AC$1),INDEX(Reliability!H$23:H$50,MATCH($S3,Reliability!$C$23:$C$50,0)),0),0)*IF($T3=\"n/a\",$D3*$Y3,$G3)+IFERROR(IF(AND($V3<=AC$1,$W3>=AC$1),INDEX(Reliability!H$23:H$50,MATCH($T3,Reliability!$C$23:$C$50,0)),0),0)*$H3*$X3*$Y3),$D3)*$R3","v":3.0860750000000001},{"$f":"MIN((IFERROR(IF(AND($V3<=AD$1,$W3>=AD$1),INDEX(Reliability!I$23:I$50,MATCH($S3,Reliability!$C$23:$C$50,0)),0),0)*IF($T3=\"n/a\",$D3*$Y3,$G3)+IFERROR(IF(AND($V3<=AD$1,$W3>=AD$1),INDEX(Reliability!I$23:I$50,MATCH($T3,Reliability!$C$23:$C$50,0)),0),0)*$H3*$X3*$Y3),$D3)*$R3","v":2.82145},{"$f":"MIN((IFERROR(IF(AND($V3<=AE$1,$W3>=AE$1),INDEX(Reliability!J$23:J$50,MATCH($S3,Reliability!$C$23:$C$50,0)),0),0)*IF($T3=\"n/a\",$D3*$Y3,$G3)+IFERROR(IF(AND($V3<=AE$1,$W3>=AE$1),INDEX(Reliability!J$23:J$50,MATCH($T3,Reliability!$C$23:$C$50,0)),0),0)*$H3*$X3*$Y3),$D3)*$R3","v":2.7703500000000001},{"$f":"MIN((IFERROR(IF(AND($V3<=AF$1,$W3>=AF$1),INDEX(Reliability!K$23:K$50,MATCH($S3,Reliability!$C$23:$C$50,0)),0),0)*IF($T3=\"n/a\",$D3*$Y3,$G3)+IFERROR(IF(AND($V3<=AF$1,$W3>=AF$1),INDEX(Reliability!K$23:K$50,MATCH($T3,Reliability!$C$23:$C$50,0)),0),0)*$H3*$X3*$Y3),$D3)*$R3","v":2.7192499999999997},{"$f":"MIN((IFERROR(IF(AND($V3<=AG$1,$W3>=AG$1),INDEX(Reliability!L$23:L$50,MATCH($S3,Reliability!$C$23:$C$50,0)),0),0)*IF($T3=\"n/a\",$D3*$Y3,$G3)+IFERROR(IF(AND($V3<=AG$1,$W3>=AG$1),INDEX(Reliability!L$23:L$50,MATCH($T3,Reliability!$C$23:$C$50,0)),0),0)*$H3*$X3*$Y3),$D3)*$R3","v":2.4681299999999999},{"$f":"MIN((IFERROR(IF(AND($V3<=AH$1,$W3>=AH$1),INDEX(Reliability!M$23:M$50,MATCH($S3,Reliability!$C$23:$C$50,0)),0),0)*IF($T3=\"n/a\",$D3*$Y3,$G3)+IFERROR(IF(AND($V3<=AH$1,$W3>=AH$1),INDEX(Reliability!M$23:M$50,MATCH($T3,Reliability!$C$23:$C$50,0)),0),0)*$H3*$X3*$Y3),$D3)*$R3","v":2.2170100000000001},{"$f":"MIN((IFERROR(IF(AND($V3<=AI$1,$W3>=AI$1),INDEX(Reliability!N$23:N$50,MATCH($S3,Reliability!$C$23:$C$50,0)),0),0)*IF($T3=\"n/a\",$D3*$Y3,$G3)+IFERROR(IF(AND($V3<=AI$1,$W3>=AI$1),INDEX(Reliability!N$23:N$50,MATCH($T3,Reliability!$C$23:$C$50,0)),0),0)*$H3*$X3*$Y3),$D3)*$R3","v":1.9658900000000001},{"$f":"MIN((IFERROR(IF(AND($V3<=AJ$1,$W3>=AJ$1),INDEX(Reliability!O$23:O$50,MATCH($S3,Reliability!$C$23:$C$50,0)),0),0)*IF($T3=\"n/a\",$D3*$Y3,$G3)+IFERROR(IF(AND($V3<=AJ$1,$W3>=AJ$1),INDEX(Reliability!O$23:O$50,MATCH($T3,Reliability!$C$23:$C$50,0)),0),0)*$H3*$X3*$Y3),$D3)*$R3","v":1.7147700000000003},{"$f":"MIN((IFERROR(IF(AND($V3<=AK$1,$W3>=AK$1),INDEX(Reliability!P$23:P$50,MATCH($S3,Reliability!$C$23:$C$50,0)),0),0)*IF($T3=\"n/a\",$D3*$Y3,$G3)+IFERROR(IF(AND($V3<=AK$1,$W3>=AK$1),INDEX(Reliability!P$23:P$50,MATCH($T3,Reliability!$C$23:$C$50,0)),0),0)*$H3*$X3*$Y3),$D3)*$R3","v":1.4636500000000001}]
[null,{"$f":"unique_contracts!B4","v":"_NEW_GENERIC_BATTERY_STORAGE"},{"$f":"unique_contracts!D4","v":"Development"},{"$f":"unique_contracts!J4","v":10},{"$f":"unique_contracts!M4","v":"NotHybrid"},{"$f":"unique_contracts!N4","v":"NA"},{"$f":"unique_contracts!P4","v":0},{"$f":"unique_contracts!R4","v":0},{"$f":"unique_contracts!V4","v":40},{"$f":"unique_contracts!AB4","v":"Owned"},{"$f":"unique_contracts!AM4","v":0},{"$f":"unique_contracts!AN4","v":0},{"$f":"unique_contracts!AO4","v":0},{"$f":"unique_contracts!AP4","v":2060},{"$f":"unique_contracts!AQ4","v":12},{"$f":"unique_contracts!AR4","v":31},{"$f":"unique_contracts!BP4","v":"EnergyCapacity"},1,{"$f":"IFERROR(IF(AND(I4>0,E4=\"NotHybrid\"),_xlfn.CONCAT(MAX(MIN(ROUNDDOWN(I4/D4,0),8),4),INDEX(resources!$G:$G,MATCH(B4,resources!$A:$A,0))),INDEX(resources!$G:$G,MATCH(B4,resources!$A:$A,0))),\"n/a\")","v":"4hr_batteries"},"n/a","4hr_batteries",0,2060,1,1,{"$f":"MIN((IFERROR(IF(AND($V4<=Z$1,$W4>=Z$1),INDEX(Reliability!E$23:E$50,MATCH($S4,Reliability!$C$23:$C$50,0)),0),0)*IF($T4=\"n/a\",$D4*$Y4,$G4)+IFERROR(IF(AND($V4<=Z$1,$W4>=Z$1),INDEX(Reliability!E$23:E$50,MATCH($T4,Reliability!$C$23:$C$50,0)),0),0)*$H4*$X4*$Y4),$D4)*$R4","v":8.85},{"$f":"MIN((IFERROR(IF(AND($V4<=AA$1,$W4>=AA$1),INDEX(Reliability!F$23:F$50,MATCH($S4,Reliability!$C$23:$C$50,0)),0),0)*IF($T4=\"n/a\",$D4*$Y4,$G4)+IFERROR(IF(AND($V4<=AA$1,$W4>=AA$1),INDEX(Reliability!F$23:F$50,MATCH($T4,Reliability!$C$23:$C$50,0)),0),0)*$H4*$X4*$Y4),$D4)*$R4","v":9.0150000000000006},{"$f":"MIN((IFERROR(IF(AND($V4<=AB$1,$W4>=AB$1),INDEX(Reliability!G$23:G$50,MATCH($S4,Reliability!$C$23:$C$50,0)),0),0)*IF($T4=\"n/a\",$D4*$Y4,$G4)+IFERROR(IF(AND($V4<=AB$1,$W4>=AB$1),INDEX(Reliability!G$23:G$50,MATCH($T4,Reliability!$C$23:$C$50,0)),0),0)*$H4*$X4*$Y4),$D4)*$R4","v":9.18},{"$f":"MIN((IFERROR(IF(AND($V4<=AC$1,$W4>=AC$1),INDEX(Reliability!H$23:H$50,MATCH($S4,Reliability!$C$23:$C$50,0)),0),0)*IF($T4=\"n/a\",$D4*$Y4,$G4)+IFERROR(IF(AND($V4<=AC$1,$W4>=AC$1),INDEX(Reliability!H$23:H$50,MATCH($T4,Reliability!$C$23:$C$50,0)),0),0)*$H4*$X4*$Y4),$D4)*$R4","v":8.4550000000000001},{"$f":"MIN((IFERROR(IF(AND($V4<=AD$1,$W4>=AD$1),INDEX(Reliability!I$23:I$50,MATCH($S4,Reliability!$C$23:$C$50,0)),0),0)*IF($T4=\"n/a\",$D4*$Y4,$G4)+IFERROR(IF(AND($V4<=AD$1,$W4>=AD$1),INDEX(Reliability!I$23:I$50,MATCH($T4,Reliability!$C$23:$C$50,0)),0),0)*$H4*$X4*$Y4),$D4)*$R4","v":7.73},{"$f":"MIN((IFERROR(IF(AND($V4<=AE$1,$W4>=AE$1),INDEX(Reliability!J$23:J$50,MATCH($S4,Reliability!$C$23:$C$50,0)),0),0)*IF($T4=\"n/a\",$D4*$Y4,$G4)+IFERROR(IF(AND($V4<=AE$1,$W4>=AE$1),INDEX(Reliability!J$23:J$50,MATCH($T4,Reliability!$C$23:$C$50,0)),0),0)*$H4*$X4*$Y4),$D4)*$R4","v":7.59},{"$f":"MIN((IFERROR(IF(AND($V4<=AF$1,$W4>=AF$1),INDEX(Reliability!K$23:K$50,MATCH($S4,Reliability!$C$23:$C$50,0)),0),0)*IF($T4=\"n/a\",$D4*$Y4,$G4)+IFERROR(IF(AND($V4<=AF$1,$W4>=AF$1),INDEX(Reliability!K$23:K$50,MATCH($T4,Reliability!$C$23:$C$50,0)),0),0)*$H4*$X4*$Y4),$D4)*$R4","v":7.45},{"$f":"MIN((IFERROR(IF(AND($V4<=AG$1,$W4>=AG$1),INDEX(Reliability!L$23:L$50,MATCH($S4,Reliability!$C$23:$C$50,0)),0),0)*IF($T4=\"n/a\",$D4*$Y4,$G4)+IFERROR(IF(AND($V4<=AG$1,$W4>=AG$1),INDEX(Reliability!L$23:L$50,MATCH($T4,Reliability!$C$23:$C$50,0)),0),0)*$H4*$X4*$Y4),$D4)*$R4","v":6.7620000000000005},{"$f":"MIN((IFERROR(IF(AND($V4<=AH$1,$W4>=AH$1),INDEX(Reliability!M$23:M$50,MATCH($S4,Reliability!$C$23:$C$50,0)),0),0)*IF($T4=\"n/a\",$D4*$Y4,$G4)+IFERROR(IF(AND($V4<=AH$1,$W4>=AH$1),INDEX(Reliability!M$23:M$50,MATCH($T4,Reliability!$C$23:$C$50,0)),0),0)*$H4*$X4*$Y4),$D4)*$R4","v":6.0740000000000007},{"$f":"MIN((IFERROR(IF(AND($V4<=AI$1,$W4>=AI$1),INDEX(Reliability!N$23:N$50,MATCH($S4,Reliability!$C$23:$C$50,0)),0),0)*IF($T4=\"n/a\",$D4*$Y4,$G4)+IFERROR(IF(AND($V4<=AI$1,$W4>=AI$1),INDEX(Reliability!N$23:N$50,MATCH($T4,Reliability!$C$23:$C$50,0)),0),0)*$H4*$X4*$Y4),$D4)*$R4","v":5.386000000000001},{"$f":"MIN((IFERROR(IF(AND($V4<=AJ$1,$W4>=AJ$1),INDEX(Reliability!O$23:O$50,MATCH($S4,Reliability!$C$23:$C$50,0)),0),0)*IF($T4=\"n/a\",$D4*$Y4,$G4)+IFERROR(IF(AND($V4<=AJ$1,$W4>=AJ$1),INDEX(Reliability!O$23:O$50,MATCH($T4,Reliability!$C$23:$C$50,0)),0),0)*$H4*$X4*$Y4),$D4)*$R4","v":4.6980000000000013},{"$f":"MIN((IFERROR(IF(AND($V4<=AK$1,$W4>=AK$1),INDEX(Reliability!P$23:P$50,MATCH($S4,Reliability!$C$23:$C$50,0)),0),0)*IF($T4=\"n/a\",$D4*$Y4,$G4)+IFERROR(IF(AND($V4<=AK$1,$W4>=AK$1),INDEX(Reliability!P$23:P$50,MATCH($T4,Reliability!$C$23:$C$50,0)),0),0)*$H4*$X4*$Y4),$D4)*$R4","v":4.01}]
[null,{"$f":"unique_contracts!B5","v":"_NEW_GENERIC_BATTERY_STORAGE"},{"$f":"unique_contracts!D5","v":"Development"},{"$f":"unique_contracts!J5","v":7.58},{"$f":"unique_contracts!M5","v":"NotHybrid"},{"$f":"unique_contracts!N5","v":"NA"},{"$f":"unique_contracts!P5","v":0},{"$f":"unique_contracts!R5","v":0},{"$f":"unique_contracts!V5","v":30.32},{"$f":"unique_contracts!AB5","v":"sell"},{"$f":"unique_contracts!AM5","v":0},{"$f":"unique_contracts!AN5","v":0},{"$f":"unique_contracts!AO5","v":0},{"$f":"unique_contracts!AP5","v":2060},{"$f":"unique_contracts!AQ5","v":12},{"$f":"unique_contracts!AR5","v":31},{"$f":"unique_contracts!BP5","v":"EnergyCapacity"},-1,{"$f":"IFERROR(IF(AND(I5>0,E5=\"NotHybrid\"),_xlfn.CONCAT(MAX(MIN(ROUNDDOWN(I5/D5,0),8),4),INDEX(resources!$G:$G,MATCH(B5,resources!$A:$A,0))),INDEX(resources!$G:$G,MATCH(B5,resources!$A:$A,0))),\"n/a\")","v":"4hr_batteries"},"n/a","4hr_batteries",0,2060,1,1,{"$f":"MIN((IFERROR(IF(AND($V5<=Z$1,$W5>=Z$1),INDEX(Reliability!E$23:E$50,MATCH($S5,Reliability!$C$23:$C$50,0)),0),0)*IF($T5=\"n/a\",$D5*$Y5,$G5)+IFERROR(IF(AND($V5<=Z$1,$W5>=Z$1),INDEX(Reliability!E$23:E$50,MATCH($T5,Reliability!$C$23:$C$50,0)),0),0)*$H5*$X5*$Y5),$D5)*$R5","v":-6.7083000000000004},{"$f":"MIN((IFERROR(IF(AND($V5<=AA$1,$W5>=AA$1),INDEX(Reliability!F$23:F$50,MATCH($S5,Reliability!$C$23:$C$50,0)),0),0)*IF($T5=\"n/a\",$D5*$Y5,$G5)+IFERROR(IF(AND($V5<=AA$1,$W5>=AA$1),INDEX(Reliability!F$23:F$50,MATCH($T5,Reliability!$C$23:$C$50,0)),0),0)*$H5*$X5*$Y5),$D5)*$R5","v":-6.8333699999999995},{"$f":"MIN((IFERROR(IF(AND($V5<=AB$1,$W5>=AB$1),INDEX(Reliability!G$23:G$50,MATCH($S5,Reliability!$C$23:$C$50,0)),0),0)*IF($T5=\"n/a\",$D5*$Y5,$G5)+IFERROR(IF(AND($V5<=AB$1,$W5>=AB$1),INDEX(Reliability!G$23:G$50,MATCH($T5,Reliability!$C$23:$C$50,0)),0),0)*$H5*$X5*$Y5),$D5)*$R5","v":-6.9584400000000004},{"$f":"MIN((IFERROR(IF(AND($V5<=AC$1,$W5>=AC$1),INDEX(Reliability!H$23:H$50,MATCH($S5,Reliability!$C$23:$C$50,0)),0),0)*IF($T5=\"n/a\",$D5*$Y5,$G5)+IFERROR(IF(AND($V5<=AC$1,$W5>=AC$1),INDEX(Reliability!H$23:H$50,MATCH($T5,Reliability!$C$23:$C$50,0)),0),0)*$H5*$X5*$Y5),$D5)*$R5","v":-6.4088900000000004},{"$f":"MIN((IFERROR(IF(AND($V5<=AD$1,$W5>=AD$1),INDEX(Reliability!I$23:I$50,MATCH($S5,Reliability!$C$23:$C$50,0)),0),0)*IF($T5=\"n/a\",$D5*$Y5,$G5)+IFERROR(IF(AND($V5<=AD$1,$W5>=AD$1),INDEX(Reliability!I$23:I$50,MATCH($T5,Reliability!$C$23:$C$50,0)),0),0)*$H5*$X5*$Y5),$D5)*$R5","v":-5.8593400000000004},{"$f":"MIN((IFERROR(IF(AND($V5<=AE$1,$W5>=AE$1),INDEX(Reliability!J$23:J$50,MATCH($S5,Reliability!$C$23:$C$50,0)),0),0)*IF($T5=\"n/a\",$D5*$Y5,$G5)+IFERROR(IF(AND($V5<=AE$1,$W5>=AE$1),INDEX(Reliability!J$23:J$50,MATCH($T5,Reliability!$C$23:$C$50,0)),0),0)*$H5*$X5*$Y5),$D5)*$R5","v":-5.7532199999999998},{"$f":"MIN((IFERROR(IF(AND($V5<=AF$1,$W5>=AF$1),INDEX(Reliability!K$23:K$50,MATCH($S5,Reliability!$C$23:$C$50,0)),0),0)*IF($T5=\"n/a\",$D5*$Y5,$G5)+IFERROR(IF(AND($V5<=AF$1,$W5>=AF$1),INDEX(Reliability!K$23:K$50,MATCH($T5,Reliability!$C$23:$C$50,0)),0),0)*$H5*$X5*$Y5),$D5)*$R5","v":-5.6471},{"$f":"MIN((IFERROR(IF(AND($V5<=AG$1,$W5>=AG$1),INDEX(Reliability!L$23:L$50,MATCH($S5,Reliability!$C$23:$C$50,0)),0),0)*IF($T5=\"n/a\",$D5*$Y5,$G5)+IFERROR(IF(AND($V5<=AG$1,$W5>=AG$1),INDEX(Reliability!L$23:L$50,MATCH($T5,Reliability!$C$23:$C$50,0)),0),0)*$H5*$X5*$Y5),$D5)*$R5","v":-5.1255959999999998},{"$f":"MIN((IFERROR(IF(AND($V5<=AH$1,$W5>=AH$1),INDEX(Reliability!M$23:M$50,MATCH($S5,Reliability!$C$23:$C$50,0)),0),0)*IF($T5=\"n/a\",$D5*$Y5,$G5)+IFERROR(IF(AND($V5<=AH$1,$W5>=AH$1),INDEX(Reliability!M$23:M$50,MATCH($T5,Reliability!$C$23:$C$50,0)),0),0)*$H5*$X5*$Y5),$D5)*$R5","v":-4.6040920000000005},{"$f":"MIN((IFERROR(IF(AND($V5<=AI$1,$W5>=AI$1),INDEX(Reliability!N$23:N$50,MATCH($S5,Reliability!$C$23:$C$50,0)),0),0)*IF($T5=\"n/a\",$D5*$Y5,$G5)+IFERROR(IF(AND($V5<=AI$1,$W5>=AI$1),INDEX(Reliability!N$23:N$50,MATCH($T5,Reliability!$C$23:$C$50,0)),0),0)*$H5*$X5*$Y5),$D5)*$R5","v":-4.0825880000000003},{"$f":"MIN((IFERROR(IF(AND($V5<=AJ$1,$W5>=AJ$1),INDEX(Reliability!O$23:O$50,MATCH($S5,Reliability!$C$23:$C$50,0)),0),0)*IF($T5=\"n/a\",$D5*$Y5,$G5)+IFERROR(IF(AND($V5<=AJ$1,$W5>=AJ$1),INDEX(Reliability!O$23:O$50,MATCH($T5,Reliability!$C$23:$C$50,0)),0),0)*$H5*$X5*$Y5),$D5)*$R5","v":-3.561084000000001},{"$f":"MIN((IFERROR(IF(AND($V5<=AK$1,$W5>=AK$1),INDEX(Reliability!P$23:P$50,MATCH($S5,Reliability!$C$23:$C$50,0)),0),0)*IF($T5=\"n/a\",$D5*$Y5,$G5)+IFERROR(IF(AND($V5<=AK$1,$W5>=AK$1),INDEX(Reliability!P$23:P$50,MATCH($T5,Reliability!$C$23:$C$50,0)),0),0)*$H5*$X5*$Y5),$D5)*$R5","v":-3.0395800000000004}]
[null,{"$f":"unique_contracts!B6","v":"CARLS1_2_CARCT1"},{"$f":"unique_contracts!D6","v":"Online"},{"$f":"unique_contracts!J6","v":422},{"$f":"unique_contracts!M6","v":"NotHybrid"},{"$f":"unique_contracts!N6","v":"NA"},{"$f":"unique_contracts!P6","v":0},{"$f":"unique_contracts!R6","v":0},{"$f":"unique_contracts!V6","v":0},{"$f":"unique_contracts!AB6","v":0},{"$f":"unique_contracts!AM6","v":2018},{"$f":"unique_contracts!AN6","v":12},{"$f":"unique_contracts!AO6","v":12},{"$f":"unique_contracts!AP6","v":2038},{"$f":"unique_contracts!AQ6","v":12},{"$f":"unique_contracts!AR6","v":13},{"$f":"unique_contracts!BP6","v":"EnergyCapacity"},1,{"$f":"IFERROR(IF(AND(I6>0,E6=\"NotHybrid\"),_xlfn.CONCAT(MAX(MIN(ROUNDDOWN(I6/D6,0),8),4),INDEX(resources!$G:$G,MATCH(B6,resources!$A:$A,0))),INDEX(resources!$G:$G,MATCH(B6,resources!$A:$A,0))),\"n/a\")","v":"gas_ct"},"n/a","gas_ct",2019,2038,1,1,{"$f":"MIN((IFERROR(IF(AND($V6<=Z$1,$W6>=Z$1),INDEX(Reliability!E$23:E$50,MATCH($S6,Reliability!$C$23:$C$50,0)),0),0)*IF($T6=\"n/a\",$D6*$Y6,$G6)+IFERROR(IF(AND($V6<=Z$1,$W6>=Z$1),INDEX(Reliability!E$23:E$50,MATCH($T6,Reliability!$C$23:$C$50,0)),0),0)*$H6*$X6*$Y6),$D6)*$R6","v":338.48787720166587},{"$f":"MIN((IFERROR(IF(AND($V6<=AA$1,$W6>=AA$1),INDEX(Reliability!F$23:F$50,MATCH($S6,Reliability!$C$23:$C$50,0)),0),0)*IF($T6=\"n/a\",$D6*$Y6,$G6)+IFERROR(IF(AND($V6<=AA$1,$W6>=AA$1),INDEX(Reliability!F$23:F$50,MATCH($T6,Reliability!$C$23:$C$50,0)),0),0)*$H6*$X6*$Y6),$D6)*$R6","v":344.52312801918981},{"$f":"MIN((IFERROR(IF(AND($V6<=AB$1,$W6>=AB$1),INDEX(Reliability!G$23:G$50,MATCH($S6,Reliability!$C$23:$C$50,0)),0),0)*IF($T6=\"n/a\",$D6*$Y6,$G6)+IFERROR(IF(AND($V6<=AB$1,$W6>=AB$1),INDEX(Reliability!G$23:G$50,MATCH($T6,Reliability!$C$23:$C$50,0)),0),0)*$H6*$X6*$Y6),$D6)*$R6","v":350.55837883671381},{"$f":"MIN((IFERROR(IF(AND($V6<=AC$1,$W6>=AC$1),INDEX(Reliability!H$23:H$50,MATCH($S6,Reliability!$C$23:$C$50,0)),0),0)*IF($T6=\"n/a\",$D6*$Y6,$G6)+IFERROR(IF(AND($V6<=AC$1,$W6>=AC$1),INDEX(Reliability!H$23:H$50,MATCH($T6,Reliability!$C$23:$C$50,0)),0),0)*$H6*$X6*$Y6),$D6)*$R6","v":348.63226678883774},{"$f":"MIN((IFERROR(IF(AND($V6<=AD$1,$W6>=AD$1),INDEX(Reliability!I$23:I$50,MATCH($S6,Reliability!$C$23:$C$50,0)),0),0)*IF($T6=\"n/a\",$D6*$Y6,$G6)+IFERROR(IF(AND($V6<=AD$1,$W6>=AD$1),INDEX(Reliability!I$23:I$50,MATCH($T6,Reliability!$C$23:$C$50,0)),0),0)*$H6*$X6*$Y6),$D6)*$R6","v":346.70615474096178},{"$f":"MIN((IFERROR(IF(AND($V6<=AE$1,$W6>=AE$1),INDEX(Reliability!J$23:J$50,MATCH($S6,Reliability!$C$23:$C$50,0)),0),0)*IF($T6=\"n/a\",$D6*$Y6,$G6)+IFERROR(IF(AND($V6<=AE$1,$W6>=AE$1),INDEX(Reliability!J$23:J$50,MATCH($T6,Reliability!$C$23:$C$50,0)),0),0)*$H6*$X6*$Y6),$D6)*$R6","v":340.05222249508836},{"$f":"MIN((IFERROR(IF(AND($V6<=AF$1,$W6>=AF$1),INDEX(Reliability!K$23:K$50,MATCH($S6,Reliability!$C$23:$C$50,0)),0),0)*IF($T6=\"n/a\",$D6*$Y6,$G6)+IFERROR(IF(AND($V6<=AF$1,$W6>=AF$1),INDEX(Reliability!K$23:K$50,MATCH($T6,Reliability!$C$23:$C$50,0)),0),0)*$H6*$X6*$Y6),$D6)*$R6","v":333.39829024921494},{"$f":"MIN((IFERROR(IF(AND($V6<=AG$1,$W6>=AG$1),INDEX(Reliability!L$23:L$50,MATCH($S6,Reliability!$C$23:$C$50,0)),0),0)*IF($T6=\"n/a\",$D6*$Y6,$G6)+IFERROR(IF(AND($V6<=AG$1,$W6>=AG$1),INDEX(Reliability!L$23:L$50,MATCH($T6,Reliability!$C$23:$C$50,0)),0),0)*$H6*$X6*$Y6),$D6)*$R6","v":337.44315232936179},{"$f":"MIN((IFERROR(IF(AND($V6<=AH$1,$W6>=AH$1),INDEX(Reliability!M$23:M$50,MATCH($S6,Reliability!$C$23:$C$50,0)),0),0)*IF($T6=\"n/a\",$D6*$Y6,$G6)+IFERROR(IF(AND($V6<=AH$1,$W6>=AH$1),INDEX(Reliability!M$23:M$50,MATCH($T6,Reliability!$C$23:$C$50,0)),0),0)*$H6*$X6*$Y6),$D6)*$R6","v":341.48801440950865},{"$f":"MIN((IFERROR(IF(AND($V6<=AI$1,$W6>=AI$1),INDEX(Reliability!N$23:N$50,MATCH($S6,Reliability!$C$23:$C$50,0)),0),0)*IF($T6=\"n/a\",$D6*$Y6,$G6)+IFERROR(IF(AND($V6<=AI$1,$W6>=AI$1),INDEX(Reliability!N$23:N$50,MATCH($T6,Reliability!$C$23:$C$50,0)),0),0)*$H6*$X6*$Y6),$D6)*$R6","v":345.53287648965545},{"$f":"MIN((IFERROR(IF(AND($V6<=AJ$1,$W6>=AJ$1),INDEX(Reliability!O$23:O$50,MATCH($S6,Reliability!$C$23:$C$50,0)),0),0)*IF($T6=\"n/a\",$D6*$Y6,$G6)+IFERROR(IF(AND($V6<=AJ$1,$W6>=AJ$1),INDEX(Reliability!O$23:O$50,MATCH($T6,Reliability!$C$23:$C$50,0)),0),0)*$H6*$X6*$Y6),$D6)*$R6","v":349.57773856980231},{"$f":"MIN((IFERROR(IF(AND($V6<=AK$1,$W6>=AK$1),INDEX(Reliability!P$23:P$50,MATCH($S6,Reliability!$C$23:$C$50,0)),0),0)*IF($T6=\"n/a\",$D6*$Y6,$G6)+IFERROR(IF(AND($V6<=AK$1,$W6>=AK$1),INDEX(Reliability!P$23:P$50,MATCH($T6,Reliability!$C$23:$C$50,0)),0),0)*$H6*$X6*$Y6),$D6)*$R6","v":353.62260064994911}]
[null,{"$f":"unique_contracts!B7","v":"_EXISTING_GENERIC_PEAKER"},{"$f":"unique_contracts!D7","v":"Online"},{"$f":"unique_contracts!J7","v":319.87599999999998},{"$f":"unique_contracts!M7","v":"NotHybrid"},{"$f":"unique_contracts!N7","v":"NA"},{"$f":"unique_contracts!P7","v":0},{"$f":"unique_contracts!R7","v":0},{"$f":"unique_contracts!V7","v":0},{"$f":"unique_contracts!AB7","v":"sell"},{"$f":"unique_contracts!AM7","v":2018},{"$f":"unique_contracts!AN7","v":12},{"$f":"unique_contracts!AO7","v":12},{"$f":"unique_contracts!AP7","v":2038},{"$f":"unique_contracts!AQ7","v":12},{"$f":"unique_contracts!AR7","v":13},{"$f":"unique_contracts!BP7","v":"EnergyCapacity"},-1,{"$f":"IFERROR(IF(AND(I7>0,E7=\"NotHybrid\"),_xlfn.CONCAT(MAX(MIN(ROUNDDOWN(I7/D7,0),8),4),INDEX(resources!$G:$G,MATCH(B7,resources!$A:$A,0))),INDEX(resources!$G:$G,MATCH(B7,resources!$A:$A,0))),\"n/a\")","v":"gas_ct"},"n/a","gas_ct",2019,2038,1,1,{"$f":"MIN((IFERROR(IF(AND($V7<=Z$1,$W7>=Z$1),INDEX(Reliability!E$23:E$50,MATCH($S7,Reliability!$C$23:$C$50,0)),0),0)*IF($T7=\"n/a\",$D7*$Y7,$G7)+IFERROR(IF(AND($V7<=Z$1,$W7>=Z$1),INDEX(Reliability!E$23:E$50,MATCH($T7,Reliability!$C$23:$C$50,0)),0),0)*$H7*$X7*$Y7),$D7)*$R7","v":-256.5738109188627},{"$f":"MIN((IFERROR(IF(AND($V7<=AA$1,$W7>=AA$1),INDEX(Reliability!F$23:F$50,MATCH($S7,Reliability!$C$23:$C$50,0)),0),0)*IF($T7=\"n/a\",$D7*$Y7,$G7)+IFERROR(IF(AND($V7<=AA$1,$W7>=AA$1),INDEX(Reliability!F$23:F$50,MATCH($T7,Reliability!$C$23:$C$50,0)),0),0)*$H7*$X7*$Y7),$D7)*$R7","v":-261.14853103854585},{"$f":"MIN((IFERROR(IF(AND($V7<=AB$1,$W7>=AB$1),INDEX(Reliability!G$23:G$50,MATCH($S7,Reliability!$C$23:$C$50,0)),0),0)*IF($T7=\"n/a\",$D7*$Y7,$G7)+IFERROR(IF(AND($V7<=AB$1,$W7>=AB$1),INDEX(Reliability!G$23:G$50,MATCH($T7,Reliability!$C$23:$C$50,0)),0),0)*$H7*$X7*$Y7),$D7)*$R7","v":-265.72325115822906},{"$f":"MIN((IFERROR(IF(AND($V7<=AC$1,$W7>=AC$1),INDEX(Reliability!H$23:H$50,MATCH($S7,Reliability!$C$23:$C$50,0)),0),0)*IF($T7=\"n/a\",$D7*$Y7,$G7)+IFERROR(IF(AND($V7<=AC$1,$W7>=AC$1),INDEX(Reliability!H$23:H$50,MATCH($T7,Reliability!$C$23:$C$50,0)),0),0)*$H7*$X7*$Y7),$D7)*$R7","v":-264.26325822593901},{"$f":"MIN((IFERROR(IF(AND($V7<=AD$1,$W7>=AD$1),INDEX(Reliability!I$23:I$50,MATCH($S7,Reliability!$C$23:$C$50,0)),0),0)*IF($T7=\"n/a\",$D7*$Y7,$G7)+IFERROR(IF(AND($V7<=AD$1,$W7>=AD$1),INDEX(Reliability!I$23:I$50,MATCH($T7,Reliability!$C$23:$C$50,0)),0),0)*$H7*$X7*$Y7),$D7)*$R7","v":-262.80326529364902},{"$f":"MIN((IFERROR(IF(AND($V7<=AE$1,$W7>=AE$1),INDEX(Reliability!J$23:J$50,MATCH($S7,Reliability!$C$23:$C$50,0)),0),0)*IF($T7=\"n/a\",$D7*$Y7,$G7)+IFERROR(IF(AND($V7<=AE$1,$W7>=AE$1),INDEX(Reliability!J$23:J$50,MATCH($T7,Reliability!$C$23:$C$50,0)),0),0)*$H7*$X7*$Y7),$D7)*$R7","v":-257.75958465127695},{"$f":"MIN((IFERROR(IF(AND($V7<=AF$1,$W7>=AF$1),INDEX(Reliability!K$23:K$50,MATCH($S7,Reliability!$C$23:$C$50,0)),0),0)*IF($T7=\"n/a\",$D7*$Y7,$G7)+IFERROR(IF(AND($V7<=AF$1,$W7>=AF$1),INDEX(Reliability!K$23:K$50,MATCH($T7,Reliability!$C$23:$C$50,0)),0),0)*$H7*$X7*$Y7),$D7)*$R7","v":-252.71590400890491},{"$f":"MIN((IFERROR(IF(AND($V7<=AG$1,$W7>=AG$1),INDEX(Reliability!L$23:L$50,MATCH($S7,Reliability!$C$23:$C$50,0)),0),0)*IF($T7=\"n/a\",$D7*$Y7,$G7)+IFERROR(IF(AND($V7<=AG$1,$W7>=AG$1),INDEX(Reliability!L$23:L$50,MATCH($T7,Reliability!$C$23:$C$50,0)),0),0)*$H7*$X7*$Y7),$D7)*$R7","v":-255.78190946565621},{"$f":"MIN((IFERROR(IF(AND($V7<=AH$1,$W7>=AH$1),INDEX(Reliability!M$23:M$50,MATCH($S7,Reliability!$C$23:$C$50,0)),0),0)*IF($T7=\"n/a\",$D7*$Y7,$G7)+IFERROR(IF(AND($V7<=AH$1,$W7>=AH$1),INDEX(Reliability!M$23:M$50,MATCH($T7,Reliability!$C$23:$C$50,0)),0),0)*$H7*$X7*$Y7),$D7)*$R7","v":-258.84791492240754},{"$f":"MIN((IFERROR(IF(AND($V7<=AI$1,$W7>=AI$1),INDEX(Reliability!N$23:N$50,MATCH($S7,Reliability!$C$23:$C$50,0)),0),0)*IF($T7=\"n/a\",$D7*$Y7,$G7)+IFERROR(IF(AND($V7<=AI$1,$W7>=AI$1),INDEX(Reliability!N$23:N$50,MATCH($T7,Reliability!$C$23:$C$50,0)),0),0)*$H7*$X7*$Y7),$D7)*$R7","v":-261.91392037915881},{"$f":"MIN((IFERROR(IF(AND($V7<=AJ$1,$W7>=AJ$1),INDEX(Reliability!O$23:O$50,MATCH($S7,Reliability!$C$23:$C$50,0)),0),0)*IF($T7=\"n/a\",$D7*$Y7,$G7)+IFERROR(IF(AND($V7<=AJ$1,$W7>=AJ$1),INDEX(Reliability!O$23:O$50,MATCH($T7,Reliability!$C$23:$C$50,0)),0),0)*$H7*$X7*$Y7),$D7)*$R7","v":-264.97992583591014},{"$f":"MIN((IFERROR(IF(AND($V7<=AK$1,$W7>=AK$1),INDEX(Reliability!P$23:P$50,MATCH($S7,Reliability!$C$23:$C$50,0)),0),0)*IF($T7=\"n/a\",$D7*$Y7,$G7)+IFERROR(IF(AND($V7<=AK$1,$W7>=AK$1),INDEX(Reliability!P$23:P$50,MATCH($T7,Reliability!$C$23:$C$50,0)),0),0)*$H7*$X7*$Y7),$D7)*$R7","v":-268.04593129266141}]
[null,{"$f":"unique_contracts!B8","v":"CARLS2_1_CARCT1"},{"$f":"unique_contracts!D8","v":"Online"},{"$f":"unique_contracts!J8","v":105.5},{"$f":"unique_contracts!M8","v":"NotHybrid"},{"$f":"unique_contracts!N8","v":"NA"},{"$f":"unique_contracts!P8","v":0},{"$f":"unique_contracts!R8","v":0},{"$f":"unique_contracts!V8","v":0},{"$f":"unique_contracts!AB8","v":0},{"$f":"unique_contracts!AM8","v":2018},{"$f":"unique_contracts!AN8","v":12},{"$f":"unique_contracts!AO8","v":12},{"$f":"unique_contracts!AP8","v":2038},{"$f":"unique_contracts!AQ8","v":12},{"$f":"unique_contracts!AR8","v":13},{"$f":"unique_contracts!BP8","v":"EnergyCapacity"},1,{"$f":"IFERROR(IF(AND(I8>0,E8=\"NotHybrid\"),_xlfn.CONCAT(MAX(MIN(ROUNDDOWN(I8/D8,0),8),4),INDEX(resources!$G:$G,MATCH(B8,resources!$A:$A,0))),INDEX(resources!$G:$G,MATCH(B8,resources!$A:$A,0))),\"n/a\")","v":"gas_ct"},"n/a","gas_ct",2019,2038,1,1,{"$f":"MIN((IFERROR(IF(AND($V8<=Z$1,$W8>=Z$1),INDEX(Reliability!E$23:E$50,MATCH($S8,Reliability!$C$23:$C$50,0)),0),0)*IF($T8=\"n/a\",$D8*$Y8,$G8)+IFERROR(IF(AND($V8<=Z$1,$W8>=Z$1),INDEX(Reliability!E$23:E$50,MATCH($T8,Reliability!$C$23:$C$50,0)),0),0)*$H8*$X8*$Y8),$D8)*$R8","v":84.621969300416467},{"$f":"MIN((IFERROR(IF(AND($V8<=AA$1,$W8>=AA$1),INDEX(Reliability!F$23:F$50,MATCH($S8,Reliability!$C$23:$C$50,0)),0),0)*IF($T8=\"n/a\",$D8*$Y8,$G8)+IFERROR(IF(AND($V8<=AA$1,$W8>=AA$1),INDEX(Reliability!F$23:F$50,MATCH($T8,Reliability!$C$23:$C$50,0)),0),0)*$H8*$X8*$Y8),$D8)*$R8","v":86.130782004797453},{"$f":"MIN((IFERROR(IF(AND($V8<=AB$1,$W8>=AB$1),INDEX(Reliability!G$23:G$50,MATCH($S8,Reliability!$C$23:$C$50,0)),0),0)*IF($T8=\"n/a\",$D8*$Y8,$G8)+IFERROR(IF(AND($V8<=AB$1,$W8>=AB$1),INDEX(Reliability!G$23:G$50,MATCH($T8,Reliability!$C$23:$C$50,0)),0),0)*$H8*$X8*$Y8),$D8)*$R8","v":87.639594709178454},{"$f":"MIN((IFERROR(IF(AND($V8<=AC$1,$W8>=AC$1),INDEX(Reliability!H$23:H$50,MATCH($S8,Reliability!$C$23:$C$50,0)),0),0)*IF($T8=\"n/a\",$D8*$Y8,$G8)+IFERROR(IF(AND($V8<=AC$1,$W8>=AC$1),INDEX(Reliability!H$23:H$50,MATCH($T8,Reliability!$C$23:$C$50,0)),0),0)*$H8*$X8*$Y8),$D8)*$R8","v":87.158066697209435},{"$f":"MIN((IFERROR(IF(AND($V8<=AD$1,$W8>=AD$1),INDEX(Reliability!I$23:I$50,MATCH($S8,Reliability!$C$23:$C$50,0)),0),0)*IF($T8=\"n/a\",$D8*$Y8,$G8)+IFERROR(IF(AND($V8<=AD$1,$W8>=AD$1),INDEX(Reliability!I$23:I$50,MATCH($T8,Reliability!$C$23:$C$50,0)),0),0)*$H8*$X8*$Y8),$D8)*$R8","v":86.676538685240445},{"$f":"MIN((IFERROR(IF(AND($V8<=AE$1,$W8>=AE$1),INDEX(Reliability!J$23:J$50,MATCH($S8,Reliability!$C$23:$C$50,0)),0),0)*IF($T8=\"n/a\",$D8*$Y8,$G8)+IFERROR(IF(AND($V8<=AE$1,$W8>=AE$1),INDEX(Reliability!J$23:J$50,MATCH($T8,Reliability!$C$23:$C$50,0)),0),0)*$H8*$X8*$Y8),$D8)*$R8","v":85.01305562377209},{"$f":"MIN((IFERROR(IF(AND($V8<=AF$1,$W8>=AF$1),INDEX(Reliability!K$23:K$50,MATCH($S8,Reliability!$C$23:$C$50,0)),0),0)*IF($T8=\"n/a\",$D8*$Y8,$G8)+IFERROR(IF(AND($V8<=AF$1,$W8>=AF$1),INDEX(Reliability!K$23:K$50,MATCH($T8,Reliability!$C$23:$C$50,0)),0),0)*$H8*$X8*$Y8),$D8)*$R8","v":83.349572562303734},{"$f":"MIN((IFERROR(IF(AND($V8<=AG$1,$W8>=AG$1),INDEX(Reliability!L$23:L$50,MATCH($S8,Reliability!$C$23:$C$50,0)),0),0)*IF($T8=\"n/a\",$D8*$Y8,$G8)+IFERROR(IF(AND($V8<=AG$1,$W8>=AG$1),INDEX(Reliability!L$23:L$50,MATCH($T8,Reliability!$C$23:$C$50,0)),0),0)*$H8*$X8*$Y8),$D8)*$R8","v":84.360788082340449},{"$f":"MIN((IFERROR(IF(AND($V8<=AH$1,$W8>=AH$1),INDEX(Reliability!M$23:M$50,MATCH($S8,Reliability!$C$23:$C$50,0)),0),0)*IF($T8=\"n/a\",$D8*$Y8,$G8)+IFERROR(IF(AND($V8<=AH$1,$W8>=AH$1),INDEX(Reliability!M$23:M$50,MATCH($T8,Reliability!$C$23:$C$50,0)),0),0)*$H8*$X8*$Y8),$D8)*$R8","v":85.372003602377163},{"$f":"MIN((IFERROR(IF(AND($V8<=AI$1,$W8>=AI$1),INDEX(Reliability!N$23:N$50,MATCH($S8,Reliability!$C$23:$C$50,0)),0),0)*IF($T8=\"n/a\",$D8*$Y8,$G8)+IFERROR(IF(AND($V8<=AI$1,$W8>=AI$1),INDEX(Reliability!N$23:N$50,MATCH($T8,Reliability!$C$23:$C$50,0)),0),0)*$H8*$X8*$Y8),$D8)*$R8","v":86.383219122413863},{"$f":"MIN((IFERROR(IF(AND($V8<=AJ$1,$W8>=AJ$1),INDEX(Reliability!O$23:O$50,MATCH($S8,Reliability!$C$23:$C$50,0)),0),0)*IF($T8=\"n/a\",$D8*$Y8,$G8)+IFERROR(IF(AND($V8<=AJ$1,$W8>=AJ$1),INDEX(Reliability!O$23:O$50,MATCH($T8,Reliability!$C$23:$C$50,0)),0),0)*$H8*$X8*$Y8),$D8)*$R8","v":87.394434642450577},{"$f":"MIN((IFERROR(IF(AND($V8<=AK$1,$W8>=AK$1),INDEX(Reliability!P$23:P$50,MATCH($S8,Reliability!$C$23:$C$50,0)),0),0)*IF($T8=\"n/a\",$D8*$Y8,$G8)+IFERROR(IF(AND($V8<=AK$1,$W8>=AK$1),INDEX(Reliability!P$23:P$50,MATCH($T8,Reliability!$C$23:$C$50,0)),0),0)*$H8*$X8*$Y8),$D8)*$R8","v":88.405650162487277}]
[null,{"$f":"unique_contracts!B9","v":"_EXISTING_GENERIC_PEAKER"},{"$f":"unique_contracts!D9","v":"Online"},{"$f":"unique_contracts!J9","v":79.968999999999994},{"$f":"unique_contracts!M9","v":"NotHybrid"},{"$f":"unique_contracts!N9","v":"NA"},{"$f":"unique_contracts!P9","v":0},{"$f":"unique_contracts!R9","v":0},{"$f":"unique_contracts!V9","v":0},{"$f":"unique_contracts!AB9","v":"sell"},{"$f":"unique_contracts!AM9","v":2018},{"$f":"unique_contracts!AN9","v":12},{"$f":"unique_contracts!AO9","v":12},{"$f":"unique_contracts!AP9","v":2038},{"$f":"unique_contracts!AQ9","v":12},{"$f":"unique_contracts!AR9","v":13},{"$f":"unique_contracts!BP9","v":"EnergyCapacity"},-1,{"$f":"IFERROR(IF(AND(I9>0,E9=\"NotHybrid\"),_xlfn.CONCAT(MAX(MIN(ROUNDDOWN(I9/D9,0),8),4),INDEX(resources!$G:$G,MATCH(B9,resources!$A:$A,0))),INDEX(resources!$G:$G,MATCH(B9,resources!$A:$A,0))),\"n/a\")","v":"gas_ct"},"n/a","gas_ct",2019,2038,1,1,{"$f":"MIN((IFERROR(IF(AND($V9<=Z$1,$W9>=Z$1),INDEX(Reliability!E$23:E$50,MATCH($S9,Reliability!$C$23:$C$50,0)),0),0)*IF($T9=\"n/a\",$D9*$Y9,$G9)+IFERROR(IF(AND($V9<=Z$1,$W9>=Z$1),INDEX(Reliability!E$23:E$50,MATCH($T9,Reliability!$C$23:$C$50,0)),0),0)*$H9*$X9*$Y9),$D9)*$R9","v":-64.143452729715676},{"$f":"MIN((IFERROR(IF(AND($V9<=AA$1,$W9>=AA$1),INDEX(Reliability!F$23:F$50,MATCH($S9,Reliability!$C$23:$C$50,0)),0),0)*IF($T9=\"n/a\",$D9*$Y9,$G9)+IFERROR(IF(AND($V9<=AA$1,$W9>=AA$1),INDEX(Reliability!F$23:F$50,MATCH($T9,Reliability!$C$23:$C$50,0)),0),0)*$H9*$X9*$Y9),$D9)*$R9","v":-65.287132759636464},{"$f":"MIN((IFERROR(IF(AND($V9<=AB$1,$W9>=AB$1),INDEX(Reliability!G$23:G$50,MATCH($S9,Reliability!$C$23:$C$50,0)),0),0)*IF($T9=\"n/a\",$D9*$Y9,$G9)+IFERROR(IF(AND($V9<=AB$1,$W9>=AB$1),INDEX(Reliability!G$23:G$50,MATCH($T9,Reliability!$C$23:$C$50,0)),0),0)*$H9*$X9*$Y9),$D9)*$R9","v":-66.430812789557265},{"$f":"MIN((IFERROR(IF(AND($V9<=AC$1,$W9>=AC$1),INDEX(Reliability!H$23:H$50,MATCH($S9,Reliability!$C$23:$C$50,0)),0),0)*IF($T9=\"n/a\",$D9*$Y9,$G9)+IFERROR(IF(AND($V9<=AC$1,$W9>=AC$1),INDEX(Reliability!H$23:H$50,MATCH($T9,Reliability!$C$23:$C$50,0)),0),0)*$H9*$X9*$Y9),$D9)*$R9","v":-66.065814556484753},{"$f":"MIN((IFERROR(IF(AND($V9<=AD$1,$W9>=AD$1),INDEX(Reliability!I$23:I$50,MATCH($S9,Reliability!$C$23:$C$50,0)),0),0)*IF($T9=\"n/a\",$D9*$Y9,$G9)+IFERROR(IF(AND($V9<=AD$1,$W9>=AD$1),INDEX(Reliability!I$23:I$50,MATCH($T9,Reliability!$C$23:$C$50,0)),0),0)*$H9*$X9*$Y9),$D9)*$R9","v":-65.700816323412255},{"$f":"MIN((IFERROR(IF(AND($V9<=AE$1,$W9>=AE$1),INDEX(Reliability!J$23:J$50,MATCH($S9,Reliability!$C$23:$C$50,0)),0),0)*IF($T9=\"n/a\",$D9*$Y9,$G9)+IFERROR(IF(AND($V9<=AE$1,$W9>=AE$1),INDEX(Reliability!J$23:J$50,MATCH($T9,Reliability!$C$23:$C$50,0)),0),0)*$H9*$X9*$Y9),$D9)*$R9","v":-64.439896162819238},{"$f":"MIN((IFERROR(IF(AND($V9<=AF$1,$W9>=AF$1),INDEX(Reliability!K$23:K$50,MATCH($S9,Reliability!$C$23:$C$50,0)),0),0)*IF($T9=\"n/a\",$D9*$Y9,$G9)+IFERROR(IF(AND($V9<=AF$1,$W9>=AF$1),INDEX(Reliability!K$23:K$50,MATCH($T9,Reliability!$C$23:$C$50,0)),0),0)*$H9*$X9*$Y9),$D9)*$R9","v":-63.178976002226229},{"$f":"MIN((IFERROR(IF(AND($V9<=AG$1,$W9>=AG$1),INDEX(Reliability!L$23:L$50,MATCH($S9,Reliability!$C$23:$C$50,0)),0),0)*IF($T9=\"n/a\",$D9*$Y9,$G9)+IFERROR(IF(AND($V9<=AG$1,$W9>=AG$1),INDEX(Reliability!L$23:L$50,MATCH($T9,Reliability!$C$23:$C$50,0)),0),0)*$H9*$X9*$Y9),$D9)*$R9","v":-63.945477366414053},{"$f":"MIN((IFERROR(IF(AND($V9<=AH$1,$W9>=AH$1),INDEX(Reliability!M$23:M$50,MATCH($S9,Reliability!$C$23:$C$50,0)),0),0)*IF($T9=\"n/a\",$D9*$Y9,$G9)+IFERROR(IF(AND($V9<=AH$1,$W9>=AH$1),INDEX(Reliability!M$23:M$50,MATCH($T9,Reliability!$C$23:$C$50,0)),0),0)*$H9*$X9*$Y9),$D9)*$R9","v":-64.711978730601885},{"$f":"MIN((IFERROR(IF(AND($V9<=AI$1,$W9>=AI$1),INDEX(Reliability!N$23:N$50,MATCH($S9,Reliability!$C$23:$C$50,0)),0),0)*IF($T9=\"n/a\",$D9*$Y9,$G9)+IFERROR(IF(AND($V9<=AI$1,$W9>=AI$1),INDEX(Reliability!N$23:N$50,MATCH($T9,Reliability!$C$23:$C$50,0)),0),0)*$H9*$X9*$Y9),$D9)*$R9","v":-65.478480094789703},{"$f":"MIN((IFERROR(IF(AND($V9<=AJ$1,$W9>=AJ$1),INDEX(Reliability!O$23:O$50,MATCH($S9,Reliability!$C$23:$C$50,0)),0),0)*IF($T9=\"n/a\",$D9*$Y9,$G9)+IFERROR(IF(AND($V9<=AJ$1,$W9>=AJ$1),INDEX(Reliability!O$23:O$50,MATCH($T9,Reliability!$C$23:$C$50,0)),0),0)*$H9*$X9*$Y9),$D9)*$R9","v":-66.244981458977534},{"$f":"MIN((IFERROR(IF(AND($V9<=AK$1,$W9>=AK$1),INDEX(Reliability!P$23:P$50,MATCH($S9,Reliability!$C$23:$C$50,0)),0),0)*IF($T9=\"n/a\",$D9*$Y9,$G9)+IFERROR(IF(AND($V9<=AK$1,$W9>=AK$1),INDEX(Reliability!P$23:P$50,MATCH($T9,Reliability!$C$23:$C$50,0)),0),0)*$H9*$X9*$Y9),$D9)*$R9","v":-67.011482823165352}]
[null,{"$f":"unique_contracts!B10","v":"_NEW_GENERIC_BATTERY_STORAGE"},{"$f":"unique_contracts!D10","v":"Development"},{"$f":"unique_contracts!J10","v":10},{"$f":"unique_contracts!M10","v":"NotHybrid"},{"$f":"unique_contracts!N10","v":"NA"},{"$f":"unique_contracts!P10","v":0},{"$f":"unique_contracts!R10","v":0},{"$f":"unique_contracts!V10","v":40},{"$f":"unique_contracts!AB10","v":"Owned"},{"$f":"unique_contracts!AM10","v":0},{"$f":"unique_contracts!AN10","v":0},{"$f":"unique_contracts!AO10","v":0},{"$f":"unique_contracts!AP10","v":2060},{"$f":"unique_contracts!AQ10","v":12},{"$f":"unique_contracts!AR10","v":31},{"$f":"unique_contracts!BP10","v":"EnergyCapacity"},1,{"$f":"IFERROR(IF(AND(I10>0,E10=\"NotHybrid\"),_xlfn.CONCAT(MAX(MIN(ROUNDDOWN(I10/D10,0),8),4),INDEX(resources!$G:$G,MATCH(B10,resources!$A:$A,0))),INDEX(resources!$G:$G,MATCH(B10,resources!$A:$A,0))),\"n/a\")","v":"4hr_batteries"},"n/a","4hr_batteries",0,2060,1,1,{"$f":"MIN((IFERROR(IF(AND($V10<=Z$1,$W10>=Z$1),INDEX(Reliability!E$23:E$50,MATCH($S10,Reliability!$C$23:$C$50,0)),0),0)*IF($T10=\"n/a\",$D10*$Y10,$G10)+IFERROR(IF(AND($V10<=Z$1,$W10>=Z$1),INDEX(Reliability!E$23:E$50,MATCH($T10,Reliability!$C$23:$C$50,0)),0),0)*$H10*$X10*$Y10),$D10)*$R10","v":8.85},{"$f":"MIN((IFERROR(IF(AND($V10<=AA$1,$W10>=AA$1),INDEX(Reliability!F$23:F$50,MATCH($S10,Reliability!$C$23:$C$50,0)),0),0)*IF($T10=\"n/a\",$D10*$Y10,$G10)+IFERROR(IF(AND($V10<=AA$1,$W10>=AA$1),INDEX(Reliability!F$23:F$50,MATCH($T10,Reliability!$C$23:$C$50,0)),0),0)*$H10*$X10*$Y10),$D10)*$R10","v":9.0150000000000006},{"$f":"MIN((IFERROR(IF(AND($V10<=AB$1,$W10>=AB$1),INDEX(Reliability!G$23:G$50,MATCH($S10,Reliability!$C$23:$C$50,0)),0),0)*IF($T10=\"n/a\",$D10*$Y10,$G10)+IFERROR(IF(AND($V10<=AB$1,$W10>=AB$1),INDEX(Reliability!G$23:G$50,MATCH($T10,Reliability!$C$23:$C$50,0)),0),0)*$H10*$X10*$Y10),$D10)*$R10","v":9.18},{"$f":"MIN((IFERROR(IF(AND($V10<=AC$1,$W10>=AC$1),INDEX(Reliability!H$23:H$50,MATCH($S10,Reliability!$C$23:$C$50,0)),0),0)*IF($T10=\"n/a\",$D10*$Y10,$G10)+IFERROR(IF(AND($V10<=AC$1,$W10>=AC$1),INDEX(Reliability!H$23:H$50,MATCH($T10,Reliability!$C$23:$C$50,0)),0),0)*$H10*$X10*$Y10),$D10)*$R10","v":8.4550000000000001},{"$f":"MIN((IFERROR(IF(AND($V10<=AD$1,$W10>=AD$1),INDEX(Reliability!I$23:I$50,MATCH($S10,Reliability!$C$23:$C$50,0)),0),0)*IF($T10=\"n/a\",$D10*$Y10,$G10)+IFERROR(IF(AND($V10<=AD$1,$W10>=AD$1),INDEX(Reliability!I$23:I$50,MATCH($T10,Reliability!$C$23:$C$50,0)),0),0)*$H10*$X10*$Y10),$D10)*$R10","v":7.73},{"$f":"MIN((IFERROR(IF(AND($V10<=AE$1,$W10>=AE$1),INDEX(Reliability!J$23:J$50,MATCH($S10,Reliability!$C$23:$C$50,0)),0),0)*IF($T10=\"n/a\",$D10*$Y10,$G10)+IFERROR(IF(AND($V10<=AE$1,$W10>=AE$1),INDEX(Reliability!J$23:J$50,MATCH($T10,Reliability!$C$23:$C$50,0)),0),0)*$H10*$X10*$Y10),$D10)*$R10","v":7.59},{"$f":"MIN((IFERROR(IF(AND($V10<=AF$1,$W10>=AF$1),INDEX(Reliability!K$23:K$50,MATCH($S10,Reliability!$C$23:$C$50,0)),0),0)*IF($T10=\"n/a\",$D10*$Y10,$G10)+IFERROR(IF(AND($V10<=AF$1,$W10>=AF$1),INDEX(Reliability!K$23:K$50,MATCH($T10,Reliability!$C$23:$C$50,0)),0),0)*$H10*$X10*$Y10),$D10)*$R10","v":7.45},{"$f":"MIN((IFERROR(IF(AND($V10<=AG$1,$W10>=AG$1),INDEX(Reliability!L$23:L$50,MATCH($S10,Reliability!$C$23:$C$50,0)),0),0)*IF($T10=\"n/a\",$D10*$Y10,$G10)+IFERROR(IF(AND($V10<=AG$1,$W10>=AG$1),INDEX(Reliability!L$23:L$50,MATCH($T10,Reliability!$C$23:$C$50,0)),0),0)*$H10*$X10*$Y10),$D10)*$R10","v":6.7620000000000005},{"$f":"MIN((IFERROR(IF(AND($V10<=AH$1,$W10>=AH$1),INDEX(Reliability!M$23:M$50,MATCH($S10,Reliability!$C$23:$C$50,0)),0),0)*IF($T10=\"n/a\",$D10*$Y10,$G10)+IFERROR(IF(AND($V10<=AH$1,$W10>=AH$1),INDEX(Reliability!M$23:M$50,MATCH($T10,Reliability!$C$23:$C$50,0)),0),0)*$H10*$X10*$Y10),$D10)*$R10","v":6.0740000000000007},{"$f":"MIN((IFERROR(IF(AND($V10<=AI$1,$W10>=AI$1),INDEX(Reliability!N$23:N$50,MATCH($S10,Reliability!$C$23:$C$50,0)),0),0)*IF($T10=\"n/a\",$D10*$Y10,$G10)+IFERROR(IF(AND($V10<=AI$1,$W10>=AI$1),INDEX(Reliability!N$23:N$50,MATCH($T10,Reliability!$C$23:$C$50,0)),0),0)*$H10*$X10*$Y10),$D10)*$R10","v":5.386000000000001},{"$f":"MIN((IFERROR(IF(AND($V10<=AJ$1,$W10>=AJ$1),INDEX(Reliability!O$23:O$50,MATCH($S10,Reliability!$C$23:$C$50,0)),0),0)*IF($T10=\"n/a\",$D10*$Y10,$G10)+IFERROR(IF(AND($V10<=AJ$1,$W10>=AJ$1),INDEX(Reliability!O$23:O$50,MATCH($T10,Reliability!$C$23:$C$50,0)),0),0)*$H10*$X10*$Y10),$D10)*$R10","v":4.6980000000000013},{"$f":"MIN((IFERROR(IF(AND($V10<=AK$1,$W10>=AK$1),INDEX(Reliability!P$23:P$50,MATCH($S10,Reliability!$C$23:$C$50,0)),0),0)*IF($T10=\"n/a\",$D10*$Y10,$G10)+IFERROR(IF(AND($V10<=AK$1,$W10>=AK$1),INDEX(Reliability!P$23:P$50,MATCH($T10,Reliability!$C$23:$C$50,0)),0),0)*$H10*$X10*$Y10),$D10)*$R10","v":4.01}]
[null,{"$f":"unique_contracts!B11","v":"_NEW_GENERIC_BATTERY_STORAGE"},{"$f":"unique_contracts!D11","v":"Development"},{"$f":"unique_contracts!J11","v":7.58},{"$f":"unique_contracts!M11","v":"NotHybrid"},{"$f":"unique_contracts!N11","v":"NA"},{"$f":"unique_contracts!P11","v":0},{"$f":"unique_contracts!R11","v":0},{"$f":"unique_contracts!V11","v":30.32},{"$f":"unique_contracts!AB11","v":"sell"},{"$f":"unique_contracts!AM11","v":0},{"$f":"unique_contracts!AN11","v":0},{"$f":"unique_contracts!AO11","v":0},{"$f":"unique_contracts!AP11","v":2060},{"$f":"unique_contracts!AQ11","v":12},{"$f":"unique_contracts!AR11","v":31},{"$f":"unique_contracts!BP11","v":"EnergyCapacity"},-1,{"$f":"IFERROR(IF(AND(I11>0,E11=\"NotHybrid\"),_xlfn.CONCAT(MAX(MIN(ROUNDDOWN(I11/D11,0),8),4),INDEX(resources!$G:$G,MATCH(B11,resources!$A:$A,0))),INDEX(resources!$G:$G,MATCH(B11,resources!$A:$A,0))),\"n/a\")","v":"4hr_batteries"},"n/a","4hr_batteries",0,2060,1,1,{"$f":"MIN((IFERROR(IF(AND($V11<=Z$1,$W11>=Z$1),INDEX(Reliability!E$23:E$50,MATCH($S11,Reliability!$C$23:$C$50,0)),0),0)*IF($T11=\"n/a\",$D11*$Y11,$G11)+IFERROR(IF(AND($V11<=Z$1,$W11>=Z$1),INDEX(Reliability!E$23:E$50,MATCH($T11,Reliability!$C$23:$C$50,0)),0),0)*$H11*$X11*$Y11),$D11)*$R11","v":-6.7083000000000004},{"$f":"MIN((IFERROR(IF(AND($V11<=AA$1,$W11>=AA$1),INDEX(Reliability!F$23:F$50,MATCH($S11,Reliability!$C$23:$C$50,0)),0),0)*IF($T11=\"n/a\",$D11*$Y11,$G11)+IFERROR(IF(AND($V11<=AA$1,$W11>=AA$1),INDEX(Reliability!F$23:F$50,MATCH($T11,Reliability!$C$23:$C$50,0)),0),0)*$H11*$X11*$Y11),$D11)*$R11","v":-6.8333699999999995},{"$f":"MIN((IFERROR(IF(AND($V11<=AB$1,$W11>=AB$1),INDEX(Reliability!G$23:G$50,MATCH($S11,Reliability!$C$23:$C$50,0)),0),0)*IF($T11=\"n/a\",$D11*$Y11,$G11)+IFERROR(IF(AND($V11<=AB$1,$W11>=AB$1),INDEX(Reliability!G$23:G$50,MATCH($T11,Reliability!$C$23:$C$50,0)),0),0)*$H11*$X11*$Y11),$D11)*$R11","v":-6.9584400000000004},{"$f":"MIN((IFERROR(IF(AND($V11<=AC$1,$W11>=AC$1),INDEX(Reliability!H$23:H$50,MATCH($S11,Reliability!$C$23:$C$50,0)),0),0)*IF($T11=\"n/a\",$D11*$Y11,$G11)+IFERROR(IF(AND($V11<=AC$1,$W11>=AC$1),INDEX(Reliability!H$23:H$50,MATCH($T11,Reliability!$C$23:$C$50,0)),0),0)*$H11*$X11*$Y11),$D11)*$R11","v":-6.4088900000000004},{"$f":"MIN((IFERROR(IF(AND($V11<=AD$1,$W11>=AD$1),INDEX(Reliability!I$23:I$50,MATCH($S11,Reliability!$C$23:$C$50,0)),0),0)*IF($T11=\"n/a\",$D11*$Y11,$G11)+IFERROR(IF(AND($V11<=AD$1,$W11>=AD$1),INDEX(Reliability!I$23:I$50,MATCH($T11,Reliability!$C$23:$C$50,0)),0),0)*$H11*$X11*$Y11),$D11)*$R11","v":-5.8593400000000004},{"$f":"MIN((IFERROR(IF(AND($V11<=AE$1,$W11>=AE$1),INDEX(Reliability!J$23:J$50,MATCH($S11,Reliability!$C$23:$C$50,0)),0),0)*IF($T11=\"n/a\",$D11*$Y11,$G11)+IFERROR(IF(AND($V11<=AE$1,$W11>=AE$1),INDEX(Reliability!J$23:J$50,MATCH($T11,Reliability!$C$23:$C$50,0)),0),0)*$H11*$X11*$Y11),$D11)*$R11","v":-5.7532199999999998},{"$f":"MIN((IFERROR(IF(AND($V11<=AF$1,$W11>=AF$1),INDEX(Reliability!K$23:K$50,MATCH($S11,Reliability!$C$23:$C$50,0)),0),0)*IF($T11=\"n/a\",$D11*$Y11,$G11)+IFERROR(IF(AND($V11<=AF$1,$W11>=AF$1),INDEX(Reliability!K$23:K$50,MATCH($T11,Reliability!$C$23:$C$50,0)),0),0)*$H11*$X11*$Y11),$D11)*$R11","v":-5.6471},{"$f":"MIN((IFERROR(IF(AND($V11<=AG$1,$W11>=AG$1),INDEX(Reliability!L$23:L$50,MATCH($S11,Reliability!$C$23:$C$50,0)),0),0)*IF($T11=\"n/a\",$D11*$Y11,$G11)+IFERROR(IF(AND($V11<=AG$1,$W11>=AG$1),INDEX(Reliability!L$23:L$50,MATCH($T11,Reliability!$C$23:$C$50,0)),0),0)*$H11*$X11*$Y11),$D11)*$R11","v":-5.1255959999999998},{"$f":"MIN((IFERROR(IF(AND($V11<=AH$1,$W11>=AH$1),INDEX(Reliability!M$23:M$50,MATCH($S11,Reliability!$C$23:$C$50,0)),0),0)*IF($T11=\"n/a\",$D11*$Y11,$G11)+IFERROR(IF(AND($V11<=AH$1,$W11>=AH$1),INDEX(Reliability!M$23:M$50,MATCH($T11,Reliability!$C$23:$C$50,0)),0),0)*$H11*$X11*$Y11),$D11)*$R11","v":-4.6040920000000005},{"$f":"MIN((IFERROR(IF(AND($V11<=AI$1,$W11>=AI$1),INDEX(Reliability!N$23:N$50,MATCH($S11,Reliability!$C$23:$C$50,0)),0),0)*IF($T11=\"n/a\",$D11*$Y11,$G11)+IFERROR(IF(AND($V11<=AI$1,$W11>=AI$1),INDEX(Reliability!N$23:N$50,MATCH($T11,Reliability!$C$23:$C$50,0)),0),0)*$H11*$X11*$Y11),$D11)*$R11","v":-4.0825880000000003},{"$f":"MIN((IFERROR(IF(AND($V11<=AJ$1,$W11>=AJ$1),INDEX(Reliability!O$23:O$50,MATCH($S11,Reliability!$C$23:$C$50,0)),0),0)*IF($T11=\"n/a\",$D11*$Y11,$G11)+IFERROR(IF(AND($V11<=AJ$1,$W11>=AJ$1),INDEX(Reliability!O$23:O$50,MATCH($T11,Reliability!$C$23:$C$50,0)),0),0)*$H11*$X11*$Y11),$D11)*$R11","v":-3.561084000000001},{"$f":"MIN((IFERROR(IF(AND($V11<=AK$1,$W11>=AK$1),INDEX(Reliability!P$23:P$50,MATCH($S11,Reliability!$C$23:$C$50,0)),0),0)*IF($T11=\"n/a\",$D11*$Y11,$G11)+IFERROR(IF(AND($V11<=AK$1,$W11>=AK$1),INDEX(Reliability!P$23:P$50,MATCH($T11,Reliability!$C$23:$C$50,0)),0),0)*$H11*$X11*$Y11),$D11)*$R11","v":-3.0395800000000004}]
[null,{"$f":"unique_contracts!B12","v":"ELCAJN_6_UNITA1"},{"$f":"unique_contracts!D12","v":"Online"},{"$f":"unique_contracts!J12","v":45},{"$f":"unique_contracts!M12","v":"NotHybrid"},{"$f":"unique_contracts!N12","v":"NA"},{"$f":"unique_contracts!P12","v":0},{"$f":"unique_contracts!R12","v":0},{"$f":"unique_contracts!V12","v":0},{"$f":"unique_contracts!AB12","v":"Owned"},{"$f":"unique_contracts!AM12","v":2012},{"$f":"unique_contracts!AN12","v":1},{"$f":"unique_contracts!AO12","v":1},{"$f":"unique_contracts!AP12","v":2060},{"$f":"unique_contracts!AQ12","v":12},{"$f":"unique_contracts!AR12","v":31},{"$f":"unique_contracts!BP12","v":"EnergyCapacity"},1,{"$f":"IFERROR(IF(AND(I12>0,E12=\"NotHybrid\"),_xlfn.CONCAT(MAX(MIN(ROUNDDOWN(I12/D12,0),8),4),INDEX(resources!$G:$G,MATCH(B12,resources!$A:$A,0))),INDEX(resources!$G:$G,MATCH(B12,resources!$A:$A,0))),\"n/a\")","v":"gas_ct"},"n/a","gas_ct",2012,2060,1,1,{"$f":"MIN((IFERROR(IF(AND($V12<=Z$1,$W12>=Z$1),INDEX(Reliability!E$23:E$50,MATCH($S12,Reliability!$C$23:$C$50,0)),0),0)*IF($T12=\"n/a\",$D12*$Y12,$G12)+IFERROR(IF(AND($V12<=Z$1,$W12>=Z$1),INDEX(Reliability!E$23:E$50,MATCH($T12,Reliability!$C$23:$C$50,0)),0),0)*$H12*$X12*$Y12),$D12)*$R12","v":36.094678848518875},{"$f":"MIN((IFERROR(IF(AND($V12<=AA$1,$W12>=AA$1),INDEX(Reliability!F$23:F$50,MATCH($S12,Reliability!$C$23:$C$50,0)),0),0)*IF($T12=\"n/a\",$D12*$Y12,$G12)+IFERROR(IF(AND($V12<=AA$1,$W12>=AA$1),INDEX(Reliability!F$23:F$50,MATCH($T12,Reliability!$C$23:$C$50,0)),0),0)*$H12*$X12*$Y12),$D12)*$R12","v":36.738248248491807},{"$f":"MIN((IFERROR(IF(AND($V12<=AB$1,$W12>=AB$1),INDEX(Reliability!G$23:G$50,MATCH($S12,Reliability!$C$23:$C$50,0)),0),0)*IF($T12=\"n/a\",$D12*$Y12,$G12)+IFERROR(IF(AND($V12<=AB$1,$W12>=AB$1),INDEX(Reliability!G$23:G$50,MATCH($T12,Reliability!$C$23:$C$50,0)),0),0)*$H12*$X12*$Y12),$D12)*$R12","v":37.38181764846474},{"$f":"MIN((IFERROR(IF(AND($V12<=AC$1,$W12>=AC$1),INDEX(Reliability!H$23:H$50,MATCH($S12,Reliability!$C$23:$C$50,0)),0),0)*IF($T12=\"n/a\",$D12*$Y12,$G12)+IFERROR(IF(AND($V12<=AC$1,$W12>=AC$1),INDEX(Reliability!H$23:H$50,MATCH($T12,Reliability!$C$23:$C$50,0)),0),0)*$H12*$X12*$Y12),$D12)*$R12","v":37.176426553312083},{"$f":"MIN((IFERROR(IF(AND($V12<=AD$1,$W12>=AD$1),INDEX(Reliability!I$23:I$50,MATCH($S12,Reliability!$C$23:$C$50,0)),0),0)*IF($T12=\"n/a\",$D12*$Y12,$G12)+IFERROR(IF(AND($V12<=AD$1,$W12>=AD$1),INDEX(Reliability!I$23:I$50,MATCH($T12,Reliability!$C$23:$C$50,0)),0),0)*$H12*$X12*$Y12),$D12)*$R12","v":36.971035458159434},{"$f":"MIN((IFERROR(IF(AND($V12<=AE$1,$W12>=AE$1),INDEX(Reliability!J$23:J$50,MATCH($S12,Reliability!$C$23:$C$50,0)),0),0)*IF($T12=\"n/a\",$D12*$Y12,$G12)+IFERROR(IF(AND($V12<=AE$1,$W12>=AE$1),INDEX(Reliability!J$23:J$50,MATCH($T12,Reliability!$C$23:$C$50,0)),0),0)*$H12*$X12*$Y12),$D12)*$R12","v":36.261492920092358},{"$f":"MIN((IFERROR(IF(AND($V12<=AF$1,$W12>=AF$1),INDEX(Reliability!K$23:K$50,MATCH($S12,Reliability!$C$23:$C$50,0)),0),0)*IF($T12=\"n/a\",$D12*$Y12,$G12)+IFERROR(IF(AND($V12<=AF$1,$W12>=AF$1),INDEX(Reliability!K$23:K$50,MATCH($T12,Reliability!$C$23:$C$50,0)),0),0)*$H12*$X12*$Y12),$D12)*$R12","v":35.551950382025289},{"$f":"MIN((IFERROR(IF(AND($V12<=AG$1,$W12>=AG$1),INDEX(Reliability!L$23:L$50,MATCH($S12,Reliability!$C$23:$C$50,0)),0),0)*IF($T12=\"n/a\",$D12*$Y12,$G12)+IFERROR(IF(AND($V12<=AG$1,$W12>=AG$1),INDEX(Reliability!L$23:L$50,MATCH($T12,Reliability!$C$23:$C$50,0)),0),0)*$H12*$X12*$Y12),$D12)*$R12","v":35.983274537491184},{"$f":"MIN((IFERROR(IF(AND($V12<=AH$1,$W12>=AH$1),INDEX(Reliability!M$23:M$50,MATCH($S12,Reliability!$C$23:$C$50,0)),0),0)*IF($T12=\"n/a\",$D12*$Y12,$G12)+IFERROR(IF(AND($V12<=AH$1,$W12>=AH$1),INDEX(Reliability!M$23:M$50,MATCH($T12,Reliability!$C$23:$C$50,0)),0),0)*$H12*$X12*$Y12),$D12)*$R12","v":36.414598692957078},{"$f":"MIN((IFERROR(IF(AND($V12<=AI$1,$W12>=AI$1),INDEX(Reliability!N$23:N$50,MATCH($S12,Reliability!$C$23:$C$50,0)),0),0)*IF($T12=\"n/a\",$D12*$Y12,$G12)+IFERROR(IF(AND($V12<=AI$1,$W12>=AI$1),INDEX(Reliability!N$23:N$50,MATCH($T12,Reliability!$C$23:$C$50,0)),0),0)*$H12*$X12*$Y12),$D12)*$R12","v":36.84592284842298},{"$f":"MIN((IFERROR(IF(AND($V12<=AJ$1,$W12>=AJ$1),INDEX(Reliability!O$23:O$50,MATCH($S12,Reliability!$C$23:$C$50,0)),0),0)*IF($T12=\"n/a\",$D12*$Y12,$G12)+IFERROR(IF(AND($V12<=AJ$1,$W12>=AJ$1),INDEX(Reliability!O$23:O$50,MATCH($T12,Reliability!$C$23:$C$50,0)),0),0)*$H12*$X12*$Y12),$D12)*$R12","v":37.277247003888874},{"$f":"MIN((IFERROR(IF(AND($V12<=AK$1,$W12>=AK$1),INDEX(Reliability!P$23:P$50,MATCH($S12,Reliability!$C$23:$C$50,0)),0),0)*IF($T12=\"n/a\",$D12*$Y12,$G12)+IFERROR(IF(AND($V12<=AK$1,$W12>=AK$1),INDEX(Reliability!P$23:P$50,MATCH($T12,Reliability!$C$23:$C$50,0)),0),0)*$H12*$X12*$Y12),$D12)*$R12","v":37.708571159354761}]
[null,{"$f":"unique_contracts!B13","v":"MRCHNT_2_PL1X3"},{"$f":"unique_contracts!D13","v":"Online"},{"$f":"unique_contracts!J13","v":485},{"$f":"unique_contracts!M13","v":"NotHybrid"},{"$f":"unique_contracts!N13","v":"NA"},{"$f":"unique_contracts!P13","v":0},{"$f":"unique_contracts!R13","v":0},{"$f":"unique_contracts!V13","v":0},{"$f":"unique_contracts!AB13","v":"Owned"},{"$f":"unique_contracts!AM13","v":2011},{"$f":"unique_contracts!AN13","v":10},{"$f":"unique_contracts!AO13","v":1},{"$f":"unique_contracts!AP13","v":2060},{"$f":"unique_contracts!AQ13","v":12},{"$f":"unique_contracts!AR13","v":31},{"$f":"unique_contracts!BP13","v":"EnergyCapacity"},1,{"$f":"IFERROR(IF(AND(I13>0,E13=\"NotHybrid\"),_xlfn.CONCAT(MAX(MIN(ROUNDDOWN(I13/D13,0),8),4),INDEX(resources!$G:$G,MATCH(B13,resources!$A:$A,0))),INDEX(resources!$G:$G,MATCH(B13,resources!$A:$A,0))),\"n/a\")","v":"gas_cc"},"n/a","gas_cc",2012,2060,1,1,{"$f":"MIN((IFERROR(IF(AND($V13<=Z$1,$W13>=Z$1),INDEX(Reliability!E$23:E$50,MATCH($S13,Reliability!$C$23:$C$50,0)),0),0)*IF($T13=\"n/a\",$D13*$Y13,$G13)+IFERROR(IF(AND($V13<=Z$1,$W13>=Z$1),INDEX(Reliability!E$23:E$50,MATCH($T13,Reliability!$C$23:$C$50,0)),0),0)*$H13*$X13*$Y13),$D13)*$R13","v":411.35157617814633},{"$f":"MIN((IFERROR(IF(AND($V13<=AA$1,$W13>=AA$1),INDEX(Reliability!F$23:F$50,MATCH($S13,Reliability!$C$23:$C$50,0)),0),0)*IF($T13=\"n/a\",$D13*$Y13,$G13)+IFERROR(IF(AND($V13<=AA$1,$W13>=AA$1),INDEX(Reliability!F$23:F$50,MATCH($T13,Reliability!$C$23:$C$50,0)),0),0)*$H13*$X13*$Y13),$D13)*$R13","v":418.37985199831525},{"$f":"MIN((IFERROR(IF(AND($V13<=AB$1,$W13>=AB$1),INDEX(Reliability!G$23:G$50,MATCH($S13,Reliability!$C$23:$C$50,0)),0),0)*IF($T13=\"n/a\",$D13*$Y13,$G13)+IFERROR(IF(AND($V13<=AB$1,$W13>=AB$1),INDEX(Reliability!G$23:G$50,MATCH($T13,Reliability!$C$23:$C$50,0)),0),0)*$H13*$X13*$Y13),$D13)*$R13","v":425.40812781848416},{"$f":"MIN((IFERROR(IF(AND($V13<=AC$1,$W13>=AC$1),INDEX(Reliability!H$23:H$50,MATCH($S13,Reliability!$C$23:$C$50,0)),0),0)*IF($T13=\"n/a\",$D13*$Y13,$G13)+IFERROR(IF(AND($V13<=AC$1,$W13>=AC$1),INDEX(Reliability!H$23:H$50,MATCH($T13,Reliability!$C$23:$C$50,0)),0),0)*$H13*$X13*$Y13),$D13)*$R13","v":423.97699406211166},{"$f":"MIN((IFERROR(IF(AND($V13<=AD$1,$W13>=AD$1),INDEX(Reliability!I$23:I$50,MATCH($S13,Reliability!$C$23:$C$50,0)),0),0)*IF($T13=\"n/a\",$D13*$Y13,$G13)+IFERROR(IF(AND($V13<=AD$1,$W13>=AD$1),INDEX(Reliability!I$23:I$50,MATCH($T13,Reliability!$C$23:$C$50,0)),0),0)*$H13*$X13*$Y13),$D13)*$R13","v":422.54586030573915},{"$f":"MIN((IFERROR(IF(AND($V13<=AE$1,$W13>=AE$1),INDEX(Reliability!J$23:J$50,MATCH($S13,Reliability!$C$23:$C$50,0)),0),0)*IF($T13=\"n/a\",$D13*$Y13,$G13)+IFERROR(IF(AND($V13<=AE$1,$W13>=AE$1),INDEX(Reliability!J$23:J$50,MATCH($T13,Reliability!$C$23:$C$50,0)),0),0)*$H13*$X13*$Y13),$D13)*$R13","v":417.53248558474775},{"$f":"MIN((IFERROR(IF(AND($V13<=AF$1,$W13>=AF$1),INDEX(Reliability!K$23:K$50,MATCH($S13,Reliability!$C$23:$C$50,0)),0),0)*IF($T13=\"n/a\",$D13*$Y13,$G13)+IFERROR(IF(AND($V13<=AF$1,$W13>=AF$1),INDEX(Reliability!K$23:K$50,MATCH($T13,Reliability!$C$23:$C$50,0)),0),0)*$H13*$X13*$Y13),$D13)*$R13","v":412.5191108637564},{"$f":"MIN((IFERROR(IF(AND($V13<=AG$1,$W13>=AG$1),INDEX(Reliability!L$23:L$50,MATCH($S13,Reliability!$C$23:$C$50,0)),0),0)*IF($T13=\"n/a\",$D13*$Y13,$G13)+IFERROR(IF(AND($V13<=AG$1,$W13>=AG$1),INDEX(Reliability!L$23:L$50,MATCH($T13,Reliability!$C$23:$C$50,0)),0),0)*$H13*$X13*$Y13),$D13)*$R13","v":418.5471064037435},{"$f":"MIN((IFERROR(IF(AND($V13<=AH$1,$W13>=AH$1),INDEX(Reliability!M$23:M$50,MATCH($S13,Reliability!$C$23:$C$50,0)),0),0)*IF($T13=\"n/a\",$D13*$Y13,$G13)+IFERROR(IF(AND($V13<=AH$1,$W13>=AH$1),INDEX(Reliability!M$23:M$50,MATCH($T13,Reliability!$C$23:$C$50,0)),0),0)*$H13*$X13*$Y13),$D13)*$R13","v":424.5751019437306},{"$f":"MIN((IFERROR(IF(AND($V13<=AI$1,$W13>=AI$1),INDEX(Reliability!N$23:N$50,MATCH($S13,Reliability!$C$23:$C$50,0)),0),0)*IF($T13=\"n/a\",$D13*$Y13,$G13)+IFERROR(IF(AND($V13<=AI$1,$W13>=AI$1),INDEX(Reliability!N$23:N$50,MATCH($T13,Reliability!$C$23:$C$50,0)),0),0)*$H13*$X13*$Y13),$D13)*$R13","v":430.60309748371776},{"$f":"MIN((IFERROR(IF(AND($V13<=AJ$1,$W13>=AJ$1),INDEX(Reliability!O$23:O$50,MATCH($S13,Reliability!$C$23:$C$50,0)),0),0)*IF($T13=\"n/a\",$D13*$Y13,$G13)+IFERROR(IF(AND($V13<=AJ$1,$W13>=AJ$1),INDEX(Reliability!O$23:O$50,MATCH($T13,Reliability!$C$23:$C$50,0)),0),0)*$H13*$X13*$Y13),$D13)*$R13","v":436.63109302370486},{"$f":"MIN((IFERROR(IF(AND($V13<=AK$1,$W13>=AK$1),INDEX(Reliability!P$23:P$50,MATCH($S13,Reliability!$C$23:$C$50,0)),0),0)*IF($T13=\"n/a\",$D13*$Y13,$G13)+IFERROR(IF(AND($V13<=AK$1,$W13>=AK$1),INDEX(Reliability!P$23:P$50,MATCH($T13,Reliability!$C$23:$C$50,0)),0),0)*$H13*$X13*$Y13),$D13)*$R13","v":442.65908856369202}]
[null,{"$f":"unique_contracts!B14","v":"_EXISTING_GENERIC_BATTERY_STORAGE"},{"$f":"unique_contracts!D14","v":"Online"},{"$f":"unique_contracts!J14","v":25},{"$f":"unique_contracts!M14","v":"ExistingSolarExistingStorage"},{"$f":"unique_contracts!N14","v":"NO"},{"$f":"unique_contracts!P14","v":25},{"$f":"unique_contracts!R14","v":25},{"$f":"unique_contracts!V14","v":100},{"$f":"unique_contracts!AB14","v":0},{"$f":"unique_contracts!AM14","v":2022},{"$f":"unique_contracts!AN14","v":9},{"$f":"unique_contracts!AO14","v":1},{"$f":"unique_contracts!AP14","v":2034},{"$f":"unique_contracts!AQ14","v":8},{"$f":"unique_contracts!AR14","v":31},{"$f":"unique_contracts!BP14","v":"EnergyCapacity"},1,{"$f":"IFERROR(IF(AND(I14>0,E14=\"NotHybrid\"),_xlfn.CONCAT(MAX(MIN(ROUNDDOWN(I14/D14,0),8),4),INDEX(resources!$G:$G,MATCH(B14,resources!$A:$A,0))),INDEX(resources!$G:$G,MATCH(B14,resources!$A:$A,0))),\"n/a\")","v":"hr_batteries"},"4hr_batteries","hybrid",2023,2033,1,1,{"$f":"MIN((IFERROR(IF(AND($V14<=Z$1,$W14>=Z$1),INDEX(Reliability!E$23:E$50,MATCH($S14,Reliability!$C$23:$C$50,0)),0),0)*IF($T14=\"n/a\",$D14*$Y14,$G14)+IFERROR(IF(AND($V14<=Z$1,$W14>=Z$1),INDEX(Reliability!E$23:E$50,MATCH($T14,Reliability!$C$23:$C$50,0)),0),0)*$H14*$X14*$Y14),$D14)*$R14","v":22.125},{"$f":"MIN((IFERROR(IF(AND($V14<=AA$1,$W14>=AA$1),INDEX(Reliability!F$23:F$50,MATCH($S14,Reliability!$C$23:$C$50,0)),0),0)*IF($T14=\"n/a\",$D14*$Y14,$G14)+IFERROR(IF(AND($V14<=AA$1,$W14>=AA$1),INDEX(Reliability!F$23:F$50,MATCH($T14,Reliability!$C$23:$C$50,0)),0),0)*$H14*$X14*$Y14),$D14)*$R14","v":22.537499999999998},{"$f":"MIN((IFERROR(IF(AND($V14<=AB$1,$W14>=AB$1),INDEX(Reliability!G$23:G$50,MATCH($S14,Reliability!$C$23:$C$50,0)),0),0)*IF($T14=\"n/a\",$D14*$Y14,$G14)+IFERROR(IF(AND($V14<=AB$1,$W14>=AB$1),INDEX(Reliability!G$23:G$50,MATCH($T14,Reliability!$C$23:$C$50,0)),0),0)*$H14*$X14*$Y14),$D14)*$R14","v":22.95},{"$f":"MIN((IFERROR(IF(AND($V14<=AC$1,$W14>=AC$1),INDEX(Reliability!H$23:H$50,MATCH($S14,Reliability!$C$23:$C$50,0)),0),0)*IF($T14=\"n/a\",$D14*$Y14,$G14)+IFERROR(IF(AND($V14<=AC$1,$W14>=AC$1),INDEX(Reliability!H$23:H$50,MATCH($T14,Reliability!$C$23:$C$50,0)),0),0)*$H14*$X14*$Y14),$D14)*$R14","v":21.137499999999999},{"$f":"MIN((IFERROR(IF(AND($V14<=AD$1,$W14>=AD$1),INDEX(Reliability!I$23:I$50,MATCH($S14,Reliability!$C$23:$C$50,0)),0),0)*IF($T14=\"n/a\",$D14*$Y14,$G14)+IFERROR(IF(AND($V14<=AD$1,$W14>=AD$1),INDEX(Reliability!I$23:I$50,MATCH($T14,Reliability!$C$23:$C$50,0)),0),0)*$H14*$X14*$Y14),$D14)*$R14","v":19.324999999999999},{"$f":"MIN((IFERROR(IF(AND($V14<=AE$1,$W14>=AE$1),INDEX(Reliability!J$23:J$50,MATCH($S14,Reliability!$C$23:$C$50,0)),0),0)*IF($T14=\"n/a\",$D14*$Y14,$G14)+IFERROR(IF(AND($V14<=AE$1,$W14>=AE$1),INDEX(Reliability!J$23:J$50,MATCH($T14,Reliability!$C$23:$C$50,0)),0),0)*$H14*$X14*$Y14),$D14)*$R14","v":18.975000000000001},{"$f":"MIN((IFERROR(IF(AND($V14<=AF$1,$W14>=AF$1),INDEX(Reliability!K$23:K$50,MATCH($S14,Reliability!$C$23:$C$50,0)),0),0)*IF($T14=\"n/a\",$D14*$Y14,$G14)+IFERROR(IF(AND($V14<=AF$1,$W14>=AF$1),INDEX(Reliability!K$23:K$50,MATCH($T14,Reliability!$C$23:$C$50,0)),0),0)*$H14*$X14*$Y14),$D14)*$R14","v":18.625},{"$f":"MIN((IFERROR(IF(AND($V14<=AG$1,$W14>=AG$1),INDEX(Reliability!L$23:L$50,MATCH($S14,Reliability!$C$23:$C$50,0)),0),0)*IF($T14=\"n/a\",$D14*$Y14,$G14)+IFERROR(IF(AND($V14<=AG$1,$W14>=AG$1),INDEX(Reliability!L$23:L$50,MATCH($T14,Reliability!$C$23:$C$50,0)),0),0)*$H14*$X14*$Y14),$D14)*$R14","v":16.905000000000001},{"$f":"MIN((IFERROR(IF(AND($V14<=AH$1,$W14>=AH$1),INDEX(Reliability!M$23:M$50,MATCH($S14,Reliability!$C$23:$C$50,0)),0),0)*IF($T14=\"n/a\",$D14*$Y14,$G14)+IFERROR(IF(AND($V14<=AH$1,$W14>=AH$1),INDEX(Reliability!M$23:M$50,MATCH($T14,Reliability!$C$23:$C$50,0)),0),0)*$H14*$X14*$Y14),$D14)*$R14","v":15.185},{"$f":"MIN((IFERROR(IF(AND($V14<=AI$1,$W14>=AI$1),INDEX(Reliability!N$23:N$50,MATCH($S14,Reliability!$C$23:$C$50,0)),0),0)*IF($T14=\"n/a\",$D14*$Y14,$G14)+IFERROR(IF(AND($V14<=AI$1,$W14>=AI$1),INDEX(Reliability!N$23:N$50,MATCH($T14,Reliability!$C$23:$C$50,0)),0),0)*$H14*$X14*$Y14),$D14)*$R14","v":13.465000000000002},{"$f":"MIN((IFERROR(IF(AND($V14<=AJ$1,$W14>=AJ$1),INDEX(Reliability!O$23:O$50,MATCH($S14,Reliability!$C$23:$C$50,0)),0),0)*IF($T14=\"n/a\",$D14*$Y14,$G14)+IFERROR(IF(AND($V14<=AJ$1,$W14>=AJ$1),INDEX(Reliability!O$23:O$50,MATCH($T14,Reliability!$C$23:$C$50,0)),0),0)*$H14*$X14*$Y14),$D14)*$R14","v":0},{"$f":"MIN((IFERROR(IF(AND($V14<=AK$1,$W14>=AK$1),INDEX(Reliability!P$23:P$50,MATCH($S14,Reliability!$C$23:$C$50,0)),0),0)*IF($T14=\"n/a\",$D14*$Y14,$G14)+IFERROR(IF(AND($V14<=AK$1,$W14>=AK$1),INDEX(Reliability!P$23:P$50,MATCH($T14,Reliability!$C$23:$C$50,0)),0),0)*$H14*$X14*$Y14),$D14)*$R14","v":0}]
[null,{"$f":"unique_contracts!B15","v":"_EXISTING_GENERIC_BATTERY_STORAGE"},{"$f":"unique_contracts!D15","v":"Online"},{"$f":"unique_contracts!J15","v":10.055},{"$f":"unique_contracts!M15","v":"ExistingSolarExistingStorage"},{"$f":"unique_contracts!N15","v":"NO"},{"$f":"unique_contracts!P15","v":0},{"$f":"unique_contracts!R15","v":10.055},{"$f":"unique_contracts!V15","v":0},{"$f":"unique_contracts!AB15","v":"sell"},{"$f":"unique_contracts!AM15","v":2022},{"$f":"unique_contracts!AN15","v":9},{"$f":"unique_contracts!AO15","v":1},{"$f":"unique_contracts!AP15","v":2034},{"$f":"unique_contracts!AQ15","v":8},{"$f":"unique_contracts!AR15","v":31},{"$f":"unique_contracts!BP15","v":"EnergyCapacity"},-1,{"$f":"IFERROR(IF(AND(I15>0,E15=\"NotHybrid\"),_xlfn.CONCAT(MAX(MIN(ROUNDDOWN(I15/D15,0),8),4),INDEX(resources!$G:$G,MATCH(B15,resources!$A:$A,0))),INDEX(resources!$G:$G,MATCH(B15,resources!$A:$A,0))),\"n/a\")","v":"hr_batteries"},"4hr_batteries","hybrid",2023,2033,1,0,{"$f":"MIN((IFERROR(IF(AND($V15<=Z$1,$W15>=Z$1),INDEX(Reliability!E$23:E$50,MATCH($S15,Reliability!$C$23:$C$50,0)),0),0)*IF($T15=\"n/a\",$D15*$Y15,$G15)+IFERROR(IF(AND($V15<=Z$1,$W15>=Z$1),INDEX(Reliability!E$23:E$50,MATCH($T15,Reliability!$C$23:$C$50,0)),0),0)*$H15*$X15*$Y15),$D15)*$R15","v":0},{"$f":"MIN((IFERROR(IF(AND($V15<=AA$1,$W15>=AA$1),INDEX(Reliability!F$23:F$50,MATCH($S15,Reliability!$C$23:$C$50,0)),0),0)*IF($T15=\"n/a\",$D15*$Y15,$G15)+IFERROR(IF(AND($V15<=AA$1,$W15>=AA$1),INDEX(Reliability!F$23:F$50,MATCH($T15,Reliability!$C$23:$C$50,0)),0),0)*$H15*$X15*$Y15),$D15)*$R15","v":0},{"$f":"MIN((IFERROR(IF(AND($V15<=AB$1,$W15>=AB$1),INDEX(Reliability!G$23:G$50,MATCH($S15,Reliability!$C$23:$C$50,0)),0),0)*IF($T15=\"n/a\",$D15*$Y15,$G15)+IFERROR(IF(AND($V15<=AB$1,$W15>=AB$1),INDEX(Reliability!G$23:G$50,MATCH($T15,Reliability!$C$23:$C$50,0)),0),0)*$H15*$X15*$Y15),$D15)*$R15","v":0},{"$f":"MIN((IFERROR(IF(AND($V15<=AC$1,$W15>=AC$1),INDEX(Reliability!H$23:H$50,MATCH($S15,Reliability!$C$23:$C$50,0)),0),0)*IF($T15=\"n/a\",$D15*$Y15,$G15)+IFERROR(IF(AND($V15<=AC$1,$W15>=AC$1),INDEX(Reliability!H$23:H$50,MATCH($T15,Reliability!$C$23:$C$50,0)),0),0)*$H15*$X15*$Y15),$D15)*$R15","v":0},{"$f":"MIN((IFERROR(IF(AND($V15<=AD$1,$W15>=AD$1),INDEX(Reliability!I$23:I$50,MATCH($S15,Reliability!$C$23:$C$50,0)),0),0)*IF($T15=\"n/a\",$D15*$Y15,$G15)+IFERROR(IF(AND($V15<=AD$1,$W15>=AD$1),INDEX(Reliability!I$23:I$50,MATCH($T15,Reliability!$C$23:$C$50,0)),0),0)*$H15*$X15*$Y15),$D15)*$R15","v":0},{"$f":"MIN((IFERROR(IF(AND($V15<=AE$1,$W15>=AE$1),INDEX(Reliability!J$23:J$50,MATCH($S15,Reliability!$C$23:$C$50,0)),0),0)*IF($T15=\"n/a\",$D15*$Y15,$G15)+IFERROR(IF(AND($V15<=AE$1,$W15>=AE$1),INDEX(Reliability!J$23:J$50,MATCH($T15,Reliability!$C$23:$C$50,0)),0),0)*$H15*$X15*$Y15),$D15)*$R15","v":0},{"$f":"MIN((IFERROR(IF(AND($V15<=AF$1,$W15>=AF$1),INDEX(Reliability!K$23:K$50,MATCH($S15,Reliability!$C$23:$C$50,0)),0),0)*IF($T15=\"n/a\",$D15*$Y15,$G15)+IFERROR(IF(AND($V15<=AF$1,$W15>=AF$1),INDEX(Reliability!K$23:K$50,MATCH($T15,Reliability!$C$23:$C$50,0)),0),0)*$H15*$X15*$Y15),$D15)*$R15","v":0},{"$f":"MIN((IFERROR(IF(AND($V15<=AG$1,$W15>=AG$1),INDEX(Reliability!L$23:L$50,MATCH($S15,Reliability!$C$23:$C$50,0)),0),0)*IF($T15=\"n/a\",$D15*$Y15,$G15)+IFERROR(IF(AND($V15<=AG$1,$W15>=AG$1),INDEX(Reliability!L$23:L$50,MATCH($T15,Reliability!$C$23:$C$50,0)),0),0)*$H15*$X15*$Y15),$D15)*$R15","v":0},{"$f":"MIN((IFERROR(IF(AND($V15<=AH$1,$W15>=AH$1),INDEX(Reliability!M$23:M$50,MATCH($S15,Reliability!$C$23:$C$50,0)),0),0)*IF($T15=\"n/a\",$D15*$Y15,$G15)+IFERROR(IF(AND($V15<=AH$1,$W15>=AH$1),INDEX(Reliability!M$23:M$50,MATCH($T15,Reliability!$C$23:$C$50,0)),0),0)*$H15*$X15*$Y15),$D15)*$R15","v":0},{"$f":"MIN((IFERROR(IF(AND($V15<=AI$1,$W15>=AI$1),INDEX(Reliability!N$23:N$50,MATCH($S15,Reliability!$C$23:$C$50,0)),0),0)*IF($T15=\"n/a\",$D15*$Y15,$G15)+IFERROR(IF(AND($V15<=AI$1,$W15>=AI$1),INDEX(Reliability!N$23:N$50,MATCH($T15,Reliability!$C$23:$C$50,0)),0),0)*$H15*$X15*$Y15),$D15)*$R15","v":0},{"$f":"MIN((IFERROR(IF(AND($V15<=AJ$1,$W15>=AJ$1),INDEX(Reliability!O$23:O$50,MATCH($S15,Reliability!$C$23:$C$50,0)),0),0)*IF($T15=\"n/a\",$D15*$Y15,$G15)+IFERROR(IF(AND($V15<=AJ$1,$W15>=AJ$1),INDEX(Reliability!O$23:O$50,MATCH($T15,Reliability!$C$23:$C$50,0)),0),0)*$H15*$X15*$Y15),$D15)*$R15","v":0},{"$f":"MIN((IFERROR(IF(AND($V15<=AK$1,$W15>=AK$1),INDEX(Reliability!P$23:P$50,MATCH($S15,Reliability!$C$23:$C$50,0)),0),0)*IF($T15=\"n/a\",$D15*$Y15,$G15)+IFERROR(IF(AND($V15<=AK$1,$W15>=AK$1),INDEX(Reliability!P$23:P$50,MATCH($T15,Reliability!$C$23:$C$50,0)),0),0)*$H15*$X15*$Y15),$D15)*$R15","v":0}]
[null,{"$f":"unique_contracts!B16","v":"ELCAJN_6_LM6K"},{"$f":"unique_contracts!D16","v":"Online"},{"$f":"unique_contracts!J16","v":47},{"$f":"unique_contracts!M16","v":"NotHybrid"},{"$f":"unique_contracts!N16","v":"NA"},{"$f":"unique_contracts!P16","v":0},{"$f":"unique_contracts!R16","v":0},{"$f":"unique_contracts!V16","v":0},{"$f":"unique_contracts!AB16","v":0},{"$f":"unique_contracts!AM16","v":2010},{"$f":"unique_contracts!AN16","v":6},{"$f":"unique_contracts!AO16","v":16},{"$f":"unique_contracts!AP16","v":2035},{"$f":"unique_contracts!AQ16","v":12},{"$f":"unique_contracts!AR16","v":31},{"$f":"unique_contracts!BP16","v":"EnergyCapacity"},1,{"$f":"IFERROR(IF(AND(I16>0,E16=\"NotHybrid\"),_xlfn.CONCAT(MAX(MIN(ROUNDDOWN(I16/D16,0),8),4),INDEX(resources!$G:$G,MATCH(B16,resources!$A:$A,0))),INDEX(resources!$G:$G,MATCH(B16,resources!$A:$A,0))),\"n/a\")","v":"gas_ct"},"n/a","gas_ct",2011,2035,1,1,{"$f":"MIN((IFERROR(IF(AND($V16<=Z$1,$W16>=Z$1),INDEX(Reliability!E$23:E$50,MATCH($S16,Reliability!$C$23:$C$50,0)),0),0)*IF($T16=\"n/a\",$D16*$Y16,$G16)+IFERROR(IF(AND($V16<=Z$1,$W16>=Z$1),INDEX(Reliability!E$23:E$50,MATCH($T16,Reliability!$C$23:$C$50,0)),0),0)*$H16*$X16*$Y16),$D16)*$R16","v":37.698886797341935},{"$f":"MIN((IFERROR(IF(AND($V16<=AA$1,$W16>=AA$1),INDEX(Reliability!F$23:F$50,MATCH($S16,Reliability!$C$23:$C$50,0)),0),0)*IF($T16=\"n/a\",$D16*$Y16,$G16)+IFERROR(IF(AND($V16<=AA$1,$W16>=AA$1),INDEX(Reliability!F$23:F$50,MATCH($T16,Reliability!$C$23:$C$50,0)),0),0)*$H16*$X16*$Y16),$D16)*$R16","v":38.371059281758107},{"$f":"MIN((IFERROR(IF(AND($V16<=AB$1,$W16>=AB$1),INDEX(Reliability!G$23:G$50,MATCH($S16,Reliability!$C$23:$C$50,0)),0),0)*IF($T16=\"n/a\",$D16*$Y16,$G16)+IFERROR(IF(AND($V16<=AB$1,$W16>=AB$1),INDEX(Reliability!G$23:G$50,MATCH($T16,Reliability!$C$23:$C$50,0)),0),0)*$H16*$X16*$Y16),$D16)*$R16","v":39.043231766174287},{"$f":"MIN((IFERROR(IF(AND($V16<=AC$1,$W16>=AC$1),INDEX(Reliability!H$23:H$50,MATCH($S16,Reliability!$C$23:$C$50,0)),0),0)*IF($T16=\"n/a\",$D16*$Y16,$G16)+IFERROR(IF(AND($V16<=AC$1,$W16>=AC$1),INDEX(Reliability!H$23:H$50,MATCH($T16,Reliability!$C$23:$C$50,0)),0),0)*$H16*$X16*$Y16),$D16)*$R16","v":38.828712177903732},{"$f":"MIN((IFERROR(IF(AND($V16<=AD$1,$W16>=AD$1),INDEX(Reliability!I$23:I$50,MATCH($S16,Reliability!$C$23:$C$50,0)),0),0)*IF($T16=\"n/a\",$D16*$Y16,$G16)+IFERROR(IF(AND($V16<=AD$1,$W16>=AD$1),INDEX(Reliability!I$23:I$50,MATCH($T16,Reliability!$C$23:$C$50,0)),0),0)*$H16*$X16*$Y16),$D16)*$R16","v":38.614192589633184},{"$f":"MIN((IFERROR(IF(AND($V16<=AE$1,$W16>=AE$1),INDEX(Reliability!J$23:J$50,MATCH($S16,Reliability!$C$23:$C$50,0)),0),0)*IF($T16=\"n/a\",$D16*$Y16,$G16)+IFERROR(IF(AND($V16<=AE$1,$W16>=AE$1),INDEX(Reliability!J$23:J$50,MATCH($T16,Reliability!$C$23:$C$50,0)),0),0)*$H16*$X16*$Y16),$D16)*$R16","v":37.873114827652024},{"$f":"MIN((IFERROR(IF(AND($V16<=AF$1,$W16>=AF$1),INDEX(Reliability!K$23:K$50,MATCH($S16,Reliability!$C$23:$C$50,0)),0),0)*IF($T16=\"n/a\",$D16*$Y16,$G16)+IFERROR(IF(AND($V16<=AF$1,$W16>=AF$1),INDEX(Reliability!K$23:K$50,MATCH($T16,Reliability!$C$23:$C$50,0)),0),0)*$H16*$X16*$Y16),$D16)*$R16","v":37.132037065670858},{"$f":"MIN((IFERROR(IF(AND($V16<=AG$1,$W16>=AG$1),INDEX(Reliability!L$23:L$50,MATCH($S16,Reliability!$C$23:$C$50,0)),0),0)*IF($T16=\"n/a\",$D16*$Y16,$G16)+IFERROR(IF(AND($V16<=AG$1,$W16>=AG$1),INDEX(Reliability!L$23:L$50,MATCH($T16,Reliability!$C$23:$C$50,0)),0),0)*$H16*$X16*$Y16),$D16)*$R16","v":37.582531183601908},{"$f":"MIN((IFERROR(IF(AND($V16<=AH$1,$W16>=AH$1),INDEX(Reliability!M$23:M$50,MATCH($S16,Reliability!$C$23:$C$50,0)),0),0)*IF($T16=\"n/a\",$D16*$Y16,$G16)+IFERROR(IF(AND($V16<=AH$1,$W16>=AH$1),INDEX(Reliability!M$23:M$50,MATCH($T16,Reliability!$C$23:$C$50,0)),0),0)*$H16*$X16*$Y16),$D16)*$R16","v":38.033025301532952},{"$f":"MIN((IFERROR(IF(AND($V16<=AI$1,$W16>=AI$1),INDEX(Reliability!N$23:N$50,MATCH($S16,Reliability!$C$23:$C$50,0)),0),0)*IF($T16=\"n/a\",$D16*$Y16,$G16)+IFERROR(IF(AND($V16<=AI$1,$W16>=AI$1),INDEX(Reliability!N$23:N$50,MATCH($T16,Reliability!$C$23:$C$50,0)),0),0)*$H16*$X16*$Y16),$D16)*$R16","v":38.483519419463995},{"$f":"MIN((IFERROR(IF(AND($V16<=AJ$1,$W16>=AJ$1),INDEX(Reliability!O$23:O$50,MATCH($S16,Reliability!$C$23:$C$50,0)),0),0)*IF($T16=\"n/a\",$D16*$Y16,$G16)+IFERROR(IF(AND($V16<=AJ$1,$W16>=AJ$1),INDEX(Reliability!O$23:O$50,MATCH($T16,Reliability!$C$23:$C$50,0)),0),0)*$H16*$X16*$Y16),$D16)*$R16","v":38.934013537395046},{"$f":"MIN((IFERROR(IF(AND($V16<=AK$1,$W16>=AK$1),INDEX(Reliability!P$23:P$50,MATCH($S16,Reliability!$C$23:$C$50,0)),0),0)*IF($T16=\"n/a\",$D16*$Y16,$G16)+IFERROR(IF(AND($V16<=AK$1,$W16>=AK$1),INDEX(Reliability!P$23:P$50,MATCH($T16,Reliability!$C$23:$C$50,0)),0),0)*$H16*$X16*$Y16),$D16)*$R16","v":39.384507655326082}]
[null,{"$f":"unique_contracts!B17","v":"ELCAJN_6_EB1BT1"},{"$f":"unique_contracts!D17","v":"Online"},{"$f":"unique_contracts!J17","v":7.5},{"$f":"unique_contracts!M17","v":"NotHybrid"},{"$f":"unique_contracts!N17","v":"NA"},{"$f":"unique_contracts!P17","v":0},{"$f":"unique_contracts!R17","v":0},{"$f":"unique_contracts!V17","v":30},{"$f":"unique_contracts!AB17","v":"Owned"},{"$f":"unique_contracts!AM17","v":2017},{"$f":"unique_contracts!AN17","v":3},{"$f":"unique_contracts!AO17","v":2},{"$f":"unique_contracts!AP17","v":2060},{"$f":"unique_contracts!AQ17","v":12},{"$f":"unique_contracts!AR17","v":31},{"$f":"unique_contracts!BP17","v":"EnergyCapacity"},1,{"$f":"IFERROR(IF(AND(I17>0,E17=\"NotHybrid\"),_xlfn.CONCAT(MAX(MIN(ROUNDDOWN(I17/D17,0),8),4),INDEX(resources!$G:$G,MATCH(B17,resources!$A:$A,0))),INDEX(resources!$G:$G,MATCH(B17,resources!$A:$A,0))),\"n/a\")","v":"4hr_batteries"},"n/a","4hr_batteries",2017,2060,1,1,{"$f":"MIN((IFERROR(IF(AND($V17<=Z$1,$W17>=Z$1),INDEX(Reliability!E$23:E$50,MATCH($S17,Reliability!$C$23:$C$50,0)),0),0)*IF($T17=\"n/a\",$D17*$Y17,$G17)+IFERROR(IF(AND($V17<=Z$1,$W17>=Z$1),INDEX(Reliability!E$23:E$50,MATCH($T17,Reliability!$C$23:$C$50,0)),0),0)*$H17*$X17*$Y17),$D17)*$R17","v":6.6375000000000002},{"$f":"MIN((IFERROR(IF(AND($V17<=AA$1,$W17>=AA$1),INDEX(Reliability!F$23:F$50,MATCH($S17,Reliability!$C$23:$C$50,0)),0),0)*IF($T17=\"n/a\",$D17*$Y17,$G17)+IFERROR(IF(AND($V17<=AA$1,$W17>=AA$1),INDEX(Reliability!F$23:F$50,MATCH($T17,Reliability!$C$23:$C$50,0)),0),0)*$H17*$X17*$Y17),$D17)*$R17","v":6.7612499999999995},{"$f":"MIN((IFERROR(IF(AND($V17<=AB$1,$W17>=AB$1),INDEX(Reliability!G$23:G$50,MATCH($S17,Reliability!$C$23:$C$50,0)),0),0)*IF($T17=\"n/a\",$D17*$Y17,$G17)+IFERROR(IF(AND($V17<=AB$1,$W17>=AB$1),INDEX(Reliability!G$23:G$50,MATCH($T17,Reliability!$C$23:$C$50,0)),0),0)*$H17*$X17*$Y17),$D17)*$R17","v":6.8850000000000007},{"$f":"MIN((IFERROR(IF(AND($V17<=AC$1,$W17>=AC$1),INDEX(Reliability!H$23:H$50,MATCH($S17,Reliability!$C$23:$C$50,0)),0),0)*IF($T17=\"n/a\",$D17*$Y17,$G17)+IFERROR(IF(AND($V17<=AC$1,$W17>=AC$1),INDEX(Reliability!H$23:H$50,MATCH($T17,Reliability!$C$23:$C$50,0)),0),0)*$H17*$X17*$Y17),$D17)*$R17","v":6.3412500000000005},{"$f":"MIN((IFERROR(IF(AND($V17<=AD$1,$W17>=AD$1),INDEX(Reliability!I$23:I$50,MATCH($S17,Reliability!$C$23:$C$50,0)),0),0)*IF($T17=\"n/a\",$D17*$Y17,$G17)+IFERROR(IF(AND($V17<=AD$1,$W17>=AD$1),INDEX(Reliability!I$23:I$50,MATCH($T17,Reliability!$C$23:$C$50,0)),0),0)*$H17*$X17*$Y17),$D17)*$R17","v":5.7975000000000003},{"$f":"MIN((IFERROR(IF(AND($V17<=AE$1,$W17>=AE$1),INDEX(Reliability!J$23:J$50,MATCH($S17,Reliability!$C$23:$C$50,0)),0),0)*IF($T17=\"n/a\",$D17*$Y17,$G17)+IFERROR(IF(AND($V17<=AE$1,$W17>=AE$1),INDEX(Reliability!J$23:J$50,MATCH($T17,Reliability!$C$23:$C$50,0)),0),0)*$H17*$X17*$Y17),$D17)*$R17","v":5.6924999999999999},{"$f":"MIN((IFERROR(IF(AND($V17<=AF$1,$W17>=AF$1),INDEX(Reliability!K$23:K$50,MATCH($S17,Reliability!$C$23:$C$50,0)),0),0)*IF($T17=\"n/a\",$D17*$Y17,$G17)+IFERROR(IF(AND($V17<=AF$1,$W17>=AF$1),INDEX(Reliability!K$23:K$50,MATCH($T17,Reliability!$C$23:$C$50,0)),0),0)*$H17*$X17*$Y17),$D17)*$R17","v":5.5875000000000004},{"$f":"MIN((IFERROR(IF(AND($V17<=AG$1,$W17>=AG$1),INDEX(Reliability!L$23:L$50,MATCH($S17,Reliability!$C$23:$C$50,0)),0),0)*IF($T17=\"n/a\",$D17*$Y17,$G17)+IFERROR(IF(AND($V17<=AG$1,$W17>=AG$1),INDEX(Reliability!L$23:L$50,MATCH($T17,Reliability!$C$23:$C$50,0)),0),0)*$H17*$X17*$Y17),$D17)*$R17","v":5.0715000000000003},{"$f":"MIN((IFERROR(IF(AND($V17<=AH$1,$W17>=AH$1),INDEX(Reliability!M$23:M$50,MATCH($S17,Reliability!$C$23:$C$50,0)),0),0)*IF($T17=\"n/a\",$D17*$Y17,$G17)+IFERROR(IF(AND($V17<=AH$1,$W17>=AH$1),INDEX(Reliability!M$23:M$50,MATCH($T17,Reliability!$C$23:$C$50,0)),0),0)*$H17*$X17*$Y17),$D17)*$R17","v":4.5555000000000003},{"$f":"MIN((IFERROR(IF(AND($V17<=AI$1,$W17>=AI$1),INDEX(Reliability!N$23:N$50,MATCH($S17,Reliability!$C$23:$C$50,0)),0),0)*IF($T17=\"n/a\",$D17*$Y17,$G17)+IFERROR(IF(AND($V17<=AI$1,$W17>=AI$1),INDEX(Reliability!N$23:N$50,MATCH($T17,Reliability!$C$23:$C$50,0)),0),0)*$H17*$X17*$Y17),$D17)*$R17","v":4.0395000000000003},{"$f":"MIN((IFERROR(IF(AND($V17<=AJ$1,$W17>=AJ$1),INDEX(Reliability!O$23:O$50,MATCH($S17,Reliability!$C$23:$C$50,0)),0),0)*IF($T17=\"n/a\",$D17*$Y17,$G17)+IFERROR(IF(AND($V17<=AJ$1,$W17>=AJ$1),INDEX(Reliability!O$23:O$50,MATCH($T17,Reliability!$C$23:$C$50,0)),0),0)*$H17*$X17*$Y17),$D17)*$R17","v":3.5235000000000007},{"$f":"MIN((IFERROR(IF(AND($V17<=AK$1,$W17>=AK$1),INDEX(Reliability!P$23:P$50,MATCH($S17,Reliability!$C$23:$C$50,0)),0),0)*IF($T17=\"n/a\",$D17*$Y17,$G17)+IFERROR(IF(AND($V17<=AK$1,$W17>=AK$1),INDEX(Reliability!P$23:P$50,MATCH($T17,Reliability!$C$23:$C$50,0)),0),0)*$H17*$X17*$Y17),$D17)*$R17","v":3.0075000000000003}]
[null,{"$f":"unique_contracts!B18","v":"_EXISTING_GENERIC_BATTERY_STORAGE"},{"$f":"unique_contracts!D18","v":"Online"},{"$f":"unique_contracts!J18","v":5.6850000000000005},{"$f":"unique_contracts!M18","v":"NotHybrid"},{"$f":"unique_contracts!N18","v":"NA"},{"$f":"unique_contracts!P18","v":0},{"$f":"unique_contracts!R18","v":0},{"$f":"unique_contracts!V18","v":22.740000000000002},{"$f":"unique_contracts!AB18","v":"sell"},{"$f":"unique_contracts!AM18","v":2017},{"$f":"unique_contracts!AN18","v":3},{"$f":"unique_contracts!AO18","v":2},{"$f":"unique_contracts!AP18","v":2060},{"$f":"unique_contracts!AQ18","v":12},{"$f":"unique_contracts!AR18","v":31},{"$f":"unique_contracts!BP18","v":"EnergyCapacity"},-1,{"$f":"IFERROR(IF(AND(I18>0,E18=\"NotHybrid\"),_xlfn.CONCAT(MAX(MIN(ROUNDDOWN(I18/D18,0),8),4),INDEX(resources!$G:$G,MATCH(B18,resources!$A:$A,0))),INDEX(resources!$G:$G,MATCH(B18,resources!$A:$A,0))),\"n/a\")","v":"4hr_batteries"},"n/a","4hr_batteries",2017,2060,1,1,{"$f":"MIN((IFERROR(IF(AND($V18<=Z$1,$W18>=Z$1),INDEX(Reliability!E$23:E$50,MATCH($S18,Reliability!$C$23:$C$50,0)),0),0)*IF($T18=\"n/a\",$D18*$Y18,$G18)+IFERROR(IF(AND($V18<=Z$1,$W18>=Z$1),INDEX(Reliability!E$23:E$50,MATCH($T18,Reliability!$C$23:$C$50,0)),0),0)*$H18*$X18*$Y18),$D18)*$R18","v":-5.0312250000000001},{"$f":"MIN((IFERROR(IF(AND($V18<=AA$1,$W18>=AA$1),INDEX(Reliability!F$23:F$50,MATCH($S18,Reliability!$C$23:$C$50,0)),0),0)*IF($T18=\"n/a\",$D18*$Y18,$G18)+IFERROR(IF(AND($V18<=AA$1,$W18>=AA$1),INDEX(Reliability!F$23:F$50,MATCH($T18,Reliability!$C$23:$C$50,0)),0),0)*$H18*$X18*$Y18),$D18)*$R18","v":-5.1250274999999998},{"$f":"MIN((IFERROR(IF(AND($V18<=AB$1,$W18>=AB$1),INDEX(Reliability!G$23:G$50,MATCH($S18,Reliability!$C$23:$C$50,0)),0),0)*IF($T18=\"n/a\",$D18*$Y18,$G18)+IFERROR(IF(AND($V18<=AB$1,$W18>=AB$1),INDEX(Reliability!G$23:G$50,MATCH($T18,Reliability!$C$23:$C$50,0)),0),0)*$H18*$X18*$Y18),$D18)*$R18","v":-5.2188300000000005},{"$f":"MIN((IFERROR(IF(AND($V18<=AC$1,$W18>=AC$1),INDEX(Reliability!H$23:H$50,MATCH($S18,Reliability!$C$23:$C$50,0)),0),0)*IF($T18=\"n/a\",$D18*$Y18,$G18)+IFERROR(IF(AND($V18<=AC$1,$W18>=AC$1),INDEX(Reliability!H$23:H$50,MATCH($T18,Reliability!$C$23:$C$50,0)),0),0)*$H18*$X18*$Y18),$D18)*$R18","v":-4.8066675000000005},{"$f":"MIN((IFERROR(IF(AND($V18<=AD$1,$W18>=AD$1),INDEX(Reliability!I$23:I$50,MATCH($S18,Reliability!$C$23:$C$50,0)),0),0)*IF($T18=\"n/a\",$D18*$Y18,$G18)+IFERROR(IF(AND($V18<=AD$1,$W18>=AD$1),INDEX(Reliability!I$23:I$50,MATCH($T18,Reliability!$C$23:$C$50,0)),0),0)*$H18*$X18*$Y18),$D18)*$R18","v":-4.3945050000000005},{"$f":"MIN((IFERROR(IF(AND($V18<=AE$1,$W18>=AE$1),INDEX(Reliability!J$23:J$50,MATCH($S18,Reliability!$C$23:$C$50,0)),0),0)*IF($T18=\"n/a\",$D18*$Y18,$G18)+IFERROR(IF(AND($V18<=AE$1,$W18>=AE$1),INDEX(Reliability!J$23:J$50,MATCH($T18,Reliability!$C$23:$C$50,0)),0),0)*$H18*$X18*$Y18),$D18)*$R18","v":-4.3149150000000001},{"$f":"MIN((IFERROR(IF(AND($V18<=AF$1,$W18>=AF$1),INDEX(Reliability!K$23:K$50,MATCH($S18,Reliability!$C$23:$C$50,0)),0),0)*IF($T18=\"n/a\",$D18*$Y18,$G18)+IFERROR(IF(AND($V18<=AF$1,$W18>=AF$1),INDEX(Reliability!K$23:K$50,MATCH($T18,Reliability!$C$23:$C$50,0)),0),0)*$H18*$X18*$Y18),$D18)*$R18","v":-4.2353250000000005},{"$f":"MIN((IFERROR(IF(AND($V18<=AG$1,$W18>=AG$1),INDEX(Reliability!L$23:L$50,MATCH($S18,Reliability!$C$23:$C$50,0)),0),0)*IF($T18=\"n/a\",$D18*$Y18,$G18)+IFERROR(IF(AND($V18<=AG$1,$W18>=AG$1),INDEX(Reliability!L$23:L$50,MATCH($T18,Reliability!$C$23:$C$50,0)),0),0)*$H18*$X18*$Y18),$D18)*$R18","v":-3.8441970000000003},{"$f":"MIN((IFERROR(IF(AND($V18<=AH$1,$W18>=AH$1),INDEX(Reliability!M$23:M$50,MATCH($S18,Reliability!$C$23:$C$50,0)),0),0)*IF($T18=\"n/a\",$D18*$Y18,$G18)+IFERROR(IF(AND($V18<=AH$1,$W18>=AH$1),INDEX(Reliability!M$23:M$50,MATCH($T18,Reliability!$C$23:$C$50,0)),0),0)*$H18*$X18*$Y18),$D18)*$R18","v":-3.4530690000000006},{"$f":"MIN((IFERROR(IF(AND($V18<=AI$1,$W18>=AI$1),INDEX(Reliability!N$23:N$50,MATCH($S18,Reliability!$C$23:$C$50,0)),0),0)*IF($T18=\"n/a\",$D18*$Y18,$G18)+IFERROR(IF(AND($V18<=AI$1,$W18>=AI$1),INDEX(Reliability!N$23:N$50,MATCH($T18,Reliability!$C$23:$C$50,0)),0),0)*$H18*$X18*$Y18),$D18)*$R18","v":-3.0619410000000009},{"$f":"MIN((IFERROR(IF(AND($V18<=AJ$1,$W18>=AJ$1),INDEX(Reliability!O$23:O$50,MATCH($S18,Reliability!$C$23:$C$50,0)),0),0)*IF($T18=\"n/a\",$D18*$Y18,$G18)+IFERROR(IF(AND($V18<=AJ$1,$W18>=AJ$1),INDEX(Reliability!O$23:O$50,MATCH($T18,Reliability!$C$23:$C$50,0)),0),0)*$H18*$X18*$Y18),$D18)*$R18","v":-2.6708130000000008},{"$f":"MIN((IFERROR(IF(AND($V18<=AK$1,$W18>=AK$1),INDEX(Reliability!P$23:P$50,MATCH($S18,Reliability!$C$23:$C$50,0)),0),0)*IF($T18=\"n/a\",$D18*$Y18,$G18)+IFERROR(IF(AND($V18<=AK$1,$W18>=AK$1),INDEX(Reliability!P$23:P$50,MATCH($T18,Reliability!$C$23:$C$50,0)),0),0)*$H18*$X18*$Y18),$D18)*$R18","v":-2.2796850000000002}]
[null,{"$f":"unique_contracts!B19","v":"_NEW_GENERIC_BATTERY_STORAGE"},{"$f":"unique_contracts!D19","v":"Development"},{"$f":"unique_contracts!J19","v":10},{"$f":"unique_contracts!M19","v":"NotHybrid"},{"$f":"unique_contracts!N19","v":"NA"},{"$f":"unique_contracts!P19","v":0},{"$f":"unique_contracts!R19","v":0},{"$f":"unique_contracts!V19","v":40},{"$f":"unique_contracts!AB19","v":"Owned"},{"$f":"unique_contracts!AM19","v":0},{"$f":"unique_contracts!AN19","v":0},{"$f":"unique_contracts!AO19","v":0},{"$f":"unique_contracts!AP19","v":2060},{"$f":"unique_contracts!AQ19","v":12},{"$f":"unique_contracts!AR19","v":31},{"$f":"unique_contracts!BP19","v":"EnergyCapacity"},1,{"$f":"IFERROR(IF(AND(I19>0,E19=\"NotHybrid\"),_xlfn.CONCAT(MAX(MIN(ROUNDDOWN(I19/D19,0),8),4),INDEX(resources!$G:$G,MATCH(B19,resources!$A:$A,0))),INDEX(resources!$G:$G,MATCH(B19,resources!$A:$A,0))),\"n/a\")","v":"4hr_batteries"},"n/a","4hr_batteries",0,2060,1,1,{"$f":"MIN((IFERROR(IF(AND($V19<=Z$1,$W19>=Z$1),INDEX(Reliability!E$23:E$50,MATCH($S19,Reliability!$C$23:$C$50,0)),0),0)*IF($T19=\"n/a\",$D19*$Y19,$G19)+IFERROR(IF(AND($V19<=Z$1,$W19>=Z$1),INDEX(Reliability!E$23:E$50,MATCH($T19,Reliability!$C$23:$C$50,0)),0),0)*$H19*$X19*$Y19),$D19)*$R19","v":8.85},{"$f":"MIN((IFERROR(IF(AND($V19<=AA$1,$W19>=AA$1),INDEX(Reliability!F$23:F$50,MATCH($S19,Reliability!$C$23:$C$50,0)),0),0)*IF($T19=\"n/a\",$D19*$Y19,$G19)+IFERROR(IF(AND($V19<=AA$1,$W19>=AA$1),INDEX(Reliability!F$23:F$50,MATCH($T19,Reliability!$C$23:$C$50,0)),0),0)*$H19*$X19*$Y19),$D19)*$R19","v":9.0150000000000006},{"$f":"MIN((IFERROR(IF(AND($V19<=AB$1,$W19>=AB$1),INDEX(Reliability!G$23:G$50,MATCH($S19,Reliability!$C$23:$C$50,0)),0),0)*IF($T19=\"n/a\",$D19*$Y19,$G19)+IFERROR(IF(AND($V19<=AB$1,$W19>=AB$1),INDEX(Reliability!G$23:G$50,MATCH($T19,Reliability!$C$23:$C$50,0)),0),0)*$H19*$X19*$Y19),$D19)*$R19","v":9.18},{"$f":"MIN((IFERROR(IF(AND($V19<=AC$1,$W19>=AC$1),INDEX(Reliability!H$23:H$50,MATCH($S19,Reliability!$C$23:$C$50,0)),0),0)*IF($T19=\"n/a\",$D19*$Y19,$G19)+IFERROR(IF(AND($V19<=AC$1,$W19>=AC$1),INDEX(Reliability!H$23:H$50,MATCH($T19,Reliability!$C$23:$C$50,0)),0),0)*$H19*$X19*$Y19),$D19)*$R19","v":8.4550000000000001},{"$f":"MIN((IFERROR(IF(AND($V19<=AD$1,$W19>=AD$1),INDEX(Reliability!I$23:I$50,MATCH($S19,Reliability!$C$23:$C$50,0)),0),0)*IF($T19=\"n/a\",$D19*$Y19,$G19)+IFERROR(IF(AND($V19<=AD$1,$W19>=AD$1),INDEX(Reliability!I$23:I$50,MATCH($T19,Reliability!$C$23:$C$50,0)),0),0)*$H19*$X19*$Y19),$D19)*$R19","v":7.73},{"$f":"MIN((IFERROR(IF(AND($V19<=AE$1,$W19>=AE$1),INDEX(Reliability!J$23:J$50,MATCH($S19,Reliability!$C$23:$C$50,0)),0),0)*IF($T19=\"n/a\",$D19*$Y19,$G19)+IFERROR(IF(AND($V19<=AE$1,$W19>=AE$1),INDEX(Reliability!J$23:J$50,MATCH($T19,Reliability!$C$23:$C$50,0)),0),0)*$H19*$X19*$Y19),$D19)*$R19","v":7.59},{"$f":"MIN((IFERROR(IF(AND($V19<=AF$1,$W19>=AF$1),INDEX(Reliability!K$23:K$50,MATCH($S19,Reliability!$C$23:$C$50,0)),0),0)*IF($T19=\"n/a\",$D19*$Y19,$G19)+IFERROR(IF(AND($V19<=AF$1,$W19>=AF$1),INDEX(Reliability!K$23:K$50,MATCH($T19,Reliability!$C$23:$C$50,0)),0),0)*$H19*$X19*$Y19),$D19)*$R19","v":7.45},{"$f":"MIN((IFERROR(IF(AND($V19<=AG$1,$W19>=AG$1),INDEX(Reliability!L$23:L$50,MATCH($S19,Reliability!$C$23:$C$50,0)),0),0)*IF($T19=\"n/a\",$D19*$Y19,$G19)+IFERROR(IF(AND($V19<=AG$1,$W19>=AG$1),INDEX(Reliability!L$23:L$50,MATCH($T19,Reliability!$C$23:$C$50,0)),0),0)*$H19*$X19*$Y19),$D19)*$R19","v":6.7620000000000005},{"$f":"MIN((IFERROR(IF(AND($V19<=AH$1,$W19>=AH$1),INDEX(Reliability!M$23:M$50,MATCH($S19,Reliability!$C$23:$C$50,0)),0),0)*IF($T19=\"n/a\",$D19*$Y19,$G19)+IFERROR(IF(AND($V19<=AH$1,$W19>=AH$1),INDEX(Reliability!M$23:M$50,MATCH($T19,Reliability!$C$23:$C$50,0)),0),0)*$H19*$X19*$Y19),$D19)*$R19","v":6.0740000000000007},{"$f":"MIN((IFERROR(IF(AND($V19<=AI$1,$W19>=AI$1),INDEX(Reliability!N$23:N$50,MATCH($S19,Reliability!$C$23:$C$50,0)),0),0)*IF($T19=\"n/a\",$D19*$Y19,$G19)+IFERROR(IF(AND($V19<=AI$1,$W19>=AI$1),INDEX(Reliability!N$23:N$50,MATCH($T19,Reliability!$C$23:$C$50,0)),0),0)*$H19*$X19*$Y19),$D19)*$R19","v":5.386000000000001},{"$f":"MIN((IFERROR(IF(AND($V19<=AJ$1,$W19>=AJ$1),INDEX(Reliability!O$23:O$50,MATCH($S19,Reliability!$C$23:$C$50,0)),0),0)*IF($T19=\"n/a\",$D19*$Y19,$G19)+IFERROR(IF(AND($V19<=AJ$1,$W19>=AJ$1),INDEX(Reliability!O$23:O$50,MATCH($T19,Reliability!$C$23:$C$50,0)),0),0)*$H19*$X19*$Y19),$D19)*$R19","v":4.6980000000000013},{"$f":"MIN((IFERROR(IF(AND($V19<=AK$1,$W19>=AK$1),INDEX(Reliability!P$23:P$50,MATCH($S19,Reliability!$C$23:$C$50,0)),0),0)*IF($T19=\"n/a\",$D19*$Y19,$G19)+IFERROR(IF(AND($V19<=AK$1,$W19>=AK$1),INDEX(Reliability!P$23:P$50,MATCH($T19,Reliability!$C$23:$C$50,0)),0),0)*$H19*$X19*$Y19),$D19)*$R19","v":4.01}]
[null,{"$f":"unique_contracts!B20","v":"_NEW_GENERIC_BATTERY_STORAGE"},{"$f":"unique_contracts!D20","v":"Development"},{"$f":"unique_contracts!J20","v":7.58},{"$f":"unique_contracts!M20","v":"NotHybrid"},{"$f":"unique_contracts!N20","v":"NA"},{"$f":"unique_contracts!P20","v":0},{"$f":"unique_contracts!R20","v":0},{"$f":"unique_contracts!V20","v":30.32},{"$f":"unique_contracts!AB20","v":"sell"},{"$f":"unique_contracts!AM20","v":0},{"$f":"unique_contracts!AN20","v":0},{"$f":"unique_contracts!AO20","v":0},{"$f":"unique_contracts!AP20","v":2060},{"$f":"unique_contracts!AQ20","v":12},{"$f":"unique_contracts!AR20","v":31},{"$f":"unique_contracts!BP20","v":"EnergyCapacity"},-1,{"$f":"IFERROR(IF(AND(I20>0,E20=\"NotHybrid\"),_xlfn.CONCAT(MAX(MIN(ROUNDDOWN(I20/D20,0),8),4),INDEX(resources!$G:$G,MATCH(B20,resources!$A:$A,0))),INDEX(resources!$G:$G,MATCH(B20,resources!$A:$A,0))),\"n/a\")","v":"4hr_batteries"},"n/a","4hr_batteries",0,2060,1,1,{"$f":"MIN((IFERROR(IF(AND($V20<=Z$1,$W20>=Z$1),INDEX(Reliability!E$23:E$50,MATCH($S20,Reliability!$C$23:$C$50,0)),0),0)*IF($T20=\"n/a\",$D20*$Y20,$G20)+IFERROR(IF(AND($V20<=Z$1,$W20>=Z$1),INDEX(Reliability!E$23:E$50,MATCH($T20,Reliability!$C$23:$C$50,0)),0),0)*$H20*$X20*$Y20),$D20)*$R20","v":-6.7083000000000004},{"$f":"MIN((IFERROR(IF(AND($V20<=AA$1,$W20>=AA$1),INDEX(Reliability!F$23:F$50,MATCH($S20,Reliability!$C$23:$C$50,0)),0),0)*IF($T20=\"n/a\",$D20*$Y20,$G20)+IFERROR(IF(AND($V20<=AA$1,$W20>=AA$1),INDEX(Reliability!F$23:F$50,MATCH($T20,Reliability!$C$23:$C$50,0)),0),0)*$H20*$X20*$Y20),$D20)*$R20","v":-6.8333699999999995},{"$f":"MIN((IFERROR(IF(AND($V20<=AB$1,$W20>=AB$1),INDEX(Reliability!G$23:G$50,MATCH($S20,Reliability!$C$23:$C$50,0)),0),0)*IF($T20=\"n/a\",$D20*$Y20,$G20)+IFERROR(IF(AND($V20<=AB$1,$W20>=AB$1),INDEX(Reliability!G$23:G$50,MATCH($T20,Reliability!$C$23:$C$50,0)),0),0)*$H20*$X20*$Y20),$D20)*$R20","v":-6.9584400000000004},{"$f":"MIN((IFERROR(IF(AND($V20<=AC$1,$W20>=AC$1),INDEX(Reliability!H$23:H$50,MATCH($S20,Reliability!$C$23:$C$50,0)),0),0)*IF($T20=\"n/a\",$D20*$Y20,$G20)+IFERROR(IF(AND($V20<=AC$1,$W20>=AC$1),INDEX(Reliability!H$23:H$50,MATCH($T20,Reliability!$C$23:$C$50,0)),0),0)*$H20*$X20*$Y20),$D20)*$R20","v":-6.4088900000000004},{"$f":"MIN((IFERROR(IF(AND($V20<=AD$1,$W20>=AD$1),INDEX(Reliability!I$23:I$50,MATCH($S20,Reliability!$C$23:$C$50,0)),0),0)*IF($T20=\"n/a\",$D20*$Y20,$G20)+IFERROR(IF(AND($V20<=AD$1,$W20>=AD$1),INDEX(Reliability!I$23:I$50,MATCH($T20,Reliability!$C$23:$C$50,0)),0),0)*$H20*$X20*$Y20),$D20)*$R20","v":-5.8593400000000004},{"$f":"MIN((IFERROR(IF(AND($V20<=AE$1,$W20>=AE$1),INDEX(Reliability!J$23:J$50,MATCH($S20,Reliability!$C$23:$C$50,0)),0),0)*IF($T20=\"n/a\",$D20*$Y20,$G20)+IFERROR(IF(AND($V20<=AE$1,$W20>=AE$1),INDEX(Reliability!J$23:J$50,MATCH($T20,Reliability!$C$23:$C$50,0)),0),0)*$H20*$X20*$Y20),$D20)*$R20","v":-5.7532199999999998},{"$f":"MIN((IFERROR(IF(AND($V20<=AF$1,$W20>=AF$1),INDEX(Reliability!K$23:K$50,MATCH($S20,Reliability!$C$23:$C$50,0)),0),0)*IF($T20=\"n/a\",$D20*$Y20,$G20)+IFERROR(IF(AND($V20<=AF$1,$W20>=AF$1),INDEX(Reliability!K$23:K$50,MATCH($T20,Reliability!$C$23:$C$50,0)),0),0)*$H20*$X20*$Y20),$D20)*$R20","v":-5.6471},{"$f":"MIN((IFERROR(IF(AND($V20<=AG$1,$W20>=AG$1),INDEX(Reliability!L$23:L$50,MATCH($S20,Reliability!$C$23:$C$50,0)),0),0)*IF($T20=\"n/a\",$D20*$Y20,$G20)+IFERROR(IF(AND($V20<=AG$1,$W20>=AG$1),INDEX(Reliability!L$23:L$50,MATCH($T20,Reliability!$C$23:$C$50,0)),0),0)*$H20*$X20*$Y20),$D20)*$R20","v":-5.1255959999999998},{"$f":"MIN((IFERROR(IF(AND($V20<=AH$1,$W20>=AH$1),INDEX(Reliability!M$23:M$50,MATCH($S20,Reliability!$C$23:$C$50,0)),0),0)*IF($T20=\"n/a\",$D20*$Y20,$G20)+IFERROR(IF(AND($V20<=AH$1,$W20>=AH$1),INDEX(Reliability!M$23:M$50,MATCH($T20,Reliability!$C$23:$C$50,0)),0),0)*$H20*$X20*$Y20),$D20)*$R20","v":-4.6040920000000005},{"$f":"MIN((IFERROR(IF(AND($V20<=AI$1,$W20>=AI$1),INDEX(Reliability!N$23:N$50,MATCH($S20,Reliability!$C$23:$C$50,0)),0),0)*IF($T20=\"n/a\",$D20*$Y20,$G20)+IFERROR(IF(AND($V20<=AI$1,$W20>=AI$1),INDEX(Reliability!N$23:N$50,MATCH($T20,Reliability!$C$23:$C$50,0)),0),0)*$H20*$X20*$Y20),$D20)*$R20","v":-4.0825880000000003},{"$f":"MIN((IFERROR(IF(AND($V20<=AJ$1,$W20>=AJ$1),INDEX(Reliability!O$23:O$50,MATCH($S20,Reliability!$C$23:$C$50,0)),0),0)*IF($T20=\"n/a\",$D20*$Y20,$G20)+IFERROR(IF(AND($V20<=AJ$1,$W20>=AJ$1),INDEX(Reliability!O$23:O$50,MATCH($T20,Reliability!$C$23:$C$50,0)),0),0)*$H20*$X20*$Y20),$D20)*$R20","v":-3.561084000000001},{"$f":"MIN((IFERROR(IF(AND($V20<=AK$1,$W20>=AK$1),INDEX(Reliability!P$23:P$50,MATCH($S20,Reliability!$C$23:$C$50,0)),0),0)*IF($T20=\"n/a\",$D20*$Y20,$G20)+IFERROR(IF(AND($V20<=AK$1,$W20>=AK$1),INDEX(Reliability!P$23:P$50,MATCH($T20,Reliability!$C$23:$C$50,0)),0),0)*$H20*$X20*$Y20),$D20)*$R20","v":-3.0395800000000004}]
[null,{"$f":"unique_contracts!B21","v":"ESCNDO_6_PL1X2"},{"$f":"unique_contracts!D21","v":"Online"},{"$f":"unique_contracts!J21","v":47.8},{"$f":"unique_contracts!M21","v":"NotHybrid"},{"$f":"unique_contracts!N21","v":"NA"},{"$f":"unique_contracts!P21","v":0},{"$f":"unique_contracts!R21","v":0},{"$f":"unique_contracts!V21","v":0},{"$f":"unique_contracts!AB21","v":0},{"$f":"unique_contracts!AM21","v":2014},{"$f":"unique_contracts!AN21","v":1},{"$f":"unique_contracts!AO21","v":25},{"$f":"unique_contracts!AP21","v":2039},{"$f":"unique_contracts!AQ21","v":12},{"$f":"unique_contracts!AR21","v":31},{"$f":"unique_contracts!BP21","v":"EnergyCapacity"},1,{"$f":"IFERROR(IF(AND(I21>0,E21=\"NotHybrid\"),_xlfn.CONCAT(MAX(MIN(ROUNDDOWN(I21/D21,0),8),4),INDEX(resources!$G:$G,MATCH(B21,resources!$A:$A,0))),INDEX(resources!$G:$G,MATCH(B21,resources!$A:$A,0))),\"n/a\")","v":"gas_ct"},"n/a","gas_ct",2014,2039,1,1,{"$f":"MIN((IFERROR(IF(AND($V21<=Z$1,$W21>=Z$1),INDEX(Reliability!E$23:E$50,MATCH($S21,Reliability!$C$23:$C$50,0)),0),0)*IF($T21=\"n/a\",$D21*$Y21,$G21)+IFERROR(IF(AND($V21<=Z$1,$W21>=Z$1),INDEX(Reliability!E$23:E$50,MATCH($T21,Reliability!$C$23:$C$50,0)),0),0)*$H21*$X21*$Y21),$D21)*$R21","v":38.340569976871151},{"$f":"MIN((IFERROR(IF(AND($V21<=AA$1,$W21>=AA$1),INDEX(Reliability!F$23:F$50,MATCH($S21,Reliability!$C$23:$C$50,0)),0),0)*IF($T21=\"n/a\",$D21*$Y21,$G21)+IFERROR(IF(AND($V21<=AA$1,$W21>=AA$1),INDEX(Reliability!F$23:F$50,MATCH($T21,Reliability!$C$23:$C$50,0)),0),0)*$H21*$X21*$Y21),$D21)*$R21","v":39.024183695064622},{"$f":"MIN((IFERROR(IF(AND($V21<=AB$1,$W21>=AB$1),INDEX(Reliability!G$23:G$50,MATCH($S21,Reliability!$C$23:$C$50,0)),0),0)*IF($T21=\"n/a\",$D21*$Y21,$G21)+IFERROR(IF(AND($V21<=AB$1,$W21>=AB$1),INDEX(Reliability!G$23:G$50,MATCH($T21,Reliability!$C$23:$C$50,0)),0),0)*$H21*$X21*$Y21),$D21)*$R21","v":39.707797413258099},{"$f":"MIN((IFERROR(IF(AND($V21<=AC$1,$W21>=AC$1),INDEX(Reliability!H$23:H$50,MATCH($S21,Reliability!$C$23:$C$50,0)),0),0)*IF($T21=\"n/a\",$D21*$Y21,$G21)+IFERROR(IF(AND($V21<=AC$1,$W21>=AC$1),INDEX(Reliability!H$23:H$50,MATCH($T21,Reliability!$C$23:$C$50,0)),0),0)*$H21*$X21*$Y21),$D21)*$R21","v":39.48962642774039},{"$f":"MIN((IFERROR(IF(AND($V21<=AD$1,$W21>=AD$1),INDEX(Reliability!I$23:I$50,MATCH($S21,Reliability!$C$23:$C$50,0)),0),0)*IF($T21=\"n/a\",$D21*$Y21,$G21)+IFERROR(IF(AND($V21<=AD$1,$W21>=AD$1),INDEX(Reliability!I$23:I$50,MATCH($T21,Reliability!$C$23:$C$50,0)),0),0)*$H21*$X21*$Y21),$D21)*$R21","v":39.271455442222681},{"$f":"MIN((IFERROR(IF(AND($V21<=AE$1,$W21>=AE$1),INDEX(Reliability!J$23:J$50,MATCH($S21,Reliability!$C$23:$C$50,0)),0),0)*IF($T21=\"n/a\",$D21*$Y21,$G21)+IFERROR(IF(AND($V21<=AE$1,$W21>=AE$1),INDEX(Reliability!J$23:J$50,MATCH($T21,Reliability!$C$23:$C$50,0)),0),0)*$H21*$X21*$Y21),$D21)*$R21","v":38.517763590675884},{"$f":"MIN((IFERROR(IF(AND($V21<=AF$1,$W21>=AF$1),INDEX(Reliability!K$23:K$50,MATCH($S21,Reliability!$C$23:$C$50,0)),0),0)*IF($T21=\"n/a\",$D21*$Y21,$G21)+IFERROR(IF(AND($V21<=AF$1,$W21>=AF$1),INDEX(Reliability!K$23:K$50,MATCH($T21,Reliability!$C$23:$C$50,0)),0),0)*$H21*$X21*$Y21),$D21)*$R21","v":37.764071739129086},{"$f":"MIN((IFERROR(IF(AND($V21<=AG$1,$W21>=AG$1),INDEX(Reliability!L$23:L$50,MATCH($S21,Reliability!$C$23:$C$50,0)),0),0)*IF($T21=\"n/a\",$D21*$Y21,$G21)+IFERROR(IF(AND($V21<=AG$1,$W21>=AG$1),INDEX(Reliability!L$23:L$50,MATCH($T21,Reliability!$C$23:$C$50,0)),0),0)*$H21*$X21*$Y21),$D21)*$R21","v":38.222233842046194},{"$f":"MIN((IFERROR(IF(AND($V21<=AH$1,$W21>=AH$1),INDEX(Reliability!M$23:M$50,MATCH($S21,Reliability!$C$23:$C$50,0)),0),0)*IF($T21=\"n/a\",$D21*$Y21,$G21)+IFERROR(IF(AND($V21<=AH$1,$W21>=AH$1),INDEX(Reliability!M$23:M$50,MATCH($T21,Reliability!$C$23:$C$50,0)),0),0)*$H21*$X21*$Y21),$D21)*$R21","v":38.680395944963294},{"$f":"MIN((IFERROR(IF(AND($V21<=AI$1,$W21>=AI$1),INDEX(Reliability!N$23:N$50,MATCH($S21,Reliability!$C$23:$C$50,0)),0),0)*IF($T21=\"n/a\",$D21*$Y21,$G21)+IFERROR(IF(AND($V21<=AI$1,$W21>=AI$1),INDEX(Reliability!N$23:N$50,MATCH($T21,Reliability!$C$23:$C$50,0)),0),0)*$H21*$X21*$Y21),$D21)*$R21","v":39.138558047880402},{"$f":"MIN((IFERROR(IF(AND($V21<=AJ$1,$W21>=AJ$1),INDEX(Reliability!O$23:O$50,MATCH($S21,Reliability!$C$23:$C$50,0)),0),0)*IF($T21=\"n/a\",$D21*$Y21,$G21)+IFERROR(IF(AND($V21<=AJ$1,$W21>=AJ$1),INDEX(Reliability!O$23:O$50,MATCH($T21,Reliability!$C$23:$C$50,0)),0),0)*$H21*$X21*$Y21),$D21)*$R21","v":39.596720150797509},{"$f":"MIN((IFERROR(IF(AND($V21<=AK$1,$W21>=AK$1),INDEX(Reliability!P$23:P$50,MATCH($S21,Reliability!$C$23:$C$50,0)),0),0)*IF($T21=\"n/a\",$D21*$Y21,$G21)+IFERROR(IF(AND($V21<=AK$1,$W21>=AK$1),INDEX(Reliability!P$23:P$50,MATCH($T21,Reliability!$C$23:$C$50,0)),0),0)*$H21*$X21*$Y21),$D21)*$R21","v":40.054882253714609}]
[null,{"$f":"unique_contracts!B22","v":"_EXISTING_GENERIC_PEAKER"},{"$f":"unique_contracts!D22","v":"Online"},{"$f":"unique_contracts!J22","v":36.232399999999998},{"$f":"unique_contracts!M22","v":"NotHybrid"},{"$f":"unique_contracts!N22","v":"NA"},{"$f":"unique_contracts!P22","v":0},{"$f":"unique_contracts!R22","v":0},{"$f":"unique_contracts!V22","v":0},{"$f":"unique_contracts!AB22","v":"sell"},{"$f":"unique_contracts!AM22","v":2014},{"$f":"unique_contracts!AN22","v":1},{"$f":"unique_contracts!AO22","v":25},{"$f":"unique_contracts!AP22","v":2039},{"$f":"unique_contracts!AQ22","v":12},{"$f":"unique_contracts!AR22","v":31},{"$f":"unique_contracts!BP22","v":"EnergyCapacity"},-1,{"$f":"IFERROR(IF(AND(I22>0,E22=\"NotHybrid\"),_xlfn.CONCAT(MAX(MIN(ROUNDDOWN(I22/D22,0),8),4),INDEX(resources!$G:$G,MATCH(B22,resources!$A:$A,0))),INDEX(resources!$G:$G,MATCH(B22,resources!$A:$A,0))),\"n/a\")","v":"gas_ct"},"n/a","gas_ct",2014,2039,1,1,{"$f":"MIN((IFERROR(IF(AND($V22<=Z$1,$W22>=Z$1),INDEX(Reliability!E$23:E$50,MATCH($S22,Reliability!$C$23:$C$50,0)),0),0)*IF($T22=\"n/a\",$D22*$Y22,$G22)+IFERROR(IF(AND($V22<=Z$1,$W22>=Z$1),INDEX(Reliability!E$23:E$50,MATCH($T22,Reliability!$C$23:$C$50,0)),0),0)*$H22*$X22*$Y22),$D22)*$R22","v":-29.062152042468334},{"$f":"MIN((IFERROR(IF(AND($V22<=AA$1,$W22>=AA$1),INDEX(Reliability!F$23:F$50,MATCH($S22,Reliability!$C$23:$C$50,0)),0),0)*IF($T22=\"n/a\",$D22*$Y22,$G22)+IFERROR(IF(AND($V22<=AA$1,$W22>=AA$1),INDEX(Reliability!F$23:F$50,MATCH($T22,Reliability!$C$23:$C$50,0)),0),0)*$H22*$X22*$Y22),$D22)*$R22","v":-29.580331240858985},{"$f":"MIN((IFERROR(IF(AND($V22<=AB$1,$W22>=AB$1),INDEX(Reliability!G$23:G$50,MATCH($S22,Reliability!$C$23:$C$50,0)),0),0)*IF($T22=\"n/a\",$D22*$Y22,$G22)+IFERROR(IF(AND($V22<=AB$1,$W22>=AB$1),INDEX(Reliability!G$23:G$50,MATCH($T22,Reliability!$C$23:$C$50,0)),0),0)*$H22*$X22*$Y22),$D22)*$R22","v":-30.09851043924964},{"$f":"MIN((IFERROR(IF(AND($V22<=AC$1,$W22>=AC$1),INDEX(Reliability!H$23:H$50,MATCH($S22,Reliability!$C$23:$C$50,0)),0),0)*IF($T22=\"n/a\",$D22*$Y22,$G22)+IFERROR(IF(AND($V22<=AC$1,$W22>=AC$1),INDEX(Reliability!H$23:H$50,MATCH($T22,Reliability!$C$23:$C$50,0)),0),0)*$H22*$X22*$Y22),$D22)*$R22","v":-29.933136832227216},{"$f":"MIN((IFERROR(IF(AND($V22<=AD$1,$W22>=AD$1),INDEX(Reliability!I$23:I$50,MATCH($S22,Reliability!$C$23:$C$50,0)),0),0)*IF($T22=\"n/a\",$D22*$Y22,$G22)+IFERROR(IF(AND($V22<=AD$1,$W22>=AD$1),INDEX(Reliability!I$23:I$50,MATCH($T22,Reliability!$C$23:$C$50,0)),0),0)*$H22*$X22*$Y22),$D22)*$R22","v":-29.767763225204796},{"$f":"MIN((IFERROR(IF(AND($V22<=AE$1,$W22>=AE$1),INDEX(Reliability!J$23:J$50,MATCH($S22,Reliability!$C$23:$C$50,0)),0),0)*IF($T22=\"n/a\",$D22*$Y22,$G22)+IFERROR(IF(AND($V22<=AE$1,$W22>=AE$1),INDEX(Reliability!J$23:J$50,MATCH($T22,Reliability!$C$23:$C$50,0)),0),0)*$H22*$X22*$Y22),$D22)*$R22","v":-29.196464801732322},{"$f":"MIN((IFERROR(IF(AND($V22<=AF$1,$W22>=AF$1),INDEX(Reliability!K$23:K$50,MATCH($S22,Reliability!$C$23:$C$50,0)),0),0)*IF($T22=\"n/a\",$D22*$Y22,$G22)+IFERROR(IF(AND($V22<=AF$1,$W22>=AF$1),INDEX(Reliability!K$23:K$50,MATCH($T22,Reliability!$C$23:$C$50,0)),0),0)*$H22*$X22*$Y22),$D22)*$R22","v":-28.625166378259845},{"$f":"MIN((IFERROR(IF(AND($V22<=AG$1,$W22>=AG$1),INDEX(Reliability!L$23:L$50,MATCH($S22,Reliability!$C$23:$C$50,0)),0),0)*IF($T22=\"n/a\",$D22*$Y22,$G22)+IFERROR(IF(AND($V22<=AG$1,$W22>=AG$1),INDEX(Reliability!L$23:L$50,MATCH($T22,Reliability!$C$23:$C$50,0)),0),0)*$H22*$X22*$Y22),$D22)*$R22","v":-28.972453252271013},{"$f":"MIN((IFERROR(IF(AND($V22<=AH$1,$W22>=AH$1),INDEX(Reliability!M$23:M$50,MATCH($S22,Reliability!$C$23:$C$50,0)),0),0)*IF($T22=\"n/a\",$D22*$Y22,$G22)+IFERROR(IF(AND($V22<=AH$1,$W22>=AH$1),INDEX(Reliability!M$23:M$50,MATCH($T22,Reliability!$C$23:$C$50,0)),0),0)*$H22*$X22*$Y22),$D22)*$R22","v":-29.319740126282181},{"$f":"MIN((IFERROR(IF(AND($V22<=AI$1,$W22>=AI$1),INDEX(Reliability!N$23:N$50,MATCH($S22,Reliability!$C$23:$C$50,0)),0),0)*IF($T22=\"n/a\",$D22*$Y22,$G22)+IFERROR(IF(AND($V22<=AI$1,$W22>=AI$1),INDEX(Reliability!N$23:N$50,MATCH($T22,Reliability!$C$23:$C$50,0)),0),0)*$H22*$X22*$Y22),$D22)*$R22","v":-29.667027000293345},{"$f":"MIN((IFERROR(IF(AND($V22<=AJ$1,$W22>=AJ$1),INDEX(Reliability!O$23:O$50,MATCH($S22,Reliability!$C$23:$C$50,0)),0),0)*IF($T22=\"n/a\",$D22*$Y22,$G22)+IFERROR(IF(AND($V22<=AJ$1,$W22>=AJ$1),INDEX(Reliability!O$23:O$50,MATCH($T22,Reliability!$C$23:$C$50,0)),0),0)*$H22*$X22*$Y22),$D22)*$R22","v":-30.014313874304513},{"$f":"MIN((IFERROR(IF(AND($V22<=AK$1,$W22>=AK$1),INDEX(Reliability!P$23:P$50,MATCH($S22,Reliability!$C$23:$C$50,0)),0),0)*IF($T22=\"n/a\",$D22*$Y22,$G22)+IFERROR(IF(AND($V22<=AK$1,$W22>=AK$1),INDEX(Reliability!P$23:P$50,MATCH($T22,Reliability!$C$23:$C$50,0)),0),0)*$H22*$X22*$Y22),$D22)*$R22","v":-30.361600748315677}]
[null,{"$f":"unique_contracts!B23","v":"ESCNDO_6_EB1BT1"},{"$f":"unique_contracts!D23","v":"Online"},{"$f":"unique_contracts!J23","v":10},{"$f":"unique_contracts!M23","v":"NotHybrid"},{"$f":"unique_contracts!N23","v":"NA"},{"$f":"unique_contracts!P23","v":0},{"$f":"unique_contracts!R23","v":0},{"$f":"unique_contracts!V23","v":40},{"$f":"unique_contracts!AB23","v":"Owned"},{"$f":"unique_contracts!AM23","v":2017},{"$f":"unique_contracts!AN23","v":3},{"$f":"unique_contracts!AO23","v":1},{"$f":"unique_contracts!AP23","v":2060},{"$f":"unique_contracts!AQ23","v":12},{"$f":"unique_contracts!AR23","v":31},{"$f":"unique_contracts!BP23","v":"EnergyCapacity"},1,{"$f":"IFERROR(IF(AND(I23>0,E23=\"NotHybrid\"),_xlfn.CONCAT(MAX(MIN(ROUNDDOWN(I23/D23,0),8),4),INDEX(resources!$G:$G,MATCH(B23,resources!$A:$A,0))),INDEX(resources!$G:$G,MATCH(B23,resources!$A:$A,0))),\"n/a\")","v":"4hr_batteries"},"n/a","4hr_batteries",2017,2060,1,1,{"$f":"MIN((IFERROR(IF(AND($V23<=Z$1,$W23>=Z$1),INDEX(Reliability!E$23:E$50,MATCH($S23,Reliability!$C$23:$C$50,0)),0),0)*IF($T23=\"n/a\",$D23*$Y23,$G23)+IFERROR(IF(AND($V23<=Z$1,$W23>=Z$1),INDEX(Reliability!E$23:E$50,MATCH($T23,Reliability!$C$23:$C$50,0)),0),0)*$H23*$X23*$Y23),$D23)*$R23","v":8.85},{"$f":"MIN((IFERROR(IF(AND($V23<=AA$1,$W23>=AA$1),INDEX(Reliability!F$23:F$50,MATCH($S23,Reliability!$C$23:$C$50,0)),0),0)*IF($T23=\"n/a\",$D23*$Y23,$G23)+IFERROR(IF(AND($V23<=AA$1,$W23>=AA$1),INDEX(Reliability!F$23:F$50,MATCH($T23,Reliability!$C$23:$C$50,0)),0),0)*$H23*$X23*$Y23),$D23)*$R23","v":9.0150000000000006},{"$f":"MIN((IFERROR(IF(AND($V23<=AB$1,$W23>=AB$1),INDEX(Reliability!G$23:G$50,MATCH($S23,Reliability!$C$23:$C$50,0)),0),0)*IF($T23=\"n/a\",$D23*$Y23,$G23)+IFERROR(IF(AND($V23<=AB$1,$W23>=AB$1),INDEX(Reliability!G$23:G$50,MATCH($T23,Reliability!$C$23:$C$50,0)),0),0)*$H23*$X23*$Y23),$D23)*$R23","v":9.18},{"$f":"MIN((IFERROR(IF(AND($V23<=AC$1,$W23>=AC$1),INDEX(Reliability!H$23:H$50,MATCH($S23,Reliability!$C$23:$C$50,0)),0),0)*IF($T23=\"n/a\",$D23*$Y23,$G23)+IFERROR(IF(AND($V23<=AC$1,$W23>=AC$1),INDEX(Reliability!H$23:H$50,MATCH($T23,Reliability!$C$23:$C$50,0)),0),0)*$H23*$X23*$Y23),$D23)*$R23","v":8.4550000000000001},{"$f":"MIN((IFERROR(IF(AND($V23<=AD$1,$W23>=AD$1),INDEX(Reliability!I$23:I$50,MATCH($S23,Reliability!$C$23:$C$50,0)),0),0)*IF($T23=\"n/a\",$D23*$Y23,$G23)+IFERROR(IF(AND($V23<=AD$1,$W23>=AD$1),INDEX(Reliability!I$23:I$50,MATCH($T23,Reliability!$C$23:$C$50,0)),0),0)*$H23*$X23*$Y23),$D23)*$R23","v":7.73},{"$f":"MIN((IFERROR(IF(AND($V23<=AE$1,$W23>=AE$1),INDEX(Reliability!J$23:J$50,MATCH($S23,Reliability!$C$23:$C$50,0)),0),0)*IF($T23=\"n/a\",$D23*$Y23,$G23)+IFERROR(IF(AND($V23<=AE$1,$W23>=AE$1),INDEX(Reliability!J$23:J$50,MATCH($T23,Reliability!$C$23:$C$50,0)),0),0)*$H23*$X23*$Y23),$D23)*$R23","v":7.59},{"$f":"MIN((IFERROR(IF(AND($V23<=AF$1,$W23>=AF$1),INDEX(Reliability!K$23:K$50,MATCH($S23,Reliability!$C$23:$C$50,0)),0),0)*IF($T23=\"n/a\",$D23*$Y23,$G23)+IFERROR(IF(AND($V23<=AF$1,$W23>=AF$1),INDEX(Reliability!K$23:K$50,MATCH($T23,Reliability!$C$23:$C$50,0)),0),0)*$H23*$X23*$Y23),$D23)*$R23","v":7.45},{"$f":"MIN((IFERROR(IF(AND($V23<=AG$1,$W23>=AG$1),INDEX(Reliability!L$23:L$50,MATCH($S23,Reliability!$C$23:$C$50,0)),0),0)*IF($T23=\"n/a\",$D23*$Y23,$G23)+IFERROR(IF(AND($V23<=AG$1,$W23>=AG$1),INDEX(Reliability!L$23:L$50,MATCH($T23,Reliability!$C$23:$C$50,0)),0),0)*$H23*$X23*$Y23),$D23)*$R23","v":6.7620000000000005},{"$f":"MIN((IFERROR(IF(AND($V23<=AH$1,$W23>=AH$1),INDEX(Reliability!M$23:M$50,MATCH($S23,Reliability!$C$23:$C$50,0)),0),0)*IF($T23=\"n/a\",$D23*$Y23,$G23)+IFERROR(IF(AND($V23<=AH$1,$W23>=AH$1),INDEX(Reliability!M$23:M$50,MATCH($T23,Reliability!$C$23:$C$50,0)),0),0)*$H23*$X23*$Y23),$D23)*$R23","v":6.0740000000000007},{"$f":"MIN((IFERROR(IF(AND($V23<=AI$1,$W23>=AI$1),INDEX(Reliability!N$23:N$50,MATCH($S23,Reliability!$C$23:$C$50,0)),0),0)*IF($T23=\"n/a\",$D23*$Y23,$G23)+IFERROR(IF(AND($V23<=AI$1,$W23>=AI$1),INDEX(Reliability!N$23:N$50,MATCH($T23,Reliability!$C$23:$C$50,0)),0),0)*$H23*$X23*$Y23),$D23)*$R23","v":5.386000000000001},{"$f":"MIN((IFERROR(IF(AND($V23<=AJ$1,$W23>=AJ$1),INDEX(Reliability!O$23:O$50,MATCH($S23,Reliability!$C$23:$C$50,0)),0),0)*IF($T23=\"n/a\",$D23*$Y23,$G23)+IFERROR(IF(AND($V23<=AJ$1,$W23>=AJ$1),INDEX(Reliability!O$23:O$50,MATCH($T23,Reliability!$C$23:$C$50,0)),0),0)*$H23*$X23*$Y23),$D23)*$R23","v":4.6980000000000013},{"$f":"MIN((IFERROR(IF(AND($V23<=AK$1,$W23>=AK$1),INDEX(Reliability!P$23:P$50,MATCH($S23,Reliability!$C$23:$C$50,0)),0),0)*IF($T23=\"n/a\",$D23*$Y23,$G23)+IFERROR(IF(AND($V23<=AK$1,$W23>=AK$1),INDEX(Reliability!P$23:P$50,MATCH($T23,Reliability!$C$23:$C$50,0)),0),0)*$H23*$X23*$Y23),$D23)*$R23","v":4.01}]
[null,{"$f":"unique_contracts!B24","v":"_EXISTING_GENERIC_BATTERY_STORAGE"},{"$f":"unique_contracts!D24","v":"Online"},{"$f":"unique_contracts!J24","v":7.58},{"$f":"unique_contracts!M24","v":"NotHybrid"},{"$f":"unique_contracts!N24","v":"NA"},{"$f":"unique_contracts!P24","v":0},{"$f":"unique_contracts!R24","v":0},{"$f":"unique_contracts!V24","v":30.32},{"$f":"unique_contracts!AB24","v":"sell"},{"$f":"unique_contracts!AM24","v":2017},{"$f":"unique_contracts!AN24","v":3},{"$f":"unique_contracts!AO24","v":1},{"$f":"unique_contracts!AP24","v":2060},{"$f":"unique_contracts!AQ24","v":12},{"$f":"unique_contracts!AR24","v":31},{"$f":"unique_contracts!BP24","v":"EnergyCapacity"},-1,{"$f":"IFERROR(IF(AND(I24>0,E24=\"NotHybrid\"),_xlfn.CONCAT(MAX(MIN(ROUNDDOWN(I24/D24,0),8),4),INDEX(resources!$G:$G,MATCH(B24,resources!$A:$A,0))),INDEX(resources!$G:$G,MATCH(B24,resources!$A:$A,0))),\"n/a\")","v":"4hr_batteries"},"n/a","4hr_batteries",2017,2060,1,1,{"$f":"MIN((IFERROR(IF(AND($V24<=Z$1,$W24>=Z$1),INDEX(Reliability!E$23:E$50,MATCH($S24,Reliability!$C$23:$C$50,0)),0),0)*IF($T24=\"n/a\",$D24*$Y24,$G24)+IFERROR(IF(AND($V24<=Z$1,$W24>=Z$1),INDEX(Reliability!E$23:E$50,MATCH($T24,Reliability!$C$23:$C$50,0)),0),0)*$H24*$X24*$Y24),$D24)*$R24","v":-6.7083000000000004},{"$f":"MIN((IFERROR(IF(AND($V24<=AA$1,$W24>=AA$1),INDEX(Reliability!F$23:F$50,MATCH($S24,Reliability!$C$23:$C$50,0)),0),0)*IF($T24=\"n/a\",$D24*$Y24,$G24)+IFERROR(IF(AND($V24<=AA$1,$W24>=AA$1),INDEX(Reliability!F$23:F$50,MATCH($T24,Reliability!$C$23:$C$50,0)),0),0)*$H24*$X24*$Y24),$D24)*$R24","v":-6.8333699999999995},{"$f":"MIN((IFERROR(IF(AND($V24<=AB$1,$W24>=AB$1),INDEX(Reliability!G$23:G$50,MATCH($S24,Reliability!$C$23:$C$50,0)),0),0)*IF($T24=\"n/a\",$D24*$Y24,$G24)+IFERROR(IF(AND($V24<=AB$1,$W24>=AB$1),INDEX(Reliability!G$23:G$50,MATCH($T24,Reliability!$C$23:$C$50,0)),0),0)*$H24*$X24*$Y24),$D24)*$R24","v":-6.9584400000000004},{"$f":"MIN((IFERROR(IF(AND($V24<=AC$1,$W24>=AC$1),INDEX(Reliability!H$23:H$50,MATCH($S24,Reliability!$C$23:$C$50,0)),0),0)*IF($T24=\"n/a\",$D24*$Y24,$G24)+IFERROR(IF(AND($V24<=AC$1,$W24>=AC$1),INDEX(Reliability!H$23:H$50,MATCH($T24,Reliability!$C$23:$C$50,0)),0),0)*$H24*$X24*$Y24),$D24)*$R24","v":-6.4088900000000004},{"$f":"MIN((IFERROR(IF(AND($V24<=AD$1,$W24>=AD$1),INDEX(Reliability!I$23:I$50,MATCH($S24,Reliability!$C$23:$C$50,0)),0),0)*IF($T24=\"n/a\",$D24*$Y24,$G24)+IFERROR(IF(AND($V24<=AD$1,$W24>=AD$1),INDEX(Reliability!I$23:I$50,MATCH($T24,Reliability!$C$23:$C$50,0)),0),0)*$H24*$X24*$Y24),$D24)*$R24","v":-5.8593400000000004},{"$f":"MIN((IFERROR(IF(AND($V24<=AE$1,$W24>=AE$1),INDEX(Reliability!J$23:J$50,MATCH($S24,Reliability!$C$23:$C$50,0)),0),0)*IF($T24=\"n/a\",$D24*$Y24,$G24)+IFERROR(IF(AND($V24<=AE$1,$W24>=AE$1),INDEX(Reliability!J$23:J$50,MATCH($T24,Reliability!$C$23:$C$50,0)),0),0)*$H24*$X24*$Y24),$D24)*$R24","v":-5.7532199999999998},{"$f":"MIN((IFERROR(IF(AND($V24<=AF$1,$W24>=AF$1),INDEX(Reliability!K$23:K$50,MATCH($S24,Reliability!$C$23:$C$50,0)),0),0)*IF($T24=\"n/a\",$D24*$Y24,$G24)+IFERROR(IF(AND($V24<=AF$1,$W24>=AF$1),INDEX(Reliability!K$23:K$50,MATCH($T24,Reliability!$C$23:$C$50,0)),0),0)*$H24*$X24*$Y24),$D24)*$R24","v":-5.6471},{"$f":"MIN((IFERROR(IF(AND($V24<=AG$1,$W24>=AG$1),INDEX(Reliability!L$23:L$50,MATCH($S24,Reliability!$C$23:$C$50,0)),0),0)*IF($T24=\"n/a\",$D24*$Y24,$G24)+IFERROR(IF(AND($V24<=AG$1,$W24>=AG$1),INDEX(Reliability!L$23:L$50,MATCH($T24,Reliability!$C$23:$C$50,0)),0),0)*$H24*$X24*$Y24),$D24)*$R24","v":-5.1255959999999998},{"$f":"MIN((IFERROR(IF(AND($V24<=AH$1,$W24>=AH$1),INDEX(Reliability!M$23:M$50,MATCH($S24,Reliability!$C$23:$C$50,0)),0),0)*IF($T24=\"n/a\",$D24*$Y24,$G24)+IFERROR(IF(AND($V24<=AH$1,$W24>=AH$1),INDEX(Reliability!M$23:M$50,MATCH($T24,Reliability!$C$23:$C$50,0)),0),0)*$H24*$X24*$Y24),$D24)*$R24","v":-4.6040920000000005},{"$f":"MIN((IFERROR(IF(AND($V24<=AI$1,$W24>=AI$1),INDEX(Reliability!N$23:N$50,MATCH($S24,Reliability!$C$23:$C$50,0)),0),0)*IF($T24=\"n/a\",$D24*$Y24,$G24)+IFERROR(IF(AND($V24<=AI$1,$W24>=AI$1),INDEX(Reliability!N$23:N$50,MATCH($T24,Reliability!$C$23:$C$50,0)),0),0)*$H24*$X24*$Y24),$D24)*$R24","v":-4.0825880000000003},{"$f":"MIN((IFERROR(IF(AND($V24<=AJ$1,$W24>=AJ$1),INDEX(Reliability!O$23:O$50,MATCH($S24,Reliability!$C$23:$C$50,0)),0),0)*IF($T24=\"n/a\",$D24*$Y24,$G24)+IFERROR(IF(AND($V24<=AJ$1,$W24>=AJ$1),INDEX(Reliability!O$23:O$50,MATCH($T24,Reliability!$C$23:$C$50,0)),0),0)*$H24*$X24*$Y24),$D24)*$R24","v":-3.561084000000001},{"$f":"MIN((IFERROR(IF(AND($V24<=AK$1,$W24>=AK$1),INDEX(Reliability!P$23:P$50,MATCH($S24,Reliability!$C$23:$C$50,0)),0),0)*IF($T24=\"n/a\",$D24*$Y24,$G24)+IFERROR(IF(AND($V24<=AK$1,$W24>=AK$1),INDEX(Reliability!P$23:P$50,MATCH($T24,Reliability!$C$23:$C$50,0)),0),0)*$H24*$X24*$Y24),$D24)*$R24","v":-3.0395800000000004}]
[null,{"$f":"unique_contracts!B25","v":"ESCNDO_6_EB2BT2"},{"$f":"unique_contracts!D25","v":"Online"},{"$f":"unique_contracts!J25","v":10},{"$f":"unique_contracts!M25","v":"NotHybrid"},{"$f":"unique_contracts!N25","v":"NA"},{"$f":"unique_contracts!P25","v":0},{"$f":"unique_contracts!R25","v":0},{"$f":"unique_contracts!V25","v":40},{"$f":"unique_contracts!AB25","v":"Owned"},{"$f":"unique_contracts!AM25","v":2017},{"$f":"unique_contracts!AN25","v":3},{"$f":"unique_contracts!AO25","v":1},{"$f":"unique_contracts!AP25","v":2060},{"$f":"unique_contracts!AQ25","v":12},{"$f":"unique_contracts!AR25","v":31},{"$f":"unique_contracts!BP25","v":"EnergyCapacity"},1,{"$f":"IFERROR(IF(AND(I25>0,E25=\"NotHybrid\"),_xlfn.CONCAT(MAX(MIN(ROUNDDOWN(I25/D25,0),8),4),INDEX(resources!$G:$G,MATCH(B25,resources!$A:$A,0))),INDEX(resources!$G:$G,MATCH(B25,resources!$A:$A,0))),\"n/a\")","v":"4hr_batteries"},"n/a","4hr_batteries",2017,2060,1,1,{"$f":"MIN((IFERROR(IF(AND($V25<=Z$1,$W25>=Z$1),INDEX(Reliability!E$23:E$50,MATCH($S25,Reliability!$C$23:$C$50,0)),0),0)*IF($T25=\"n/a\",$D25*$Y25,$G25)+IFERROR(IF(AND($V25<=Z$1,$W25>=Z$1),INDEX(Reliability!E$23:E$50,MATCH($T25,Reliability!$C$23:$C$50,0)),0),0)*$H25*$X25*$Y25),$D25)*$R25","v":8.85},{"$f":"MIN((IFERROR(IF(AND($V25<=AA$1,$W25>=AA$1),INDEX(Reliability!F$23:F$50,MATCH($S25,Reliability!$C$23:$C$50,0)),0),0)*IF($T25=\"n/a\",$D25*$Y25,$G25)+IFERROR(IF(AND($V25<=AA$1,$W25>=AA$1),INDEX(Reliability!F$23:F$50,MATCH($T25,Reliability!$C$23:$C$50,0)),0),0)*$H25*$X25*$Y25),$D25)*$R25","v":9.0150000000000006},{"$f":"MIN((IFERROR(IF(AND($V25<=AB$1,$W25>=AB$1),INDEX(Reliability!G$23:G$50,MATCH($S25,Reliability!$C$23:$C$50,0)),0),0)*IF($T25=\"n/a\",$D25*$Y25,$G25)+IFERROR(IF(AND($V25<=AB$1,$W25>=AB$1),INDEX(Reliability!G$23:G$50,MATCH($T25,Reliability!$C$23:$C$50,0)),0),0)*$H25*$X25*$Y25),$D25)*$R25","v":9.18},{"$f":"MIN((IFERROR(IF(AND($V25<=AC$1,$W25>=AC$1),INDEX(Reliability!H$23:H$50,MATCH($S25,Reliability!$C$23:$C$50,0)),0),0)*IF($T25=\"n/a\",$D25*$Y25,$G25)+IFERROR(IF(AND($V25<=AC$1,$W25>=AC$1),INDEX(Reliability!H$23:H$50,MATCH($T25,Reliability!$C$23:$C$50,0)),0),0)*$H25*$X25*$Y25),$D25)*$R25","v":8.4550000000000001},{"$f":"MIN((IFERROR(IF(AND($V25<=AD$1,$W25>=AD$1),INDEX(Reliability!I$23:I$50,MATCH($S25,Reliability!$C$23:$C$50,0)),0),0)*IF($T25=\"n/a\",$D25*$Y25,$G25)+IFERROR(IF(AND($V25<=AD$1,$W25>=AD$1),INDEX(Reliability!I$23:I$50,MATCH($T25,Reliability!$C$23:$C$50,0)),0),0)*$H25*$X25*$Y25),$D25)*$R25","v":7.73},{"$f":"MIN((IFERROR(IF(AND($V25<=AE$1,$W25>=AE$1),INDEX(Reliability!J$23:J$50,MATCH($S25,Reliability!$C$23:$C$50,0)),0),0)*IF($T25=\"n/a\",$D25*$Y25,$G25)+IFERROR(IF(AND($V25<=AE$1,$W25>=AE$1),INDEX(Reliability!J$23:J$50,MATCH($T25,Reliability!$C$23:$C$50,0)),0),0)*$H25*$X25*$Y25),$D25)*$R25","v":7.59},{"$f":"MIN((IFERROR(IF(AND($V25<=AF$1,$W25>=AF$1),INDEX(Reliability!K$23:K$50,MATCH($S25,Reliability!$C$23:$C$50,0)),0),0)*IF($T25=\"n/a\",$D25*$Y25,$G25)+IFERROR(IF(AND($V25<=AF$1,$W25>=AF$1),INDEX(Reliability!K$23:K$50,MATCH($T25,Reliability!$C$23:$C$50,0)),0),0)*$H25*$X25*$Y25),$D25)*$R25","v":7.45},{"$f":"MIN((IFERROR(IF(AND($V25<=AG$1,$W25>=AG$1),INDEX(Reliability!L$23:L$50,MATCH($S25,Reliability!$C$23:$C$50,0)),0),0)*IF($T25=\"n/a\",$D25*$Y25,$G25)+IFERROR(IF(AND($V25<=AG$1,$W25>=AG$1),INDEX(Reliability!L$23:L$50,MATCH($T25,Reliability!$C$23:$C$50,0)),0),0)*$H25*$X25*$Y25),$D25)*$R25","v":6.7620000000000005},{"$f":"MIN((IFERROR(IF(AND($V25<=AH$1,$W25>=AH$1),INDEX(Reliability!M$23:M$50,MATCH($S25,Reliability!$C$23:$C$50,0)),0),0)*IF($T25=\"n/a\",$D25*$Y25,$G25)+IFERROR(IF(AND($V25<=AH$1,$W25>=AH$1),INDEX(Reliability!M$23:M$50,MATCH($T25,Reliability!$C$23:$C$50,0)),0),0)*$H25*$X25*$Y25),$D25)*$R25","v":6.0740000000000007},{"$f":"MIN((IFERROR(IF(AND($V25<=AI$1,$W25>=AI$1),INDEX(Reliability!N$23:N$50,MATCH($S25,Reliability!$C$23:$C$50,0)),0),0)*IF($T25=\"n/a\",$D25*$Y25,$G25)+IFERROR(IF(AND($V25<=AI$1,$W25>=AI$1),INDEX(Reliability!N$23:N$50,MATCH($T25,Reliability!$C$23:$C$50,0)),0),0)*$H25*$X25*$Y25),$D25)*$R25","v":5.386000000000001},{"$f":"MIN((IFERROR(IF(AND($V25<=AJ$1,$W25>=AJ$1),INDEX(Reliability!O$23:O$50,MATCH($S25,Reliability!$C$23:$C$50,0)),0),0)*IF($T25=\"n/a\",$D25*$Y25,$G25)+IFERROR(IF(AND($V25<=AJ$1,$W25>=AJ$1),INDEX(Reliability!O$23:O$50,MATCH($T25,Reliability!$C$23:$C$50,0)),0),0)*$H25*$X25*$Y25),$D25)*$R25","v":4.6980000000000013},{"$f":"MIN((IFERROR(IF(AND($V25<=AK$1,$W25>=AK$1),INDEX(Reliability!P$23:P$50,MATCH($S25,Reliability!$C$23:$C$50,0)),0),0)*IF($T25=\"n/a\",$D25*$Y25,$G25)+IFERROR(IF(AND($V25<=AK$1,$W25>=AK$1),INDEX(Reliability!P$23:P$50,MATCH($T25,Reliability!$C$23:$C$50,0)),0),0)*$H25*$X25*$Y25),$D25)*$R25","v":4.01}]
[null,{"$f":"unique_contracts!B26","v":"_EXISTING_GENERIC_BATTERY_STORAGE"},{"$f":"unique_contracts!D26","v":"Online"},{"$f":"unique_contracts!J26","v":7.58},{"$f":"unique_contracts!M26","v":"NotHybrid"},{"$f":"unique_contracts!N26","v":"NA"},{"$f":"unique_contracts!P26","v":0},{"$f":"unique_contracts!R26","v":0},{"$f":"unique_contracts!V26","v":30.32},{"$f":"unique_contracts!AB26","v":"sell"},{"$f":"unique_contracts!AM26","v":2017},{"$f":"unique_contracts!AN26","v":3},{"$f":"unique_contracts!AO26","v":1},{"$f":"unique_contracts!AP26","v":2060},{"$f":"unique_contracts!AQ26","v":12},{"$f":"unique_contracts!AR26","v":31},{"$f":"unique_contracts!BP26","v":"EnergyCapacity"},-1,{"$f":"IFERROR(IF(AND(I26>0,E26=\"NotHybrid\"),_xlfn.CONCAT(MAX(MIN(ROUNDDOWN(I26/D26,0),8),4),INDEX(resources!$G:$G,MATCH(B26,resources!$A:$A,0))),INDEX(resources!$G:$G,MATCH(B26,resources!$A:$A,0))),\"n/a\")","v":"4hr_batteries"},"n/a","4hr_batteries",2017,2060,1,1,{"$f":"MIN((IFERROR(IF(AND($V26<=Z$1,$W26>=Z$1),INDEX(Reliability!E$23:E$50,MATCH($S26,Reliability!$C$23:$C$50,0)),0),0)*IF($T26=\"n/a\",$D26*$Y26,$G26)+IFERROR(IF(AND($V26<=Z$1,$W26>=Z$1),INDEX(Reliability!E$23:E$50,MATCH($T26,Reliability!$C$23:$C$50,0)),0),0)*$H26*$X26*$Y26),$D26)*$R26","v":-6.7083000000000004},{"$f":"MIN((IFERROR(IF(AND($V26<=AA$1,$W26>=AA$1),INDEX(Reliability!F$23:F$50,MATCH($S26,Reliability!$C$23:$C$50,0)),0),0)*IF($T26=\"n/a\",$D26*$Y26,$G26)+IFERROR(IF(AND($V26<=AA$1,$W26>=AA$1),INDEX(Reliability!F$23:F$50,MATCH($T26,Reliability!$C$23:$C$50,0)),0),0)*$H26*$X26*$Y26),$D26)*$R26","v":-6.8333699999999995},{"$f":"MIN((IFERROR(IF(AND($V26<=AB$1,$W26>=AB$1),INDEX(Reliability!G$23:G$50,MATCH($S26,Reliability!$C$23:$C$50,0)),0),0)*IF($T26=\"n/a\",$D26*$Y26,$G26)+IFERROR(IF(AND($V26<=AB$1,$W26>=AB$1),INDEX(Reliability!G$23:G$50,MATCH($T26,Reliability!$C$23:$C$50,0)),0),0)*$H26*$X26*$Y26),$D26)*$R26","v":-6.9584400000000004},{"$f":"MIN((IFERROR(IF(AND($V26<=AC$1,$W26>=AC$1),INDEX(Reliability!H$23:H$50,MATCH($S26,Reliability!$C$23:$C$50,0)),0),0)*IF($T26=\"n/a\",$D26*$Y26,$G26)+IFERROR(IF(AND($V26<=AC$1,$W26>=AC$1),INDEX(Reliability!H$23:H$50,MATCH($T26,Reliability!$C$23:$C$50,0)),0),0)*$H26*$X26*$Y26),$D26)*$R26","v":-6.4088900000000004},{"$f":"MIN((IFERROR(IF(AND($V26<=AD$1,$W26>=AD$1),INDEX(Reliability!I$23:I$50,MATCH($S26,Reliability!$C$23:$C$50,0)),0),0)*IF($T26=\"n/a\",$D26*$Y26,$G26)+IFERROR(IF(AND($V26<=AD$1,$W26>=AD$1),INDEX(Reliability!I$23:I$50,MATCH($T26,Reliability!$C$23:$C$50,0)),0),0)*$H26*$X26*$Y26),$D26)*$R26","v":-5.8593400000000004},{"$f":"MIN((IFERROR(IF(AND($V26<=AE$1,$W26>=AE$1),INDEX(Reliability!J$23:J$50,MATCH($S26,Reliability!$C$23:$C$50,0)),0),0)*IF($T26=\"n/a\",$D26*$Y26,$G26)+IFERROR(IF(AND($V26<=AE$1,$W26>=AE$1),INDEX(Reliability!J$23:J$50,MATCH($T26,Reliability!$C$23:$C$50,0)),0),0)*$H26*$X26*$Y26),$D26)*$R26","v":-5.7532199999999998},{"$f":"MIN((IFERROR(IF(AND($V26<=AF$1,$W26>=AF$1),INDEX(Reliability!K$23:K$50,MATCH($S26,Reliability!$C$23:$C$50,0)),0),0)*IF($T26=\"n/a\",$D26*$Y26,$G26)+IFERROR(IF(AND($V26<=AF$1,$W26>=AF$1),INDEX(Reliability!K$23:K$50,MATCH($T26,Reliability!$C$23:$C$50,0)),0),0)*$H26*$X26*$Y26),$D26)*$R26","v":-5.6471},{"$f":"MIN((IFERROR(IF(AND($V26<=AG$1,$W26>=AG$1),INDEX(Reliability!L$23:L$50,MATCH($S26,Reliability!$C$23:$C$50,0)),0),0)*IF($T26=\"n/a\",$D26*$Y26,$G26)+IFERROR(IF(AND($V26<=AG$1,$W26>=AG$1),INDEX(Reliability!L$23:L$50,MATCH($T26,Reliability!$C$23:$C$50,0)),0),0)*$H26*$X26*$Y26),$D26)*$R26","v":-5.1255959999999998},{"$f":"MIN((IFERROR(IF(AND($V26<=AH$1,$W26>=AH$1),INDEX(Reliability!M$23:M$50,MATCH($S26,Reliability!$C$23:$C$50,0)),0),0)*IF($T26=\"n/a\",$D26*$Y26,$G26)+IFERROR(IF(AND($V26<=AH$1,$W26>=AH$1),INDEX(Reliability!M$23:M$50,MATCH($T26,Reliability!$C$23:$C$50,0)),0),0)*$H26*$X26*$Y26),$D26)*$R26","v":-4.6040920000000005},{"$f":"MIN((IFERROR(IF(AND($V26<=AI$1,$W26>=AI$1),INDEX(Reliability!N$23:N$50,MATCH($S26,Reliability!$C$23:$C$50,0)),0),0)*IF($T26=\"n/a\",$D26*$Y26,$G26)+IFERROR(IF(AND($V26<=AI$1,$W26>=AI$1),INDEX(Reliability!N$23:N$50,MATCH($T26,Reliability!$C$23:$C$50,0)),0),0)*$H26*$X26*$Y26),$D26)*$R26","v":-4.0825880000000003},{"$f":"MIN((IFERROR(IF(AND($V26<=AJ$1,$W26>=AJ$1),INDEX(Reliability!O$23:O$50,MATCH($S26,Reliability!$C$23:$C$50,0)),0),0)*IF($T26=\"n/a\",$D26*$Y26,$G26)+IFERROR(IF(AND($V26<=AJ$1,$W26>=AJ$1),INDEX(Reliability!O$23:O$50,MATCH($T26,Reliability!$C$23:$C$50,0)),0),0)*$H26*$X26*$Y26),$D26)*$R26","v":-3.561084000000001},{"$f":"MIN((IFERROR(IF(AND($V26<=AK$1,$W26>=AK$1),INDEX(Reliability!P$23:P$50,MATCH($S26,Reliability!$C$23:$C$50,0)),0),0)*IF($T26=\"n/a\",$D26*$Y26,$G26)+IFERROR(IF(AND($V26<=AK$1,$W26>=AK$1),INDEX(Reliability!P$23:P$50,MATCH($T26,Reliability!$C$23:$C$50,0)),0),0)*$H26*$X26*$Y26),$D26)*$R26","v":-3.0395800000000004}]
[null,{"$f":"unique_contracts!B27","v":"ESCNDO_6_EB3BT3"},{"$f":"unique_contracts!D27","v":"Online"},{"$f":"unique_contracts!J27","v":10},{"$f":"unique_contracts!M27","v":"NotHybrid"},{"$f":"unique_contracts!N27","v":"NA"},{"$f":"unique_contracts!P27","v":0},{"$f":"unique_contracts!R27","v":0},{"$f":"unique_contracts!V27","v":40},{"$f":"unique_contracts!AB27","v":"Owned"},{"$f":"unique_contracts!AM27","v":2017},{"$f":"unique_contracts!AN27","v":3},{"$f":"unique_contracts!AO27","v":1},{"$f":"unique_contracts!AP27","v":2060},{"$f":"unique_contracts!AQ27","v":12},{"$f":"unique_contracts!AR27","v":31},{"$f":"unique_contracts!BP27","v":"EnergyCapacity"},1,{"$f":"IFERROR(IF(AND(I27>0,E27=\"NotHybrid\"),_xlfn.CONCAT(MAX(MIN(ROUNDDOWN(I27/D27,0),8),4),INDEX(resources!$G:$G,MATCH(B27,resources!$A:$A,0))),INDEX(resources!$G:$G,MATCH(B27,resources!$A:$A,0))),\"n/a\")","v":"4hr_batteries"},"n/a","4hr_batteries",2017,2060,1,1,{"$f":"MIN((IFERROR(IF(AND($V27<=Z$1,$W27>=Z$1),INDEX(Reliability!E$23:E$50,MATCH($S27,Reliability!$C$23:$C$50,0)),0),0)*IF($T27=\"n/a\",$D27*$Y27,$G27)+IFERROR(IF(AND($V27<=Z$1,$W27>=Z$1),INDEX(Reliability!E$23:E$50,MATCH($T27,Reliability!$C$23:$C$50,0)),0),0)*$H27*$X27*$Y27),$D27)*$R27","v":8.85},{"$f":"MIN((IFERROR(IF(AND($V27<=AA$1,$W27>=AA$1),INDEX(Reliability!F$23:F$50,MATCH($S27,Reliability!$C$23:$C$50,0)),0),0)*IF($T27=\"n/a\",$D27*$Y27,$G27)+IFERROR(IF(AND($V27<=AA$1,$W27>=AA$1),INDEX(Reliability!F$23:F$50,MATCH($T27,Reliability!$C$23:$C$50,0)),0),0)*$H27*$X27*$Y27),$D27)*$R27","v":9.0150000000000006},{"$f":"MIN((IFERROR(IF(AND($V27<=AB$1,$W27>=AB$1),INDEX(Reliability!G$23:G$50,MATCH($S27,Reliability!$C$23:$C$50,0)),0),0)*IF($T27=\"n/a\",$D27*$Y27,$G27)+IFERROR(IF(AND($V27<=AB$1,$W27>=AB$1),INDEX(Reliability!G$23:G$50,MATCH($T27,Reliability!$C$23:$C$50,0)),0),0)*$H27*$X27*$Y27),$D27)*$R27","v":9.18},{"$f":"MIN((IFERROR(IF(AND($V27<=AC$1,$W27>=AC$1),INDEX(Reliability!H$23:H$50,MATCH($S27,Reliability!$C$23:$C$50,0)),0),0)*IF($T27=\"n/a\",$D27*$Y27,$G27)+IFERROR(IF(AND($V27<=AC$1,$W27>=AC$1),INDEX(Reliability!H$23:H$50,MATCH($T27,Reliability!$C$23:$C$50,0)),0),0)*$H27*$X27*$Y27),$D27)*$R27","v":8.4550000000000001},{"$f":"MIN((IFERROR(IF(AND($V27<=AD$1,$W27>=AD$1),INDEX(Reliability!I$23:I$50,MATCH($S27,Reliability!$C$23:$C$50,0)),0),0)*IF($T27=\"n/a\",$D27*$Y27,$G27)+IFERROR(IF(AND($V27<=AD$1,$W27>=AD$1),INDEX(Reliability!I$23:I$50,MATCH($T27,Reliability!$C$23:$C$50,0)),0),0)*$H27*$X27*$Y27),$D27)*$R27","v":7.73},{"$f":"MIN((IFERROR(IF(AND($V27<=AE$1,$W27>=AE$1),INDEX(Reliability!J$23:J$50,MATCH($S27,Reliability!$C$23:$C$50,0)),0),0)*IF($T27=\"n/a\",$D27*$Y27,$G27)+IFERROR(IF(AND($V27<=AE$1,$W27>=AE$1),INDEX(Reliability!J$23:J$50,MATCH($T27,Reliability!$C$23:$C$50,0)),0),0)*$H27*$X27*$Y27),$D27)*$R27","v":7.59},{"$f":"MIN((IFERROR(IF(AND($V27<=AF$1,$W27>=AF$1),INDEX(Reliability!K$23:K$50,MATCH($S27,Reliability!$C$23:$C$50,0)),0),0)*IF($T27=\"n/a\",$D27*$Y27,$G27)+IFERROR(IF(AND($V27<=AF$1,$W27>=AF$1),INDEX(Reliability!K$23:K$50,MATCH($T27,Reliability!$C$23:$C$50,0)),0),0)*$H27*$X27*$Y27),$D27)*$R27","v":7.45},{"$f":"MIN((IFERROR(IF(AND($V27<=AG$1,$W27>=AG$1),INDEX(Reliability!L$23:L$50,MATCH($S27,Reliability!$C$23:$C$50,0)),0),0)*IF($T27=\"n/a\",$D27*$Y27,$G27)+IFERROR(IF(AND($V27<=AG$1,$W27>=AG$1),INDEX(Reliability!L$23:L$50,MATCH($T27,Reliability!$C$23:$C$50,0)),0),0)*$H27*$X27*$Y27),$D27)*$R27","v":6.7620000000000005},{"$f":"MIN((IFERROR(IF(AND($V27<=AH$1,$W27>=AH$1),INDEX(Reliability!M$23:M$50,MATCH($S27,Reliability!$C$23:$C$50,0)),0),0)*IF($T27=\"n/a\",$D27*$Y27,$G27)+IFERROR(IF(AND($V27<=AH$1,$W27>=AH$1),INDEX(Reliability!M$23:M$50,MATCH($T27,Reliability!$C$23:$C$50,0)),0),0)*$H27*$X27*$Y27),$D27)*$R27","v":6.0740000000000007},{"$f":"MIN((IFERROR(IF(AND($V27<=AI$1,$W27>=AI$1),INDEX(Reliability!N$23:N$50,MATCH($S27,Reliability!$C$23:$C$50,0)),0),0)*IF($T27=\"n/a\",$D27*$Y27,$G27)+IFERROR(IF(AND($V27<=AI$1,$W27>=AI$1),INDEX(Reliability!N$23:N$50,MATCH($T27,Reliability!$C$23:$C$50,0)),0),0)*$H27*$X27*$Y27),$D27)*$R27","v":5.386000000000001},{"$f":"MIN((IFERROR(IF(AND($V27<=AJ$1,$W27>=AJ$1),INDEX(Reliability!O$23:O$50,MATCH($S27,Reliability!$C$23:$C$50,0)),0),0)*IF($T27=\"n/a\",$D27*$Y27,$G27)+IFERROR(IF(AND($V27<=AJ$1,$W27>=AJ$1),INDEX(Reliability!O$23:O$50,MATCH($T27,Reliability!$C$23:$C$50,0)),0),0)*$H27*$X27*$Y27),$D27)*$R27","v":4.6980000000000013},{"$f":"MIN((IFERROR(IF(AND($V27<=AK$1,$W27>=AK$1),INDEX(Reliability!P$23:P$50,MATCH($S27,Reliability!$C$23:$C$50,0)),0),0)*IF($T27=\"n/a\",$D27*$Y27,$G27)+IFERROR(IF(AND($V27<=AK$1,$W27>=AK$1),INDEX(Reliability!P$23:P$50,MATCH($T27,Reliability!$C$23:$C$50,0)),0),0)*$H27*$X27*$Y27),$D27)*$R27","v":4.01}]
[null,{"$f":"unique_contracts!B28","v":"_EXISTING_GENERIC_BATTERY_STORAGE"},{"$f":"unique_contracts!D28","v":"Online"},{"$f":"unique_contracts!J28","v":7.58},{"$f":"unique_contracts!M28","v":"NotHybrid"},{"$f":"unique_contracts!N28","v":"NA"},{"$f":"unique_contracts!P28","v":0},{"$f":"unique_contracts!R28","v":0},{"$f":"unique_contracts!V28","v":30.32},{"$f":"unique_contracts!AB28","v":"sell"},{"$f":"unique_contracts!AM28","v":2017},{"$f":"unique_contracts!AN28","v":3},{"$f":"unique_contracts!AO28","v":1},{"$f":"unique_contracts!AP28","v":2060},{"$f":"unique_contracts!AQ28","v":12},{"$f":"unique_contracts!AR28","v":31},{"$f":"unique_contracts!BP28","v":"EnergyCapacity"},-1,{"$f":"IFERROR(IF(AND(I28>0,E28=\"NotHybrid\"),_xlfn.CONCAT(MAX(MIN(ROUNDDOWN(I28/D28,0),8),4),INDEX(resources!$G:$G,MATCH(B28,resources!$A:$A,0))),INDEX(resources!$G:$G,MATCH(B28,resources!$A:$A,0))),\"n/a\")","v":"4hr_batteries"},"n/a","4hr_batteries",2017,2060,1,1,{"$f":"MIN((IFERROR(IF(AND($V28<=Z$1,$W28>=Z$1),INDEX(Reliability!E$23:E$50,MATCH($S28,Reliability!$C$23:$C$50,0)),0),0)*IF($T28=\"n/a\",$D28*$Y28,$G28)+IFERROR(IF(AND($V28<=Z$1,$W28>=Z$1),INDEX(Reliability!E$23:E$50,MATCH($T28,Reliability!$C$23:$C$50,0)),0),0)*$H28*$X28*$Y28),$D28)*$R28","v":-6.7083000000000004},{"$f":"MIN((IFERROR(IF(AND($V28<=AA$1,$W28>=AA$1),INDEX(Reliability!F$23:F$50,MATCH($S28,Reliability!$C$23:$C$50,0)),0),0)*IF($T28=\"n/a\",$D28*$Y28,$G28)+IFERROR(IF(AND($V28<=AA$1,$W28>=AA$1),INDEX(Reliability!F$23:F$50,MATCH($T28,Reliability!$C$23:$C$50,0)),0),0)*$H28*$X28*$Y28),$D28)*$R28","v":-6.8333699999999995},{"$f":"MIN((IFERROR(IF(AND($V28<=AB$1,$W28>=AB$1),INDEX(Reliability!G$23:G$50,MATCH($S28,Reliability!$C$23:$C$50,0)),0),0)*IF($T28=\"n/a\",$D28*$Y28,$G28)+IFERROR(IF(AND($V28<=AB$1,$W28>=AB$1),INDEX(Reliability!G$23:G$50,MATCH($T28,Reliability!$C$23:$C$50,0)),0),0)*$H28*$X28*$Y28),$D28)*$R28","v":-6.9584400000000004},{"$f":"MIN((IFERROR(IF(AND($V28<=AC$1,$W28>=AC$1),INDEX(Reliability!H$23:H$50,MATCH($S28,Reliability!$C$23:$C$50,0)),0),0)*IF($T28=\"n/a\",$D28*$Y28,$G28)+IFERROR(IF(AND($V28<=AC$1,$W28>=AC$1),INDEX(Reliability!H$23:H$50,MATCH($T28,Reliability!$C$23:$C$50,0)),0),0)*$H28*$X28*$Y28),$D28)*$R28","v":-6.4088900000000004},{"$f":"MIN((IFERROR(IF(AND($V28<=AD$1,$W28>=AD$1),INDEX(Reliability!I$23:I$50,MATCH($S28,Reliability!$C$23:$C$50,0)),0),0)*IF($T28=\"n/a\",$D28*$Y28,$G28)+IFERROR(IF(AND($V28<=AD$1,$W28>=AD$1),INDEX(Reliability!I$23:I$50,MATCH($T28,Reliability!$C$23:$C$50,0)),0),0)*$H28*$X28*$Y28),$D28)*$R28","v":-5.8593400000000004},{"$f":"MIN((IFERROR(IF(AND($V28<=AE$1,$W28>=AE$1),INDEX(Reliability!J$23:J$50,MATCH($S28,Reliability!$C$23:$C$50,0)),0),0)*IF($T28=\"n/a\",$D28*$Y28,$G28)+IFERROR(IF(AND($V28<=AE$1,$W28>=AE$1),INDEX(Reliability!J$23:J$50,MATCH($T28,Reliability!$C$23:$C$50,0)),0),0)*$H28*$X28*$Y28),$D28)*$R28","v":-5.7532199999999998},{"$f":"MIN((IFERROR(IF(AND($V28<=AF$1,$W28>=AF$1),INDEX(Reliability!K$23:K$50,MATCH($S28,Reliability!$C$23:$C$50,0)),0),0)*IF($T28=\"n/a\",$D28*$Y28,$G28)+IFERROR(IF(AND($V28<=AF$1,$W28>=AF$1),INDEX(Reliability!K$23:K$50,MATCH($T28,Reliability!$C$23:$C$50,0)),0),0)*$H28*$X28*$Y28),$D28)*$R28","v":-5.6471},{"$f":"MIN((IFERROR(IF(AND($V28<=AG$1,$W28>=AG$1),INDEX(Reliability!L$23:L$50,MATCH($S28,Reliability!$C$23:$C$50,0)),0),0)*IF($T28=\"n/a\",$D28*$Y28,$G28)+IFERROR(IF(AND($V28<=AG$1,$W28>=AG$1),INDEX(Reliability!L$23:L$50,MATCH($T28,Reliability!$C$23:$C$50,0)),0),0)*$H28*$X28*$Y28),$D28)*$R28","v":-5.1255959999999998},{"$f":"MIN((IFERROR(IF(AND($V28<=AH$1,$W28>=AH$1),INDEX(Reliability!M$23:M$50,MATCH($S28,Reliability!$C$23:$C$50,0)),0),0)*IF($T28=\"n/a\",$D28*$Y28,$G28)+IFERROR(IF(AND($V28<=AH$1,$W28>=AH$1),INDEX(Reliability!M$23:M$50,MATCH($T28,Reliability!$C$23:$C$50,0)),0),0)*$H28*$X28*$Y28),$D28)*$R28","v":-4.6040920000000005},{"$f":"MIN((IFERROR(IF(AND($V28<=AI$1,$W28>=AI$1),INDEX(Reliability!N$23:N$50,MATCH($S28,Reliability!$C$23:$C$50,0)),0),0)*IF($T28=\"n/a\",$D28*$Y28,$G28)+IFERROR(IF(AND($V28<=AI$1,$W28>=AI$1),INDEX(Reliability!N$23:N$50,MATCH($T28,Reliability!$C$23:$C$50,0)),0),0)*$H28*$X28*$Y28),$D28)*$R28","v":-4.0825880000000003},{"$f":"MIN((IFERROR(IF(AND($V28<=AJ$1,$W28>=AJ$1),INDEX(Reliability!O$23:O$50,MATCH($S28,Reliability!$C$23:$C$50,0)),0),0)*IF($T28=\"n/a\",$D28*$Y28,$G28)+IFERROR(IF(AND($V28<=AJ$1,$W28>=AJ$1),INDEX(Reliability!O$23:O$50,MATCH($T28,Reliability!$C$23:$C$50,0)),0),0)*$H28*$X28*$Y28),$D28)*$R28","v":-3.561084000000001},{"$f":"MIN((IFERROR(IF(AND($V28<=AK$1,$W28>=AK$1),INDEX(Reliability!P$23:P$50,MATCH($S28,Reliability!$C$23:$C$50,0)),0),0)*IF($T28=\"n/a\",$D28*$Y28,$G28)+IFERROR(IF(AND($V28<=AK$1,$W28>=AK$1),INDEX(Reliability!P$23:P$50,MATCH($T28,Reliability!$C$23:$C$50,0)),0),0)*$H28*$X28*$Y28),$D28)*$R28","v":-3.0395800000000004}]
[null,{"$f":"unique_contracts!B29","v":"FALLBROOKSTORAGE"},{"$f":"unique_contracts!D29","v":"Development"},{"$f":"unique_contracts!J29","v":40},{"$f":"unique_contracts!M29","v":"NotHybrid"},{"$f":"unique_contracts!N29","v":"NA"},{"$f":"unique_contracts!P29","v":0},{"$f":"unique_contracts!R29","v":0},{"$f":"unique_contracts!V29","v":160},{"$f":"unique_contracts!AB29","v":"Owned"},{"$f":"unique_contracts!AM29","v":0},{"$f":"unique_contracts!AN29","v":0},{"$f":"unique_contracts!AO29","v":0},{"$f":"unique_contracts!AP29","v":2060},{"$f":"unique_contracts!AQ29","v":12},{"$f":"unique_contracts!AR29","v":31},{"$f":"unique_contracts!BP29","v":"EnergyCapacity"},1,{"$f":"IFERROR(IF(AND(I29>0,E29=\"NotHybrid\"),_xlfn.CONCAT(MAX(MIN(ROUNDDOWN(I29/D29,0),8),4),INDEX(resources!$G:$G,MATCH(B29,resources!$A:$A,0))),INDEX(resources!$G:$G,MATCH(B29,resources!$A:$A,0))),\"n/a\")","v":"4hr_batteries"},"n/a","4hr_batteries",0,2060,1,1,{"$f":"MIN((IFERROR(IF(AND($V29<=Z$1,$W29>=Z$1),INDEX(Reliability!E$23:E$50,MATCH($S29,Reliability!$C$23:$C$50,0)),0),0)*IF($T29=\"n/a\",$D29*$Y29,$G29)+IFERROR(IF(AND($V29<=Z$1,$W29>=Z$1),INDEX(Reliability!E$23:E$50,MATCH($T29,Reliability!$C$23:$C$50,0)),0),0)*$H29*$X29*$Y29),$D29)*$R29","v":35.4},{"$f":"MIN((IFERROR(IF(AND($V29<=AA$1,$W29>=AA$1),INDEX(Reliability!F$23:F$50,MATCH($S29,Reliability!$C$23:$C$50,0)),0),0)*IF($T29=\"n/a\",$D29*$Y29,$G29)+IFERROR(IF(AND($V29<=AA$1,$W29>=AA$1),INDEX(Reliability!F$23:F$50,MATCH($T29,Reliability!$C$23:$C$50,0)),0),0)*$H29*$X29*$Y29),$D29)*$R29","v":36.06},{"$f":"MIN((IFERROR(IF(AND($V29<=AB$1,$W29>=AB$1),INDEX(Reliability!G$23:G$50,MATCH($S29,Reliability!$C$23:$C$50,0)),0),0)*IF($T29=\"n/a\",$D29*$Y29,$G29)+IFERROR(IF(AND($V29<=AB$1,$W29>=AB$1),INDEX(Reliability!G$23:G$50,MATCH($T29,Reliability!$C$23:$C$50,0)),0),0)*$H29*$X29*$Y29),$D29)*$R29","v":36.72},{"$f":"MIN((IFERROR(IF(AND($V29<=AC$1,$W29>=AC$1),INDEX(Reliability!H$23:H$50,MATCH($S29,Reliability!$C$23:$C$50,0)),0),0)*IF($T29=\"n/a\",$D29*$Y29,$G29)+IFERROR(IF(AND($V29<=AC$1,$W29>=AC$1),INDEX(Reliability!H$23:H$50,MATCH($T29,Reliability!$C$23:$C$50,0)),0),0)*$H29*$X29*$Y29),$D29)*$R29","v":33.82},{"$f":"MIN((IFERROR(IF(AND($V29<=AD$1,$W29>=AD$1),INDEX(Reliability!I$23:I$50,MATCH($S29,Reliability!$C$23:$C$50,0)),0),0)*IF($T29=\"n/a\",$D29*$Y29,$G29)+IFERROR(IF(AND($V29<=AD$1,$W29>=AD$1),INDEX(Reliability!I$23:I$50,MATCH($T29,Reliability!$C$23:$C$50,0)),0),0)*$H29*$X29*$Y29),$D29)*$R29","v":30.92},{"$f":"MIN((IFERROR(IF(AND($V29<=AE$1,$W29>=AE$1),INDEX(Reliability!J$23:J$50,MATCH($S29,Reliability!$C$23:$C$50,0)),0),0)*IF($T29=\"n/a\",$D29*$Y29,$G29)+IFERROR(IF(AND($V29<=AE$1,$W29>=AE$1),INDEX(Reliability!J$23:J$50,MATCH($T29,Reliability!$C$23:$C$50,0)),0),0)*$H29*$X29*$Y29),$D29)*$R29","v":30.36},{"$f":"MIN((IFERROR(IF(AND($V29<=AF$1,$W29>=AF$1),INDEX(Reliability!K$23:K$50,MATCH($S29,Reliability!$C$23:$C$50,0)),0),0)*IF($T29=\"n/a\",$D29*$Y29,$G29)+IFERROR(IF(AND($V29<=AF$1,$W29>=AF$1),INDEX(Reliability!K$23:K$50,MATCH($T29,Reliability!$C$23:$C$50,0)),0),0)*$H29*$X29*$Y29),$D29)*$R29","v":29.8},{"$f":"MIN((IFERROR(IF(AND($V29<=AG$1,$W29>=AG$1),INDEX(Reliability!L$23:L$50,MATCH($S29,Reliability!$C$23:$C$50,0)),0),0)*IF($T29=\"n/a\",$D29*$Y29,$G29)+IFERROR(IF(AND($V29<=AG$1,$W29>=AG$1),INDEX(Reliability!L$23:L$50,MATCH($T29,Reliability!$C$23:$C$50,0)),0),0)*$H29*$X29*$Y29),$D29)*$R29","v":27.048000000000002},{"$f":"MIN((IFERROR(IF(AND($V29<=AH$1,$W29>=AH$1),INDEX(Reliability!M$23:M$50,MATCH($S29,Reliability!$C$23:$C$50,0)),0),0)*IF($T29=\"n/a\",$D29*$Y29,$G29)+IFERROR(IF(AND($V29<=AH$1,$W29>=AH$1),INDEX(Reliability!M$23:M$50,MATCH($T29,Reliability!$C$23:$C$50,0)),0),0)*$H29*$X29*$Y29),$D29)*$R29","v":24.296000000000003},{"$f":"MIN((IFERROR(IF(AND($V29<=AI$1,$W29>=AI$1),INDEX(Reliability!N$23:N$50,MATCH($S29,Reliability!$C$23:$C$50,0)),0),0)*IF($T29=\"n/a\",$D29*$Y29,$G29)+IFERROR(IF(AND($V29<=AI$1,$W29>=AI$1),INDEX(Reliability!N$23:N$50,MATCH($T29,Reliability!$C$23:$C$50,0)),0),0)*$H29*$X29*$Y29),$D29)*$R29","v":21.544000000000004},{"$f":"MIN((IFERROR(IF(AND($V29<=AJ$1,$W29>=AJ$1),INDEX(Reliability!O$23:O$50,MATCH($S29,Reliability!$C$23:$C$50,0)),0),0)*IF($T29=\"n/a\",$D29*$Y29,$G29)+IFERROR(IF(AND($V29<=AJ$1,$W29>=AJ$1),INDEX(Reliability!O$23:O$50,MATCH($T29,Reliability!$C$23:$C$50,0)),0),0)*$H29*$X29*$Y29),$D29)*$R29","v":18.792000000000005},{"$f":"MIN((IFERROR(IF(AND($V29<=AK$1,$W29>=AK$1),INDEX(Reliability!P$23:P$50,MATCH($S29,Reliability!$C$23:$C$50,0)),0),0)*IF($T29=\"n/a\",$D29*$Y29,$G29)+IFERROR(IF(AND($V29<=AK$1,$W29>=AK$1),INDEX(Reliability!P$23:P$50,MATCH($T29,Reliability!$C$23:$C$50,0)),0),0)*$H29*$X29*$Y29),$D29)*$R29","v":16.04}]
[null,{"$f":"unique_contracts!B30","v":"FALLBROOKSTORAGE"},{"$f":"unique_contracts!D30","v":"Development"},{"$f":"unique_contracts!J30","v":30.32},{"$f":"unique_contracts!M30","v":"NotHybrid"},{"$f":"unique_contracts!N30","v":"NA"},{"$f":"unique_contracts!P30","v":0},{"$f":"unique_contracts!R30","v":0},{"$f":"unique_contracts!V30","v":121.28},{"$f":"unique_contracts!AB30","v":"sell"},{"$f":"unique_contracts!AM30","v":0},{"$f":"unique_contracts!AN30","v":0},{"$f":"unique_contracts!AO30","v":0},{"$f":"unique_contracts!AP30","v":2060},{"$f":"unique_contracts!AQ30","v":12},{"$f":"unique_contracts!AR30","v":31},{"$f":"unique_contracts!BP30","v":"EnergyCapacity"},-1,{"$f":"IFERROR(IF(AND(I30>0,E30=\"NotHybrid\"),_xlfn.CONCAT(MAX(MIN(ROUNDDOWN(I30/D30,0),8),4),INDEX(resources!$G:$G,MATCH(B30,resources!$A:$A,0))),INDEX(resources!$G:$G,MATCH(B30,resources!$A:$A,0))),\"n/a\")","v":"4hr_batteries"},"n/a","4hr_batteries",0,2060,1,1,{"$f":"MIN((IFERROR(IF(AND($V30<=Z$1,$W30>=Z$1),INDEX(Reliability!E$23:E$50,MATCH($S30,Reliability!$C$23:$C$50,0)),0),0)*IF($T30=\"n/a\",$D30*$Y30,$G30)+IFERROR(IF(AND($V30<=Z$1,$W30>=Z$1),INDEX(Reliability!E$23:E$50,MATCH($T30,Reliability!$C$23:$C$50,0)),0),0)*$H30*$X30*$Y30),$D30)*$R30","v":-26.833200000000001},{"$f":"MIN((IFERROR(IF(AND($V30<=AA$1,$W30>=AA$1),INDEX(Reliability!F$23:F$50,MATCH($S30,Reliability!$C$23:$C$50,0)),0),0)*IF($T30=\"n/a\",$D30*$Y30,$G30)+IFERROR(IF(AND($V30<=AA$1,$W30>=AA$1),INDEX(Reliability!F$23:F$50,MATCH($T30,Reliability!$C$23:$C$50,0)),0),0)*$H30*$X30*$Y30),$D30)*$R30","v":-27.333479999999998},{"$f":"MIN((IFERROR(IF(AND($V30<=AB$1,$W30>=AB$1),INDEX(Reliability!G$23:G$50,MATCH($S30,Reliability!$C$23:$C$50,0)),0),0)*IF($T30=\"n/a\",$D30*$Y30,$G30)+IFERROR(IF(AND($V30<=AB$1,$W30>=AB$1),INDEX(Reliability!G$23:G$50,MATCH($T30,Reliability!$C$23:$C$50,0)),0),0)*$H30*$X30*$Y30),$D30)*$R30","v":-27.833760000000002},{"$f":"MIN((IFERROR(IF(AND($V30<=AC$1,$W30>=AC$1),INDEX(Reliability!H$23:H$50,MATCH($S30,Reliability!$C$23:$C$50,0)),0),0)*IF($T30=\"n/a\",$D30*$Y30,$G30)+IFERROR(IF(AND($V30<=AC$1,$W30>=AC$1),INDEX(Reliability!H$23:H$50,MATCH($T30,Reliability!$C$23:$C$50,0)),0),0)*$H30*$X30*$Y30),$D30)*$R30","v":-25.635560000000002},{"$f":"MIN((IFERROR(IF(AND($V30<=AD$1,$W30>=AD$1),INDEX(Reliability!I$23:I$50,MATCH($S30,Reliability!$C$23:$C$50,0)),0),0)*IF($T30=\"n/a\",$D30*$Y30,$G30)+IFERROR(IF(AND($V30<=AD$1,$W30>=AD$1),INDEX(Reliability!I$23:I$50,MATCH($T30,Reliability!$C$23:$C$50,0)),0),0)*$H30*$X30*$Y30),$D30)*$R30","v":-23.437360000000002},{"$f":"MIN((IFERROR(IF(AND($V30<=AE$1,$W30>=AE$1),INDEX(Reliability!J$23:J$50,MATCH($S30,Reliability!$C$23:$C$50,0)),0),0)*IF($T30=\"n/a\",$D30*$Y30,$G30)+IFERROR(IF(AND($V30<=AE$1,$W30>=AE$1),INDEX(Reliability!J$23:J$50,MATCH($T30,Reliability!$C$23:$C$50,0)),0),0)*$H30*$X30*$Y30),$D30)*$R30","v":-23.012879999999999},{"$f":"MIN((IFERROR(IF(AND($V30<=AF$1,$W30>=AF$1),INDEX(Reliability!K$23:K$50,MATCH($S30,Reliability!$C$23:$C$50,0)),0),0)*IF($T30=\"n/a\",$D30*$Y30,$G30)+IFERROR(IF(AND($V30<=AF$1,$W30>=AF$1),INDEX(Reliability!K$23:K$50,MATCH($T30,Reliability!$C$23:$C$50,0)),0),0)*$H30*$X30*$Y30),$D30)*$R30","v":-22.5884},{"$f":"MIN((IFERROR(IF(AND($V30<=AG$1,$W30>=AG$1),INDEX(Reliability!L$23:L$50,MATCH($S30,Reliability!$C$23:$C$50,0)),0),0)*IF($T30=\"n/a\",$D30*$Y30,$G30)+IFERROR(IF(AND($V30<=AG$1,$W30>=AG$1),INDEX(Reliability!L$23:L$50,MATCH($T30,Reliability!$C$23:$C$50,0)),0),0)*$H30*$X30*$Y30),$D30)*$R30","v":-20.502383999999999},{"$f":"MIN((IFERROR(IF(AND($V30<=AH$1,$W30>=AH$1),INDEX(Reliability!M$23:M$50,MATCH($S30,Reliability!$C$23:$C$50,0)),0),0)*IF($T30=\"n/a\",$D30*$Y30,$G30)+IFERROR(IF(AND($V30<=AH$1,$W30>=AH$1),INDEX(Reliability!M$23:M$50,MATCH($T30,Reliability!$C$23:$C$50,0)),0),0)*$H30*$X30*$Y30),$D30)*$R30","v":-18.416368000000002},{"$f":"MIN((IFERROR(IF(AND($V30<=AI$1,$W30>=AI$1),INDEX(Reliability!N$23:N$50,MATCH($S30,Reliability!$C$23:$C$50,0)),0),0)*IF($T30=\"n/a\",$D30*$Y30,$G30)+IFERROR(IF(AND($V30<=AI$1,$W30>=AI$1),INDEX(Reliability!N$23:N$50,MATCH($T30,Reliability!$C$23:$C$50,0)),0),0)*$H30*$X30*$Y30),$D30)*$R30","v":-16.330352000000001},{"$f":"MIN((IFERROR(IF(AND($V30<=AJ$1,$W30>=AJ$1),INDEX(Reliability!O$23:O$50,MATCH($S30,Reliability!$C$23:$C$50,0)),0),0)*IF($T30=\"n/a\",$D30*$Y30,$G30)+IFERROR(IF(AND($V30<=AJ$1,$W30>=AJ$1),INDEX(Reliability!O$23:O$50,MATCH($T30,Reliability!$C$23:$C$50,0)),0),0)*$H30*$X30*$Y30),$D30)*$R30","v":-14.244336000000004},{"$f":"MIN((IFERROR(IF(AND($V30<=AK$1,$W30>=AK$1),INDEX(Reliability!P$23:P$50,MATCH($S30,Reliability!$C$23:$C$50,0)),0),0)*IF($T30=\"n/a\",$D30*$Y30,$G30)+IFERROR(IF(AND($V30<=AK$1,$W30>=AK$1),INDEX(Reliability!P$23:P$50,MATCH($T30,Reliability!$C$23:$C$50,0)),0),0)*$H30*$X30*$Y30),$D30)*$R30","v":-12.158320000000002}]
[null,{"$f":"unique_contracts!B31","v":"GATEWY_2_GESBT1"},{"$f":"unique_contracts!D31","v":"Online"},{"$f":"unique_contracts!J31","v":10},{"$f":"unique_contracts!M31","v":"NotHybrid"},{"$f":"unique_contracts!N31","v":"NA"},{"$f":"unique_contracts!P31","v":0},{"$f":"unique_contracts!R31","v":0},{"$f":"unique_contracts!V31","v":40},{"$f":"unique_contracts!AB31","v":0},{"$f":"unique_contracts!AM31","v":2022},{"$f":"unique_contracts!AN31","v":9},{"$f":"unique_contracts!AO31","v":1},{"$f":"unique_contracts!AP31","v":2036},{"$f":"unique_contracts!AQ31","v":8},{"$f":"unique_contracts!AR31","v":31},{"$f":"unique_contracts!BP31","v":"CapacityOnly"},1,{"$f":"IFERROR(IF(AND(I31>0,E31=\"NotHybrid\"),_xlfn.CONCAT(MAX(MIN(ROUNDDOWN(I31/D31,0),8),4),INDEX(resources!$G:$G,MATCH(B31,resources!$A:$A,0))),INDEX(resources!$G:$G,MATCH(B31,resources!$A:$A,0))),\"n/a\")","v":"4hr_batteries"},"n/a","4hr_batteries",2023,2035,1,1,{"$f":"MIN((IFERROR(IF(AND($V31<=Z$1,$W31>=Z$1),INDEX(Reliability!E$23:E$50,MATCH($S31,Reliability!$C$23:$C$50,0)),0),0)*IF($T31=\"n/a\",$D31*$Y31,$G31)+IFERROR(IF(AND($V31<=Z$1,$W31>=Z$1),INDEX(Reliability!E$23:E$50,MATCH($T31,Reliability!$C$23:$C$50,0)),0),0)*$H31*$X31*$Y31),$D31)*$R31","v":8.85},{"$f":"MIN((IFERROR(IF(AND($V31<=AA$1,$W31>=AA$1),INDEX(Reliability!F$23:F$50,MATCH($S31,Reliability!$C$23:$C$50,0)),0),0)*IF($T31=\"n/a\",$D31*$Y31,$G31)+IFERROR(IF(AND($V31<=AA$1,$W31>=AA$1),INDEX(Reliability!F$23:F$50,MATCH($T31,Reliability!$C$23:$C$50,0)),0),0)*$H31*$X31*$Y31),$D31)*$R31","v":9.0150000000000006},{"$f":"MIN((IFERROR(IF(AND($V31<=AB$1,$W31>=AB$1),INDEX(Reliability!G$23:G$50,MATCH($S31,Reliability!$C$23:$C$50,0)),0),0)*IF($T31=\"n/a\",$D31*$Y31,$G31)+IFERROR(IF(AND($V31<=AB$1,$W31>=AB$1),INDEX(Reliability!G$23:G$50,MATCH($T31,Reliability!$C$23:$C$50,0)),0),0)*$H31*$X31*$Y31),$D31)*$R31","v":9.18},{"$f":"MIN((IFERROR(IF(AND($V31<=AC$1,$W31>=AC$1),INDEX(Reliability!H$23:H$50,MATCH($S31,Reliability!$C$23:$C$50,0)),0),0)*IF($T31=\"n/a\",$D31*$Y31,$G31)+IFERROR(IF(AND($V31<=AC$1,$W31>=AC$1),INDEX(Reliability!H$23:H$50,MATCH($T31,Reliability!$C$23:$C$50,0)),0),0)*$H31*$X31*$Y31),$D31)*$R31","v":8.4550000000000001},{"$f":"MIN((IFERROR(IF(AND($V31<=AD$1,$W31>=AD$1),INDEX(Reliability!I$23:I$50,MATCH($S31,Reliability!$C$23:$C$50,0)),0),0)*IF($T31=\"n/a\",$D31*$Y31,$G31)+IFERROR(IF(AND($V31<=AD$1,$W31>=AD$1),INDEX(Reliability!I$23:I$50,MATCH($T31,Reliability!$C$23:$C$50,0)),0),0)*$H31*$X31*$Y31),$D31)*$R31","v":7.73},{"$f":"MIN((IFERROR(IF(AND($V31<=AE$1,$W31>=AE$1),INDEX(Reliability!J$23:J$50,MATCH($S31,Reliability!$C$23:$C$50,0)),0),0)*IF($T31=\"n/a\",$D31*$Y31,$G31)+IFERROR(IF(AND($V31<=AE$1,$W31>=AE$1),INDEX(Reliability!J$23:J$50,MATCH($T31,Reliability!$C$23:$C$50,0)),0),0)*$H31*$X31*$Y31),$D31)*$R31","v":7.59},{"$f":"MIN((IFERROR(IF(AND($V31<=AF$1,$W31>=AF$1),INDEX(Reliability!K$23:K$50,MATCH($S31,Reliability!$C$23:$C$50,0)),0),0)*IF($T31=\"n/a\",$D31*$Y31,$G31)+IFERROR(IF(AND($V31<=AF$1,$W31>=AF$1),INDEX(Reliability!K$23:K$50,MATCH($T31,Reliability!$C$23:$C$50,0)),0),0)*$H31*$X31*$Y31),$D31)*$R31","v":7.45},{"$f":"MIN((IFERROR(IF(AND($V31<=AG$1,$W31>=AG$1),INDEX(Reliability!L$23:L$50,MATCH($S31,Reliability!$C$23:$C$50,0)),0),0)*IF($T31=\"n/a\",$D31*$Y31,$G31)+IFERROR(IF(AND($V31<=AG$1,$W31>=AG$1),INDEX(Reliability!L$23:L$50,MATCH($T31,Reliability!$C$23:$C$50,0)),0),0)*$H31*$X31*$Y31),$D31)*$R31","v":6.7620000000000005},{"$f":"MIN((IFERROR(IF(AND($V31<=AH$1,$W31>=AH$1),INDEX(Reliability!M$23:M$50,MATCH($S31,Reliability!$C$23:$C$50,0)),0),0)*IF($T31=\"n/a\",$D31*$Y31,$G31)+IFERROR(IF(AND($V31<=AH$1,$W31>=AH$1),INDEX(Reliability!M$23:M$50,MATCH($T31,Reliability!$C$23:$C$50,0)),0),0)*$H31*$X31*$Y31),$D31)*$R31","v":6.0740000000000007},{"$f":"MIN((IFERROR(IF(AND($V31<=AI$1,$W31>=AI$1),INDEX(Reliability!N$23:N$50,MATCH($S31,Reliability!$C$23:$C$50,0)),0),0)*IF($T31=\"n/a\",$D31*$Y31,$G31)+IFERROR(IF(AND($V31<=AI$1,$W31>=AI$1),INDEX(Reliability!N$23:N$50,MATCH($T31,Reliability!$C$23:$C$50,0)),0),0)*$H31*$X31*$Y31),$D31)*$R31","v":5.386000000000001},{"$f":"MIN((IFERROR(IF(AND($V31<=AJ$1,$W31>=AJ$1),INDEX(Reliability!O$23:O$50,MATCH($S31,Reliability!$C$23:$C$50,0)),0),0)*IF($T31=\"n/a\",$D31*$Y31,$G31)+IFERROR(IF(AND($V31<=AJ$1,$W31>=AJ$1),INDEX(Reliability!O$23:O$50,MATCH($T31,Reliability!$C$23:$C$50,0)),0),0)*$H31*$X31*$Y31),$D31)*$R31","v":4.6980000000000013},{"$f":"MIN((IFERROR(IF(AND($V31<=AK$1,$W31>=AK$1),INDEX(Reliability!P$23:P$50,MATCH($S31,Reliability!$C$23:$C$50,0)),0),0)*IF($T31=\"n/a\",$D31*$Y31,$G31)+IFERROR(IF(AND($V31<=AK$1,$W31>=AK$1),INDEX(Reliability!P$23:P$50,MATCH($T31,Reliability!$C$23:$C$50,0)),0),0)*$H31*$X31*$Y31),$D31)*$R31","v":4.01}]
[null,{"$f":"unique_contracts!B32","v":"_EXISTING_GENERIC_BATTERY_STORAGE"},{"$f":"unique_contracts!D32","v":"Online"},{"$f":"unique_contracts!J32","v":4.0220000000000002},{"$f":"unique_contracts!M32","v":"NotHybrid"},{"$f":"unique_contracts!N32","v":"NA"},{"$f":"unique_contracts!P32","v":0},{"$f":"unique_contracts!R32","v":0},{"$f":"unique_contracts!V32","v":0},{"$f":"unique_contracts!AB32","v":"sell"},{"$f":"unique_contracts!AM32","v":2022},{"$f":"unique_contracts!AN32","v":9},{"$f":"unique_contracts!AO32","v":1},{"$f":"unique_contracts!AP32","v":2036},{"$f":"unique_contracts!AQ32","v":8},{"$f":"unique_contracts!AR32","v":31},{"$f":"unique_contracts!BP32","v":"CapacityOnly"},-1,{"$f":"IFERROR(IF(AND(I32>0,E32=\"NotHybrid\"),_xlfn.CONCAT(MAX(MIN(ROUNDDOWN(I32/D32,0),8),4),INDEX(resources!$G:$G,MATCH(B32,resources!$A:$A,0))),INDEX(resources!$G:$G,MATCH(B32,resources!$A:$A,0))),\"n/a\")","v":"hr_batteries"},"n/a","hr_batteries",2023,2035,1,0,{"$f":"MIN((IFERROR(IF(AND($V32<=Z$1,$W32>=Z$1),INDEX(Reliability!E$23:E$50,MATCH($S32,Reliability!$C$23:$C$50,0)),0),0)*IF($T32=\"n/a\",$D32*$Y32,$G32)+IFERROR(IF(AND($V32<=Z$1,$W32>=Z$1),INDEX(Reliability!E$23:E$50,MATCH($T32,Reliability!$C$23:$C$50,0)),0),0)*$H32*$X32*$Y32),$D32)*$R32","v":0},{"$f":"MIN((IFERROR(IF(AND($V32<=AA$1,$W32>=AA$1),INDEX(Reliability!F$23:F$50,MATCH($S32,Reliability!$C$23:$C$50,0)),0),0)*IF($T32=\"n/a\",$D32*$Y32,$G32)+IFERROR(IF(AND($V32<=AA$1,$W32>=AA$1),INDEX(Reliability!F$23:F$50,MATCH($T32,Reliability!$C$23:$C$50,0)),0),0)*$H32*$X32*$Y32),$D32)*$R32","v":0},{"$f":"MIN((IFERROR(IF(AND($V32<=AB$1,$W32>=AB$1),INDEX(Reliability!G$23:G$50,MATCH($S32,Reliability!$C$23:$C$50,0)),0),0)*IF($T32=\"n/a\",$D32*$Y32,$G32)+IFERROR(IF(AND($V32<=AB$1,$W32>=AB$1),INDEX(Reliability!G$23:G$50,MATCH($T32,Reliability!$C$23:$C$50,0)),0),0)*$H32*$X32*$Y32),$D32)*$R32","v":0},{"$f":"MIN((IFERROR(IF(AND($V32<=AC$1,$W32>=AC$1),INDEX(Reliability!H$23:H$50,MATCH($S32,Reliability!$C$23:$C$50,0)),0),0)*IF($T32=\"n/a\",$D32*$Y32,$G32)+IFERROR(IF(AND($V32<=AC$1,$W32>=AC$1),INDEX(Reliability!H$23:H$50,MATCH($T32,Reliability!$C$23:$C$50,0)),0),0)*$H32*$X32*$Y32),$D32)*$R32","v":0},{"$f":"MIN((IFERROR(IF(AND($V32<=AD$1,$W32>=AD$1),INDEX(Reliability!I$23:I$50,MATCH($S32,Reliability!$C$23:$C$50,0)),0),0)*IF($T32=\"n/a\",$D32*$Y32,$G32)+IFERROR(IF(AND($V32<=AD$1,$W32>=AD$1),INDEX(Reliability!I$23:I$50,MATCH($T32,Reliability!$C$23:$C$50,0)),0),0)*$H32*$X32*$Y32),$D32)*$R32","v":0},{"$f":"MIN((IFERROR(IF(AND($V32<=AE$1,$W32>=AE$1),INDEX(Reliability!J$23:J$50,MATCH($S32,Reliability!$C$23:$C$50,0)),0),0)*IF($T32=\"n/a\",$D32*$Y32,$G32)+IFERROR(IF(AND($V32<=AE$1,$W32>=AE$1),INDEX(Reliability!J$23:J$50,MATCH($T32,Reliability!$C$23:$C$50,0)),0),0)*$H32*$X32*$Y32),$D32)*$R32","v":0},{"$f":"MIN((IFERROR(IF(AND($V32<=AF$1,$W32>=AF$1),INDEX(Reliability!K$23:K$50,MATCH($S32,Reliability!$C$23:$C$50,0)),0),0)*IF($T32=\"n/a\",$D32*$Y32,$G32)+IFERROR(IF(AND($V32<=AF$1,$W32>=AF$1),INDEX(Reliability!K$23:K$50,MATCH($T32,Reliability!$C$23:$C$50,0)),0),0)*$H32*$X32*$Y32),$D32)*$R32","v":0},{"$f":"MIN((IFERROR(IF(AND($V32<=AG$1,$W32>=AG$1),INDEX(Reliability!L$23:L$50,MATCH($S32,Reliability!$C$23:$C$50,0)),0),0)*IF($T32=\"n/a\",$D32*$Y32,$G32)+IFERROR(IF(AND($V32<=AG$1,$W32>=AG$1),INDEX(Reliability!L$23:L$50,MATCH($T32,Reliability!$C$23:$C$50,0)),0),0)*$H32*$X32*$Y32),$D32)*$R32","v":0},{"$f":"MIN((IFERROR(IF(AND($V32<=AH$1,$W32>=AH$1),INDEX(Reliability!M$23:M$50,MATCH($S32,Reliability!$C$23:$C$50,0)),0),0)*IF($T32=\"n/a\",$D32*$Y32,$G32)+IFERROR(IF(AND($V32<=AH$1,$W32>=AH$1),INDEX(Reliability!M$23:M$50,MATCH($T32,Reliability!$C$23:$C$50,0)),0),0)*$H32*$X32*$Y32),$D32)*$R32","v":0},{"$f":"MIN((IFERROR(IF(AND($V32<=AI$1,$W32>=AI$1),INDEX(Reliability!N$23:N$50,MATCH($S32,Reliability!$C$23:$C$50,0)),0),0)*IF($T32=\"n/a\",$D32*$Y32,$G32)+IFERROR(IF(AND($V32<=AI$1,$W32>=AI$1),INDEX(Reliability!N$23:N$50,MATCH($T32,Reliability!$C$23:$C$50,0)),0),0)*$H32*$X32*$Y32),$D32)*$R32","v":0},{"$f":"MIN((IFERROR(IF(AND($V32<=AJ$1,$W32>=AJ$1),INDEX(Reliability!O$23:O$50,MATCH($S32,Reliability!$C$23:$C$50,0)),0),0)*IF($T32=\"n/a\",$D32*$Y32,$G32)+IFERROR(IF(AND($V32<=AJ$1,$W32>=AJ$1),INDEX(Reliability!O$23:O$50,MATCH($T32,Reliability!$C$23:$C$50,0)),0),0)*$H32*$X32*$Y32),$D32)*$R32","v":0},{"$f":"MIN((IFERROR(IF(AND($V32<=AK$1,$W32>=AK$1),INDEX(Reliability!P$23:P$50,MATCH($S32,Reliability!$C$23:$C$50,0)),0),0)*IF($T32=\"n/a\",$D32*$Y32,$G32)+IFERROR(IF(AND($V32<=AK$1,$W32>=AK$1),INDEX(Reliability!P$23:P$50,MATCH($T32,Reliability!$C$23:$C$50,0)),0),0)*$H32*$X32*$Y32),$D32)*$R32","v":0}]
[null,{"$f":"unique_contracts!B33","v":"ESCO_6_GLMQF"},{"$f":"unique_contracts!D33","v":"Online"},{"$f":"unique_contracts!J33","v":49.9},{"$f":"unique_contracts!M33","v":"NotHybrid"},{"$f":"unique_contracts!N33","v":"NA"},{"$f":"unique_contracts!P33","v":0},{"$f":"unique_contracts!R33","v":0},{"$f":"unique_contracts!V33","v":0},{"$f":"unique_contracts!AB33","v":0},{"$f":"unique_contracts!AM33","v":1995},{"$f":"unique_contracts!AN33","v":2},{"$f":"unique_contracts!AO33","v":15},{"$f":"unique_contracts!AP33","v":2025},{"$f":"unique_contracts!AQ33","v":2},{"$f":"unique_contracts!AR33","v":14},{"$f":"unique_contracts!BP33","v":"EnergyCapacity"},1,{"$f":"IFERROR(IF(AND(I33>0,E33=\"NotHybrid\"),_xlfn.CONCAT(MAX(MIN(ROUNDDOWN(I33/D33,0),8),4),INDEX(resources!$G:$G,MATCH(B33,resources!$A:$A,0))),INDEX(resources!$G:$G,MATCH(B33,resources!$A:$A,0))),\"n/a\")","v":"cogen"},"n/a","cogen",1995,2024,1,1,{"$f":"MIN((IFERROR(IF(AND($V33<=Z$1,$W33>=Z$1),INDEX(Reliability!E$23:E$50,MATCH($S33,Reliability!$C$23:$C$50,0)),0),0)*IF($T33=\"n/a\",$D33*$Y33,$G33)+IFERROR(IF(AND($V33<=Z$1,$W33>=Z$1),INDEX(Reliability!E$23:E$50,MATCH($T33,Reliability!$C$23:$C$50,0)),0),0)*$H33*$X33*$Y33),$D33)*$R33","v":44.665787339227371},{"$f":"MIN((IFERROR(IF(AND($V33<=AA$1,$W33>=AA$1),INDEX(Reliability!F$23:F$50,MATCH($S33,Reliability!$C$23:$C$50,0)),0),0)*IF($T33=\"n/a\",$D33*$Y33,$G33)+IFERROR(IF(AND($V33<=AA$1,$W33>=AA$1),INDEX(Reliability!F$23:F$50,MATCH($T33,Reliability!$C$23:$C$50,0)),0),0)*$H33*$X33*$Y33),$D33)*$R33","v":0},{"$f":"MIN((IFERROR(IF(AND($V33<=AB$1,$W33>=AB$1),INDEX(Reliability!G$23:G$50,MATCH($S33,Reliability!$C$23:$C$50,0)),0),0)*IF($T33=\"n/a\",$D33*$Y33,$G33)+IFERROR(IF(AND($V33<=AB$1,$W33>=AB$1),INDEX(Reliability!G$23:G$50,MATCH($T33,Reliability!$C$23:$C$50,0)),0),0)*$H33*$X33*$Y33),$D33)*$R33","v":0},{"$f":"MIN((IFERROR(IF(AND($V33<=AC$1,$W33>=AC$1),INDEX(Reliability!H$23:H$50,MATCH($S33,Reliability!$C$23:$C$50,0)),0),0)*IF($T33=\"n/a\",$D33*$Y33,$G33)+IFERROR(IF(AND($V33<=AC$1,$W33>=AC$1),INDEX(Reliability!H$23:H$50,MATCH($T33,Reliability!$C$23:$C$50,0)),0),0)*$H33*$X33*$Y33),$D33)*$R33","v":0},{"$f":"MIN((IFERROR(IF(AND($V33<=AD$1,$W33>=AD$1),INDEX(Reliability!I$23:I$50,MATCH($S33,Reliability!$C$23:$C$50,0)),0),0)*IF($T33=\"n/a\",$D33*$Y33,$G33)+IFERROR(IF(AND($V33<=AD$1,$W33>=AD$1),INDEX(Reliability!I$23:I$50,MATCH($T33,Reliability!$C$23:$C$50,0)),0),0)*$H33*$X33*$Y33),$D33)*$R33","v":0},{"$f":"MIN((IFERROR(IF(AND($V33<=AE$1,$W33>=AE$1),INDEX(Reliability!J$23:J$50,MATCH($S33,Reliability!$C$23:$C$50,0)),0),0)*IF($T33=\"n/a\",$D33*$Y33,$G33)+IFERROR(IF(AND($V33<=AE$1,$W33>=AE$1),INDEX(Reliability!J$23:J$50,MATCH($T33,Reliability!$C$23:$C$50,0)),0),0)*$H33*$X33*$Y33),$D33)*$R33","v":0},{"$f":"MIN((IFERROR(IF(AND($V33<=AF$1,$W33>=AF$1),INDEX(Reliability!K$23:K$50,MATCH($S33,Reliability!$C$23:$C$50,0)),0),0)*IF($T33=\"n/a\",$D33*$Y33,$G33)+IFERROR(IF(AND($V33<=AF$1,$W33>=AF$1),INDEX(Reliability!K$23:K$50,MATCH($T33,Reliability!$C$23:$C$50,0)),0),0)*$H33*$X33*$Y33),$D33)*$R33","v":0},{"$f":"MIN((IFERROR(IF(AND($V33<=AG$1,$W33>=AG$1),INDEX(Reliability!L$23:L$50,MATCH($S33,Reliability!$C$23:$C$50,0)),0),0)*IF($T33=\"n/a\",$D33*$Y33,$G33)+IFERROR(IF(AND($V33<=AG$1,$W33>=AG$1),INDEX(Reliability!L$23:L$50,MATCH($T33,Reliability!$C$23:$C$50,0)),0),0)*$H33*$X33*$Y33),$D33)*$R33","v":0},{"$f":"MIN((IFERROR(IF(AND($V33<=AH$1,$W33>=AH$1),INDEX(Reliability!M$23:M$50,MATCH($S33,Reliability!$C$23:$C$50,0)),0),0)*IF($T33=\"n/a\",$D33*$Y33,$G33)+IFERROR(IF(AND($V33<=AH$1,$W33>=AH$1),INDEX(Reliability!M$23:M$50,MATCH($T33,Reliability!$C$23:$C$50,0)),0),0)*$H33*$X33*$Y33),$D33)*$R33","v":0},{"$f":"MIN((IFERROR(IF(AND($V33<=AI$1,$W33>=AI$1),INDEX(Reliability!N$23:N$50,MATCH($S33,Reliability!$C$23:$C$50,0)),0),0)*IF($T33=\"n/a\",$D33*$Y33,$G33)+IFERROR(IF(AND($V33<=AI$1,$W33>=AI$1),INDEX(Reliability!N$23:N$50,MATCH($T33,Reliability!$C$23:$C$50,0)),0),0)*$H33*$X33*$Y33),$D33)*$R33","v":0},{"$f":"MIN((IFERROR(IF(AND($V33<=AJ$1,$W33>=AJ$1),INDEX(Reliability!O$23:O$50,MATCH($S33,Reliability!$C$23:$C$50,0)),0),0)*IF($T33=\"n/a\",$D33*$Y33,$G33)+IFERROR(IF(AND($V33<=AJ$1,$W33>=AJ$1),INDEX(Reliability!O$23:O$50,MATCH($T33,Reliability!$C$23:$C$50,0)),0),0)*$H33*$X33*$Y33),$D33)*$R33","v":0},{"$f":"MIN((IFERROR(IF(AND($V33<=AK$1,$W33>=AK$1),INDEX(Reliability!P$23:P$50,MATCH($S33,Reliability!$C$23:$C$50,0)),0),0)*IF($T33=\"n/a\",$D33*$Y33,$G33)+IFERROR(IF(AND($V33<=AK$1,$W33>=AK$1),INDEX(Reliability!P$23:P$50,MATCH($T33,Reliability!$C$23:$C$50,0)),0),0)*$H33*$X33*$Y33),$D33)*$R33","v":0}]
[null,{"$f":"unique_contracts!B34","v":"MURRAY_6_UNIT"},{"$f":"unique_contracts!D34","v":"Online"},{"$f":"unique_contracts!J34","v":4.12},{"$f":"unique_contracts!M34","v":"NotHybrid"},{"$f":"unique_contracts!N34","v":"NA"},{"$f":"unique_contracts!P34","v":0},{"$f":"unique_contracts!R34","v":0},{"$f":"unique_contracts!V34","v":0},{"$f":"unique_contracts!AB34","v":0},{"$f":"unique_contracts!AM34","v":2017},{"$f":"unique_contracts!AN34","v":1},{"$f":"unique_contracts!AO34","v":1},{"$f":"unique_contracts!AP34","v":2026},{"$f":"unique_contracts!AQ34","v":12},{"$f":"unique_contracts!AR34","v":31},{"$f":"unique_contracts!BP34","v":"EnergyOnly"},0,{"$f":"IFERROR(IF(AND(I34>0,E34=\"NotHybrid\"),_xlfn.CONCAT(MAX(MIN(ROUNDDOWN(I34/D34,0),8),4),INDEX(resources!$G:$G,MATCH(B34,resources!$A:$A,0))),INDEX(resources!$G:$G,MATCH(B34,resources!$A:$A,0))),\"n/a\")","v":"cogen"},"n/a","cogen",2017,2026,1,1,{"$f":"MIN((IFERROR(IF(AND($V34<=Z$1,$W34>=Z$1),INDEX(Reliability!E$23:E$50,MATCH($S34,Reliability!$C$23:$C$50,0)),0),0)*IF($T34=\"n/a\",$D34*$Y34,$G34)+IFERROR(IF(AND($V34<=Z$1,$W34>=Z$1),INDEX(Reliability!E$23:E$50,MATCH($T34,Reliability!$C$23:$C$50,0)),0),0)*$H34*$X34*$Y34),$D34)*$R34","v":0},{"$f":"MIN((IFERROR(IF(AND($V34<=AA$1,$W34>=AA$1),INDEX(Reliability!F$23:F$50,MATCH($S34,Reliability!$C$23:$C$50,0)),0),0)*IF($T34=\"n/a\",$D34*$Y34,$G34)+IFERROR(IF(AND($V34<=AA$1,$W34>=AA$1),INDEX(Reliability!F$23:F$50,MATCH($T34,Reliability!$C$23:$C$50,0)),0),0)*$H34*$X34*$Y34),$D34)*$R34","v":0},{"$f":"MIN((IFERROR(IF(AND($V34<=AB$1,$W34>=AB$1),INDEX(Reliability!G$23:G$50,MATCH($S34,Reliability!$C$23:$C$50,0)),0),0)*IF($T34=\"n/a\",$D34*$Y34,$G34)+IFERROR(IF(AND($V34<=AB$1,$W34>=AB$1),INDEX(Reliability!G$23:G$50,MATCH($T34,Reliability!$C$23:$C$50,0)),0),0)*$H34*$X34*$Y34),$D34)*$R34","v":0},{"$f":"MIN((IFERROR(IF(AND($V34<=AC$1,$W34>=AC$1),INDEX(Reliability!H$23:H$50,MATCH($S34,Reliability!$C$23:$C$50,0)),0),0)*IF($T34=\"n/a\",$D34*$Y34,$G34)+IFERROR(IF(AND($V34<=AC$1,$W34>=AC$1),INDEX(Reliability!H$23:H$50,MATCH($T34,Reliability!$C$23:$C$50,0)),0),0)*$H34*$X34*$Y34),$D34)*$R34","v":0},{"$f":"MIN((IFERROR(IF(AND($V34<=AD$1,$W34>=AD$1),INDEX(Reliability!I$23:I$50,MATCH($S34,Reliability!$C$23:$C$50,0)),0),0)*IF($T34=\"n/a\",$D34*$Y34,$G34)+IFERROR(IF(AND($V34<=AD$1,$W34>=AD$1),INDEX(Reliability!I$23:I$50,MATCH($T34,Reliability!$C$23:$C$50,0)),0),0)*$H34*$X34*$Y34),$D34)*$R34","v":0},{"$f":"MIN((IFERROR(IF(AND($V34<=AE$1,$W34>=AE$1),INDEX(Reliability!J$23:J$50,MATCH($S34,Reliability!$C$23:$C$50,0)),0),0)*IF($T34=\"n/a\",$D34*$Y34,$G34)+IFERROR(IF(AND($V34<=AE$1,$W34>=AE$1),INDEX(Reliability!J$23:J$50,MATCH($T34,Reliability!$C$23:$C$50,0)),0),0)*$H34*$X34*$Y34),$D34)*$R34","v":0},{"$f":"MIN((IFERROR(IF(AND($V34<=AF$1,$W34>=AF$1),INDEX(Reliability!K$23:K$50,MATCH($S34,Reliability!$C$23:$C$50,0)),0),0)*IF($T34=\"n/a\",$D34*$Y34,$G34)+IFERROR(IF(AND($V34<=AF$1,$W34>=AF$1),INDEX(Reliability!K$23:K$50,MATCH($T34,Reliability!$C$23:$C$50,0)),0),0)*$H34*$X34*$Y34),$D34)*$R34","v":0},{"$f":"MIN((IFERROR(IF(AND($V34<=AG$1,$W34>=AG$1),INDEX(Reliability!L$23:L$50,MATCH($S34,Reliability!$C$23:$C$50,0)),0),0)*IF($T34=\"n/a\",$D34*$Y34,$G34)+IFERROR(IF(AND($V34<=AG$1,$W34>=AG$1),INDEX(Reliability!L$23:L$50,MATCH($T34,Reliability!$C$23:$C$50,0)),0),0)*$H34*$X34*$Y34),$D34)*$R34","v":0},{"$f":"MIN((IFERROR(IF(AND($V34<=AH$1,$W34>=AH$1),INDEX(Reliability!M$23:M$50,MATCH($S34,Reliability!$C$23:$C$50,0)),0),0)*IF($T34=\"n/a\",$D34*$Y34,$G34)+IFERROR(IF(AND($V34<=AH$1,$W34>=AH$1),INDEX(Reliability!M$23:M$50,MATCH($T34,Reliability!$C$23:$C$50,0)),0),0)*$H34*$X34*$Y34),$D34)*$R34","v":0},{"$f":"MIN((IFERROR(IF(AND($V34<=AI$1,$W34>=AI$1),INDEX(Reliability!N$23:N$50,MATCH($S34,Reliability!$C$23:$C$50,0)),0),0)*IF($T34=\"n/a\",$D34*$Y34,$G34)+IFERROR(IF(AND($V34<=AI$1,$W34>=AI$1),INDEX(Reliability!N$23:N$50,MATCH($T34,Reliability!$C$23:$C$50,0)),0),0)*$H34*$X34*$Y34),$D34)*$R34","v":0},{"$f":"MIN((IFERROR(IF(AND($V34<=AJ$1,$W34>=AJ$1),INDEX(Reliability!O$23:O$50,MATCH($S34,Reliability!$C$23:$C$50,0)),0),0)*IF($T34=\"n/a\",$D34*$Y34,$G34)+IFERROR(IF(AND($V34<=AJ$1,$W34>=AJ$1),INDEX(Reliability!O$23:O$50,MATCH($T34,Reliability!$C$23:$C$50,0)),0),0)*$H34*$X34*$Y34),$D34)*$R34","v":0},{"$f":"MIN((IFERROR(IF(AND($V34<=AK$1,$W34>=AK$1),INDEX(Reliability!P$23:P$50,MATCH($S34,Reliability!$C$23:$C$50,0)),0),0)*IF($T34=\"n/a\",$D34*$Y34,$G34)+IFERROR(IF(AND($V34<=AK$1,$W34>=AK$1),INDEX(Reliability!P$23:P$50,MATCH($T34,Reliability!$C$23:$C$50,0)),0),0)*$H34*$X34*$Y34),$D34)*$R34","v":0}]
[null,{"$f":"unique_contracts!B35","v":"_EXISTING_GENERIC_COGEN"},{"$f":"unique_contracts!D35","v":"Online"},{"$f":"unique_contracts!J35","v":3.12296},{"$f":"unique_contracts!M35","v":"NotHybrid"},{"$f":"unique_contracts!N35","v":"NA"},{"$f":"unique_contracts!P35","v":0},{"$f":"unique_contracts!R35","v":0},{"$f":"unique_contracts!V35","v":0},{"$f":"unique_contracts!AB35","v":"sell"},{"$f":"unique_contracts!AM35","v":2017},{"$f":"unique_contracts!AN35","v":1},{"$f":"unique_contracts!AO35","v":1},{"$f":"unique_contracts!AP35","v":2026},{"$f":"unique_contracts!AQ35","v":12},{"$f":"unique_contracts!AR35","v":31},{"$f":"unique_contracts!BP35","v":"EnergyOnly"},0,{"$f":"IFERROR(IF(AND(I35>0,E35=\"NotHybrid\"),_xlfn.CONCAT(MAX(MIN(ROUNDDOWN(I35/D35,0),8),4),INDEX(resources!$G:$G,MATCH(B35,resources!$A:$A,0))),INDEX(resources!$G:$G,MATCH(B35,resources!$A:$A,0))),\"n/a\")","v":"cogen"},"n/a","cogen",2017,2026,1,1,{"$f":"MIN((IFERROR(IF(AND($V35<=Z$1,$W35>=Z$1),INDEX(Reliability!E$23:E$50,MATCH($S35,Reliability!$C$23:$C$50,0)),0),0)*IF($T35=\"n/a\",$D35*$Y35,$G35)+IFERROR(IF(AND($V35<=Z$1,$W35>=Z$1),INDEX(Reliability!E$23:E$50,MATCH($T35,Reliability!$C$23:$C$50,0)),0),0)*$H35*$X35*$Y35),$D35)*$R35","v":0},{"$f":"MIN((IFERROR(IF(AND($V35<=AA$1,$W35>=AA$1),INDEX(Reliability!F$23:F$50,MATCH($S35,Reliability!$C$23:$C$50,0)),0),0)*IF($T35=\"n/a\",$D35*$Y35,$G35)+IFERROR(IF(AND($V35<=AA$1,$W35>=AA$1),INDEX(Reliability!F$23:F$50,MATCH($T35,Reliability!$C$23:$C$50,0)),0),0)*$H35*$X35*$Y35),$D35)*$R35","v":0},{"$f":"MIN((IFERROR(IF(AND($V35<=AB$1,$W35>=AB$1),INDEX(Reliability!G$23:G$50,MATCH($S35,Reliability!$C$23:$C$50,0)),0),0)*IF($T35=\"n/a\",$D35*$Y35,$G35)+IFERROR(IF(AND($V35<=AB$1,$W35>=AB$1),INDEX(Reliability!G$23:G$50,MATCH($T35,Reliability!$C$23:$C$50,0)),0),0)*$H35*$X35*$Y35),$D35)*$R35","v":0},{"$f":"MIN((IFERROR(IF(AND($V35<=AC$1,$W35>=AC$1),INDEX(Reliability!H$23:H$50,MATCH($S35,Reliability!$C$23:$C$50,0)),0),0)*IF($T35=\"n/a\",$D35*$Y35,$G35)+IFERROR(IF(AND($V35<=AC$1,$W35>=AC$1),INDEX(Reliability!H$23:H$50,MATCH($T35,Reliability!$C$23:$C$50,0)),0),0)*$H35*$X35*$Y35),$D35)*$R35","v":0},{"$f":"MIN((IFERROR(IF(AND($V35<=AD$1,$W35>=AD$1),INDEX(Reliability!I$23:I$50,MATCH($S35,Reliability!$C$23:$C$50,0)),0),0)*IF($T35=\"n/a\",$D35*$Y35,$G35)+IFERROR(IF(AND($V35<=AD$1,$W35>=AD$1),INDEX(Reliability!I$23:I$50,MATCH($T35,Reliability!$C$23:$C$50,0)),0),0)*$H35*$X35*$Y35),$D35)*$R35","v":0},{"$f":"MIN((IFERROR(IF(AND($V35<=AE$1,$W35>=AE$1),INDEX(Reliability!J$23:J$50,MATCH($S35,Reliability!$C$23:$C$50,0)),0),0)*IF($T35=\"n/a\",$D35*$Y35,$G35)+IFERROR(IF(AND($V35<=AE$1,$W35>=AE$1),INDEX(Reliability!J$23:J$50,MATCH($T35,Reliability!$C$23:$C$50,0)),0),0)*$H35*$X35*$Y35),$D35)*$R35","v":0},{"$f":"MIN((IFERROR(IF(AND($V35<=AF$1,$W35>=AF$1),INDEX(Reliability!K$23:K$50,MATCH($S35,Reliability!$C$23:$C$50,0)),0),0)*IF($T35=\"n/a\",$D35*$Y35,$G35)+IFERROR(IF(AND($V35<=AF$1,$W35>=AF$1),INDEX(Reliability!K$23:K$50,MATCH($T35,Reliability!$C$23:$C$50,0)),0),0)*$H35*$X35*$Y35),$D35)*$R35","v":0},{"$f":"MIN((IFERROR(IF(AND($V35<=AG$1,$W35>=AG$1),INDEX(Reliability!L$23:L$50,MATCH($S35,Reliability!$C$23:$C$50,0)),0),0)*IF($T35=\"n/a\",$D35*$Y35,$G35)+IFERROR(IF(AND($V35<=AG$1,$W35>=AG$1),INDEX(Reliability!L$23:L$50,MATCH($T35,Reliability!$C$23:$C$50,0)),0),0)*$H35*$X35*$Y35),$D35)*$R35","v":0},{"$f":"MIN((IFERROR(IF(AND($V35<=AH$1,$W35>=AH$1),INDEX(Reliability!M$23:M$50,MATCH($S35,Reliability!$C$23:$C$50,0)),0),0)*IF($T35=\"n/a\",$D35*$Y35,$G35)+IFERROR(IF(AND($V35<=AH$1,$W35>=AH$1),INDEX(Reliability!M$23:M$50,MATCH($T35,Reliability!$C$23:$C$50,0)),0),0)*$H35*$X35*$Y35),$D35)*$R35","v":0},{"$f":"MIN((IFERROR(IF(AND($V35<=AI$1,$W35>=AI$1),INDEX(Reliability!N$23:N$50,MATCH($S35,Reliability!$C$23:$C$50,0)),0),0)*IF($T35=\"n/a\",$D35*$Y35,$G35)+IFERROR(IF(AND($V35<=AI$1,$W35>=AI$1),INDEX(Reliability!N$23:N$50,MATCH($T35,Reliability!$C$23:$C$50,0)),0),0)*$H35*$X35*$Y35),$D35)*$R35","v":0},{"$f":"MIN((IFERROR(IF(AND($V35<=AJ$1,$W35>=AJ$1),INDEX(Reliability!O$23:O$50,MATCH($S35,Reliability!$C$23:$C$50,0)),0),0)*IF($T35=\"n/a\",$D35*$Y35,$G35)+IFERROR(IF(AND($V35<=AJ$1,$W35>=AJ$1),INDEX(Reliability!O$23:O$50,MATCH($T35,Reliability!$C$23:$C$50,0)),0),0)*$H35*$X35*$Y35),$D35)*$R35","v":0},{"$f":"MIN((IFERROR(IF(AND($V35<=AK$1,$W35>=AK$1),INDEX(Reliability!P$23:P$50,MATCH($S35,Reliability!$C$23:$C$50,0)),0),0)*IF($T35=\"n/a\",$D35*$Y35,$G35)+IFERROR(IF(AND($V35<=AK$1,$W35>=AK$1),INDEX(Reliability!P$23:P$50,MATCH($T35,Reliability!$C$23:$C$50,0)),0),0)*$H35*$X35*$Y35),$D35)*$R35","v":0}]
[null,{"$f":"unique_contracts!B36","v":"_EXISTING_GENERIC_BATTERY_STORAGE"},{"$f":"unique_contracts!D36","v":"Online"},{"$f":"unique_contracts!J36","v":20},{"$f":"unique_contracts!M36","v":"NotHybrid"},{"$f":"unique_contracts!N36","v":"NA"},{"$f":"unique_contracts!P36","v":0},{"$f":"unique_contracts!R36","v":0},{"$f":"unique_contracts!V36","v":80},{"$f":"unique_contracts!AB36","v":0},{"$f":"unique_contracts!AM36","v":2022},{"$f":"unique_contracts!AN36","v":9},{"$f":"unique_contracts!AO36","v":1},{"$f":"unique_contracts!AP36","v":2032},{"$f":"unique_contracts!AQ36","v":8},{"$f":"unique_contracts!AR36","v":31},{"$f":"unique_contracts!BP36","v":"EnergyCapacity"},1,{"$f":"IFERROR(IF(AND(I36>0,E36=\"NotHybrid\"),_xlfn.CONCAT(MAX(MIN(ROUNDDOWN(I36/D36,0),8),4),INDEX(resources!$G:$G,MATCH(B36,resources!$A:$A,0))),INDEX(resources!$G:$G,MATCH(B36,resources!$A:$A,0))),\"n/a\")","v":"4hr_batteries"},"n/a","4hr_batteries",2023,2031,1,1,{"$f":"MIN((IFERROR(IF(AND($V36<=Z$1,$W36>=Z$1),INDEX(Reliability!E$23:E$50,MATCH($S36,Reliability!$C$23:$C$50,0)),0),0)*IF($T36=\"n/a\",$D36*$Y36,$G36)+IFERROR(IF(AND($V36<=Z$1,$W36>=Z$1),INDEX(Reliability!E$23:E$50,MATCH($T36,Reliability!$C$23:$C$50,0)),0),0)*$H36*$X36*$Y36),$D36)*$R36","v":17.7},{"$f":"MIN((IFERROR(IF(AND($V36<=AA$1,$W36>=AA$1),INDEX(Reliability!F$23:F$50,MATCH($S36,Reliability!$C$23:$C$50,0)),0),0)*IF($T36=\"n/a\",$D36*$Y36,$G36)+IFERROR(IF(AND($V36<=AA$1,$W36>=AA$1),INDEX(Reliability!F$23:F$50,MATCH($T36,Reliability!$C$23:$C$50,0)),0),0)*$H36*$X36*$Y36),$D36)*$R36","v":18.03},{"$f":"MIN((IFERROR(IF(AND($V36<=AB$1,$W36>=AB$1),INDEX(Reliability!G$23:G$50,MATCH($S36,Reliability!$C$23:$C$50,0)),0),0)*IF($T36=\"n/a\",$D36*$Y36,$G36)+IFERROR(IF(AND($V36<=AB$1,$W36>=AB$1),INDEX(Reliability!G$23:G$50,MATCH($T36,Reliability!$C$23:$C$50,0)),0),0)*$H36*$X36*$Y36),$D36)*$R36","v":18.36},{"$f":"MIN((IFERROR(IF(AND($V36<=AC$1,$W36>=AC$1),INDEX(Reliability!H$23:H$50,MATCH($S36,Reliability!$C$23:$C$50,0)),0),0)*IF($T36=\"n/a\",$D36*$Y36,$G36)+IFERROR(IF(AND($V36<=AC$1,$W36>=AC$1),INDEX(Reliability!H$23:H$50,MATCH($T36,Reliability!$C$23:$C$50,0)),0),0)*$H36*$X36*$Y36),$D36)*$R36","v":16.91},{"$f":"MIN((IFERROR(IF(AND($V36<=AD$1,$W36>=AD$1),INDEX(Reliability!I$23:I$50,MATCH($S36,Reliability!$C$23:$C$50,0)),0),0)*IF($T36=\"n/a\",$D36*$Y36,$G36)+IFERROR(IF(AND($V36<=AD$1,$W36>=AD$1),INDEX(Reliability!I$23:I$50,MATCH($T36,Reliability!$C$23:$C$50,0)),0),0)*$H36*$X36*$Y36),$D36)*$R36","v":15.46},{"$f":"MIN((IFERROR(IF(AND($V36<=AE$1,$W36>=AE$1),INDEX(Reliability!J$23:J$50,MATCH($S36,Reliability!$C$23:$C$50,0)),0),0)*IF($T36=\"n/a\",$D36*$Y36,$G36)+IFERROR(IF(AND($V36<=AE$1,$W36>=AE$1),INDEX(Reliability!J$23:J$50,MATCH($T36,Reliability!$C$23:$C$50,0)),0),0)*$H36*$X36*$Y36),$D36)*$R36","v":15.18},{"$f":"MIN((IFERROR(IF(AND($V36<=AF$1,$W36>=AF$1),INDEX(Reliability!K$23:K$50,MATCH($S36,Reliability!$C$23:$C$50,0)),0),0)*IF($T36=\"n/a\",$D36*$Y36,$G36)+IFERROR(IF(AND($V36<=AF$1,$W36>=AF$1),INDEX(Reliability!K$23:K$50,MATCH($T36,Reliability!$C$23:$C$50,0)),0),0)*$H36*$X36*$Y36),$D36)*$R36","v":14.9},{"$f":"MIN((IFERROR(IF(AND($V36<=AG$1,$W36>=AG$1),INDEX(Reliability!L$23:L$50,MATCH($S36,Reliability!$C$23:$C$50,0)),0),0)*IF($T36=\"n/a\",$D36*$Y36,$G36)+IFERROR(IF(AND($V36<=AG$1,$W36>=AG$1),INDEX(Reliability!L$23:L$50,MATCH($T36,Reliability!$C$23:$C$50,0)),0),0)*$H36*$X36*$Y36),$D36)*$R36","v":13.524000000000001},{"$f":"MIN((IFERROR(IF(AND($V36<=AH$1,$W36>=AH$1),INDEX(Reliability!M$23:M$50,MATCH($S36,Reliability!$C$23:$C$50,0)),0),0)*IF($T36=\"n/a\",$D36*$Y36,$G36)+IFERROR(IF(AND($V36<=AH$1,$W36>=AH$1),INDEX(Reliability!M$23:M$50,MATCH($T36,Reliability!$C$23:$C$50,0)),0),0)*$H36*$X36*$Y36),$D36)*$R36","v":0},{"$f":"MIN((IFERROR(IF(AND($V36<=AI$1,$W36>=AI$1),INDEX(Reliability!N$23:N$50,MATCH($S36,Reliability!$C$23:$C$50,0)),0),0)*IF($T36=\"n/a\",$D36*$Y36,$G36)+IFERROR(IF(AND($V36<=AI$1,$W36>=AI$1),INDEX(Reliability!N$23:N$50,MATCH($T36,Reliability!$C$23:$C$50,0)),0),0)*$H36*$X36*$Y36),$D36)*$R36","v":0},{"$f":"MIN((IFERROR(IF(AND($V36<=AJ$1,$W36>=AJ$1),INDEX(Reliability!O$23:O$50,MATCH($S36,Reliability!$C$23:$C$50,0)),0),0)*IF($T36=\"n/a\",$D36*$Y36,$G36)+IFERROR(IF(AND($V36<=AJ$1,$W36>=AJ$1),INDEX(Reliability!O$23:O$50,MATCH($T36,Reliability!$C$23:$C$50,0)),0),0)*$H36*$X36*$Y36),$D36)*$R36","v":0},{"$f":"MIN((IFERROR(IF(AND($V36<=AK$1,$W36>=AK$1),INDEX(Reliability!P$23:P$50,MATCH($S36,Reliability!$C$23:$C$50,0)),0),0)*IF($T36=\"n/a\",$D36*$Y36,$G36)+IFERROR(IF(AND($V36<=AK$1,$W36>=AK$1),INDEX(Reliability!P$23:P$50,MATCH($T36,Reliability!$C$23:$C$50,0)),0),0)*$H36*$X36*$Y36),$D36)*$R36","v":0}]
[null,{"$f":"unique_contracts!B37","v":"_EXISTING_GENERIC_BATTERY_STORAGE"},{"$f":"unique_contracts!D37","v":"Online"},{"$f":"unique_contracts!J37","v":8.0440000000000005},{"$f":"unique_contracts!M37","v":"NotHybrid"},{"$f":"unique_contracts!N37","v":"NA"},{"$f":"unique_contracts!P37","v":0},{"$f":"unique_contracts!R37","v":0},{"$f":"unique_contracts!V37","v":0},{"$f":"unique_contracts!AB37","v":"sell"},{"$f":"unique_contracts!AM37","v":2022},{"$f":"unique_contracts!AN37","v":9},{"$f":"unique_contracts!AO37","v":1},{"$f":"unique_contracts!AP37","v":2032},{"$f":"unique_contracts!AQ37","v":8},{"$f":"unique_contracts!AR37","v":31},{"$f":"unique_contracts!BP37","v":"CapacityOnly"},-1,{"$f":"IFERROR(IF(AND(I37>0,E37=\"NotHybrid\"),_xlfn.CONCAT(MAX(MIN(ROUNDDOWN(I37/D37,0),8),4),INDEX(resources!$G:$G,MATCH(B37,resources!$A:$A,0))),INDEX(resources!$G:$G,MATCH(B37,resources!$A:$A,0))),\"n/a\")","v":"hr_batteries"},"n/a","hr_batteries",2023,2031,1,0,{"$f":"MIN((IFERROR(IF(AND($V37<=Z$1,$W37>=Z$1),INDEX(Reliability!E$23:E$50,MATCH($S37,Reliability!$C$23:$C$50,0)),0),0)*IF($T37=\"n/a\",$D37*$Y37,$G37)+IFERROR(IF(AND($V37<=Z$1,$W37>=Z$1),INDEX(Reliability!E$23:E$50,MATCH($T37,Reliability!$C$23:$C$50,0)),0),0)*$H37*$X37*$Y37),$D37)*$R37","v":0},{"$f":"MIN((IFERROR(IF(AND($V37<=AA$1,$W37>=AA$1),INDEX(Reliability!F$23:F$50,MATCH($S37,Reliability!$C$23:$C$50,0)),0),0)*IF($T37=\"n/a\",$D37*$Y37,$G37)+IFERROR(IF(AND($V37<=AA$1,$W37>=AA$1),INDEX(Reliability!F$23:F$50,MATCH($T37,Reliability!$C$23:$C$50,0)),0),0)*$H37*$X37*$Y37),$D37)*$R37","v":0},{"$f":"MIN((IFERROR(IF(AND($V37<=AB$1,$W37>=AB$1),INDEX(Reliability!G$23:G$50,MATCH($S37,Reliability!$C$23:$C$50,0)),0),0)*IF($T37=\"n/a\",$D37*$Y37,$G37)+IFERROR(IF(AND($V37<=AB$1,$W37>=AB$1),INDEX(Reliability!G$23:G$50,MATCH($T37,Reliability!$C$23:$C$50,0)),0),0)*$H37*$X37*$Y37),$D37)*$R37","v":0},{"$f":"MIN((IFERROR(IF(AND($V37<=AC$1,$W37>=AC$1),INDEX(Reliability!H$23:H$50,MATCH($S37,Reliability!$C$23:$C$50,0)),0),0)*IF($T37=\"n/a\",$D37*$Y37,$G37)+IFERROR(IF(AND($V37<=AC$1,$W37>=AC$1),INDEX(Reliability!H$23:H$50,MATCH($T37,Reliability!$C$23:$C$50,0)),0),0)*$H37*$X37*$Y37),$D37)*$R37","v":0},{"$f":"MIN((IFERROR(IF(AND($V37<=AD$1,$W37>=AD$1),INDEX(Reliability!I$23:I$50,MATCH($S37,Reliability!$C$23:$C$50,0)),0),0)*IF($T37=\"n/a\",$D37*$Y37,$G37)+IFERROR(IF(AND($V37<=AD$1,$W37>=AD$1),INDEX(Reliability!I$23:I$50,MATCH($T37,Reliability!$C$23:$C$50,0)),0),0)*$H37*$X37*$Y37),$D37)*$R37","v":0},{"$f":"MIN((IFERROR(IF(AND($V37<=AE$1,$W37>=AE$1),INDEX(Reliability!J$23:J$50,MATCH($S37,Reliability!$C$23:$C$50,0)),0),0)*IF($T37=\"n/a\",$D37*$Y37,$G37)+IFERROR(IF(AND($V37<=AE$1,$W37>=AE$1),INDEX(Reliability!J$23:J$50,MATCH($T37,Reliability!$C$23:$C$50,0)),0),0)*$H37*$X37*$Y37),$D37)*$R37","v":0},{"$f":"MIN((IFERROR(IF(AND($V37<=AF$1,$W37>=AF$1),INDEX(Reliability!K$23:K$50,MATCH($S37,Reliability!$C$23:$C$50,0)),0),0)*IF($T37=\"n/a\",$D37*$Y37,$G37)+IFERROR(IF(AND($V37<=AF$1,$W37>=AF$1),INDEX(Reliability!K$23:K$50,MATCH($T37,Reliability!$C$23:$C$50,0)),0),0)*$H37*$X37*$Y37),$D37)*$R37","v":0},{"$f":"MIN((IFERROR(IF(AND($V37<=AG$1,$W37>=AG$1),INDEX(Reliability!L$23:L$50,MATCH($S37,Reliability!$C$23:$C$50,0)),0),0)*IF($T37=\"n/a\",$D37*$Y37,$G37)+IFERROR(IF(AND($V37<=AG$1,$W37>=AG$1),INDEX(Reliability!L$23:L$50,MATCH($T37,Reliability!$C$23:$C$50,0)),0),0)*$H37*$X37*$Y37),$D37)*$R37","v":0},{"$f":"MIN((IFERROR(IF(AND($V37<=AH$1,$W37>=AH$1),INDEX(Reliability!M$23:M$50,MATCH($S37,Reliability!$C$23:$C$50,0)),0),0)*IF($T37=\"n/a\",$D37*$Y37,$G37)+IFERROR(IF(AND($V37<=AH$1,$W37>=AH$1),INDEX(Reliability!M$23:M$50,MATCH($T37,Reliability!$C$23:$C$50,0)),0),0)*$H37*$X37*$Y37),$D37)*$R37","v":0},{"$f":"MIN((IFERROR(IF(AND($V37<=AI$1,$W37>=AI$1),INDEX(Reliability!N$23:N$50,MATCH($S37,Reliability!$C$23:$C$50,0)),0),0)*IF($T37=\"n/a\",$D37*$Y37,$G37)+IFERROR(IF(AND($V37<=AI$1,$W37>=AI$1),INDEX(Reliability!N$23:N$50,MATCH($T37,Reliability!$C$23:$C$50,0)),0),0)*$H37*$X37*$Y37),$D37)*$R37","v":0},{"$f":"MIN((IFERROR(IF(AND($V37<=AJ$1,$W37>=AJ$1),INDEX(Reliability!O$23:O$50,MATCH($S37,Reliability!$C$23:$C$50,0)),0),0)*IF($T37=\"n/a\",$D37*$Y37,$G37)+IFERROR(IF(AND($V37<=AJ$1,$W37>=AJ$1),INDEX(Reliability!O$23:O$50,MATCH($T37,Reliability!$C$23:$C$50,0)),0),0)*$H37*$X37*$Y37),$D37)*$R37","v":0},{"$f":"MIN((IFERROR(IF(AND($V37<=AK$1,$W37>=AK$1),INDEX(Reliability!P$23:P$50,MATCH($S37,Reliability!$C$23:$C$50,0)),0),0)*IF($T37=\"n/a\",$D37*$Y37,$G37)+IFERROR(IF(AND($V37<=AK$1,$W37>=AK$1),INDEX(Reliability!P$23:P$50,MATCH($T37,Reliability!$C$23:$C$50,0)),0),0)*$H37*$X37*$Y37),$D37)*$R37","v":0}]
[null,{"$f":"unique_contracts!B38","v":"KEARNY_6_NESBT1"},{"$f":"unique_contracts!D38","v":"Online"},{"$f":"unique_contracts!J38","v":10},{"$f":"unique_contracts!M38","v":"NotHybrid"},{"$f":"unique_contracts!N38","v":"NA"},{"$f":"unique_contracts!P38","v":0},{"$f":"unique_contracts!R38","v":0},{"$f":"unique_contracts!V38","v":40},{"$f":"unique_contracts!AB38","v":"Owned"},{"$f":"unique_contracts!AM38","v":2022},{"$f":"unique_contracts!AN38","v":3},{"$f":"unique_contracts!AO38","v":10},{"$f":"unique_contracts!AP38","v":2060},{"$f":"unique_contracts!AQ38","v":12},{"$f":"unique_contracts!AR38","v":31},{"$f":"unique_contracts!BP38","v":"EnergyCapacity"},1,{"$f":"IFERROR(IF(AND(I38>0,E38=\"NotHybrid\"),_xlfn.CONCAT(MAX(MIN(ROUNDDOWN(I38/D38,0),8),4),INDEX(resources!$G:$G,MATCH(B38,resources!$A:$A,0))),INDEX(resources!$G:$G,MATCH(B38,resources!$A:$A,0))),\"n/a\")","v":"4hr_batteries"},"n/a","4hr_batteries",2022,2060,1,1,{"$f":"MIN((IFERROR(IF(AND($V38<=Z$1,$W38>=Z$1),INDEX(Reliability!E$23:E$50,MATCH($S38,Reliability!$C$23:$C$50,0)),0),0)*IF($T38=\"n/a\",$D38*$Y38,$G38)+IFERROR(IF(AND($V38<=Z$1,$W38>=Z$1),INDEX(Reliability!E$23:E$50,MATCH($T38,Reliability!$C$23:$C$50,0)),0),0)*$H38*$X38*$Y38),$D38)*$R38","v":8.85},{"$f":"MIN((IFERROR(IF(AND($V38<=AA$1,$W38>=AA$1),INDEX(Reliability!F$23:F$50,MATCH($S38,Reliability!$C$23:$C$50,0)),0),0)*IF($T38=\"n/a\",$D38*$Y38,$G38)+IFERROR(IF(AND($V38<=AA$1,$W38>=AA$1),INDEX(Reliability!F$23:F$50,MATCH($T38,Reliability!$C$23:$C$50,0)),0),0)*$H38*$X38*$Y38),$D38)*$R38","v":9.0150000000000006},{"$f":"MIN((IFERROR(IF(AND($V38<=AB$1,$W38>=AB$1),INDEX(Reliability!G$23:G$50,MATCH($S38,Reliability!$C$23:$C$50,0)),0),0)*IF($T38=\"n/a\",$D38*$Y38,$G38)+IFERROR(IF(AND($V38<=AB$1,$W38>=AB$1),INDEX(Reliability!G$23:G$50,MATCH($T38,Reliability!$C$23:$C$50,0)),0),0)*$H38*$X38*$Y38),$D38)*$R38","v":9.18},{"$f":"MIN((IFERROR(IF(AND($V38<=AC$1,$W38>=AC$1),INDEX(Reliability!H$23:H$50,MATCH($S38,Reliability!$C$23:$C$50,0)),0),0)*IF($T38=\"n/a\",$D38*$Y38,$G38)+IFERROR(IF(AND($V38<=AC$1,$W38>=AC$1),INDEX(Reliability!H$23:H$50,MATCH($T38,Reliability!$C$23:$C$50,0)),0),0)*$H38*$X38*$Y38),$D38)*$R38","v":8.4550000000000001},{"$f":"MIN((IFERROR(IF(AND($V38<=AD$1,$W38>=AD$1),INDEX(Reliability!I$23:I$50,MATCH($S38,Reliability!$C$23:$C$50,0)),0),0)*IF($T38=\"n/a\",$D38*$Y38,$G38)+IFERROR(IF(AND($V38<=AD$1,$W38>=AD$1),INDEX(Reliability!I$23:I$50,MATCH($T38,Reliability!$C$23:$C$50,0)),0),0)*$H38*$X38*$Y38),$D38)*$R38","v":7.73},{"$f":"MIN((IFERROR(IF(AND($V38<=AE$1,$W38>=AE$1),INDEX(Reliability!J$23:J$50,MATCH($S38,Reliability!$C$23:$C$50,0)),0),0)*IF($T38=\"n/a\",$D38*$Y38,$G38)+IFERROR(IF(AND($V38<=AE$1,$W38>=AE$1),INDEX(Reliability!J$23:J$50,MATCH($T38,Reliability!$C$23:$C$50,0)),0),0)*$H38*$X38*$Y38),$D38)*$R38","v":7.59},{"$f":"MIN((IFERROR(IF(AND($V38<=AF$1,$W38>=AF$1),INDEX(Reliability!K$23:K$50,MATCH($S38,Reliability!$C$23:$C$50,0)),0),0)*IF($T38=\"n/a\",$D38*$Y38,$G38)+IFERROR(IF(AND($V38<=AF$1,$W38>=AF$1),INDEX(Reliability!K$23:K$50,MATCH($T38,Reliability!$C$23:$C$50,0)),0),0)*$H38*$X38*$Y38),$D38)*$R38","v":7.45},{"$f":"MIN((IFERROR(IF(AND($V38<=AG$1,$W38>=AG$1),INDEX(Reliability!L$23:L$50,MATCH($S38,Reliability!$C$23:$C$50,0)),0),0)*IF($T38=\"n/a\",$D38*$Y38,$G38)+IFERROR(IF(AND($V38<=AG$1,$W38>=AG$1),INDEX(Reliability!L$23:L$50,MATCH($T38,Reliability!$C$23:$C$50,0)),0),0)*$H38*$X38*$Y38),$D38)*$R38","v":6.7620000000000005},{"$f":"MIN((IFERROR(IF(AND($V38<=AH$1,$W38>=AH$1),INDEX(Reliability!M$23:M$50,MATCH($S38,Reliability!$C$23:$C$50,0)),0),0)*IF($T38=\"n/a\",$D38*$Y38,$G38)+IFERROR(IF(AND($V38<=AH$1,$W38>=AH$1),INDEX(Reliability!M$23:M$50,MATCH($T38,Reliability!$C$23:$C$50,0)),0),0)*$H38*$X38*$Y38),$D38)*$R38","v":6.0740000000000007},{"$f":"MIN((IFERROR(IF(AND($V38<=AI$1,$W38>=AI$1),INDEX(Reliability!N$23:N$50,MATCH($S38,Reliability!$C$23:$C$50,0)),0),0)*IF($T38=\"n/a\",$D38*$Y38,$G38)+IFERROR(IF(AND($V38<=AI$1,$W38>=AI$1),INDEX(Reliability!N$23:N$50,MATCH($T38,Reliability!$C$23:$C$50,0)),0),0)*$H38*$X38*$Y38),$D38)*$R38","v":5.386000000000001},{"$f":"MIN((IFERROR(IF(AND($V38<=AJ$1,$W38>=AJ$1),INDEX(Reliability!O$23:O$50,MATCH($S38,Reliability!$C$23:$C$50,0)),0),0)*IF($T38=\"n/a\",$D38*$Y38,$G38)+IFERROR(IF(AND($V38<=AJ$1,$W38>=AJ$1),INDEX(Reliability!O$23:O$50,MATCH($T38,Reliability!$C$23:$C$50,0)),0),0)*$H38*$X38*$Y38),$D38)*$R38","v":4.6980000000000013},{"$f":"MIN((IFERROR(IF(AND($V38<=AK$1,$W38>=AK$1),INDEX(Reliability!P$23:P$50,MATCH($S38,Reliability!$C$23:$C$50,0)),0),0)*IF($T38=\"n/a\",$D38*$Y38,$G38)+IFERROR(IF(AND($V38<=AK$1,$W38>=AK$1),INDEX(Reliability!P$23:P$50,MATCH($T38,Reliability!$C$23:$C$50,0)),0),0)*$H38*$X38*$Y38),$D38)*$R38","v":4.01}]
[null,{"$f":"unique_contracts!B39","v":"_EXISTING_GENERIC_BATTERY_STORAGE"},{"$f":"unique_contracts!D39","v":"Online"},{"$f":"unique_contracts!J39","v":4.0220000000000002},{"$f":"unique_contracts!M39","v":"NotHybrid"},{"$f":"unique_contracts!N39","v":"NA"},{"$f":"unique_contracts!P39","v":0},{"$f":"unique_contracts!R39","v":0},{"$f":"unique_contracts!V39","v":0},{"$f":"unique_contracts!AB39","v":"sell"},{"$f":"unique_contracts!AM39","v":2022},{"$f":"unique_contracts!AN39","v":3},{"$f":"unique_contracts!AO39","v":10},{"$f":"unique_contracts!AP39","v":2060},{"$f":"unique_contracts!AQ39","v":12},{"$f":"unique_contracts!AR39","v":31},{"$f":"unique_contracts!BP39","v":"CapacityOnly"},-1,{"$f":"IFERROR(IF(AND(I39>0,E39=\"NotHybrid\"),_xlfn.CONCAT(MAX(MIN(ROUNDDOWN(I39/D39,0),8),4),INDEX(resources!$G:$G,MATCH(B39,resources!$A:$A,0))),INDEX(resources!$G:$G,MATCH(B39,resources!$A:$A,0))),\"n/a\")","v":"hr_batteries"},"n/a","hr_batteries",2022,2060,1,0,{"$f":"MIN((IFERROR(IF(AND($V39<=Z$1,$W39>=Z$1),INDEX(Reliability!E$23:E$50,MATCH($S39,Reliability!$C$23:$C$50,0)),0),0)*IF($T39=\"n/a\",$D39*$Y39,$G39)+IFERROR(IF(AND($V39<=Z$1,$W39>=Z$1),INDEX(Reliability!E$23:E$50,MATCH($T39,Reliability!$C$23:$C$50,0)),0),0)*$H39*$X39*$Y39),$D39)*$R39","v":0},{"$f":"MIN((IFERROR(IF(AND($V39<=AA$1,$W39>=AA$1),INDEX(Reliability!F$23:F$50,MATCH($S39,Reliability!$C$23:$C$50,0)),0),0)*IF($T39=\"n/a\",$D39*$Y39,$G39)+IFERROR(IF(AND($V39<=AA$1,$W39>=AA$1),INDEX(Reliability!F$23:F$50,MATCH($T39,Reliability!$C$23:$C$50,0)),0),0)*$H39*$X39*$Y39),$D39)*$R39","v":0},{"$f":"MIN((IFERROR(IF(AND($V39<=AB$1,$W39>=AB$1),INDEX(Reliability!G$23:G$50,MATCH($S39,Reliability!$C$23:$C$50,0)),0),0)*IF($T39=\"n/a\",$D39*$Y39,$G39)+IFERROR(IF(AND($V39<=AB$1,$W39>=AB$1),INDEX(Reliability!G$23:G$50,MATCH($T39,Reliability!$C$23:$C$50,0)),0),0)*$H39*$X39*$Y39),$D39)*$R39","v":0},{"$f":"MIN((IFERROR(IF(AND($V39<=AC$1,$W39>=AC$1),INDEX(Reliability!H$23:H$50,MATCH($S39,Reliability!$C$23:$C$50,0)),0),0)*IF($T39=\"n/a\",$D39*$Y39,$G39)+IFERROR(IF(AND($V39<=AC$1,$W39>=AC$1),INDEX(Reliability!H$23:H$50,MATCH($T39,Reliability!$C$23:$C$50,0)),0),0)*$H39*$X39*$Y39),$D39)*$R39","v":0},{"$f":"MIN((IFERROR(IF(AND($V39<=AD$1,$W39>=AD$1),INDEX(Reliability!I$23:I$50,MATCH($S39,Reliability!$C$23:$C$50,0)),0),0)*IF($T39=\"n/a\",$D39*$Y39,$G39)+IFERROR(IF(AND($V39<=AD$1,$W39>=AD$1),INDEX(Reliability!I$23:I$50,MATCH($T39,Reliability!$C$23:$C$50,0)),0),0)*$H39*$X39*$Y39),$D39)*$R39","v":0},{"$f":"MIN((IFERROR(IF(AND($V39<=AE$1,$W39>=AE$1),INDEX(Reliability!J$23:J$50,MATCH($S39,Reliability!$C$23:$C$50,0)),0),0)*IF($T39=\"n/a\",$D39*$Y39,$G39)+IFERROR(IF(AND($V39<=AE$1,$W39>=AE$1),INDEX(Reliability!J$23:J$50,MATCH($T39,Reliability!$C$23:$C$50,0)),0),0)*$H39*$X39*$Y39),$D39)*$R39","v":0},{"$f":"MIN((IFERROR(IF(AND($V39<=AF$1,$W39>=AF$1),INDEX(Reliability!K$23:K$50,MATCH($S39,Reliability!$C$23:$C$50,0)),0),0)*IF($T39=\"n/a\",$D39*$Y39,$G39)+IFERROR(IF(AND($V39<=AF$1,$W39>=AF$1),INDEX(Reliability!K$23:K$50,MATCH($T39,Reliability!$C$23:$C$50,0)),0),0)*$H39*$X39*$Y39),$D39)*$R39","v":0},{"$f":"MIN((IFERROR(IF(AND($V39<=AG$1,$W39>=AG$1),INDEX(Reliability!L$23:L$50,MATCH($S39,Reliability!$C$23:$C$50,0)),0),0)*IF($T39=\"n/a\",$D39*$Y39,$G39)+IFERROR(IF(AND($V39<=AG$1,$W39>=AG$1),INDEX(Reliability!L$23:L$50,MATCH($T39,Reliability!$C$23:$C$50,0)),0),0)*$H39*$X39*$Y39),$D39)*$R39","v":0},{"$f":"MIN((IFERROR(IF(AND($V39<=AH$1,$W39>=AH$1),INDEX(Reliability!M$23:M$50,MATCH($S39,Reliability!$C$23:$C$50,0)),0),0)*IF($T39=\"n/a\",$D39*$Y39,$G39)+IFERROR(IF(AND($V39<=AH$1,$W39>=AH$1),INDEX(Reliability!M$23:M$50,MATCH($T39,Reliability!$C$23:$C$50,0)),0),0)*$H39*$X39*$Y39),$D39)*$R39","v":0},{"$f":"MIN((IFERROR(IF(AND($V39<=AI$1,$W39>=AI$1),INDEX(Reliability!N$23:N$50,MATCH($S39,Reliability!$C$23:$C$50,0)),0),0)*IF($T39=\"n/a\",$D39*$Y39,$G39)+IFERROR(IF(AND($V39<=AI$1,$W39>=AI$1),INDEX(Reliability!N$23:N$50,MATCH($T39,Reliability!$C$23:$C$50,0)),0),0)*$H39*$X39*$Y39),$D39)*$R39","v":0},{"$f":"MIN((IFERROR(IF(AND($V39<=AJ$1,$W39>=AJ$1),INDEX(Reliability!O$23:O$50,MATCH($S39,Reliability!$C$23:$C$50,0)),0),0)*IF($T39=\"n/a\",$D39*$Y39,$G39)+IFERROR(IF(AND($V39<=AJ$1,$W39>=AJ$1),INDEX(Reliability!O$23:O$50,MATCH($T39,Reliability!$C$23:$C$50,0)),0),0)*$H39*$X39*$Y39),$D39)*$R39","v":0},{"$f":"MIN((IFERROR(IF(AND($V39<=AK$1,$W39>=AK$1),INDEX(Reliability!P$23:P$50,MATCH($S39,Reliability!$C$23:$C$50,0)),0),0)*IF($T39=\"n/a\",$D39*$Y39,$G39)+IFERROR(IF(AND($V39<=AK$1,$W39>=AK$1),INDEX(Reliability!P$23:P$50,MATCH($T39,Reliability!$C$23:$C$50,0)),0),0)*$H39*$X39*$Y39),$D39)*$R39","v":0}]
[null,{"$f":"unique_contracts!B40","v":"KEARNY_6_SESBT2"},{"$f":"unique_contracts!D40","v":"Online"},{"$f":"unique_contracts!J40","v":10},{"$f":"unique_contracts!M40","v":"NotHybrid"},{"$f":"unique_contracts!N40","v":"NA"},{"$f":"unique_contracts!P40","v":0},{"$f":"unique_contracts!R40","v":0},{"$f":"unique_contracts!V40","v":40},{"$f":"unique_contracts!AB40","v":"Owned"},{"$f":"unique_contracts!AM40","v":2022},{"$f":"unique_contracts!AN40","v":3},{"$f":"unique_contracts!AO40","v":10},{"$f":"unique_contracts!AP40","v":2060},{"$f":"unique_contracts!AQ40","v":12},{"$f":"unique_contracts!AR40","v":31},{"$f":"unique_contracts!BP40","v":"EnergyCapacity"},1,{"$f":"IFERROR(IF(AND(I40>0,E40=\"NotHybrid\"),_xlfn.CONCAT(MAX(MIN(ROUNDDOWN(I40/D40,0),8),4),INDEX(resources!$G:$G,MATCH(B40,resources!$A:$A,0))),INDEX(resources!$G:$G,MATCH(B40,resources!$A:$A,0))),\"n/a\")","v":"4hr_batteries"},"n/a","4hr_batteries",2022,2060,1,1,{"$f":"MIN((IFERROR(IF(AND($V40<=Z$1,$W40>=Z$1),INDEX(Reliability!E$23:E$50,MATCH($S40,Reliability!$C$23:$C$50,0)),0),0)*IF($T40=\"n/a\",$D40*$Y40,$G40)+IFERROR(IF(AND($V40<=Z$1,$W40>=Z$1),INDEX(Reliability!E$23:E$50,MATCH($T40,Reliability!$C$23:$C$50,0)),0),0)*$H40*$X40*$Y40),$D40)*$R40","v":8.85},{"$f":"MIN((IFERROR(IF(AND($V40<=AA$1,$W40>=AA$1),INDEX(Reliability!F$23:F$50,MATCH($S40,Reliability!$C$23:$C$50,0)),0),0)*IF($T40=\"n/a\",$D40*$Y40,$G40)+IFERROR(IF(AND($V40<=AA$1,$W40>=AA$1),INDEX(Reliability!F$23:F$50,MATCH($T40,Reliability!$C$23:$C$50,0)),0),0)*$H40*$X40*$Y40),$D40)*$R40","v":9.0150000000000006},{"$f":"MIN((IFERROR(IF(AND($V40<=AB$1,$W40>=AB$1),INDEX(Reliability!G$23:G$50,MATCH($S40,Reliability!$C$23:$C$50,0)),0),0)*IF($T40=\"n/a\",$D40*$Y40,$G40)+IFERROR(IF(AND($V40<=AB$1,$W40>=AB$1),INDEX(Reliability!G$23:G$50,MATCH($T40,Reliability!$C$23:$C$50,0)),0),0)*$H40*$X40*$Y40),$D40)*$R40","v":9.18},{"$f":"MIN((IFERROR(IF(AND($V40<=AC$1,$W40>=AC$1),INDEX(Reliability!H$23:H$50,MATCH($S40,Reliability!$C$23:$C$50,0)),0),0)*IF($T40=\"n/a\",$D40*$Y40,$G40)+IFERROR(IF(AND($V40<=AC$1,$W40>=AC$1),INDEX(Reliability!H$23:H$50,MATCH($T40,Reliability!$C$23:$C$50,0)),0),0)*$H40*$X40*$Y40),$D40)*$R40","v":8.4550000000000001},{"$f":"MIN((IFERROR(IF(AND($V40<=AD$1,$W40>=AD$1),INDEX(Reliability!I$23:I$50,MATCH($S40,Reliability!$C$23:$C$50,0)),0),0)*IF($T40=\"n/a\",$D40*$Y40,$G40)+IFERROR(IF(AND($V40<=AD$1,$W40>=AD$1),INDEX(Reliability!I$23:I$50,MATCH($T40,Reliability!$C$23:$C$50,0)),0),0)*$H40*$X40*$Y40),$D40)*$R40","v":7.73},{"$f":"MIN((IFERROR(IF(AND($V40<=AE$1,$W40>=AE$1),INDEX(Reliability!J$23:J$50,MATCH($S40,Reliability!$C$23:$C$50,0)),0),0)*IF($T40=\"n/a\",$D40*$Y40,$G40)+IFERROR(IF(AND($V40<=AE$1,$W40>=AE$1),INDEX(Reliability!J$23:J$50,MATCH($T40,Reliability!$C$23:$C$50,0)),0),0)*$H40*$X40*$Y40),$D40)*$R40","v":7.59},{"$f":"MIN((IFERROR(IF(AND($V40<=AF$1,$W40>=AF$1),INDEX(Reliability!K$23:K$50,MATCH($S40,Reliability!$C$23:$C$50,0)),0),0)*IF($T40=\"n/a\",$D40*$Y40,$G40)+IFERROR(IF(AND($V40<=AF$1,$W40>=AF$1),INDEX(Reliability!K$23:K$50,MATCH($T40,Reliability!$C$23:$C$50,0)),0),0)*$H40*$X40*$Y40),$D40)*$R40","v":7.45},{"$f":"MIN((IFERROR(IF(AND($V40<=AG$1,$W40>=AG$1),INDEX(Reliability!L$23:L$50,MATCH($S40,Reliability!$C$23:$C$50,0)),0),0)*IF($T40=\"n/a\",$D40*$Y40,$G40)+IFERROR(IF(AND($V40<=AG$1,$W40>=AG$1),INDEX(Reliability!L$23:L$50,MATCH($T40,Reliability!$C$23:$C$50,0)),0),0)*$H40*$X40*$Y40),$D40)*$R40","v":6.7620000000000005},{"$f":"MIN((IFERROR(IF(AND($V40<=AH$1,$W40>=AH$1),INDEX(Reliability!M$23:M$50,MATCH($S40,Reliability!$C$23:$C$50,0)),0),0)*IF($T40=\"n/a\",$D40*$Y40,$G40)+IFERROR(IF(AND($V40<=AH$1,$W40>=AH$1),INDEX(Reliability!M$23:M$50,MATCH($T40,Reliability!$C$23:$C$50,0)),0),0)*$H40*$X40*$Y40),$D40)*$R40","v":6.0740000000000007},{"$f":"MIN((IFERROR(IF(AND($V40<=AI$1,$W40>=AI$1),INDEX(Reliability!N$23:N$50,MATCH($S40,Reliability!$C$23:$C$50,0)),0),0)*IF($T40=\"n/a\",$D40*$Y40,$G40)+IFERROR(IF(AND($V40<=AI$1,$W40>=AI$1),INDEX(Reliability!N$23:N$50,MATCH($T40,Reliability!$C$23:$C$50,0)),0),0)*$H40*$X40*$Y40),$D40)*$R40","v":5.386000000000001},{"$f":"MIN((IFERROR(IF(AND($V40<=AJ$1,$W40>=AJ$1),INDEX(Reliability!O$23:O$50,MATCH($S40,Reliability!$C$23:$C$50,0)),0),0)*IF($T40=\"n/a\",$D40*$Y40,$G40)+IFERROR(IF(AND($V40<=AJ$1,$W40>=AJ$1),INDEX(Reliability!O$23:O$50,MATCH($T40,Reliability!$C$23:$C$50,0)),0),0)*$H40*$X40*$Y40),$D40)*$R40","v":4.6980000000000013},{"$f":"MIN((IFERROR(IF(AND($V40<=AK$1,$W40>=AK$1),INDEX(Reliability!P$23:P$50,MATCH($S40,Reliability!$C$23:$C$50,0)),0),0)*IF($T40=\"n/a\",$D40*$Y40,$G40)+IFERROR(IF(AND($V40<=AK$1,$W40>=AK$1),INDEX(Reliability!P$23:P$50,MATCH($T40,Reliability!$C$23:$C$50,0)),0),0)*$H40*$X40*$Y40),$D40)*$R40","v":4.01}]
[null,{"$f":"unique_contracts!B41","v":"_EXISTING_GENERIC_BATTERY_STORAGE"},{"$f":"unique_contracts!D41","v":"Online"},{"$f":"unique_contracts!J41","v":4.0220000000000002},{"$f":"unique_contracts!M41","v":"NotHybrid"},{"$f":"unique_contracts!N41","v":"NA"},{"$f":"unique_contracts!P41","v":0},{"$f":"unique_contracts!R41","v":0},{"$f":"unique_contracts!V41","v":0},{"$f":"unique_contracts!AB41","v":"sell"},{"$f":"unique_contracts!AM41","v":2022},{"$f":"unique_contracts!AN41","v":3},{"$f":"unique_contracts!AO41","v":10},{"$f":"unique_contracts!AP41","v":2060},{"$f":"unique_contracts!AQ41","v":12},{"$f":"unique_contracts!AR41","v":31},{"$f":"unique_contracts!BP41","v":"CapacityOnly"},-1,{"$f":"IFERROR(IF(AND(I41>0,E41=\"NotHybrid\"),_xlfn.CONCAT(MAX(MIN(ROUNDDOWN(I41/D41,0),8),4),INDEX(resources!$G:$G,MATCH(B41,resources!$A:$A,0))),INDEX(resources!$G:$G,MATCH(B41,resources!$A:$A,0))),\"n/a\")","v":"hr_batteries"},"n/a","hr_batteries",2022,2060,1,0,{"$f":"MIN((IFERROR(IF(AND($V41<=Z$1,$W41>=Z$1),INDEX(Reliability!E$23:E$50,MATCH($S41,Reliability!$C$23:$C$50,0)),0),0)*IF($T41=\"n/a\",$D41*$Y41,$G41)+IFERROR(IF(AND($V41<=Z$1,$W41>=Z$1),INDEX(Reliability!E$23:E$50,MATCH($T41,Reliability!$C$23:$C$50,0)),0),0)*$H41*$X41*$Y41),$D41)*$R41","v":0},{"$f":"MIN((IFERROR(IF(AND($V41<=AA$1,$W41>=AA$1),INDEX(Reliability!F$23:F$50,MATCH($S41,Reliability!$C$23:$C$50,0)),0),0)*IF($T41=\"n/a\",$D41*$Y41,$G41)+IFERROR(IF(AND($V41<=AA$1,$W41>=AA$1),INDEX(Reliability!F$23:F$50,MATCH($T41,Reliability!$C$23:$C$50,0)),0),0)*$H41*$X41*$Y41),$D41)*$R41","v":0},{"$f":"MIN((IFERROR(IF(AND($V41<=AB$1,$W41>=AB$1),INDEX(Reliability!G$23:G$50,MATCH($S41,Reliability!$C$23:$C$50,0)),0),0)*IF($T41=\"n/a\",$D41*$Y41,$G41)+IFERROR(IF(AND($V41<=AB$1,$W41>=AB$1),INDEX(Reliability!G$23:G$50,MATCH($T41,Reliability!$C$23:$C$50,0)),0),0)*$H41*$X41*$Y41),$D41)*$R41","v":0},{"$f":"MIN((IFERROR(IF(AND($V41<=AC$1,$W41>=AC$1),INDEX(Reliability!H$23:H$50,MATCH($S41,Reliability!$C$23:$C$50,0)),0),0)*IF($T41=\"n/a\",$D41*$Y41,$G41)+IFERROR(IF(AND($V41<=AC$1,$W41>=AC$1),INDEX(Reliability!H$23:H$50,MATCH($T41,Reliability!$C$23:$C$50,0)),0),0)*$H41*$X41*$Y41),$D41)*$R41","v":0},{"$f":"MIN((IFERROR(IF(AND($V41<=AD$1,$W41>=AD$1),INDEX(Reliability!I$23:I$50,MATCH($S41,Reliability!$C$23:$C$50,0)),0),0)*IF($T41=\"n/a\",$D41*$Y41,$G41)+IFERROR(IF(AND($V41<=AD$1,$W41>=AD$1),INDEX(Reliability!I$23:I$50,MATCH($T41,Reliability!$C$23:$C$50,0)),0),0)*$H41*$X41*$Y41),$D41)*$R41","v":0},{"$f":"MIN((IFERROR(IF(AND($V41<=AE$1,$W41>=AE$1),INDEX(Reliability!J$23:J$50,MATCH($S41,Reliability!$C$23:$C$50,0)),0),0)*IF($T41=\"n/a\",$D41*$Y41,$G41)+IFERROR(IF(AND($V41<=AE$1,$W41>=AE$1),INDEX(Reliability!J$23:J$50,MATCH($T41,Reliability!$C$23:$C$50,0)),0),0)*$H41*$X41*$Y41),$D41)*$R41","v":0},{"$f":"MIN((IFERROR(IF(AND($V41<=AF$1,$W41>=AF$1),INDEX(Reliability!K$23:K$50,MATCH($S41,Reliability!$C$23:$C$50,0)),0),0)*IF($T41=\"n/a\",$D41*$Y41,$G41)+IFERROR(IF(AND($V41<=AF$1,$W41>=AF$1),INDEX(Reliability!K$23:K$50,MATCH($T41,Reliability!$C$23:$C$50,0)),0),0)*$H41*$X41*$Y41),$D41)*$R41","v":0},{"$f":"MIN((IFERROR(IF(AND($V41<=AG$1,$W41>=AG$1),INDEX(Reliability!L$23:L$50,MATCH($S41,Reliability!$C$23:$C$50,0)),0),0)*IF($T41=\"n/a\",$D41*$Y41,$G41)+IFERROR(IF(AND($V41<=AG$1,$W41>=AG$1),INDEX(Reliability!L$23:L$50,MATCH($T41,Reliability!$C$23:$C$50,0)),0),0)*$H41*$X41*$Y41),$D41)*$R41","v":0},{"$f":"MIN((IFERROR(IF(AND($V41<=AH$1,$W41>=AH$1),INDEX(Reliability!M$23:M$50,MATCH($S41,Reliability!$C$23:$C$50,0)),0),0)*IF($T41=\"n/a\",$D41*$Y41,$G41)+IFERROR(IF(AND($V41<=AH$1,$W41>=AH$1),INDEX(Reliability!M$23:M$50,MATCH($T41,Reliability!$C$23:$C$50,0)),0),0)*$H41*$X41*$Y41),$D41)*$R41","v":0},{"$f":"MIN((IFERROR(IF(AND($V41<=AI$1,$W41>=AI$1),INDEX(Reliability!N$23:N$50,MATCH($S41,Reliability!$C$23:$C$50,0)),0),0)*IF($T41=\"n/a\",$D41*$Y41,$G41)+IFERROR(IF(AND($V41<=AI$1,$W41>=AI$1),INDEX(Reliability!N$23:N$50,MATCH($T41,Reliability!$C$23:$C$50,0)),0),0)*$H41*$X41*$Y41),$D41)*$R41","v":0},{"$f":"MIN((IFERROR(IF(AND($V41<=AJ$1,$W41>=AJ$1),INDEX(Reliability!O$23:O$50,MATCH($S41,Reliability!$C$23:$C$50,0)),0),0)*IF($T41=\"n/a\",$D41*$Y41,$G41)+IFERROR(IF(AND($V41<=AJ$1,$W41>=AJ$1),INDEX(Reliability!O$23:O$50,MATCH($T41,Reliability!$C$23:$C$50,0)),0),0)*$H41*$X41*$Y41),$D41)*$R41","v":0},{"$f":"MIN((IFERROR(IF(AND($V41<=AK$1,$W41>=AK$1),INDEX(Reliability!P$23:P$50,MATCH($S41,Reliability!$C$23:$C$50,0)),0),0)*IF($T41=\"n/a\",$D41*$Y41,$G41)+IFERROR(IF(AND($V41<=AK$1,$W41>=AK$1),INDEX(Reliability!P$23:P$50,MATCH($T41,Reliability!$C$23:$C$50,0)),0),0)*$H41*$X41*$Y41),$D41)*$R41","v":0}]
[null,{"$f":"unique_contracts!B42","v":"SAMPSN_6_KELCO1"},{"$f":"unique_contracts!D42","v":"Online"},{"$f":"unique_contracts!J42","v":25},{"$f":"unique_contracts!M42","v":"NotHybrid"},{"$f":"unique_contracts!N42","v":"NA"},{"$f":"unique_contracts!P42","v":0},{"$f":"unique_contracts!R42","v":0},{"$f":"unique_contracts!V42","v":0},{"$f":"unique_contracts!AB42","v":0},{"$f":"unique_contracts!AM42","v":2017},{"$f":"unique_contracts!AN42","v":6},{"$f":"unique_contracts!AO42","v":1},{"$f":"unique_contracts!AP42","v":2024},{"$f":"unique_contracts!AQ42","v":5},{"$f":"unique_contracts!AR42","v":31},{"$f":"unique_contracts!BP42","v":"EnergyCapacity"},1,{"$f":"IFERROR(IF(AND(I42>0,E42=\"NotHybrid\"),_xlfn.CONCAT(MAX(MIN(ROUNDDOWN(I42/D42,0),8),4),INDEX(resources!$G:$G,MATCH(B42,resources!$A:$A,0))),INDEX(resources!$G:$G,MATCH(B42,resources!$A:$A,0))),\"n/a\")","v":"cogen"},"n/a","cogen",2017,2023,1,1,{"$f":"MIN((IFERROR(IF(AND($V42<=Z$1,$W42>=Z$1),INDEX(Reliability!E$23:E$50,MATCH($S42,Reliability!$C$23:$C$50,0)),0),0)*IF($T42=\"n/a\",$D42*$Y42,$G42)+IFERROR(IF(AND($V42<=Z$1,$W42>=Z$1),INDEX(Reliability!E$23:E$50,MATCH($T42,Reliability!$C$23:$C$50,0)),0),0)*$H42*$X42*$Y42),$D42)*$R42","v":0},{"$f":"MIN((IFERROR(IF(AND($V42<=AA$1,$W42>=AA$1),INDEX(Reliability!F$23:F$50,MATCH($S42,Reliability!$C$23:$C$50,0)),0),0)*IF($T42=\"n/a\",$D42*$Y42,$G42)+IFERROR(IF(AND($V42<=AA$1,$W42>=AA$1),INDEX(Reliability!F$23:F$50,MATCH($T42,Reliability!$C$23:$C$50,0)),0),0)*$H42*$X42*$Y42),$D42)*$R42","v":0},{"$f":"MIN((IFERROR(IF(AND($V42<=AB$1,$W42>=AB$1),INDEX(Reliability!G$23:G$50,MATCH($S42,Reliability!$C$23:$C$50,0)),0),0)*IF($T42=\"n/a\",$D42*$Y42,$G42)+IFERROR(IF(AND($V42<=AB$1,$W42>=AB$1),INDEX(Reliability!G$23:G$50,MATCH($T42,Reliability!$C$23:$C$50,0)),0),0)*$H42*$X42*$Y42),$D42)*$R42","v":0},{"$f":"MIN((IFERROR(IF(AND($V42<=AC$1,$W42>=AC$1),INDEX(Reliability!H$23:H$50,MATCH($S42,Reliability!$C$23:$C$50,0)),0),0)*IF($T42=\"n/a\",$D42*$Y42,$G42)+IFERROR(IF(AND($V42<=AC$1,$W42>=AC$1),INDEX(Reliability!H$23:H$50,MATCH($T42,Reliability!$C$23:$C$50,0)),0),0)*$H42*$X42*$Y42),$D42)*$R42","v":0},{"$f":"MIN((IFERROR(IF(AND($V42<=AD$1,$W42>=AD$1),INDEX(Reliability!I$23:I$50,MATCH($S42,Reliability!$C$23:$C$50,0)),0),0)*IF($T42=\"n/a\",$D42*$Y42,$G42)+IFERROR(IF(AND($V42<=AD$1,$W42>=AD$1),INDEX(Reliability!I$23:I$50,MATCH($T42,Reliability!$C$23:$C$50,0)),0),0)*$H42*$X42*$Y42),$D42)*$R42","v":0},{"$f":"MIN((IFERROR(IF(AND($V42<=AE$1,$W42>=AE$1),INDEX(Reliability!J$23:J$50,MATCH($S42,Reliability!$C$23:$C$50,0)),0),0)*IF($T42=\"n/a\",$D42*$Y42,$G42)+IFERROR(IF(AND($V42<=AE$1,$W42>=AE$1),INDEX(Reliability!J$23:J$50,MATCH($T42,Reliability!$C$23:$C$50,0)),0),0)*$H42*$X42*$Y42),$D42)*$R42","v":0},{"$f":"MIN((IFERROR(IF(AND($V42<=AF$1,$W42>=AF$1),INDEX(Reliability!K$23:K$50,MATCH($S42,Reliability!$C$23:$C$50,0)),0),0)*IF($T42=\"n/a\",$D42*$Y42,$G42)+IFERROR(IF(AND($V42<=AF$1,$W42>=AF$1),INDEX(Reliability!K$23:K$50,MATCH($T42,Reliability!$C$23:$C$50,0)),0),0)*$H42*$X42*$Y42),$D42)*$R42","v":0},{"$f":"MIN((IFERROR(IF(AND($V42<=AG$1,$W42>=AG$1),INDEX(Reliability!L$23:L$50,MATCH($S42,Reliability!$C$23:$C$50,0)),0),0)*IF($T42=\"n/a\",$D42*$Y42,$G42)+IFERROR(IF(AND($V42<=AG$1,$W42>=AG$1),INDEX(Reliability!L$23:L$50,MATCH($T42,Reliability!$C$23:$C$50,0)),0),0)*$H42*$X42*$Y42),$D42)*$R42","v":0},{"$f":"MIN((IFERROR(IF(AND($V42<=AH$1,$W42>=AH$1),INDEX(Reliability!M$23:M$50,MATCH($S42,Reliability!$C$23:$C$50,0)),0),0)*IF($T42=\"n/a\",$D42*$Y42,$G42)+IFERROR(IF(AND($V42<=AH$1,$W42>=AH$1),INDEX(Reliability!M$23:M$50,MATCH($T42,Reliability!$C$23:$C$50,0)),0),0)*$H42*$X42*$Y42),$D42)*$R42","v":0},{"$f":"MIN((IFERROR(IF(AND($V42<=AI$1,$W42>=AI$1),INDEX(Reliability!N$23:N$50,MATCH($S42,Reliability!$C$23:$C$50,0)),0),0)*IF($T42=\"n/a\",$D42*$Y42,$G42)+IFERROR(IF(AND($V42<=AI$1,$W42>=AI$1),INDEX(Reliability!N$23:N$50,MATCH($T42,Reliability!$C$23:$C$50,0)),0),0)*$H42*$X42*$Y42),$D42)*$R42","v":0},{"$f":"MIN((IFERROR(IF(AND($V42<=AJ$1,$W42>=AJ$1),INDEX(Reliability!O$23:O$50,MATCH($S42,Reliability!$C$23:$C$50,0)),0),0)*IF($T42=\"n/a\",$D42*$Y42,$G42)+IFERROR(IF(AND($V42<=AJ$1,$W42>=AJ$1),INDEX(Reliability!O$23:O$50,MATCH($T42,Reliability!$C$23:$C$50,0)),0),0)*$H42*$X42*$Y42),$D42)*$R42","v":0},{"$f":"MIN((IFERROR(IF(AND($V42<=AK$1,$W42>=AK$1),INDEX(Reliability!P$23:P$50,MATCH($S42,Reliability!$C$23:$C$50,0)),0),0)*IF($T42=\"n/a\",$D42*$Y42,$G42)+IFERROR(IF(AND($V42<=AK$1,$W42>=AK$1),INDEX(Reliability!P$23:P$50,MATCH($T42,Reliability!$C$23:$C$50,0)),0),0)*$H42*$X42*$Y42),$D42)*$R42","v":0}]
[null,{"$f":"unique_contracts!B43","v":"_EXISTING_GENERIC_COGEN"},{"$f":"unique_contracts!D43","v":"Online"},{"$f":"unique_contracts!J43","v":18.95},{"$f":"unique_contracts!M43","v":"NotHybrid"},{"$f":"unique_contracts!N43","v":"NA"},{"$f":"unique_contracts!P43","v":0},{"$f":"unique_contracts!R43","v":0},{"$f":"unique_contracts!V43","v":0},{"$f":"unique_contracts!AB43","v":"sell"},{"$f":"unique_contracts!AM43","v":2017},{"$f":"unique_contracts!AN43","v":6},{"$f":"unique_contracts!AO43","v":1},{"$f":"unique_contracts!AP43","v":2024},{"$f":"unique_contracts!AQ43","v":5},{"$f":"unique_contracts!AR43","v":31},{"$f":"unique_contracts!BP43","v":"EnergyCapacity"},-1,{"$f":"IFERROR(IF(AND(I43>0,E43=\"NotHybrid\"),_xlfn.CONCAT(MAX(MIN(ROUNDDOWN(I43/D43,0),8),4),INDEX(resources!$G:$G,MATCH(B43,resources!$A:$A,0))),INDEX(resources!$G:$G,MATCH(B43,resources!$A:$A,0))),\"n/a\")","v":"cogen"},"n/a","cogen",2017,2023,1,1,{"$f":"MIN((IFERROR(IF(AND($V43<=Z$1,$W43>=Z$1),INDEX(Reliability!E$23:E$50,MATCH($S43,Reliability!$C$23:$C$50,0)),0),0)*IF($T43=\"n/a\",$D43*$Y43,$G43)+IFERROR(IF(AND($V43<=Z$1,$W43>=Z$1),INDEX(Reliability!E$23:E$50,MATCH($T43,Reliability!$C$23:$C$50,0)),0),0)*$H43*$X43*$Y43),$D43)*$R43","v":0},{"$f":"MIN((IFERROR(IF(AND($V43<=AA$1,$W43>=AA$1),INDEX(Reliability!F$23:F$50,MATCH($S43,Reliability!$C$23:$C$50,0)),0),0)*IF($T43=\"n/a\",$D43*$Y43,$G43)+IFERROR(IF(AND($V43<=AA$1,$W43>=AA$1),INDEX(Reliability!F$23:F$50,MATCH($T43,Reliability!$C$23:$C$50,0)),0),0)*$H43*$X43*$Y43),$D43)*$R43","v":0},{"$f":"MIN((IFERROR(IF(AND($V43<=AB$1,$W43>=AB$1),INDEX(Reliability!G$23:G$50,MATCH($S43,Reliability!$C$23:$C$50,0)),0),0)*IF($T43=\"n/a\",$D43*$Y43,$G43)+IFERROR(IF(AND($V43<=AB$1,$W43>=AB$1),INDEX(Reliability!G$23:G$50,MATCH($T43,Reliability!$C$23:$C$50,0)),0),0)*$H43*$X43*$Y43),$D43)*$R43","v":0},{"$f":"MIN((IFERROR(IF(AND($V43<=AC$1,$W43>=AC$1),INDEX(Reliability!H$23:H$50,MATCH($S43,Reliability!$C$23:$C$50,0)),0),0)*IF($T43=\"n/a\",$D43*$Y43,$G43)+IFERROR(IF(AND($V43<=AC$1,$W43>=AC$1),INDEX(Reliability!H$23:H$50,MATCH($T43,Reliability!$C$23:$C$50,0)),0),0)*$H43*$X43*$Y43),$D43)*$R43","v":0},{"$f":"MIN((IFERROR(IF(AND($V43<=AD$1,$W43>=AD$1),INDEX(Reliability!I$23:I$50,MATCH($S43,Reliability!$C$23:$C$50,0)),0),0)*IF($T43=\"n/a\",$D43*$Y43,$G43)+IFERROR(IF(AND($V43<=AD$1,$W43>=AD$1),INDEX(Reliability!I$23:I$50,MATCH($T43,Reliability!$C$23:$C$50,0)),0),0)*$H43*$X43*$Y43),$D43)*$R43","v":0},{"$f":"MIN((IFERROR(IF(AND($V43<=AE$1,$W43>=AE$1),INDEX(Reliability!J$23:J$50,MATCH($S43,Reliability!$C$23:$C$50,0)),0),0)*IF($T43=\"n/a\",$D43*$Y43,$G43)+IFERROR(IF(AND($V43<=AE$1,$W43>=AE$1),INDEX(Reliability!J$23:J$50,MATCH($T43,Reliability!$C$23:$C$50,0)),0),0)*$H43*$X43*$Y43),$D43)*$R43","v":0},{"$f":"MIN((IFERROR(IF(AND($V43<=AF$1,$W43>=AF$1),INDEX(Reliability!K$23:K$50,MATCH($S43,Reliability!$C$23:$C$50,0)),0),0)*IF($T43=\"n/a\",$D43*$Y43,$G43)+IFERROR(IF(AND($V43<=AF$1,$W43>=AF$1),INDEX(Reliability!K$23:K$50,MATCH($T43,Reliability!$C$23:$C$50,0)),0),0)*$H43*$X43*$Y43),$D43)*$R43","v":0},{"$f":"MIN((IFERROR(IF(AND($V43<=AG$1,$W43>=AG$1),INDEX(Reliability!L$23:L$50,MATCH($S43,Reliability!$C$23:$C$50,0)),0),0)*IF($T43=\"n/a\",$D43*$Y43,$G43)+IFERROR(IF(AND($V43<=AG$1,$W43>=AG$1),INDEX(Reliability!L$23:L$50,MATCH($T43,Reliability!$C$23:$C$50,0)),0),0)*$H43*$X43*$Y43),$D43)*$R43","v":0},{"$f":"MIN((IFERROR(IF(AND($V43<=AH$1,$W43>=AH$1),INDEX(Reliability!M$23:M$50,MATCH($S43,Reliability!$C$23:$C$50,0)),0),0)*IF($T43=\"n/a\",$D43*$Y43,$G43)+IFERROR(IF(AND($V43<=AH$1,$W43>=AH$1),INDEX(Reliability!M$23:M$50,MATCH($T43,Reliability!$C$23:$C$50,0)),0),0)*$H43*$X43*$Y43),$D43)*$R43","v":0},{"$f":"MIN((IFERROR(IF(AND($V43<=AI$1,$W43>=AI$1),INDEX(Reliability!N$23:N$50,MATCH($S43,Reliability!$C$23:$C$50,0)),0),0)*IF($T43=\"n/a\",$D43*$Y43,$G43)+IFERROR(IF(AND($V43<=AI$1,$W43>=AI$1),INDEX(Reliability!N$23:N$50,MATCH($T43,Reliability!$C$23:$C$50,0)),0),0)*$H43*$X43*$Y43),$D43)*$R43","v":0},{"$f":"MIN((IFERROR(IF(AND($V43<=AJ$1,$W43>=AJ$1),INDEX(Reliability!O$23:O$50,MATCH($S43,Reliability!$C$23:$C$50,0)),0),0)*IF($T43=\"n/a\",$D43*$Y43,$G43)+IFERROR(IF(AND($V43<=AJ$1,$W43>=AJ$1),INDEX(Reliability!O$23:O$50,MATCH($T43,Reliability!$C$23:$C$50,0)),0),0)*$H43*$X43*$Y43),$D43)*$R43","v":0},{"$f":"MIN((IFERROR(IF(AND($V43<=AK$1,$W43>=AK$1),INDEX(Reliability!P$23:P$50,MATCH($S43,Reliability!$C$23:$C$50,0)),0),0)*IF($T43=\"n/a\",$D43*$Y43,$G43)+IFERROR(IF(AND($V43<=AK$1,$W43>=AK$1),INDEX(Reliability!P$23:P$50,MATCH($T43,Reliability!$C$23:$C$50,0)),0),0)*$H43*$X43*$Y43),$D43)*$R43","v":0}]
[null,{"$f":"unique_contracts!B44","v":"LAKHDG_6_UNIT 1"},{"$f":"unique_contracts!D44","v":"Online"},{"$f":"unique_contracts!J44","v":20},{"$f":"unique_contracts!M44","v":"NotHybrid"},{"$f":"unique_contracts!N44","v":"NA"},{"$f":"unique_contracts!P44","v":0},{"$f":"unique_contracts!R44","v":0},{"$f":"unique_contracts!V44","v":0},{"$f":"unique_contracts!AB44","v":0},{"$f":"unique_contracts!AM44","v":2012},{"$f":"unique_contracts!AN44","v":8},{"$f":"unique_contracts!AO44","v":27},{"$f":"unique_contracts!AP44","v":2037},{"$f":"unique_contracts!AQ44","v":8},{"$f":"unique_contracts!AR44","v":26},{"$f":"unique_contracts!BP44","v":"EnergyCapacity"},1,{"$f":"IFERROR(IF(AND(I44>0,E44=\"NotHybrid\"),_xlfn.CONCAT(MAX(MIN(ROUNDDOWN(I44/D44,0),8),4),INDEX(resources!$G:$G,MATCH(B44,resources!$A:$A,0))),INDEX(resources!$G:$G,MATCH(B44,resources!$A:$A,0))),\"n/a\")","v":"pumped_storage"},"n/a","pumped_storage",2013,2036,1,1,{"$f":"MIN((IFERROR(IF(AND($V44<=Z$1,$W44>=Z$1),INDEX(Reliability!E$23:E$50,MATCH($S44,Reliability!$C$23:$C$50,0)),0),0)*IF($T44=\"n/a\",$D44*$Y44,$G44)+IFERROR(IF(AND($V44<=Z$1,$W44>=Z$1),INDEX(Reliability!E$23:E$50,MATCH($T44,Reliability!$C$23:$C$50,0)),0),0)*$H44*$X44*$Y44),$D44)*$R44","v":17.88},{"$f":"MIN((IFERROR(IF(AND($V44<=AA$1,$W44>=AA$1),INDEX(Reliability!F$23:F$50,MATCH($S44,Reliability!$C$23:$C$50,0)),0),0)*IF($T44=\"n/a\",$D44*$Y44,$G44)+IFERROR(IF(AND($V44<=AA$1,$W44>=AA$1),INDEX(Reliability!F$23:F$50,MATCH($T44,Reliability!$C$23:$C$50,0)),0),0)*$H44*$X44*$Y44),$D44)*$R44","v":18.28},{"$f":"MIN((IFERROR(IF(AND($V44<=AB$1,$W44>=AB$1),INDEX(Reliability!G$23:G$50,MATCH($S44,Reliability!$C$23:$C$50,0)),0),0)*IF($T44=\"n/a\",$D44*$Y44,$G44)+IFERROR(IF(AND($V44<=AB$1,$W44>=AB$1),INDEX(Reliability!G$23:G$50,MATCH($T44,Reliability!$C$23:$C$50,0)),0),0)*$H44*$X44*$Y44),$D44)*$R44","v":18.68},{"$f":"MIN((IFERROR(IF(AND($V44<=AC$1,$W44>=AC$1),INDEX(Reliability!H$23:H$50,MATCH($S44,Reliability!$C$23:$C$50,0)),0),0)*IF($T44=\"n/a\",$D44*$Y44,$G44)+IFERROR(IF(AND($V44<=AC$1,$W44>=AC$1),INDEX(Reliability!H$23:H$50,MATCH($T44,Reliability!$C$23:$C$50,0)),0),0)*$H44*$X44*$Y44),$D44)*$R44","v":18.260000000000002},{"$f":"MIN((IFERROR(IF(AND($V44<=AD$1,$W44>=AD$1),INDEX(Reliability!I$23:I$50,MATCH($S44,Reliability!$C$23:$C$50,0)),0),0)*IF($T44=\"n/a\",$D44*$Y44,$G44)+IFERROR(IF(AND($V44<=AD$1,$W44>=AD$1),INDEX(Reliability!I$23:I$50,MATCH($T44,Reliability!$C$23:$C$50,0)),0),0)*$H44*$X44*$Y44),$D44)*$R44","v":17.84},{"$f":"MIN((IFERROR(IF(AND($V44<=AE$1,$W44>=AE$1),INDEX(Reliability!J$23:J$50,MATCH($S44,Reliability!$C$23:$C$50,0)),0),0)*IF($T44=\"n/a\",$D44*$Y44,$G44)+IFERROR(IF(AND($V44<=AE$1,$W44>=AE$1),INDEX(Reliability!J$23:J$50,MATCH($T44,Reliability!$C$23:$C$50,0)),0),0)*$H44*$X44*$Y44),$D44)*$R44","v":17.810000000000002},{"$f":"MIN((IFERROR(IF(AND($V44<=AF$1,$W44>=AF$1),INDEX(Reliability!K$23:K$50,MATCH($S44,Reliability!$C$23:$C$50,0)),0),0)*IF($T44=\"n/a\",$D44*$Y44,$G44)+IFERROR(IF(AND($V44<=AF$1,$W44>=AF$1),INDEX(Reliability!K$23:K$50,MATCH($T44,Reliability!$C$23:$C$50,0)),0),0)*$H44*$X44*$Y44),$D44)*$R44","v":17.78},{"$f":"MIN((IFERROR(IF(AND($V44<=AG$1,$W44>=AG$1),INDEX(Reliability!L$23:L$50,MATCH($S44,Reliability!$C$23:$C$50,0)),0),0)*IF($T44=\"n/a\",$D44*$Y44,$G44)+IFERROR(IF(AND($V44<=AG$1,$W44>=AG$1),INDEX(Reliability!L$23:L$50,MATCH($T44,Reliability!$C$23:$C$50,0)),0),0)*$H44*$X44*$Y44),$D44)*$R44","v":17.155999999999999},{"$f":"MIN((IFERROR(IF(AND($V44<=AH$1,$W44>=AH$1),INDEX(Reliability!M$23:M$50,MATCH($S44,Reliability!$C$23:$C$50,0)),0),0)*IF($T44=\"n/a\",$D44*$Y44,$G44)+IFERROR(IF(AND($V44<=AH$1,$W44>=AH$1),INDEX(Reliability!M$23:M$50,MATCH($T44,Reliability!$C$23:$C$50,0)),0),0)*$H44*$X44*$Y44),$D44)*$R44","v":16.532},{"$f":"MIN((IFERROR(IF(AND($V44<=AI$1,$W44>=AI$1),INDEX(Reliability!N$23:N$50,MATCH($S44,Reliability!$C$23:$C$50,0)),0),0)*IF($T44=\"n/a\",$D44*$Y44,$G44)+IFERROR(IF(AND($V44<=AI$1,$W44>=AI$1),INDEX(Reliability!N$23:N$50,MATCH($T44,Reliability!$C$23:$C$50,0)),0),0)*$H44*$X44*$Y44),$D44)*$R44","v":15.907999999999999},{"$f":"MIN((IFERROR(IF(AND($V44<=AJ$1,$W44>=AJ$1),INDEX(Reliability!O$23:O$50,MATCH($S44,Reliability!$C$23:$C$50,0)),0),0)*IF($T44=\"n/a\",$D44*$Y44,$G44)+IFERROR(IF(AND($V44<=AJ$1,$W44>=AJ$1),INDEX(Reliability!O$23:O$50,MATCH($T44,Reliability!$C$23:$C$50,0)),0),0)*$H44*$X44*$Y44),$D44)*$R44","v":15.283999999999999},{"$f":"MIN((IFERROR(IF(AND($V44<=AK$1,$W44>=AK$1),INDEX(Reliability!P$23:P$50,MATCH($S44,Reliability!$C$23:$C$50,0)),0),0)*IF($T44=\"n/a\",$D44*$Y44,$G44)+IFERROR(IF(AND($V44<=AK$1,$W44>=AK$1),INDEX(Reliability!P$23:P$50,MATCH($T44,Reliability!$C$23:$C$50,0)),0),0)*$H44*$X44*$Y44),$D44)*$R44","v":14.66}]
[null,{"$f":"unique_contracts!B45","v":"LAKHDG_6_UNIT 2"},{"$f":"unique_contracts!D45","v":"Online"},{"$f":"unique_contracts!J45","v":20},{"$f":"unique_contracts!M45","v":"NotHybrid"},{"$f":"unique_contracts!N45","v":"NA"},{"$f":"unique_contracts!P45","v":0},{"$f":"unique_contracts!R45","v":0},{"$f":"unique_contracts!V45","v":0},{"$f":"unique_contracts!AB45","v":0},{"$f":"unique_contracts!AM45","v":2012},{"$f":"unique_contracts!AN45","v":8},{"$f":"unique_contracts!AO45","v":27},{"$f":"unique_contracts!AP45","v":2037},{"$f":"unique_contracts!AQ45","v":8},{"$f":"unique_contracts!AR45","v":26},{"$f":"unique_contracts!BP45","v":"EnergyCapacity"},1,{"$f":"IFERROR(IF(AND(I45>0,E45=\"NotHybrid\"),_xlfn.CONCAT(MAX(MIN(ROUNDDOWN(I45/D45,0),8),4),INDEX(resources!$G:$G,MATCH(B45,resources!$A:$A,0))),INDEX(resources!$G:$G,MATCH(B45,resources!$A:$A,0))),\"n/a\")","v":"pumped_storage"},"n/a","pumped_storage",2013,2036,1,1,{"$f":"MIN((IFERROR(IF(AND($V45<=Z$1,$W45>=Z$1),INDEX(Reliability!E$23:E$50,MATCH($S45,Reliability!$C$23:$C$50,0)),0),0)*IF($T45=\"n/a\",$D45*$Y45,$G45)+IFERROR(IF(AND($V45<=Z$1,$W45>=Z$1),INDEX(Reliability!E$23:E$50,MATCH($T45,Reliability!$C$23:$C$50,0)),0),0)*$H45*$X45*$Y45),$D45)*$R45","v":17.88},{"$f":"MIN((IFERROR(IF(AND($V45<=AA$1,$W45>=AA$1),INDEX(Reliability!F$23:F$50,MATCH($S45,Reliability!$C$23:$C$50,0)),0),0)*IF($T45=\"n/a\",$D45*$Y45,$G45)+IFERROR(IF(AND($V45<=AA$1,$W45>=AA$1),INDEX(Reliability!F$23:F$50,MATCH($T45,Reliability!$C$23:$C$50,0)),0),0)*$H45*$X45*$Y45),$D45)*$R45","v":18.28},{"$f":"MIN((IFERROR(IF(AND($V45<=AB$1,$W45>=AB$1),INDEX(Reliability!G$23:G$50,MATCH($S45,Reliability!$C$23:$C$50,0)),0),0)*IF($T45=\"n/a\",$D45*$Y45,$G45)+IFERROR(IF(AND($V45<=AB$1,$W45>=AB$1),INDEX(Reliability!G$23:G$50,MATCH($T45,Reliability!$C$23:$C$50,0)),0),0)*$H45*$X45*$Y45),$D45)*$R45","v":18.68},{"$f":"MIN((IFERROR(IF(AND($V45<=AC$1,$W45>=AC$1),INDEX(Reliability!H$23:H$50,MATCH($S45,Reliability!$C$23:$C$50,0)),0),0)*IF($T45=\"n/a\",$D45*$Y45,$G45)+IFERROR(IF(AND($V45<=AC$1,$W45>=AC$1),INDEX(Reliability!H$23:H$50,MATCH($T45,Reliability!$C$23:$C$50,0)),0),0)*$H45*$X45*$Y45),$D45)*$R45","v":18.260000000000002},{"$f":"MIN((IFERROR(IF(AND($V45<=AD$1,$W45>=AD$1),INDEX(Reliability!I$23:I$50,MATCH($S45,Reliability!$C$23:$C$50,0)),0),0)*IF($T45=\"n/a\",$D45*$Y45,$G45)+IFERROR(IF(AND($V45<=AD$1,$W45>=AD$1),INDEX(Reliability!I$23:I$50,MATCH($T45,Reliability!$C$23:$C$50,0)),0),0)*$H45*$X45*$Y45),$D45)*$R45","v":17.84},{"$f":"MIN((IFERROR(IF(AND($V45<=AE$1,$W45>=AE$1),INDEX(Reliability!J$23:J$50,MATCH($S45,Reliability!$C$23:$C$50,0)),0),0)*IF($T45=\"n/a\",$D45*$Y45,$G45)+IFERROR(IF(AND($V45<=AE$1,$W45>=AE$1),INDEX(Reliability!J$23:J$50,MATCH($T45,Reliability!$C$23:$C$50,0)),0),0)*$H45*$X45*$Y45),$D45)*$R45","v":17.810000000000002},{"$f":"MIN((IFERROR(IF(AND($V45<=AF$1,$W45>=AF$1),INDEX(Reliability!K$23:K$50,MATCH($S45,Reliability!$C$23:$C$50,0)),0),0)*IF($T45=\"n/a\",$D45*$Y45,$G45)+IFERROR(IF(AND($V45<=AF$1,$W45>=AF$1),INDEX(Reliability!K$23:K$50,MATCH($T45,Reliability!$C$23:$C$50,0)),0),0)*$H45*$X45*$Y45),$D45)*$R45","v":17.78},{"$f":"MIN((IFERROR(IF(AND($V45<=AG$1,$W45>=AG$1),INDEX(Reliability!L$23:L$50,MATCH($S45,Reliability!$C$23:$C$50,0)),0),0)*IF($T45=\"n/a\",$D45*$Y45,$G45)+IFERROR(IF(AND($V45<=AG$1,$W45>=AG$1),INDEX(Reliability!L$23:L$50,MATCH($T45,Reliability!$C$23:$C$50,0)),0),0)*$H45*$X45*$Y45),$D45)*$R45","v":17.155999999999999},{"$f":"MIN((IFERROR(IF(AND($V45<=AH$1,$W45>=AH$1),INDEX(Reliability!M$23:M$50,MATCH($S45,Reliability!$C$23:$C$50,0)),0),0)*IF($T45=\"n/a\",$D45*$Y45,$G45)+IFERROR(IF(AND($V45<=AH$1,$W45>=AH$1),INDEX(Reliability!M$23:M$50,MATCH($T45,Reliability!$C$23:$C$50,0)),0),0)*$H45*$X45*$Y45),$D45)*$R45","v":16.532},{"$f":"MIN((IFERROR(IF(AND($V45<=AI$1,$W45>=AI$1),INDEX(Reliability!N$23:N$50,MATCH($S45,Reliability!$C$23:$C$50,0)),0),0)*IF($T45=\"n/a\",$D45*$Y45,$G45)+IFERROR(IF(AND($V45<=AI$1,$W45>=AI$1),INDEX(Reliability!N$23:N$50,MATCH($T45,Reliability!$C$23:$C$50,0)),0),0)*$H45*$X45*$Y45),$D45)*$R45","v":15.907999999999999},{"$f":"MIN((IFERROR(IF(AND($V45<=AJ$1,$W45>=AJ$1),INDEX(Reliability!O$23:O$50,MATCH($S45,Reliability!$C$23:$C$50,0)),0),0)*IF($T45=\"n/a\",$D45*$Y45,$G45)+IFERROR(IF(AND($V45<=AJ$1,$W45>=AJ$1),INDEX(Reliability!O$23:O$50,MATCH($T45,Reliability!$C$23:$C$50,0)),0),0)*$H45*$X45*$Y45),$D45)*$R45","v":15.283999999999999},{"$f":"MIN((IFERROR(IF(AND($V45<=AK$1,$W45>=AK$1),INDEX(Reliability!P$23:P$50,MATCH($S45,Reliability!$C$23:$C$50,0)),0),0)*IF($T45=\"n/a\",$D45*$Y45,$G45)+IFERROR(IF(AND($V45<=AK$1,$W45>=AK$1),INDEX(Reliability!P$23:P$50,MATCH($T45,Reliability!$C$23:$C$50,0)),0),0)*$H45*$X45*$Y45),$D45)*$R45","v":14.66}]
[null,{"$f":"unique_contracts!B46","v":"_NEW_GENERIC_BATTERY_STORAGE"},{"$f":"unique_contracts!D46","v":"Development"},{"$f":"unique_contracts!J46","v":10},{"$f":"unique_contracts!M46","v":"NewSolarNewStorage"},{"$f":"unique_contracts!N46","v":"NO"},{"$f":"unique_contracts!P46","v":20},{"$f":"unique_contracts!R46","v":10},{"$f":"unique_contracts!V46","v":40},{"$f":"unique_contracts!AB46","v":0},{"$f":"unique_contracts!AM46","v":0},{"$f":"unique_contracts!AN46","v":0},{"$f":"unique_contracts!AO46","v":0},{"$f":"unique_contracts!AP46","v":0},{"$f":"unique_contracts!AQ46","v":0},{"$f":"unique_contracts!AR46","v":0},{"$f":"unique_contracts!BP46","v":"EnergyCapacity"},1,{"$f":"IFERROR(IF(AND(I46>0,E46=\"NotHybrid\"),_xlfn.CONCAT(MAX(MIN(ROUNDDOWN(I46/D46,0),8),4),INDEX(resources!$G:$G,MATCH(B46,resources!$A:$A,0))),INDEX(resources!$G:$G,MATCH(B46,resources!$A:$A,0))),\"n/a\")","v":"hr_batteries"},"4hr_batteries","hybrid",0,0,1,1,{"$f":"MIN((IFERROR(IF(AND($V46<=Z$1,$W46>=Z$1),INDEX(Reliability!E$23:E$50,MATCH($S46,Reliability!$C$23:$C$50,0)),0),0)*IF($T46=\"n/a\",$D46*$Y46,$G46)+IFERROR(IF(AND($V46<=Z$1,$W46>=Z$1),INDEX(Reliability!E$23:E$50,MATCH($T46,Reliability!$C$23:$C$50,0)),0),0)*$H46*$X46*$Y46),$D46)*$R46","v":0},{"$f":"MIN((IFERROR(IF(AND($V46<=AA$1,$W46>=AA$1),INDEX(Reliability!F$23:F$50,MATCH($S46,Reliability!$C$23:$C$50,0)),0),0)*IF($T46=\"n/a\",$D46*$Y46,$G46)+IFERROR(IF(AND($V46<=AA$1,$W46>=AA$1),INDEX(Reliability!F$23:F$50,MATCH($T46,Reliability!$C$23:$C$50,0)),0),0)*$H46*$X46*$Y46),$D46)*$R46","v":0},{"$f":"MIN((IFERROR(IF(AND($V46<=AB$1,$W46>=AB$1),INDEX(Reliability!G$23:G$50,MATCH($S46,Reliability!$C$23:$C$50,0)),0),0)*IF($T46=\"n/a\",$D46*$Y46,$G46)+IFERROR(IF(AND($V46<=AB$1,$W46>=AB$1),INDEX(Reliability!G$23:G$50,MATCH($T46,Reliability!$C$23:$C$50,0)),0),0)*$H46*$X46*$Y46),$D46)*$R46","v":0},{"$f":"MIN((IFERROR(IF(AND($V46<=AC$1,$W46>=AC$1),INDEX(Reliability!H$23:H$50,MATCH($S46,Reliability!$C$23:$C$50,0)),0),0)*IF($T46=\"n/a\",$D46*$Y46,$G46)+IFERROR(IF(AND($V46<=AC$1,$W46>=AC$1),INDEX(Reliability!H$23:H$50,MATCH($T46,Reliability!$C$23:$C$50,0)),0),0)*$H46*$X46*$Y46),$D46)*$R46","v":0},{"$f":"MIN((IFERROR(IF(AND($V46<=AD$1,$W46>=AD$1),INDEX(Reliability!I$23:I$50,MATCH($S46,Reliability!$C$23:$C$50,0)),0),0)*IF($T46=\"n/a\",$D46*$Y46,$G46)+IFERROR(IF(AND($V46<=AD$1,$W46>=AD$1),INDEX(Reliability!I$23:I$50,MATCH($T46,Reliability!$C$23:$C$50,0)),0),0)*$H46*$X46*$Y46),$D46)*$R46","v":0},{"$f":"MIN((IFERROR(IF(AND($V46<=AE$1,$W46>=AE$1),INDEX(Reliability!J$23:J$50,MATCH($S46,Reliability!$C$23:$C$50,0)),0),0)*IF($T46=\"n/a\",$D46*$Y46,$G46)+IFERROR(IF(AND($V46<=AE$1,$W46>=AE$1),INDEX(Reliability!J$23:J$50,MATCH($T46,Reliability!$C$23:$C$50,0)),0),0)*$H46*$X46*$Y46),$D46)*$R46","v":0},{"$f":"MIN((IFERROR(IF(AND($V46<=AF$1,$W46>=AF$1),INDEX(Reliability!K$23:K$50,MATCH($S46,Reliability!$C$23:$C$50,0)),0),0)*IF($T46=\"n/a\",$D46*$Y46,$G46)+IFERROR(IF(AND($V46<=AF$1,$W46>=AF$1),INDEX(Reliability!K$23:K$50,MATCH($T46,Reliability!$C$23:$C$50,0)),0),0)*$H46*$X46*$Y46),$D46)*$R46","v":0},{"$f":"MIN((IFERROR(IF(AND($V46<=AG$1,$W46>=AG$1),INDEX(Reliability!L$23:L$50,MATCH($S46,Reliability!$C$23:$C$50,0)),0),0)*IF($T46=\"n/a\",$D46*$Y46,$G46)+IFERROR(IF(AND($V46<=AG$1,$W46>=AG$1),INDEX(Reliability!L$23:L$50,MATCH($T46,Reliability!$C$23:$C$50,0)),0),0)*$H46*$X46*$Y46),$D46)*$R46","v":0},{"$f":"MIN((IFERROR(IF(AND($V46<=AH$1,$W46>=AH$1),INDEX(Reliability!M$23:M$50,MATCH($S46,Reliability!$C$23:$C$50,0)),0),0)*IF($T46=\"n/a\",$D46*$Y46,$G46)+IFERROR(IF(AND($V46<=AH$1,$W46>=AH$1),INDEX(Reliability!M$23:M$50,MATCH($T46,Reliability!$C$23:$C$50,0)),0),0)*$H46*$X46*$Y46),$D46)*$R46","v":0},{"$f":"MIN((IFERROR(IF(AND($V46<=AI$1,$W46>=AI$1),INDEX(Reliability!N$23:N$50,MATCH($S46,Reliability!$C$23:$C$50,0)),0),0)*IF($T46=\"n/a\",$D46*$Y46,$G46)+IFERROR(IF(AND($V46<=AI$1,$W46>=AI$1),INDEX(Reliability!N$23:N$50,MATCH($T46,Reliability!$C$23:$C$50,0)),0),0)*$H46*$X46*$Y46),$D46)*$R46","v":0},{"$f":"MIN((IFERROR(IF(AND($V46<=AJ$1,$W46>=AJ$1),INDEX(Reliability!O$23:O$50,MATCH($S46,Reliability!$C$23:$C$50,0)),0),0)*IF($T46=\"n/a\",$D46*$Y46,$G46)+IFERROR(IF(AND($V46<=AJ$1,$W46>=AJ$1),INDEX(Reliability!O$23:O$50,MATCH($T46,Reliability!$C$23:$C$50,0)),0),0)*$H46*$X46*$Y46),$D46)*$R46","v":0},{"$f":"MIN((IFERROR(IF(AND($V46<=AK$1,$W46>=AK$1),INDEX(Reliability!P$23:P$50,MATCH($S46,Reliability!$C$23:$C$50,0)),0),0)*IF($T46=\"n/a\",$D46*$Y46,$G46)+IFERROR(IF(AND($V46<=AK$1,$W46>=AK$1),INDEX(Reliability!P$23:P$50,MATCH($T46,Reliability!$C$23:$C$50,0)),0),0)*$H46*$X46*$Y46),$D46)*$R46","v":0}]
[null,{"$f":"unique_contracts!B47","v":"_NEW_GENERIC_BATTERY_STORAGE"},{"$f":"unique_contracts!D47","v":"Development"},{"$f":"unique_contracts!J47","v":4.0220000000000002},{"$f":"unique_contracts!M47","v":"NewSolarNewStorage"},{"$f":"unique_contracts!N47","v":"NO"},{"$f":"unique_contracts!P47","v":0},{"$f":"unique_contracts!R47","v":4.0220000000000002},{"$f":"unique_contracts!V47","v":0},{"$f":"unique_contracts!AB47","v":"sell"},{"$f":"unique_contracts!AM47","v":0},{"$f":"unique_contracts!AN47","v":0},{"$f":"unique_contracts!AO47","v":0},{"$f":"unique_contracts!AP47","v":0},{"$f":"unique_contracts!AQ47","v":0},{"$f":"unique_contracts!AR47","v":0},{"$f":"unique_contracts!BP47","v":"EnergyCapacity"},-1,{"$f":"IFERROR(IF(AND(I47>0,E47=\"NotHybrid\"),_xlfn.CONCAT(MAX(MIN(ROUNDDOWN(I47/D47,0),8),4),INDEX(resources!$G:$G,MATCH(B47,resources!$A:$A,0))),INDEX(resources!$G:$G,MATCH(B47,resources!$A:$A,0))),\"n/a\")","v":"hr_batteries"},"4hr_batteries","hybrid",0,0,1,0,{"$f":"MIN((IFERROR(IF(AND($V47<=Z$1,$W47>=Z$1),INDEX(Reliability!E$23:E$50,MATCH($S47,Reliability!$C$23:$C$50,0)),0),0)*IF($T47=\"n/a\",$D47*$Y47,$G47)+IFERROR(IF(AND($V47<=Z$1,$W47>=Z$1),INDEX(Reliability!E$23:E$50,MATCH($T47,Reliability!$C$23:$C$50,0)),0),0)*$H47*$X47*$Y47),$D47)*$R47","v":0},{"$f":"MIN((IFERROR(IF(AND($V47<=AA$1,$W47>=AA$1),INDEX(Reliability!F$23:F$50,MATCH($S47,Reliability!$C$23:$C$50,0)),0),0)*IF($T47=\"n/a\",$D47*$Y47,$G47)+IFERROR(IF(AND($V47<=AA$1,$W47>=AA$1),INDEX(Reliability!F$23:F$50,MATCH($T47,Reliability!$C$23:$C$50,0)),0),0)*$H47*$X47*$Y47),$D47)*$R47","v":0},{"$f":"MIN((IFERROR(IF(AND($V47<=AB$1,$W47>=AB$1),INDEX(Reliability!G$23:G$50,MATCH($S47,Reliability!$C$23:$C$50,0)),0),0)*IF($T47=\"n/a\",$D47*$Y47,$G47)+IFERROR(IF(AND($V47<=AB$1,$W47>=AB$1),INDEX(Reliability!G$23:G$50,MATCH($T47,Reliability!$C$23:$C$50,0)),0),0)*$H47*$X47*$Y47),$D47)*$R47","v":0},{"$f":"MIN((IFERROR(IF(AND($V47<=AC$1,$W47>=AC$1),INDEX(Reliability!H$23:H$50,MATCH($S47,Reliability!$C$23:$C$50,0)),0),0)*IF($T47=\"n/a\",$D47*$Y47,$G47)+IFERROR(IF(AND($V47<=AC$1,$W47>=AC$1),INDEX(Reliability!H$23:H$50,MATCH($T47,Reliability!$C$23:$C$50,0)),0),0)*$H47*$X47*$Y47),$D47)*$R47","v":0},{"$f":"MIN((IFERROR(IF(AND($V47<=AD$1,$W47>=AD$1),INDEX(Reliability!I$23:I$50,MATCH($S47,Reliability!$C$23:$C$50,0)),0),0)*IF($T47=\"n/a\",$D47*$Y47,$G47)+IFERROR(IF(AND($V47<=AD$1,$W47>=AD$1),INDEX(Reliability!I$23:I$50,MATCH($T47,Reliability!$C$23:$C$50,0)),0),0)*$H47*$X47*$Y47),$D47)*$R47","v":0},{"$f":"MIN((IFERROR(IF(AND($V47<=AE$1,$W47>=AE$1),INDEX(Reliability!J$23:J$50,MATCH($S47,Reliability!$C$23:$C$50,0)),0),0)*IF($T47=\"n/a\",$D47*$Y47,$G47)+IFERROR(IF(AND($V47<=AE$1,$W47>=AE$1),INDEX(Reliability!J$23:J$50,MATCH($T47,Reliability!$C$23:$C$50,0)),0),0)*$H47*$X47*$Y47),$D47)*$R47","v":0},{"$f":"MIN((IFERROR(IF(AND($V47<=AF$1,$W47>=AF$1),INDEX(Reliability!K$23:K$50,MATCH($S47,Reliability!$C$23:$C$50,0)),0),0)*IF($T47=\"n/a\",$D47*$Y47,$G47)+IFERROR(IF(AND($V47<=AF$1,$W47>=AF$1),INDEX(Reliability!K$23:K$50,MATCH($T47,Reliability!$C$23:$C$50,0)),0),0)*$H47*$X47*$Y47),$D47)*$R47","v":0},{"$f":"MIN((IFERROR(IF(AND($V47<=AG$1,$W47>=AG$1),INDEX(Reliability!L$23:L$50,MATCH($S47,Reliability!$C$23:$C$50,0)),0),0)*IF($T47=\"n/a\",$D47*$Y47,$G47)+IFERROR(IF(AND($V47<=AG$1,$W47>=AG$1),INDEX(Reliability!L$23:L$50,MATCH($T47,Reliability!$C$23:$C$50,0)),0),0)*$H47*$X47*$Y47),$D47)*$R47","v":0},{"$f":"MIN((IFERROR(IF(AND($V47<=AH$1,$W47>=AH$1),INDEX(Reliability!M$23:M$50,MATCH($S47,Reliability!$C$23:$C$50,0)),0),0)*IF($T47=\"n/a\",$D47*$Y47,$G47)+IFERROR(IF(AND($V47<=AH$1,$W47>=AH$1),INDEX(Reliability!M$23:M$50,MATCH($T47,Reliability!$C$23:$C$50,0)),0),0)*$H47*$X47*$Y47),$D47)*$R47","v":0},{"$f":"MIN((IFERROR(IF(AND($V47<=AI$1,$W47>=AI$1),INDEX(Reliability!N$23:N$50,MATCH($S47,Reliability!$C$23:$C$50,0)),0),0)*IF($T47=\"n/a\",$D47*$Y47,$G47)+IFERROR(IF(AND($V47<=AI$1,$W47>=AI$1),INDEX(Reliability!N$23:N$50,MATCH($T47,Reliability!$C$23:$C$50,0)),0),0)*$H47*$X47*$Y47),$D47)*$R47","v":0},{"$f":"MIN((IFERROR(IF(AND($V47<=AJ$1,$W47>=AJ$1),INDEX(Reliability!O$23:O$50,MATCH($S47,Reliability!$C$23:$C$50,0)),0),0)*IF($T47=\"n/a\",$D47*$Y47,$G47)+IFERROR(IF(AND($V47<=AJ$1,$W47>=AJ$1),INDEX(Reliability!O$23:O$50,MATCH($T47,Reliability!$C$23:$C$50,0)),0),0)*$H47*$X47*$Y47),$D47)*$R47","v":0},{"$f":"MIN((IFERROR(IF(AND($V47<=AK$1,$W47>=AK$1),INDEX(Reliability!P$23:P$50,MATCH($S47,Reliability!$C$23:$C$50,0)),0),0)*IF($T47=\"n/a\",$D47*$Y47,$G47)+IFERROR(IF(AND($V47<=AK$1,$W47>=AK$1),INDEX(Reliability!P$23:P$50,MATCH($T47,Reliability!$C$23:$C$50,0)),0),0)*$H47*$X47*$Y47),$D47)*$R47","v":0}]
[null,{"$f":"unique_contracts!B48","v":"_NEW_GENERIC_SOLAR_1AXIS"},{"$f":"unique_contracts!D48","v":"Development"},{"$f":"unique_contracts!J48","v":0},{"$f":"unique_contracts!M48","v":"NewSolarNewStorage"},{"$f":"unique_contracts!N48","v":"NO"},{"$f":"unique_contracts!P48","v":15.28},{"$f":"unique_contracts!R48","v":0},{"$f":"unique_contracts!V48","v":0},{"$f":"unique_contracts!AB48","v":"sell"},{"$f":"unique_contracts!AM48","v":0},{"$f":"unique_contracts!AN48","v":0},{"$f":"unique_contracts!AO48","v":0},{"$f":"unique_contracts!AP48","v":0},{"$f":"unique_contracts!AQ48","v":0},{"$f":"unique_contracts!AR48","v":0},{"$f":"unique_contracts!BP48","v":"EnergyOnly"},0,{"$f":"IFERROR(IF(AND(I48>0,E48=\"NotHybrid\"),_xlfn.CONCAT(MAX(MIN(ROUNDDOWN(I48/D48,0),8),4),INDEX(resources!$G:$G,MATCH(B48,resources!$A:$A,0))),INDEX(resources!$G:$G,MATCH(B48,resources!$A:$A,0))),\"n/a\")","v":"utility_pv"},"n/a","utility_pv",0,0,1,1,{"$f":"MIN((IFERROR(IF(AND($V48<=Z$1,$W48>=Z$1),INDEX(Reliability!E$23:E$50,MATCH($S48,Reliability!$C$23:$C$50,0)),0),0)*IF($T48=\"n/a\",$D48*$Y48,$G48)+IFERROR(IF(AND($V48<=Z$1,$W48>=Z$1),INDEX(Reliability!E$23:E$50,MATCH($T48,Reliability!$C$23:$C$50,0)),0),0)*$H48*$X48*$Y48),$D48)*$R48","v":0},{"$f":"MIN((IFERROR(IF(AND($V48<=AA$1,$W48>=AA$1),INDEX(Reliability!F$23:F$50,MATCH($S48,Reliability!$C$23:$C$50,0)),0),0)*IF($T48=\"n/a\",$D48*$Y48,$G48)+IFERROR(IF(AND($V48<=AA$1,$W48>=AA$1),INDEX(Reliability!F$23:F$50,MATCH($T48,Reliability!$C$23:$C$50,0)),0),0)*$H48*$X48*$Y48),$D48)*$R48","v":0},{"$f":"MIN((IFERROR(IF(AND($V48<=AB$1,$W48>=AB$1),INDEX(Reliability!G$23:G$50,MATCH($S48,Reliability!$C$23:$C$50,0)),0),0)*IF($T48=\"n/a\",$D48*$Y48,$G48)+IFERROR(IF(AND($V48<=AB$1,$W48>=AB$1),INDEX(Reliability!G$23:G$50,MATCH($T48,Reliability!$C$23:$C$50,0)),0),0)*$H48*$X48*$Y48),$D48)*$R48","v":0},{"$f":"MIN((IFERROR(IF(AND($V48<=AC$1,$W48>=AC$1),INDEX(Reliability!H$23:H$50,MATCH($S48,Reliability!$C$23:$C$50,0)),0),0)*IF($T48=\"n/a\",$D48*$Y48,$G48)+IFERROR(IF(AND($V48<=AC$1,$W48>=AC$1),INDEX(Reliability!H$23:H$50,MATCH($T48,Reliability!$C$23:$C$50,0)),0),0)*$H48*$X48*$Y48),$D48)*$R48","v":0},{"$f":"MIN((IFERROR(IF(AND($V48<=AD$1,$W48>=AD$1),INDEX(Reliability!I$23:I$50,MATCH($S48,Reliability!$C$23:$C$50,0)),0),0)*IF($T48=\"n/a\",$D48*$Y48,$G48)+IFERROR(IF(AND($V48<=AD$1,$W48>=AD$1),INDEX(Reliability!I$23:I$50,MATCH($T48,Reliability!$C$23:$C$50,0)),0),0)*$H48*$X48*$Y48),$D48)*$R48","v":0},{"$f":"MIN((IFERROR(IF(AND($V48<=AE$1,$W48>=AE$1),INDEX(Reliability!J$23:J$50,MATCH($S48,Reliability!$C$23:$C$50,0)),0),0)*IF($T48=\"n/a\",$D48*$Y48,$G48)+IFERROR(IF(AND($V48<=AE$1,$W48>=AE$1),INDEX(Reliability!J$23:J$50,MATCH($T48,Reliability!$C$23:$C$50,0)),0),0)*$H48*$X48*$Y48),$D48)*$R48","v":0},{"$f":"MIN((IFERROR(IF(AND($V48<=AF$1,$W48>=AF$1),INDEX(Reliability!K$23:K$50,MATCH($S48,Reliability!$C$23:$C$50,0)),0),0)*IF($T48=\"n/a\",$D48*$Y48,$G48)+IFERROR(IF(AND($V48<=AF$1,$W48>=AF$1),INDEX(Reliability!K$23:K$50,MATCH($T48,Reliability!$C$23:$C$50,0)),0),0)*$H48*$X48*$Y48),$D48)*$R48","v":0},{"$f":"MIN((IFERROR(IF(AND($V48<=AG$1,$W48>=AG$1),INDEX(Reliability!L$23:L$50,MATCH($S48,Reliability!$C$23:$C$50,0)),0),0)*IF($T48=\"n/a\",$D48*$Y48,$G48)+IFERROR(IF(AND($V48<=AG$1,$W48>=AG$1),INDEX(Reliability!L$23:L$50,MATCH($T48,Reliability!$C$23:$C$50,0)),0),0)*$H48*$X48*$Y48),$D48)*$R48","v":0},{"$f":"MIN((IFERROR(IF(AND($V48<=AH$1,$W48>=AH$1),INDEX(Reliability!M$23:M$50,MATCH($S48,Reliability!$C$23:$C$50,0)),0),0)*IF($T48=\"n/a\",$D48*$Y48,$G48)+IFERROR(IF(AND($V48<=AH$1,$W48>=AH$1),INDEX(Reliability!M$23:M$50,MATCH($T48,Reliability!$C$23:$C$50,0)),0),0)*$H48*$X48*$Y48),$D48)*$R48","v":0},{"$f":"MIN((IFERROR(IF(AND($V48<=AI$1,$W48>=AI$1),INDEX(Reliability!N$23:N$50,MATCH($S48,Reliability!$C$23:$C$50,0)),0),0)*IF($T48=\"n/a\",$D48*$Y48,$G48)+IFERROR(IF(AND($V48<=AI$1,$W48>=AI$1),INDEX(Reliability!N$23:N$50,MATCH($T48,Reliability!$C$23:$C$50,0)),0),0)*$H48*$X48*$Y48),$D48)*$R48","v":0},{"$f":"MIN((IFERROR(IF(AND($V48<=AJ$1,$W48>=AJ$1),INDEX(Reliability!O$23:O$50,MATCH($S48,Reliability!$C$23:$C$50,0)),0),0)*IF($T48=\"n/a\",$D48*$Y48,$G48)+IFERROR(IF(AND($V48<=AJ$1,$W48>=AJ$1),INDEX(Reliability!O$23:O$50,MATCH($T48,Reliability!$C$23:$C$50,0)),0),0)*$H48*$X48*$Y48),$D48)*$R48","v":0},{"$f":"MIN((IFERROR(IF(AND($V48<=AK$1,$W48>=AK$1),INDEX(Reliability!P$23:P$50,MATCH($S48,Reliability!$C$23:$C$50,0)),0),0)*IF($T48=\"n/a\",$D48*$Y48,$G48)+IFERROR(IF(AND($V48<=AK$1,$W48>=AK$1),INDEX(Reliability!P$23:P$50,MATCH($T48,Reliability!$C$23:$C$50,0)),0),0)*$H48*$X48*$Y48),$D48)*$R48","v":0}]
[null,{"$f":"unique_contracts!B49","v":"_NEW_GENERIC_BATTERY_STORAGE"},{"$f":"unique_contracts!D49","v":"Development"},{"$f":"unique_contracts!J49","v":20},{"$f":"unique_contracts!M49","v":"NotHybrid"},{"$f":"unique_contracts!N49","v":"NA"},{"$f":"unique_contracts!P49","v":0},{"$f":"unique_contracts!R49","v":0},{"$f":"unique_contracts!V49","v":80},{"$f":"unique_contracts!AB49","v":"Owned"},{"$f":"unique_contracts!AM49","v":0},{"$f":"unique_contracts!AN49","v":0},{"$f":"unique_contracts!AO49","v":0},{"$f":"unique_contracts!AP49","v":2060},{"$f":"unique_contracts!AQ49","v":12},{"$f":"unique_contracts!AR49","v":31},{"$f":"unique_contracts!BP49","v":"EnergyCapacity"},1,{"$f":"IFERROR(IF(AND(I49>0,E49=\"NotHybrid\"),_xlfn.CONCAT(MAX(MIN(ROUNDDOWN(I49/D49,0),8),4),INDEX(resources!$G:$G,MATCH(B49,resources!$A:$A,0))),INDEX(resources!$G:$G,MATCH(B49,resources!$A:$A,0))),\"n/a\")","v":"4hr_batteries"},"n/a","4hr_batteries",0,2060,1,1,{"$f":"MIN((IFERROR(IF(AND($V49<=Z$1,$W49>=Z$1),INDEX(Reliability!E$23:E$50,MATCH($S49,Reliability!$C$23:$C$50,0)),0),0)*IF($T49=\"n/a\",$D49*$Y49,$G49)+IFERROR(IF(AND($V49<=Z$1,$W49>=Z$1),INDEX(Reliability!E$23:E$50,MATCH($T49,Reliability!$C$23:$C$50,0)),0),0)*$H49*$X49*$Y49),$D49)*$R49","v":17.7},{"$f":"MIN((IFERROR(IF(AND($V49<=AA$1,$W49>=AA$1),INDEX(Reliability!F$23:F$50,MATCH($S49,Reliability!$C$23:$C$50,0)),0),0)*IF($T49=\"n/a\",$D49*$Y49,$G49)+IFERROR(IF(AND($V49<=AA$1,$W49>=AA$1),INDEX(Reliability!F$23:F$50,MATCH($T49,Reliability!$C$23:$C$50,0)),0),0)*$H49*$X49*$Y49),$D49)*$R49","v":18.03},{"$f":"MIN((IFERROR(IF(AND($V49<=AB$1,$W49>=AB$1),INDEX(Reliability!G$23:G$50,MATCH($S49,Reliability!$C$23:$C$50,0)),0),0)*IF($T49=\"n/a\",$D49*$Y49,$G49)+IFERROR(IF(AND($V49<=AB$1,$W49>=AB$1),INDEX(Reliability!G$23:G$50,MATCH($T49,Reliability!$C$23:$C$50,0)),0),0)*$H49*$X49*$Y49),$D49)*$R49","v":18.36},{"$f":"MIN((IFERROR(IF(AND($V49<=AC$1,$W49>=AC$1),INDEX(Reliability!H$23:H$50,MATCH($S49,Reliability!$C$23:$C$50,0)),0),0)*IF($T49=\"n/a\",$D49*$Y49,$G49)+IFERROR(IF(AND($V49<=AC$1,$W49>=AC$1),INDEX(Reliability!H$23:H$50,MATCH($T49,Reliability!$C$23:$C$50,0)),0),0)*$H49*$X49*$Y49),$D49)*$R49","v":16.91},{"$f":"MIN((IFERROR(IF(AND($V49<=AD$1,$W49>=AD$1),INDEX(Reliability!I$23:I$50,MATCH($S49,Reliability!$C$23:$C$50,0)),0),0)*IF($T49=\"n/a\",$D49*$Y49,$G49)+IFERROR(IF(AND($V49<=AD$1,$W49>=AD$1),INDEX(Reliability!I$23:I$50,MATCH($T49,Reliability!$C$23:$C$50,0)),0),0)*$H49*$X49*$Y49),$D49)*$R49","v":15.46},{"$f":"MIN((IFERROR(IF(AND($V49<=AE$1,$W49>=AE$1),INDEX(Reliability!J$23:J$50,MATCH($S49,Reliability!$C$23:$C$50,0)),0),0)*IF($T49=\"n/a\",$D49*$Y49,$G49)+IFERROR(IF(AND($V49<=AE$1,$W49>=AE$1),INDEX(Reliability!J$23:J$50,MATCH($T49,Reliability!$C$23:$C$50,0)),0),0)*$H49*$X49*$Y49),$D49)*$R49","v":15.18},{"$f":"MIN((IFERROR(IF(AND($V49<=AF$1,$W49>=AF$1),INDEX(Reliability!K$23:K$50,MATCH($S49,Reliability!$C$23:$C$50,0)),0),0)*IF($T49=\"n/a\",$D49*$Y49,$G49)+IFERROR(IF(AND($V49<=AF$1,$W49>=AF$1),INDEX(Reliability!K$23:K$50,MATCH($T49,Reliability!$C$23:$C$50,0)),0),0)*$H49*$X49*$Y49),$D49)*$R49","v":14.9},{"$f":"MIN((IFERROR(IF(AND($V49<=AG$1,$W49>=AG$1),INDEX(Reliability!L$23:L$50,MATCH($S49,Reliability!$C$23:$C$50,0)),0),0)*IF($T49=\"n/a\",$D49*$Y49,$G49)+IFERROR(IF(AND($V49<=AG$1,$W49>=AG$1),INDEX(Reliability!L$23:L$50,MATCH($T49,Reliability!$C$23:$C$50,0)),0),0)*$H49*$X49*$Y49),$D49)*$R49","v":13.524000000000001},{"$f":"MIN((IFERROR(IF(AND($V49<=AH$1,$W49>=AH$1),INDEX(Reliability!M$23:M$50,MATCH($S49,Reliability!$C$23:$C$50,0)),0),0)*IF($T49=\"n/a\",$D49*$Y49,$G49)+IFERROR(IF(AND($V49<=AH$1,$W49>=AH$1),INDEX(Reliability!M$23:M$50,MATCH($T49,Reliability!$C$23:$C$50,0)),0),0)*$H49*$X49*$Y49),$D49)*$R49","v":12.148000000000001},{"$f":"MIN((IFERROR(IF(AND($V49<=AI$1,$W49>=AI$1),INDEX(Reliability!N$23:N$50,MATCH($S49,Reliability!$C$23:$C$50,0)),0),0)*IF($T49=\"n/a\",$D49*$Y49,$G49)+IFERROR(IF(AND($V49<=AI$1,$W49>=AI$1),INDEX(Reliability!N$23:N$50,MATCH($T49,Reliability!$C$23:$C$50,0)),0),0)*$H49*$X49*$Y49),$D49)*$R49","v":10.772000000000002},{"$f":"MIN((IFERROR(IF(AND($V49<=AJ$1,$W49>=AJ$1),INDEX(Reliability!O$23:O$50,MATCH($S49,Reliability!$C$23:$C$50,0)),0),0)*IF($T49=\"n/a\",$D49*$Y49,$G49)+IFERROR(IF(AND($V49<=AJ$1,$W49>=AJ$1),INDEX(Reliability!O$23:O$50,MATCH($T49,Reliability!$C$23:$C$50,0)),0),0)*$H49*$X49*$Y49),$D49)*$R49","v":9.3960000000000026},{"$f":"MIN((IFERROR(IF(AND($V49<=AK$1,$W49>=AK$1),INDEX(Reliability!P$23:P$50,MATCH($S49,Reliability!$C$23:$C$50,0)),0),0)*IF($T49=\"n/a\",$D49*$Y49,$G49)+IFERROR(IF(AND($V49<=AK$1,$W49>=AK$1),INDEX(Reliability!P$23:P$50,MATCH($T49,Reliability!$C$23:$C$50,0)),0),0)*$H49*$X49*$Y49),$D49)*$R49","v":8.02}]
[null,{"$f":"unique_contracts!B50","v":"_NEW_GENERIC_BATTERY_STORAGE"},{"$f":"unique_contracts!D50","v":"Development"},{"$f":"unique_contracts!J50","v":15.16},{"$f":"unique_contracts!M50","v":"NotHybrid"},{"$f":"unique_contracts!N50","v":"NA"},{"$f":"unique_contracts!P50","v":0},{"$f":"unique_contracts!R50","v":0},{"$f":"unique_contracts!V50","v":60.64},{"$f":"unique_contracts!AB50","v":"sell"},{"$f":"unique_contracts!AM50","v":0},{"$f":"unique_contracts!AN50","v":0},{"$f":"unique_contracts!AO50","v":0},{"$f":"unique_contracts!AP50","v":2060},{"$f":"unique_contracts!AQ50","v":12},{"$f":"unique_contracts!AR50","v":31},{"$f":"unique_contracts!BP50","v":"EnergyCapacity"},-1,{"$f":"IFERROR(IF(AND(I50>0,E50=\"NotHybrid\"),_xlfn.CONCAT(MAX(MIN(ROUNDDOWN(I50/D50,0),8),4),INDEX(resources!$G:$G,MATCH(B50,resources!$A:$A,0))),INDEX(resources!$G:$G,MATCH(B50,resources!$A:$A,0))),\"n/a\")","v":"4hr_batteries"},"n/a","4hr_batteries",0,2060,1,1,{"$f":"MIN((IFERROR(IF(AND($V50<=Z$1,$W50>=Z$1),INDEX(Reliability!E$23:E$50,MATCH($S50,Reliability!$C$23:$C$50,0)),0),0)*IF($T50=\"n/a\",$D50*$Y50,$G50)+IFERROR(IF(AND($V50<=Z$1,$W50>=Z$1),INDEX(Reliability!E$23:E$50,MATCH($T50,Reliability!$C$23:$C$50,0)),0),0)*$H50*$X50*$Y50),$D50)*$R50","v":-13.416600000000001},{"$f":"MIN((IFERROR(IF(AND($V50<=AA$1,$W50>=AA$1),INDEX(Reliability!F$23:F$50,MATCH($S50,Reliability!$C$23:$C$50,0)),0),0)*IF($T50=\"n/a\",$D50*$Y50,$G50)+IFERROR(IF(AND($V50<=AA$1,$W50>=AA$1),INDEX(Reliability!F$23:F$50,MATCH($T50,Reliability!$C$23:$C$50,0)),0),0)*$H50*$X50*$Y50),$D50)*$R50","v":-13.666739999999999},{"$f":"MIN((IFERROR(IF(AND($V50<=AB$1,$W50>=AB$1),INDEX(Reliability!G$23:G$50,MATCH($S50,Reliability!$C$23:$C$50,0)),0),0)*IF($T50=\"n/a\",$D50*$Y50,$G50)+IFERROR(IF(AND($V50<=AB$1,$W50>=AB$1),INDEX(Reliability!G$23:G$50,MATCH($T50,Reliability!$C$23:$C$50,0)),0),0)*$H50*$X50*$Y50),$D50)*$R50","v":-13.916880000000001},{"$f":"MIN((IFERROR(IF(AND($V50<=AC$1,$W50>=AC$1),INDEX(Reliability!H$23:H$50,MATCH($S50,Reliability!$C$23:$C$50,0)),0),0)*IF($T50=\"n/a\",$D50*$Y50,$G50)+IFERROR(IF(AND($V50<=AC$1,$W50>=AC$1),INDEX(Reliability!H$23:H$50,MATCH($T50,Reliability!$C$23:$C$50,0)),0),0)*$H50*$X50*$Y50),$D50)*$R50","v":-12.817780000000001},{"$f":"MIN((IFERROR(IF(AND($V50<=AD$1,$W50>=AD$1),INDEX(Reliability!I$23:I$50,MATCH($S50,Reliability!$C$23:$C$50,0)),0),0)*IF($T50=\"n/a\",$D50*$Y50,$G50)+IFERROR(IF(AND($V50<=AD$1,$W50>=AD$1),INDEX(Reliability!I$23:I$50,MATCH($T50,Reliability!$C$23:$C$50,0)),0),0)*$H50*$X50*$Y50),$D50)*$R50","v":-11.718680000000001},{"$f":"MIN((IFERROR(IF(AND($V50<=AE$1,$W50>=AE$1),INDEX(Reliability!J$23:J$50,MATCH($S50,Reliability!$C$23:$C$50,0)),0),0)*IF($T50=\"n/a\",$D50*$Y50,$G50)+IFERROR(IF(AND($V50<=AE$1,$W50>=AE$1),INDEX(Reliability!J$23:J$50,MATCH($T50,Reliability!$C$23:$C$50,0)),0),0)*$H50*$X50*$Y50),$D50)*$R50","v":-11.50644},{"$f":"MIN((IFERROR(IF(AND($V50<=AF$1,$W50>=AF$1),INDEX(Reliability!K$23:K$50,MATCH($S50,Reliability!$C$23:$C$50,0)),0),0)*IF($T50=\"n/a\",$D50*$Y50,$G50)+IFERROR(IF(AND($V50<=AF$1,$W50>=AF$1),INDEX(Reliability!K$23:K$50,MATCH($T50,Reliability!$C$23:$C$50,0)),0),0)*$H50*$X50*$Y50),$D50)*$R50","v":-11.2942},{"$f":"MIN((IFERROR(IF(AND($V50<=AG$1,$W50>=AG$1),INDEX(Reliability!L$23:L$50,MATCH($S50,Reliability!$C$23:$C$50,0)),0),0)*IF($T50=\"n/a\",$D50*$Y50,$G50)+IFERROR(IF(AND($V50<=AG$1,$W50>=AG$1),INDEX(Reliability!L$23:L$50,MATCH($T50,Reliability!$C$23:$C$50,0)),0),0)*$H50*$X50*$Y50),$D50)*$R50","v":-10.251192},{"$f":"MIN((IFERROR(IF(AND($V50<=AH$1,$W50>=AH$1),INDEX(Reliability!M$23:M$50,MATCH($S50,Reliability!$C$23:$C$50,0)),0),0)*IF($T50=\"n/a\",$D50*$Y50,$G50)+IFERROR(IF(AND($V50<=AH$1,$W50>=AH$1),INDEX(Reliability!M$23:M$50,MATCH($T50,Reliability!$C$23:$C$50,0)),0),0)*$H50*$X50*$Y50),$D50)*$R50","v":-9.208184000000001},{"$f":"MIN((IFERROR(IF(AND($V50<=AI$1,$W50>=AI$1),INDEX(Reliability!N$23:N$50,MATCH($S50,Reliability!$C$23:$C$50,0)),0),0)*IF($T50=\"n/a\",$D50*$Y50,$G50)+IFERROR(IF(AND($V50<=AI$1,$W50>=AI$1),INDEX(Reliability!N$23:N$50,MATCH($T50,Reliability!$C$23:$C$50,0)),0),0)*$H50*$X50*$Y50),$D50)*$R50","v":-8.1651760000000007},{"$f":"MIN((IFERROR(IF(AND($V50<=AJ$1,$W50>=AJ$1),INDEX(Reliability!O$23:O$50,MATCH($S50,Reliability!$C$23:$C$50,0)),0),0)*IF($T50=\"n/a\",$D50*$Y50,$G50)+IFERROR(IF(AND($V50<=AJ$1,$W50>=AJ$1),INDEX(Reliability!O$23:O$50,MATCH($T50,Reliability!$C$23:$C$50,0)),0),0)*$H50*$X50*$Y50),$D50)*$R50","v":-7.1221680000000021},{"$f":"MIN((IFERROR(IF(AND($V50<=AK$1,$W50>=AK$1),INDEX(Reliability!P$23:P$50,MATCH($S50,Reliability!$C$23:$C$50,0)),0),0)*IF($T50=\"n/a\",$D50*$Y50,$G50)+IFERROR(IF(AND($V50<=AK$1,$W50>=AK$1),INDEX(Reliability!P$23:P$50,MATCH($T50,Reliability!$C$23:$C$50,0)),0),0)*$H50*$X50*$Y50),$D50)*$R50","v":-6.0791600000000008}]
[null,{"$f":"unique_contracts!B51","v":"PRCTVY_1_MIGBT1"},{"$f":"unique_contracts!D51","v":"Online"},{"$f":"unique_contracts!J51","v":2},{"$f":"unique_contracts!M51","v":"NotHybrid"},{"$f":"unique_contracts!N51","v":"NA"},{"$f":"unique_contracts!P51","v":0},{"$f":"unique_contracts!R51","v":0},{"$f":"unique_contracts!V51","v":8},{"$f":"unique_contracts!AB51","v":"Owned"},{"$f":"unique_contracts!AM51","v":2018},{"$f":"unique_contracts!AN51","v":12},{"$f":"unique_contracts!AO51","v":31},{"$f":"unique_contracts!AP51","v":2060},{"$f":"unique_contracts!AQ51","v":12},{"$f":"unique_contracts!AR51","v":31},{"$f":"unique_contracts!BP51","v":"EnergyCapacity"},1,{"$f":"IFERROR(IF(AND(I51>0,E51=\"NotHybrid\"),_xlfn.CONCAT(MAX(MIN(ROUNDDOWN(I51/D51,0),8),4),INDEX(resources!$G:$G,MATCH(B51,resources!$A:$A,0))),INDEX(resources!$G:$G,MATCH(B51,resources!$A:$A,0))),\"n/a\")","v":"4hr_batteries"},"n/a","4hr_batteries",2019,2060,1,1,{"$f":"MIN((IFERROR(IF(AND($V51<=Z$1,$W51>=Z$1),INDEX(Reliability!E$23:E$50,MATCH($S51,Reliability!$C$23:$C$50,0)),0),0)*IF($T51=\"n/a\",$D51*$Y51,$G51)+IFERROR(IF(AND($V51<=Z$1,$W51>=Z$1),INDEX(Reliability!E$23:E$50,MATCH($T51,Reliability!$C$23:$C$50,0)),0),0)*$H51*$X51*$Y51),$D51)*$R51","v":1.77},{"$f":"MIN((IFERROR(IF(AND($V51<=AA$1,$W51>=AA$1),INDEX(Reliability!F$23:F$50,MATCH($S51,Reliability!$C$23:$C$50,0)),0),0)*IF($T51=\"n/a\",$D51*$Y51,$G51)+IFERROR(IF(AND($V51<=AA$1,$W51>=AA$1),INDEX(Reliability!F$23:F$50,MATCH($T51,Reliability!$C$23:$C$50,0)),0),0)*$H51*$X51*$Y51),$D51)*$R51","v":1.8029999999999999},{"$f":"MIN((IFERROR(IF(AND($V51<=AB$1,$W51>=AB$1),INDEX(Reliability!G$23:G$50,MATCH($S51,Reliability!$C$23:$C$50,0)),0),0)*IF($T51=\"n/a\",$D51*$Y51,$G51)+IFERROR(IF(AND($V51<=AB$1,$W51>=AB$1),INDEX(Reliability!G$23:G$50,MATCH($T51,Reliability!$C$23:$C$50,0)),0),0)*$H51*$X51*$Y51),$D51)*$R51","v":1.8360000000000001},{"$f":"MIN((IFERROR(IF(AND($V51<=AC$1,$W51>=AC$1),INDEX(Reliability!H$23:H$50,MATCH($S51,Reliability!$C$23:$C$50,0)),0),0)*IF($T51=\"n/a\",$D51*$Y51,$G51)+IFERROR(IF(AND($V51<=AC$1,$W51>=AC$1),INDEX(Reliability!H$23:H$50,MATCH($T51,Reliability!$C$23:$C$50,0)),0),0)*$H51*$X51*$Y51),$D51)*$R51","v":1.6910000000000001},{"$f":"MIN((IFERROR(IF(AND($V51<=AD$1,$W51>=AD$1),INDEX(Reliability!I$23:I$50,MATCH($S51,Reliability!$C$23:$C$50,0)),0),0)*IF($T51=\"n/a\",$D51*$Y51,$G51)+IFERROR(IF(AND($V51<=AD$1,$W51>=AD$1),INDEX(Reliability!I$23:I$50,MATCH($T51,Reliability!$C$23:$C$50,0)),0),0)*$H51*$X51*$Y51),$D51)*$R51","v":1.546},{"$f":"MIN((IFERROR(IF(AND($V51<=AE$1,$W51>=AE$1),INDEX(Reliability!J$23:J$50,MATCH($S51,Reliability!$C$23:$C$50,0)),0),0)*IF($T51=\"n/a\",$D51*$Y51,$G51)+IFERROR(IF(AND($V51<=AE$1,$W51>=AE$1),INDEX(Reliability!J$23:J$50,MATCH($T51,Reliability!$C$23:$C$50,0)),0),0)*$H51*$X51*$Y51),$D51)*$R51","v":1.518},{"$f":"MIN((IFERROR(IF(AND($V51<=AF$1,$W51>=AF$1),INDEX(Reliability!K$23:K$50,MATCH($S51,Reliability!$C$23:$C$50,0)),0),0)*IF($T51=\"n/a\",$D51*$Y51,$G51)+IFERROR(IF(AND($V51<=AF$1,$W51>=AF$1),INDEX(Reliability!K$23:K$50,MATCH($T51,Reliability!$C$23:$C$50,0)),0),0)*$H51*$X51*$Y51),$D51)*$R51","v":1.49},{"$f":"MIN((IFERROR(IF(AND($V51<=AG$1,$W51>=AG$1),INDEX(Reliability!L$23:L$50,MATCH($S51,Reliability!$C$23:$C$50,0)),0),0)*IF($T51=\"n/a\",$D51*$Y51,$G51)+IFERROR(IF(AND($V51<=AG$1,$W51>=AG$1),INDEX(Reliability!L$23:L$50,MATCH($T51,Reliability!$C$23:$C$50,0)),0),0)*$H51*$X51*$Y51),$D51)*$R51","v":1.3524},{"$f":"MIN((IFERROR(IF(AND($V51<=AH$1,$W51>=AH$1),INDEX(Reliability!M$23:M$50,MATCH($S51,Reliability!$C$23:$C$50,0)),0),0)*IF($T51=\"n/a\",$D51*$Y51,$G51)+IFERROR(IF(AND($V51<=AH$1,$W51>=AH$1),INDEX(Reliability!M$23:M$50,MATCH($T51,Reliability!$C$23:$C$50,0)),0),0)*$H51*$X51*$Y51),$D51)*$R51","v":1.2148000000000001},{"$f":"MIN((IFERROR(IF(AND($V51<=AI$1,$W51>=AI$1),INDEX(Reliability!N$23:N$50,MATCH($S51,Reliability!$C$23:$C$50,0)),0),0)*IF($T51=\"n/a\",$D51*$Y51,$G51)+IFERROR(IF(AND($V51<=AI$1,$W51>=AI$1),INDEX(Reliability!N$23:N$50,MATCH($T51,Reliability!$C$23:$C$50,0)),0),0)*$H51*$X51*$Y51),$D51)*$R51","v":1.0772000000000002},{"$f":"MIN((IFERROR(IF(AND($V51<=AJ$1,$W51>=AJ$1),INDEX(Reliability!O$23:O$50,MATCH($S51,Reliability!$C$23:$C$50,0)),0),0)*IF($T51=\"n/a\",$D51*$Y51,$G51)+IFERROR(IF(AND($V51<=AJ$1,$W51>=AJ$1),INDEX(Reliability!O$23:O$50,MATCH($T51,Reliability!$C$23:$C$50,0)),0),0)*$H51*$X51*$Y51),$D51)*$R51","v":0.93960000000000021},{"$f":"MIN((IFERROR(IF(AND($V51<=AK$1,$W51>=AK$1),INDEX(Reliability!P$23:P$50,MATCH($S51,Reliability!$C$23:$C$50,0)),0),0)*IF($T51=\"n/a\",$D51*$Y51,$G51)+IFERROR(IF(AND($V51<=AK$1,$W51>=AK$1),INDEX(Reliability!P$23:P$50,MATCH($T51,Reliability!$C$23:$C$50,0)),0),0)*$H51*$X51*$Y51),$D51)*$R51","v":0.80200000000000005}]
[null,{"$f":"unique_contracts!B52","v":"MRGT_6_MMAREF"},{"$f":"unique_contracts!D52","v":"Online"},{"$f":"unique_contracts!J52","v":45},{"$f":"unique_contracts!M52","v":"NotHybrid"},{"$f":"unique_contracts!N52","v":"NA"},{"$f":"unique_contracts!P52","v":0},{"$f":"unique_contracts!R52","v":0},{"$f":"unique_contracts!V52","v":0},{"$f":"unique_contracts!AB52","v":"Owned"},{"$f":"unique_contracts!AM52","v":2005},{"$f":"unique_contracts!AN52","v":7},{"$f":"unique_contracts!AO52","v":1},{"$f":"unique_contracts!AP52","v":2060},{"$f":"unique_contracts!AQ52","v":12},{"$f":"unique_contracts!AR52","v":31},{"$f":"unique_contracts!BP52","v":"EnergyCapacity"},1,{"$f":"IFERROR(IF(AND(I52>0,E52=\"NotHybrid\"),_xlfn.CONCAT(MAX(MIN(ROUNDDOWN(I52/D52,0),8),4),INDEX(resources!$G:$G,MATCH(B52,resources!$A:$A,0))),INDEX(resources!$G:$G,MATCH(B52,resources!$A:$A,0))),\"n/a\")","v":"gas_ct"},"n/a","gas_ct",2006,2060,1,1,{"$f":"MIN((IFERROR(IF(AND($V52<=Z$1,$W52>=Z$1),INDEX(Reliability!E$23:E$50,MATCH($S52,Reliability!$C$23:$C$50,0)),0),0)*IF($T52=\"n/a\",$D52*$Y52,$G52)+IFERROR(IF(AND($V52<=Z$1,$W52>=Z$1),INDEX(Reliability!E$23:E$50,MATCH($T52,Reliability!$C$23:$C$50,0)),0),0)*$H52*$X52*$Y52),$D52)*$R52","v":36.094678848518875},{"$f":"MIN((IFERROR(IF(AND($V52<=AA$1,$W52>=AA$1),INDEX(Reliability!F$23:F$50,MATCH($S52,Reliability!$C$23:$C$50,0)),0),0)*IF($T52=\"n/a\",$D52*$Y52,$G52)+IFERROR(IF(AND($V52<=AA$1,$W52>=AA$1),INDEX(Reliability!F$23:F$50,MATCH($T52,Reliability!$C$23:$C$50,0)),0),0)*$H52*$X52*$Y52),$D52)*$R52","v":36.738248248491807},{"$f":"MIN((IFERROR(IF(AND($V52<=AB$1,$W52>=AB$1),INDEX(Reliability!G$23:G$50,MATCH($S52,Reliability!$C$23:$C$50,0)),0),0)*IF($T52=\"n/a\",$D52*$Y52,$G52)+IFERROR(IF(AND($V52<=AB$1,$W52>=AB$1),INDEX(Reliability!G$23:G$50,MATCH($T52,Reliability!$C$23:$C$50,0)),0),0)*$H52*$X52*$Y52),$D52)*$R52","v":37.38181764846474},{"$f":"MIN((IFERROR(IF(AND($V52<=AC$1,$W52>=AC$1),INDEX(Reliability!H$23:H$50,MATCH($S52,Reliability!$C$23:$C$50,0)),0),0)*IF($T52=\"n/a\",$D52*$Y52,$G52)+IFERROR(IF(AND($V52<=AC$1,$W52>=AC$1),INDEX(Reliability!H$23:H$50,MATCH($T52,Reliability!$C$23:$C$50,0)),0),0)*$H52*$X52*$Y52),$D52)*$R52","v":37.176426553312083},{"$f":"MIN((IFERROR(IF(AND($V52<=AD$1,$W52>=AD$1),INDEX(Reliability!I$23:I$50,MATCH($S52,Reliability!$C$23:$C$50,0)),0),0)*IF($T52=\"n/a\",$D52*$Y52,$G52)+IFERROR(IF(AND($V52<=AD$1,$W52>=AD$1),INDEX(Reliability!I$23:I$50,MATCH($T52,Reliability!$C$23:$C$50,0)),0),0)*$H52*$X52*$Y52),$D52)*$R52","v":36.971035458159434},{"$f":"MIN((IFERROR(IF(AND($V52<=AE$1,$W52>=AE$1),INDEX(Reliability!J$23:J$50,MATCH($S52,Reliability!$C$23:$C$50,0)),0),0)*IF($T52=\"n/a\",$D52*$Y52,$G52)+IFERROR(IF(AND($V52<=AE$1,$W52>=AE$1),INDEX(Reliability!J$23:J$50,MATCH($T52,Reliability!$C$23:$C$50,0)),0),0)*$H52*$X52*$Y52),$D52)*$R52","v":36.261492920092358},{"$f":"MIN((IFERROR(IF(AND($V52<=AF$1,$W52>=AF$1),INDEX(Reliability!K$23:K$50,MATCH($S52,Reliability!$C$23:$C$50,0)),0),0)*IF($T52=\"n/a\",$D52*$Y52,$G52)+IFERROR(IF(AND($V52<=AF$1,$W52>=AF$1),INDEX(Reliability!K$23:K$50,MATCH($T52,Reliability!$C$23:$C$50,0)),0),0)*$H52*$X52*$Y52),$D52)*$R52","v":35.551950382025289},{"$f":"MIN((IFERROR(IF(AND($V52<=AG$1,$W52>=AG$1),INDEX(Reliability!L$23:L$50,MATCH($S52,Reliability!$C$23:$C$50,0)),0),0)*IF($T52=\"n/a\",$D52*$Y52,$G52)+IFERROR(IF(AND($V52<=AG$1,$W52>=AG$1),INDEX(Reliability!L$23:L$50,MATCH($T52,Reliability!$C$23:$C$50,0)),0),0)*$H52*$X52*$Y52),$D52)*$R52","v":35.983274537491184},{"$f":"MIN((IFERROR(IF(AND($V52<=AH$1,$W52>=AH$1),INDEX(Reliability!M$23:M$50,MATCH($S52,Reliability!$C$23:$C$50,0)),0),0)*IF($T52=\"n/a\",$D52*$Y52,$G52)+IFERROR(IF(AND($V52<=AH$1,$W52>=AH$1),INDEX(Reliability!M$23:M$50,MATCH($T52,Reliability!$C$23:$C$50,0)),0),0)*$H52*$X52*$Y52),$D52)*$R52","v":36.414598692957078},{"$f":"MIN((IFERROR(IF(AND($V52<=AI$1,$W52>=AI$1),INDEX(Reliability!N$23:N$50,MATCH($S52,Reliability!$C$23:$C$50,0)),0),0)*IF($T52=\"n/a\",$D52*$Y52,$G52)+IFERROR(IF(AND($V52<=AI$1,$W52>=AI$1),INDEX(Reliability!N$23:N$50,MATCH($T52,Reliability!$C$23:$C$50,0)),0),0)*$H52*$X52*$Y52),$D52)*$R52","v":36.84592284842298},{"$f":"MIN((IFERROR(IF(AND($V52<=AJ$1,$W52>=AJ$1),INDEX(Reliability!O$23:O$50,MATCH($S52,Reliability!$C$23:$C$50,0)),0),0)*IF($T52=\"n/a\",$D52*$Y52,$G52)+IFERROR(IF(AND($V52<=AJ$1,$W52>=AJ$1),INDEX(Reliability!O$23:O$50,MATCH($T52,Reliability!$C$23:$C$50,0)),0),0)*$H52*$X52*$Y52),$D52)*$R52","v":37.277247003888874},{"$f":"MIN((IFERROR(IF(AND($V52<=AK$1,$W52>=AK$1),INDEX(Reliability!P$23:P$50,MATCH($S52,Reliability!$C$23:$C$50,0)),0),0)*IF($T52=\"n/a\",$D52*$Y52,$G52)+IFERROR(IF(AND($V52<=AK$1,$W52>=AK$1),INDEX(Reliability!P$23:P$50,MATCH($T52,Reliability!$C$23:$C$50,0)),0),0)*$H52*$X52*$Y52),$D52)*$R52","v":37.708571159354761}]
[null,{"$f":"unique_contracts!B53","v":"MRGT_6_MEF2"},{"$f":"unique_contracts!D53","v":"Online"},{"$f":"unique_contracts!J53","v":44},{"$f":"unique_contracts!M53","v":"NotHybrid"},{"$f":"unique_contracts!N53","v":"NA"},{"$f":"unique_contracts!P53","v":0},{"$f":"unique_contracts!R53","v":0},{"$f":"unique_contracts!V53","v":0},{"$f":"unique_contracts!AB53","v":"Owned"},{"$f":"unique_contracts!AM53","v":2009},{"$f":"unique_contracts!AN53","v":7},{"$f":"unique_contracts!AO53","v":1},{"$f":"unique_contracts!AP53","v":2060},{"$f":"unique_contracts!AQ53","v":12},{"$f":"unique_contracts!AR53","v":31},{"$f":"unique_contracts!BP53","v":"EnergyCapacity"},1,{"$f":"IFERROR(IF(AND(I53>0,E53=\"NotHybrid\"),_xlfn.CONCAT(MAX(MIN(ROUNDDOWN(I53/D53,0),8),4),INDEX(resources!$G:$G,MATCH(B53,resources!$A:$A,0))),INDEX(resources!$G:$G,MATCH(B53,resources!$A:$A,0))),\"n/a\")","v":"gas_ct"},"n/a","gas_ct",2010,2060,1,1,{"$f":"MIN((IFERROR(IF(AND($V53<=Z$1,$W53>=Z$1),INDEX(Reliability!E$23:E$50,MATCH($S53,Reliability!$C$23:$C$50,0)),0),0)*IF($T53=\"n/a\",$D53*$Y53,$G53)+IFERROR(IF(AND($V53<=Z$1,$W53>=Z$1),INDEX(Reliability!E$23:E$50,MATCH($T53,Reliability!$C$23:$C$50,0)),0),0)*$H53*$X53*$Y53),$D53)*$R53","v":35.292574874107338},{"$f":"MIN((IFERROR(IF(AND($V53<=AA$1,$W53>=AA$1),INDEX(Reliability!F$23:F$50,MATCH($S53,Reliability!$C$23:$C$50,0)),0),0)*IF($T53=\"n/a\",$D53*$Y53,$G53)+IFERROR(IF(AND($V53<=AA$1,$W53>=AA$1),INDEX(Reliability!F$23:F$50,MATCH($T53,Reliability!$C$23:$C$50,0)),0),0)*$H53*$X53*$Y53),$D53)*$R53","v":35.921842731858654},{"$f":"MIN((IFERROR(IF(AND($V53<=AB$1,$W53>=AB$1),INDEX(Reliability!G$23:G$50,MATCH($S53,Reliability!$C$23:$C$50,0)),0),0)*IF($T53=\"n/a\",$D53*$Y53,$G53)+IFERROR(IF(AND($V53<=AB$1,$W53>=AB$1),INDEX(Reliability!G$23:G$50,MATCH($T53,Reliability!$C$23:$C$50,0)),0),0)*$H53*$X53*$Y53),$D53)*$R53","v":36.551110589609969},{"$f":"MIN((IFERROR(IF(AND($V53<=AC$1,$W53>=AC$1),INDEX(Reliability!H$23:H$50,MATCH($S53,Reliability!$C$23:$C$50,0)),0),0)*IF($T53=\"n/a\",$D53*$Y53,$G53)+IFERROR(IF(AND($V53<=AC$1,$W53>=AC$1),INDEX(Reliability!H$23:H$50,MATCH($T53,Reliability!$C$23:$C$50,0)),0),0)*$H53*$X53*$Y53),$D53)*$R53","v":36.350283741016263},{"$f":"MIN((IFERROR(IF(AND($V53<=AD$1,$W53>=AD$1),INDEX(Reliability!I$23:I$50,MATCH($S53,Reliability!$C$23:$C$50,0)),0),0)*IF($T53=\"n/a\",$D53*$Y53,$G53)+IFERROR(IF(AND($V53<=AD$1,$W53>=AD$1),INDEX(Reliability!I$23:I$50,MATCH($T53,Reliability!$C$23:$C$50,0)),0),0)*$H53*$X53*$Y53),$D53)*$R53","v":36.149456892422556},{"$f":"MIN((IFERROR(IF(AND($V53<=AE$1,$W53>=AE$1),INDEX(Reliability!J$23:J$50,MATCH($S53,Reliability!$C$23:$C$50,0)),0),0)*IF($T53=\"n/a\",$D53*$Y53,$G53)+IFERROR(IF(AND($V53<=AE$1,$W53>=AE$1),INDEX(Reliability!J$23:J$50,MATCH($T53,Reliability!$C$23:$C$50,0)),0),0)*$H53*$X53*$Y53),$D53)*$R53","v":35.455681966312532},{"$f":"MIN((IFERROR(IF(AND($V53<=AF$1,$W53>=AF$1),INDEX(Reliability!K$23:K$50,MATCH($S53,Reliability!$C$23:$C$50,0)),0),0)*IF($T53=\"n/a\",$D53*$Y53,$G53)+IFERROR(IF(AND($V53<=AF$1,$W53>=AF$1),INDEX(Reliability!K$23:K$50,MATCH($T53,Reliability!$C$23:$C$50,0)),0),0)*$H53*$X53*$Y53),$D53)*$R53","v":34.761907040202509},{"$f":"MIN((IFERROR(IF(AND($V53<=AG$1,$W53>=AG$1),INDEX(Reliability!L$23:L$50,MATCH($S53,Reliability!$C$23:$C$50,0)),0),0)*IF($T53=\"n/a\",$D53*$Y53,$G53)+IFERROR(IF(AND($V53<=AG$1,$W53>=AG$1),INDEX(Reliability!L$23:L$50,MATCH($T53,Reliability!$C$23:$C$50,0)),0),0)*$H53*$X53*$Y53),$D53)*$R53","v":35.183646214435825},{"$f":"MIN((IFERROR(IF(AND($V53<=AH$1,$W53>=AH$1),INDEX(Reliability!M$23:M$50,MATCH($S53,Reliability!$C$23:$C$50,0)),0),0)*IF($T53=\"n/a\",$D53*$Y53,$G53)+IFERROR(IF(AND($V53<=AH$1,$W53>=AH$1),INDEX(Reliability!M$23:M$50,MATCH($T53,Reliability!$C$23:$C$50,0)),0),0)*$H53*$X53*$Y53),$D53)*$R53","v":35.605385388669148},{"$f":"MIN((IFERROR(IF(AND($V53<=AI$1,$W53>=AI$1),INDEX(Reliability!N$23:N$50,MATCH($S53,Reliability!$C$23:$C$50,0)),0),0)*IF($T53=\"n/a\",$D53*$Y53,$G53)+IFERROR(IF(AND($V53<=AI$1,$W53>=AI$1),INDEX(Reliability!N$23:N$50,MATCH($T53,Reliability!$C$23:$C$50,0)),0),0)*$H53*$X53*$Y53),$D53)*$R53","v":36.027124562902465},{"$f":"MIN((IFERROR(IF(AND($V53<=AJ$1,$W53>=AJ$1),INDEX(Reliability!O$23:O$50,MATCH($S53,Reliability!$C$23:$C$50,0)),0),0)*IF($T53=\"n/a\",$D53*$Y53,$G53)+IFERROR(IF(AND($V53<=AJ$1,$W53>=AJ$1),INDEX(Reliability!O$23:O$50,MATCH($T53,Reliability!$C$23:$C$50,0)),0),0)*$H53*$X53*$Y53),$D53)*$R53","v":36.448863737135788},{"$f":"MIN((IFERROR(IF(AND($V53<=AK$1,$W53>=AK$1),INDEX(Reliability!P$23:P$50,MATCH($S53,Reliability!$C$23:$C$50,0)),0),0)*IF($T53=\"n/a\",$D53*$Y53,$G53)+IFERROR(IF(AND($V53<=AK$1,$W53>=AK$1),INDEX(Reliability!P$23:P$50,MATCH($T53,Reliability!$C$23:$C$50,0)),0),0)*$H53*$X53*$Y53),$D53)*$R53","v":36.870602911369105}]
[null,{"$f":"unique_contracts!B54","v":"_NEW_GENERIC_WIND"},{"$f":"unique_contracts!D54","v":"PlannedNew"},{"$f":"unique_contracts!J54","v":39.5},{"$f":"unique_contracts!M54","v":"NotHybrid"},{"$f":"unique_contracts!N54","v":"NA"},{"$f":"unique_contracts!P54","v":0},{"$f":"unique_contracts!R54","v":0},{"$f":"unique_contracts!V54","v":0},{"$f":"unique_contracts!AB54","v":0},{"$f":"unique_contracts!AM54","v":2030},{"$f":"unique_contracts!AN54","v":1},{"$f":"unique_contracts!AO54","v":1},{"$f":"unique_contracts!AP54","v":2040},{"$f":"unique_contracts!AQ54","v":1},{"$f":"unique_contracts!AR54","v":1},{"$f":"unique_contracts!BP54","v":"EnergyCapacity"},1,{"$f":"IFERROR(IF(AND(I54>0,E54=\"NotHybrid\"),_xlfn.CONCAT(MAX(MIN(ROUNDDOWN(I54/D54,0),8),4),INDEX(resources!$G:$G,MATCH(B54,resources!$A:$A,0))),INDEX(resources!$G:$G,MATCH(B54,resources!$A:$A,0))),\"n/a\")","v":"in_state_wind_south"},"n/a","in_state_wind_south",2030,2039,1,1,{"$f":"MIN((IFERROR(IF(AND($V54<=Z$1,$W54>=Z$1),INDEX(Reliability!E$23:E$50,MATCH($S54,Reliability!$C$23:$C$50,0)),0),0)*IF($T54=\"n/a\",$D54*$Y54,$G54)+IFERROR(IF(AND($V54<=Z$1,$W54>=Z$1),INDEX(Reliability!E$23:E$50,MATCH($T54,Reliability!$C$23:$C$50,0)),0),0)*$H54*$X54*$Y54),$D54)*$R54","v":0},{"$f":"MIN((IFERROR(IF(AND($V54<=AA$1,$W54>=AA$1),INDEX(Reliability!F$23:F$50,MATCH($S54,Reliability!$C$23:$C$50,0)),0),0)*IF($T54=\"n/a\",$D54*$Y54,$G54)+IFERROR(IF(AND($V54<=AA$1,$W54>=AA$1),INDEX(Reliability!F$23:F$50,MATCH($T54,Reliability!$C$23:$C$50,0)),0),0)*$H54*$X54*$Y54),$D54)*$R54","v":0},{"$f":"MIN((IFERROR(IF(AND($V54<=AB$1,$W54>=AB$1),INDEX(Reliability!G$23:G$50,MATCH($S54,Reliability!$C$23:$C$50,0)),0),0)*IF($T54=\"n/a\",$D54*$Y54,$G54)+IFERROR(IF(AND($V54<=AB$1,$W54>=AB$1),INDEX(Reliability!G$23:G$50,MATCH($T54,Reliability!$C$23:$C$50,0)),0),0)*$H54*$X54*$Y54),$D54)*$R54","v":0},{"$f":"MIN((IFERROR(IF(AND($V54<=AC$1,$W54>=AC$1),INDEX(Reliability!H$23:H$50,MATCH($S54,Reliability!$C$23:$C$50,0)),0),0)*IF($T54=\"n/a\",$D54*$Y54,$G54)+IFERROR(IF(AND($V54<=AC$1,$W54>=AC$1),INDEX(Reliability!H$23:H$50,MATCH($T54,Reliability!$C$23:$C$50,0)),0),0)*$H54*$X54*$Y54),$D54)*$R54","v":0},{"$f":"MIN((IFERROR(IF(AND($V54<=AD$1,$W54>=AD$1),INDEX(Reliability!I$23:I$50,MATCH($S54,Reliability!$C$23:$C$50,0)),0),0)*IF($T54=\"n/a\",$D54*$Y54,$G54)+IFERROR(IF(AND($V54<=AD$1,$W54>=AD$1),INDEX(Reliability!I$23:I$50,MATCH($T54,Reliability!$C$23:$C$50,0)),0),0)*$H54*$X54*$Y54),$D54)*$R54","v":0},{"$f":"MIN((IFERROR(IF(AND($V54<=AE$1,$W54>=AE$1),INDEX(Reliability!J$23:J$50,MATCH($S54,Reliability!$C$23:$C$50,0)),0),0)*IF($T54=\"n/a\",$D54*$Y54,$G54)+IFERROR(IF(AND($V54<=AE$1,$W54>=AE$1),INDEX(Reliability!J$23:J$50,MATCH($T54,Reliability!$C$23:$C$50,0)),0),0)*$H54*$X54*$Y54),$D54)*$R54","v":0},{"$f":"MIN((IFERROR(IF(AND($V54<=AF$1,$W54>=AF$1),INDEX(Reliability!K$23:K$50,MATCH($S54,Reliability!$C$23:$C$50,0)),0),0)*IF($T54=\"n/a\",$D54*$Y54,$G54)+IFERROR(IF(AND($V54<=AF$1,$W54>=AF$1),INDEX(Reliability!K$23:K$50,MATCH($T54,Reliability!$C$23:$C$50,0)),0),0)*$H54*$X54*$Y54),$D54)*$R54","v":3.2553832976002042},{"$f":"MIN((IFERROR(IF(AND($V54<=AG$1,$W54>=AG$1),INDEX(Reliability!L$23:L$50,MATCH($S54,Reliability!$C$23:$C$50,0)),0),0)*IF($T54=\"n/a\",$D54*$Y54,$G54)+IFERROR(IF(AND($V54<=AG$1,$W54>=AG$1),INDEX(Reliability!L$23:L$50,MATCH($T54,Reliability!$C$23:$C$50,0)),0),0)*$H54*$X54*$Y54),$D54)*$R54","v":2.9557727994139911},{"$f":"MIN((IFERROR(IF(AND($V54<=AH$1,$W54>=AH$1),INDEX(Reliability!M$23:M$50,MATCH($S54,Reliability!$C$23:$C$50,0)),0),0)*IF($T54=\"n/a\",$D54*$Y54,$G54)+IFERROR(IF(AND($V54<=AH$1,$W54>=AH$1),INDEX(Reliability!M$23:M$50,MATCH($T54,Reliability!$C$23:$C$50,0)),0),0)*$H54*$X54*$Y54),$D54)*$R54","v":2.656162301227778},{"$f":"MIN((IFERROR(IF(AND($V54<=AI$1,$W54>=AI$1),INDEX(Reliability!N$23:N$50,MATCH($S54,Reliability!$C$23:$C$50,0)),0),0)*IF($T54=\"n/a\",$D54*$Y54,$G54)+IFERROR(IF(AND($V54<=AI$1,$W54>=AI$1),INDEX(Reliability!N$23:N$50,MATCH($T54,Reliability!$C$23:$C$50,0)),0),0)*$H54*$X54*$Y54),$D54)*$R54","v":2.3565518030415644},{"$f":"MIN((IFERROR(IF(AND($V54<=AJ$1,$W54>=AJ$1),INDEX(Reliability!O$23:O$50,MATCH($S54,Reliability!$C$23:$C$50,0)),0),0)*IF($T54=\"n/a\",$D54*$Y54,$G54)+IFERROR(IF(AND($V54<=AJ$1,$W54>=AJ$1),INDEX(Reliability!O$23:O$50,MATCH($T54,Reliability!$C$23:$C$50,0)),0),0)*$H54*$X54*$Y54),$D54)*$R54","v":2.0569413048553509},{"$f":"MIN((IFERROR(IF(AND($V54<=AK$1,$W54>=AK$1),INDEX(Reliability!P$23:P$50,MATCH($S54,Reliability!$C$23:$C$50,0)),0),0)*IF($T54=\"n/a\",$D54*$Y54,$G54)+IFERROR(IF(AND($V54<=AK$1,$W54>=AK$1),INDEX(Reliability!P$23:P$50,MATCH($T54,Reliability!$C$23:$C$50,0)),0),0)*$H54*$X54*$Y54),$D54)*$R54","v":1.7573308066691369}]
[null,{"$f":"unique_contracts!B55","v":"_NEW_GENERIC_WIND"},{"$f":"unique_contracts!D55","v":"PlannedNew"},{"$f":"unique_contracts!J55","v":76.3},{"$f":"unique_contracts!M55","v":"NotHybrid"},{"$f":"unique_contracts!N55","v":"NA"},{"$f":"unique_contracts!P55","v":0},{"$f":"unique_contracts!R55","v":0},{"$f":"unique_contracts!V55","v":0},{"$f":"unique_contracts!AB55","v":0},{"$f":"unique_contracts!AM55","v":2030},{"$f":"unique_contracts!AN55","v":1},{"$f":"unique_contracts!AO55","v":1},{"$f":"unique_contracts!AP55","v":2040},{"$f":"unique_contracts!AQ55","v":1},{"$f":"unique_contracts!AR55","v":1},{"$f":"unique_contracts!BP55","v":"EnergyCapacity"},1,{"$f":"IFERROR(IF(AND(I55>0,E55=\"NotHybrid\"),_xlfn.CONCAT(MAX(MIN(ROUNDDOWN(I55/D55,0),8),4),INDEX(resources!$G:$G,MATCH(B55,resources!$A:$A,0))),INDEX(resources!$G:$G,MATCH(B55,resources!$A:$A,0))),\"n/a\")","v":"in_state_wind_south"},"n/a","in_state_wind_south",2030,2039,1,1,{"$f":"MIN((IFERROR(IF(AND($V55<=Z$1,$W55>=Z$1),INDEX(Reliability!E$23:E$50,MATCH($S55,Reliability!$C$23:$C$50,0)),0),0)*IF($T55=\"n/a\",$D55*$Y55,$G55)+IFERROR(IF(AND($V55<=Z$1,$W55>=Z$1),INDEX(Reliability!E$23:E$50,MATCH($T55,Reliability!$C$23:$C$50,0)),0),0)*$H55*$X55*$Y55),$D55)*$R55","v":0},{"$f":"MIN((IFERROR(IF(AND($V55<=AA$1,$W55>=AA$1),INDEX(Reliability!F$23:F$50,MATCH($S55,Reliability!$C$23:$C$50,0)),0),0)*IF($T55=\"n/a\",$D55*$Y55,$G55)+IFERROR(IF(AND($V55<=AA$1,$W55>=AA$1),INDEX(Reliability!F$23:F$50,MATCH($T55,Reliability!$C$23:$C$50,0)),0),0)*$H55*$X55*$Y55),$D55)*$R55","v":0},{"$f":"MIN((IFERROR(IF(AND($V55<=AB$1,$W55>=AB$1),INDEX(Reliability!G$23:G$50,MATCH($S55,Reliability!$C$23:$C$50,0)),0),0)*IF($T55=\"n/a\",$D55*$Y55,$G55)+IFERROR(IF(AND($V55<=AB$1,$W55>=AB$1),INDEX(Reliability!G$23:G$50,MATCH($T55,Reliability!$C$23:$C$50,0)),0),0)*$H55*$X55*$Y55),$D55)*$R55","v":0},{"$f":"MIN((IFERROR(IF(AND($V55<=AC$1,$W55>=AC$1),INDEX(Reliability!H$23:H$50,MATCH($S55,Reliability!$C$23:$C$50,0)),0),0)*IF($T55=\"n/a\",$D55*$Y55,$G55)+IFERROR(IF(AND($V55<=AC$1,$W55>=AC$1),INDEX(Reliability!H$23:H$50,MATCH($T55,Reliability!$C$23:$C$50,0)),0),0)*$H55*$X55*$Y55),$D55)*$R55","v":0},{"$f":"MIN((IFERROR(IF(AND($V55<=AD$1,$W55>=AD$1),INDEX(Reliability!I$23:I$50,MATCH($S55,Reliability!$C$23:$C$50,0)),0),0)*IF($T55=\"n/a\",$D55*$Y55,$G55)+IFERROR(IF(AND($V55<=AD$1,$W55>=AD$1),INDEX(Reliability!I$23:I$50,MATCH($T55,Reliability!$C$23:$C$50,0)),0),0)*$H55*$X55*$Y55),$D55)*$R55","v":0},{"$f":"MIN((IFERROR(IF(AND($V55<=AE$1,$W55>=AE$1),INDEX(Reliability!J$23:J$50,MATCH($S55,Reliability!$C$23:$C$50,0)),0),0)*IF($T55=\"n/a\",$D55*$Y55,$G55)+IFERROR(IF(AND($V55<=AE$1,$W55>=AE$1),INDEX(Reliability!J$23:J$50,MATCH($T55,Reliability!$C$23:$C$50,0)),0),0)*$H55*$X55*$Y55),$D55)*$R55","v":0},{"$f":"MIN((IFERROR(IF(AND($V55<=AF$1,$W55>=AF$1),INDEX(Reliability!K$23:K$50,MATCH($S55,Reliability!$C$23:$C$50,0)),0),0)*IF($T55=\"n/a\",$D55*$Y55,$G55)+IFERROR(IF(AND($V55<=AF$1,$W55>=AF$1),INDEX(Reliability!K$23:K$50,MATCH($T55,Reliability!$C$23:$C$50,0)),0),0)*$H55*$X55*$Y55),$D55)*$R55","v":6.2882467242252043},{"$f":"MIN((IFERROR(IF(AND($V55<=AG$1,$W55>=AG$1),INDEX(Reliability!L$23:L$50,MATCH($S55,Reliability!$C$23:$C$50,0)),0),0)*IF($T55=\"n/a\",$D55*$Y55,$G55)+IFERROR(IF(AND($V55<=AG$1,$W55>=AG$1),INDEX(Reliability!L$23:L$50,MATCH($T55,Reliability!$C$23:$C$50,0)),0),0)*$H55*$X55*$Y55),$D55)*$R55","v":5.7095054327920884},{"$f":"MIN((IFERROR(IF(AND($V55<=AH$1,$W55>=AH$1),INDEX(Reliability!M$23:M$50,MATCH($S55,Reliability!$C$23:$C$50,0)),0),0)*IF($T55=\"n/a\",$D55*$Y55,$G55)+IFERROR(IF(AND($V55<=AH$1,$W55>=AH$1),INDEX(Reliability!M$23:M$50,MATCH($T55,Reliability!$C$23:$C$50,0)),0),0)*$H55*$X55*$Y55),$D55)*$R55","v":5.1307641413589735},{"$f":"MIN((IFERROR(IF(AND($V55<=AI$1,$W55>=AI$1),INDEX(Reliability!N$23:N$50,MATCH($S55,Reliability!$C$23:$C$50,0)),0),0)*IF($T55=\"n/a\",$D55*$Y55,$G55)+IFERROR(IF(AND($V55<=AI$1,$W55>=AI$1),INDEX(Reliability!N$23:N$50,MATCH($T55,Reliability!$C$23:$C$50,0)),0),0)*$H55*$X55*$Y55),$D55)*$R55","v":4.5520228499258568},{"$f":"MIN((IFERROR(IF(AND($V55<=AJ$1,$W55>=AJ$1),INDEX(Reliability!O$23:O$50,MATCH($S55,Reliability!$C$23:$C$50,0)),0),0)*IF($T55=\"n/a\",$D55*$Y55,$G55)+IFERROR(IF(AND($V55<=AJ$1,$W55>=AJ$1),INDEX(Reliability!O$23:O$50,MATCH($T55,Reliability!$C$23:$C$50,0)),0),0)*$H55*$X55*$Y55),$D55)*$R55","v":3.9732815584927406},{"$f":"MIN((IFERROR(IF(AND($V55<=AK$1,$W55>=AK$1),INDEX(Reliability!P$23:P$50,MATCH($S55,Reliability!$C$23:$C$50,0)),0),0)*IF($T55=\"n/a\",$D55*$Y55,$G55)+IFERROR(IF(AND($V55<=AK$1,$W55>=AK$1),INDEX(Reliability!P$23:P$50,MATCH($T55,Reliability!$C$23:$C$50,0)),0),0)*$H55*$X55*$Y55),$D55)*$R55","v":3.3945402670596239}]
[null,{"$f":"unique_contracts!B56","v":"_NEW_GENERIC_WIND"},{"$f":"unique_contracts!D56","v":"PlannedNew"},{"$f":"unique_contracts!J56","v":137},{"$f":"unique_contracts!M56","v":"NotHybrid"},{"$f":"unique_contracts!N56","v":"NA"},{"$f":"unique_contracts!P56","v":0},{"$f":"unique_contracts!R56","v":0},{"$f":"unique_contracts!V56","v":0},{"$f":"unique_contracts!AB56","v":0},{"$f":"unique_contracts!AM56","v":2027},{"$f":"unique_contracts!AN56","v":1},{"$f":"unique_contracts!AO56","v":1},{"$f":"unique_contracts!AP56","v":2037},{"$f":"unique_contracts!AQ56","v":1},{"$f":"unique_contracts!AR56","v":1},{"$f":"unique_contracts!BP56","v":"EnergyCapacity"},1,{"$f":"IFERROR(IF(AND(I56>0,E56=\"NotHybrid\"),_xlfn.CONCAT(MAX(MIN(ROUNDDOWN(I56/D56,0),8),4),INDEX(resources!$G:$G,MATCH(B56,resources!$A:$A,0))),INDEX(resources!$G:$G,MATCH(B56,resources!$A:$A,0))),\"n/a\")","v":"in_state_wind_south"},"n/a","in_state_wind_south",2027,2036,1,1,{"$f":"MIN((IFERROR(IF(AND($V56<=Z$1,$W56>=Z$1),INDEX(Reliability!E$23:E$50,MATCH($S56,Reliability!$C$23:$C$50,0)),0),0)*IF($T56=\"n/a\",$D56*$Y56,$G56)+IFERROR(IF(AND($V56<=Z$1,$W56>=Z$1),INDEX(Reliability!E$23:E$50,MATCH($T56,Reliability!$C$23:$C$50,0)),0),0)*$H56*$X56*$Y56),$D56)*$R56","v":0},{"$f":"MIN((IFERROR(IF(AND($V56<=AA$1,$W56>=AA$1),INDEX(Reliability!F$23:F$50,MATCH($S56,Reliability!$C$23:$C$50,0)),0),0)*IF($T56=\"n/a\",$D56*$Y56,$G56)+IFERROR(IF(AND($V56<=AA$1,$W56>=AA$1),INDEX(Reliability!F$23:F$50,MATCH($T56,Reliability!$C$23:$C$50,0)),0),0)*$H56*$X56*$Y56),$D56)*$R56","v":0},{"$f":"MIN((IFERROR(IF(AND($V56<=AB$1,$W56>=AB$1),INDEX(Reliability!G$23:G$50,MATCH($S56,Reliability!$C$23:$C$50,0)),0),0)*IF($T56=\"n/a\",$D56*$Y56,$G56)+IFERROR(IF(AND($V56<=AB$1,$W56>=AB$1),INDEX(Reliability!G$23:G$50,MATCH($T56,Reliability!$C$23:$C$50,0)),0),0)*$H56*$X56*$Y56),$D56)*$R56","v":0},{"$f":"MIN((IFERROR(IF(AND($V56<=AC$1,$W56>=AC$1),INDEX(Reliability!H$23:H$50,MATCH($S56,Reliability!$C$23:$C$50,0)),0),0)*IF($T56=\"n/a\",$D56*$Y56,$G56)+IFERROR(IF(AND($V56<=AC$1,$W56>=AC$1),INDEX(Reliability!H$23:H$50,MATCH($T56,Reliability!$C$23:$C$50,0)),0),0)*$H56*$X56*$Y56),$D56)*$R56","v":16.232206786525673},{"$f":"MIN((IFERROR(IF(AND($V56<=AD$1,$W56>=AD$1),INDEX(Reliability!I$23:I$50,MATCH($S56,Reliability!$C$23:$C$50,0)),0),0)*IF($T56=\"n/a\",$D56*$Y56,$G56)+IFERROR(IF(AND($V56<=AD$1,$W56>=AD$1),INDEX(Reliability!I$23:I$50,MATCH($T56,Reliability!$C$23:$C$50,0)),0),0)*$H56*$X56*$Y56),$D56)*$R56","v":11.565402782187455},{"$f":"MIN((IFERROR(IF(AND($V56<=AE$1,$W56>=AE$1),INDEX(Reliability!J$23:J$50,MATCH($S56,Reliability!$C$23:$C$50,0)),0),0)*IF($T56=\"n/a\",$D56*$Y56,$G56)+IFERROR(IF(AND($V56<=AE$1,$W56>=AE$1),INDEX(Reliability!J$23:J$50,MATCH($T56,Reliability!$C$23:$C$50,0)),0),0)*$H56*$X56*$Y56),$D56)*$R56","v":11.428112932501676},{"$f":"MIN((IFERROR(IF(AND($V56<=AF$1,$W56>=AF$1),INDEX(Reliability!K$23:K$50,MATCH($S56,Reliability!$C$23:$C$50,0)),0),0)*IF($T56=\"n/a\",$D56*$Y56,$G56)+IFERROR(IF(AND($V56<=AF$1,$W56>=AF$1),INDEX(Reliability!K$23:K$50,MATCH($T56,Reliability!$C$23:$C$50,0)),0),0)*$H56*$X56*$Y56),$D56)*$R56","v":11.2908230828159},{"$f":"MIN((IFERROR(IF(AND($V56<=AG$1,$W56>=AG$1),INDEX(Reliability!L$23:L$50,MATCH($S56,Reliability!$C$23:$C$50,0)),0),0)*IF($T56=\"n/a\",$D56*$Y56,$G56)+IFERROR(IF(AND($V56<=AG$1,$W56>=AG$1),INDEX(Reliability!L$23:L$50,MATCH($T56,Reliability!$C$23:$C$50,0)),0),0)*$H56*$X56*$Y56),$D56)*$R56","v":10.251667684043463},{"$f":"MIN((IFERROR(IF(AND($V56<=AH$1,$W56>=AH$1),INDEX(Reliability!M$23:M$50,MATCH($S56,Reliability!$C$23:$C$50,0)),0),0)*IF($T56=\"n/a\",$D56*$Y56,$G56)+IFERROR(IF(AND($V56<=AH$1,$W56>=AH$1),INDEX(Reliability!M$23:M$50,MATCH($T56,Reliability!$C$23:$C$50,0)),0),0)*$H56*$X56*$Y56),$D56)*$R56","v":9.2125122852710266},{"$f":"MIN((IFERROR(IF(AND($V56<=AI$1,$W56>=AI$1),INDEX(Reliability!N$23:N$50,MATCH($S56,Reliability!$C$23:$C$50,0)),0),0)*IF($T56=\"n/a\",$D56*$Y56,$G56)+IFERROR(IF(AND($V56<=AI$1,$W56>=AI$1),INDEX(Reliability!N$23:N$50,MATCH($T56,Reliability!$C$23:$C$50,0)),0),0)*$H56*$X56*$Y56),$D56)*$R56","v":8.1733568864985902},{"$f":"MIN((IFERROR(IF(AND($V56<=AJ$1,$W56>=AJ$1),INDEX(Reliability!O$23:O$50,MATCH($S56,Reliability!$C$23:$C$50,0)),0),0)*IF($T56=\"n/a\",$D56*$Y56,$G56)+IFERROR(IF(AND($V56<=AJ$1,$W56>=AJ$1),INDEX(Reliability!O$23:O$50,MATCH($T56,Reliability!$C$23:$C$50,0)),0),0)*$H56*$X56*$Y56),$D56)*$R56","v":7.1342014877261528},{"$f":"MIN((IFERROR(IF(AND($V56<=AK$1,$W56>=AK$1),INDEX(Reliability!P$23:P$50,MATCH($S56,Reliability!$C$23:$C$50,0)),0),0)*IF($T56=\"n/a\",$D56*$Y56,$G56)+IFERROR(IF(AND($V56<=AK$1,$W56>=AK$1),INDEX(Reliability!P$23:P$50,MATCH($T56,Reliability!$C$23:$C$50,0)),0),0)*$H56*$X56*$Y56),$D56)*$R56","v":6.0950460889537155}]
[null,{"$f":"unique_contracts!B57","v":"_NEW_GENERIC_DR"},{"$f":"unique_contracts!D57","v":"PlannedNew"},{"$f":"unique_contracts!J57","v":67},{"$f":"unique_contracts!M57","v":"NotHybrid"},{"$f":"unique_contracts!N57","v":"NA"},{"$f":"unique_contracts!P57","v":0},{"$f":"unique_contracts!R57","v":0},{"$f":"unique_contracts!V57","v":0},{"$f":"unique_contracts!AB57","v":0},{"$f":"unique_contracts!AM57","v":2027},{"$f":"unique_contracts!AN57","v":1},{"$f":"unique_contracts!AO57","v":1},{"$f":"unique_contracts!AP57","v":2037},{"$f":"unique_contracts!AQ57","v":1},{"$f":"unique_contracts!AR57","v":1},{"$f":"unique_contracts!BP57","v":"EnergyCapacity"},1,{"$f":"IFERROR(IF(AND(I57>0,E57=\"NotHybrid\"),_xlfn.CONCAT(MAX(MIN(ROUNDDOWN(I57/D57,0),8),4),INDEX(resources!$G:$G,MATCH(B57,resources!$A:$A,0))),INDEX(resources!$G:$G,MATCH(B57,resources!$A:$A,0))),\"n/a\")","v":"demand_response"},"n/a","demand_response",2027,2036,1,1,{"$f":"MIN((IFERROR(IF(AND($V57<=Z$1,$W57>=Z$1),INDEX(Reliability!E$23:E$50,MATCH($S57,Reliability!$C$23:$C$50,0)),0),0)*IF($T57=\"n/a\",$D57*$Y57,$G57)+IFERROR(IF(AND($V57<=Z$1,$W57>=Z$1),INDEX(Reliability!E$23:E$50,MATCH($T57,Reliability!$C$23:$C$50,0)),0),0)*$H57*$X57*$Y57),$D57)*$R57","v":0},{"$f":"MIN((IFERROR(IF(AND($V57<=AA$1,$W57>=AA$1),INDEX(Reliability!F$23:F$50,MATCH($S57,Reliability!$C$23:$C$50,0)),0),0)*IF($T57=\"n/a\",$D57*$Y57,$G57)+IFERROR(IF(AND($V57<=AA$1,$W57>=AA$1),INDEX(Reliability!F$23:F$50,MATCH($T57,Reliability!$C$23:$C$50,0)),0),0)*$H57*$X57*$Y57),$D57)*$R57","v":0},{"$f":"MIN((IFERROR(IF(AND($V57<=AB$1,$W57>=AB$1),INDEX(Reliability!G$23:G$50,MATCH($S57,Reliability!$C$23:$C$50,0)),0),0)*IF($T57=\"n/a\",$D57*$Y57,$G57)+IFERROR(IF(AND($V57<=AB$1,$W57>=AB$1),INDEX(Reliability!G$23:G$50,MATCH($T57,Reliability!$C$23:$C$50,0)),0),0)*$H57*$X57*$Y57),$D57)*$R57","v":0},{"$f":"MIN((IFERROR(IF(AND($V57<=AC$1,$W57>=AC$1),INDEX(Reliability!H$23:H$50,MATCH($S57,Reliability!$C$23:$C$50,0)),0),0)*IF($T57=\"n/a\",$D57*$Y57,$G57)+IFERROR(IF(AND($V57<=AC$1,$W57>=AC$1),INDEX(Reliability!H$23:H$50,MATCH($T57,Reliability!$C$23:$C$50,0)),0),0)*$H57*$X57*$Y57),$D57)*$R57","v":51.747534476609289},{"$f":"MIN((IFERROR(IF(AND($V57<=AD$1,$W57>=AD$1),INDEX(Reliability!I$23:I$50,MATCH($S57,Reliability!$C$23:$C$50,0)),0),0)*IF($T57=\"n/a\",$D57*$Y57,$G57)+IFERROR(IF(AND($V57<=AD$1,$W57>=AD$1),INDEX(Reliability!I$23:I$50,MATCH($T57,Reliability!$C$23:$C$50,0)),0),0)*$H57*$X57*$Y57),$D57)*$R57","v":41.606999999999999},{"$f":"MIN((IFERROR(IF(AND($V57<=AE$1,$W57>=AE$1),INDEX(Reliability!J$23:J$50,MATCH($S57,Reliability!$C$23:$C$50,0)),0),0)*IF($T57=\"n/a\",$D57*$Y57,$G57)+IFERROR(IF(AND($V57<=AE$1,$W57>=AE$1),INDEX(Reliability!J$23:J$50,MATCH($T57,Reliability!$C$23:$C$50,0)),0),0)*$H57*$X57*$Y57),$D57)*$R57","v":40.601999999999997},{"$f":"MIN((IFERROR(IF(AND($V57<=AF$1,$W57>=AF$1),INDEX(Reliability!K$23:K$50,MATCH($S57,Reliability!$C$23:$C$50,0)),0),0)*IF($T57=\"n/a\",$D57*$Y57,$G57)+IFERROR(IF(AND($V57<=AF$1,$W57>=AF$1),INDEX(Reliability!K$23:K$50,MATCH($T57,Reliability!$C$23:$C$50,0)),0),0)*$H57*$X57*$Y57),$D57)*$R57","v":39.597000000000001},{"$f":"MIN((IFERROR(IF(AND($V57<=AG$1,$W57>=AG$1),INDEX(Reliability!L$23:L$50,MATCH($S57,Reliability!$C$23:$C$50,0)),0),0)*IF($T57=\"n/a\",$D57*$Y57,$G57)+IFERROR(IF(AND($V57<=AG$1,$W57>=AG$1),INDEX(Reliability!L$23:L$50,MATCH($T57,Reliability!$C$23:$C$50,0)),0),0)*$H57*$X57*$Y57),$D57)*$R57","v":33.607199999999999},{"$f":"MIN((IFERROR(IF(AND($V57<=AH$1,$W57>=AH$1),INDEX(Reliability!M$23:M$50,MATCH($S57,Reliability!$C$23:$C$50,0)),0),0)*IF($T57=\"n/a\",$D57*$Y57,$G57)+IFERROR(IF(AND($V57<=AH$1,$W57>=AH$1),INDEX(Reliability!M$23:M$50,MATCH($T57,Reliability!$C$23:$C$50,0)),0),0)*$H57*$X57*$Y57),$D57)*$R57","v":27.617399999999996},{"$f":"MIN((IFERROR(IF(AND($V57<=AI$1,$W57>=AI$1),INDEX(Reliability!N$23:N$50,MATCH($S57,Reliability!$C$23:$C$50,0)),0),0)*IF($T57=\"n/a\",$D57*$Y57,$G57)+IFERROR(IF(AND($V57<=AI$1,$W57>=AI$1),INDEX(Reliability!N$23:N$50,MATCH($T57,Reliability!$C$23:$C$50,0)),0),0)*$H57*$X57*$Y57),$D57)*$R57","v":21.627599999999997},{"$f":"MIN((IFERROR(IF(AND($V57<=AJ$1,$W57>=AJ$1),INDEX(Reliability!O$23:O$50,MATCH($S57,Reliability!$C$23:$C$50,0)),0),0)*IF($T57=\"n/a\",$D57*$Y57,$G57)+IFERROR(IF(AND($V57<=AJ$1,$W57>=AJ$1),INDEX(Reliability!O$23:O$50,MATCH($T57,Reliability!$C$23:$C$50,0)),0),0)*$H57*$X57*$Y57),$D57)*$R57","v":15.6378},{"$f":"MIN((IFERROR(IF(AND($V57<=AK$1,$W57>=AK$1),INDEX(Reliability!P$23:P$50,MATCH($S57,Reliability!$C$23:$C$50,0)),0),0)*IF($T57=\"n/a\",$D57*$Y57,$G57)+IFERROR(IF(AND($V57<=AK$1,$W57>=AK$1),INDEX(Reliability!P$23:P$50,MATCH($T57,Reliability!$C$23:$C$50,0)),0),0)*$H57*$X57*$Y57),$D57)*$R57","v":9.6479999999999997}]
[null,{"$f":"unique_contracts!B58","v":"_NEW_GENERIC_SOLAR_1AXIS"},{"$f":"unique_contracts!D58","v":"PlannedNew"},{"$f":"unique_contracts!J58","v":86},{"$f":"unique_contracts!M58","v":"NotHybrid"},{"$f":"unique_contracts!N58","v":"NA"},{"$f":"unique_contracts!P58","v":0},{"$f":"unique_contracts!R58","v":0},{"$f":"unique_contracts!V58","v":0},{"$f":"unique_contracts!AB58","v":0},{"$f":"unique_contracts!AM58","v":2028},{"$f":"unique_contracts!AN58","v":1},{"$f":"unique_contracts!AO58","v":1},{"$f":"unique_contracts!AP58","v":2038},{"$f":"unique_contracts!AQ58","v":1},{"$f":"unique_contracts!AR58","v":1},{"$f":"unique_contracts!BP58","v":"EnergyCapacity"},1,{"$f":"IFERROR(IF(AND(I58>0,E58=\"NotHybrid\"),_xlfn.CONCAT(MAX(MIN(ROUNDDOWN(I58/D58,0),8),4),INDEX(resources!$G:$G,MATCH(B58,resources!$A:$A,0))),INDEX(resources!$G:$G,MATCH(B58,resources!$A:$A,0))),\"n/a\")","v":"utility_pv"},"n/a","utility_pv",2028,2037,1,1,{"$f":"MIN((IFERROR(IF(AND($V58<=Z$1,$W58>=Z$1),INDEX(Reliability!E$23:E$50,MATCH($S58,Reliability!$C$23:$C$50,0)),0),0)*IF($T58=\"n/a\",$D58*$Y58,$G58)+IFERROR(IF(AND($V58<=Z$1,$W58>=Z$1),INDEX(Reliability!E$23:E$50,MATCH($T58,Reliability!$C$23:$C$50,0)),0),0)*$H58*$X58*$Y58),$D58)*$R58","v":0},{"$f":"MIN((IFERROR(IF(AND($V58<=AA$1,$W58>=AA$1),INDEX(Reliability!F$23:F$50,MATCH($S58,Reliability!$C$23:$C$50,0)),0),0)*IF($T58=\"n/a\",$D58*$Y58,$G58)+IFERROR(IF(AND($V58<=AA$1,$W58>=AA$1),INDEX(Reliability!F$23:F$50,MATCH($T58,Reliability!$C$23:$C$50,0)),0),0)*$H58*$X58*$Y58),$D58)*$R58","v":0},{"$f":"MIN((IFERROR(IF(AND($V58<=AB$1,$W58>=AB$1),INDEX(Reliability!G$23:G$50,MATCH($S58,Reliability!$C$23:$C$50,0)),0),0)*IF($T58=\"n/a\",$D58*$Y58,$G58)+IFERROR(IF(AND($V58<=AB$1,$W58>=AB$1),INDEX(Reliability!G$23:G$50,MATCH($T58,Reliability!$C$23:$C$50,0)),0),0)*$H58*$X58*$Y58),$D58)*$R58","v":0},{"$f":"MIN((IFERROR(IF(AND($V58<=AC$1,$W58>=AC$1),INDEX(Reliability!H$23:H$50,MATCH($S58,Reliability!$C$23:$C$50,0)),0),0)*IF($T58=\"n/a\",$D58*$Y58,$G58)+IFERROR(IF(AND($V58<=AC$1,$W58>=AC$1),INDEX(Reliability!H$23:H$50,MATCH($T58,Reliability!$C$23:$C$50,0)),0),0)*$H58*$X58*$Y58),$D58)*$R58","v":0},{"$f":"MIN((IFERROR(IF(AND($V58<=AD$1,$W58>=AD$1),INDEX(Reliability!I$23:I$50,MATCH($S58,Reliability!$C$23:$C$50,0)),0),0)*IF($T58=\"n/a\",$D58*$Y58,$G58)+IFERROR(IF(AND($V58<=AD$1,$W58>=AD$1),INDEX(Reliability!I$23:I$50,MATCH($T58,Reliability!$C$23:$C$50,0)),0),0)*$H58*$X58*$Y58),$D58)*$R58","v":8.166504704947549},{"$f":"MIN((IFERROR(IF(AND($V58<=AE$1,$W58>=AE$1),INDEX(Reliability!J$23:J$50,MATCH($S58,Reliability!$C$23:$C$50,0)),0),0)*IF($T58=\"n/a\",$D58*$Y58,$G58)+IFERROR(IF(AND($V58<=AE$1,$W58>=AE$1),INDEX(Reliability!J$23:J$50,MATCH($T58,Reliability!$C$23:$C$50,0)),0),0)*$H58*$X58*$Y58),$D58)*$R58","v":6.6632523524737746},{"$f":"MIN((IFERROR(IF(AND($V58<=AF$1,$W58>=AF$1),INDEX(Reliability!K$23:K$50,MATCH($S58,Reliability!$C$23:$C$50,0)),0),0)*IF($T58=\"n/a\",$D58*$Y58,$G58)+IFERROR(IF(AND($V58<=AF$1,$W58>=AF$1),INDEX(Reliability!K$23:K$50,MATCH($T58,Reliability!$C$23:$C$50,0)),0),0)*$H58*$X58*$Y58),$D58)*$R58","v":5.16},{"$f":"MIN((IFERROR(IF(AND($V58<=AG$1,$W58>=AG$1),INDEX(Reliability!L$23:L$50,MATCH($S58,Reliability!$C$23:$C$50,0)),0),0)*IF($T58=\"n/a\",$D58*$Y58,$G58)+IFERROR(IF(AND($V58<=AG$1,$W58>=AG$1),INDEX(Reliability!L$23:L$50,MATCH($T58,Reliability!$C$23:$C$50,0)),0),0)*$H58*$X58*$Y58),$D58)*$R58","v":5.2287999999999997},{"$f":"MIN((IFERROR(IF(AND($V58<=AH$1,$W58>=AH$1),INDEX(Reliability!M$23:M$50,MATCH($S58,Reliability!$C$23:$C$50,0)),0),0)*IF($T58=\"n/a\",$D58*$Y58,$G58)+IFERROR(IF(AND($V58<=AH$1,$W58>=AH$1),INDEX(Reliability!M$23:M$50,MATCH($T58,Reliability!$C$23:$C$50,0)),0),0)*$H58*$X58*$Y58),$D58)*$R58","v":5.2976000000000001},{"$f":"MIN((IFERROR(IF(AND($V58<=AI$1,$W58>=AI$1),INDEX(Reliability!N$23:N$50,MATCH($S58,Reliability!$C$23:$C$50,0)),0),0)*IF($T58=\"n/a\",$D58*$Y58,$G58)+IFERROR(IF(AND($V58<=AI$1,$W58>=AI$1),INDEX(Reliability!N$23:N$50,MATCH($T58,Reliability!$C$23:$C$50,0)),0),0)*$H58*$X58*$Y58),$D58)*$R58","v":5.3664000000000005},{"$f":"MIN((IFERROR(IF(AND($V58<=AJ$1,$W58>=AJ$1),INDEX(Reliability!O$23:O$50,MATCH($S58,Reliability!$C$23:$C$50,0)),0),0)*IF($T58=\"n/a\",$D58*$Y58,$G58)+IFERROR(IF(AND($V58<=AJ$1,$W58>=AJ$1),INDEX(Reliability!O$23:O$50,MATCH($T58,Reliability!$C$23:$C$50,0)),0),0)*$H58*$X58*$Y58),$D58)*$R58","v":5.4352000000000009},{"$f":"MIN((IFERROR(IF(AND($V58<=AK$1,$W58>=AK$1),INDEX(Reliability!P$23:P$50,MATCH($S58,Reliability!$C$23:$C$50,0)),0),0)*IF($T58=\"n/a\",$D58*$Y58,$G58)+IFERROR(IF(AND($V58<=AK$1,$W58>=AK$1),INDEX(Reliability!P$23:P$50,MATCH($T58,Reliability!$C$23:$C$50,0)),0),0)*$H58*$X58*$Y58),$D58)*$R58","v":5.5040000000000004}]
[null,{"$f":"unique_contracts!B59","v":"_NEW_GENERIC_SOLAR_1AXIS"},{"$f":"unique_contracts!D59","v":"PlannedNew"},{"$f":"unique_contracts!J59","v":158},{"$f":"unique_contracts!M59","v":"NotHybrid"},{"$f":"unique_contracts!N59","v":"NA"},{"$f":"unique_contracts!P59","v":0},{"$f":"unique_contracts!R59","v":0},{"$f":"unique_contracts!V59","v":0},{"$f":"unique_contracts!AB59","v":0},{"$f":"unique_contracts!AM59","v":2029},{"$f":"unique_contracts!AN59","v":1},{"$f":"unique_contracts!AO59","v":1},{"$f":"unique_contracts!AP59","v":2039},{"$f":"unique_contracts!AQ59","v":1},{"$f":"unique_contracts!AR59","v":1},{"$f":"unique_contracts!BP59","v":"EnergyCapacity"},1,{"$f":"IFERROR(IF(AND(I59>0,E59=\"NotHybrid\"),_xlfn.CONCAT(MAX(MIN(ROUNDDOWN(I59/D59,0),8),4),INDEX(resources!$G:$G,MATCH(B59,resources!$A:$A,0))),INDEX(resources!$G:$G,MATCH(B59,resources!$A:$A,0))),\"n/a\")","v":"utility_pv"},"n/a","utility_pv",2029,2038,1,1,{"$f":"MIN((IFERROR(IF(AND($V59<=Z$1,$W59>=Z$1),INDEX(Reliability!E$23:E$50,MATCH($S59,Reliability!$C$23:$C$50,0)),0),0)*IF($T59=\"n/a\",$D59*$Y59,$G59)+IFERROR(IF(AND($V59<=Z$1,$W59>=Z$1),INDEX(Reliability!E$23:E$50,MATCH($T59,Reliability!$C$23:$C$50,0)),0),0)*$H59*$X59*$Y59),$D59)*$R59","v":0},{"$f":"MIN((IFERROR(IF(AND($V59<=AA$1,$W59>=AA$1),INDEX(Reliability!F$23:F$50,MATCH($S59,Reliability!$C$23:$C$50,0)),0),0)*IF($T59=\"n/a\",$D59*$Y59,$G59)+IFERROR(IF(AND($V59<=AA$1,$W59>=AA$1),INDEX(Reliability!F$23:F$50,MATCH($T59,Reliability!$C$23:$C$50,0)),0),0)*$H59*$X59*$Y59),$D59)*$R59","v":0},{"$f":"MIN((IFERROR(IF(AND($V59<=AB$1,$W59>=AB$1),INDEX(Reliability!G$23:G$50,MATCH($S59,Reliability!$C$23:$C$50,0)),0),0)*IF($T59=\"n/a\",$D59*$Y59,$G59)+IFERROR(IF(AND($V59<=AB$1,$W59>=AB$1),INDEX(Reliability!G$23:G$50,MATCH($T59,Reliability!$C$23:$C$50,0)),0),0)*$H59*$X59*$Y59),$D59)*$R59","v":0},{"$f":"MIN((IFERROR(IF(AND($V59<=AC$1,$W59>=AC$1),INDEX(Reliability!H$23:H$50,MATCH($S59,Reliability!$C$23:$C$50,0)),0),0)*IF($T59=\"n/a\",$D59*$Y59,$G59)+IFERROR(IF(AND($V59<=AC$1,$W59>=AC$1),INDEX(Reliability!H$23:H$50,MATCH($T59,Reliability!$C$23:$C$50,0)),0),0)*$H59*$X59*$Y59),$D59)*$R59","v":0},{"$f":"MIN((IFERROR(IF(AND($V59<=AD$1,$W59>=AD$1),INDEX(Reliability!I$23:I$50,MATCH($S59,Reliability!$C$23:$C$50,0)),0),0)*IF($T59=\"n/a\",$D59*$Y59,$G59)+IFERROR(IF(AND($V59<=AD$1,$W59>=AD$1),INDEX(Reliability!I$23:I$50,MATCH($T59,Reliability!$C$23:$C$50,0)),0),0)*$H59*$X59*$Y59),$D59)*$R59","v":0},{"$f":"MIN((IFERROR(IF(AND($V59<=AE$1,$W59>=AE$1),INDEX(Reliability!J$23:J$50,MATCH($S59,Reliability!$C$23:$C$50,0)),0),0)*IF($T59=\"n/a\",$D59*$Y59,$G59)+IFERROR(IF(AND($V59<=AE$1,$W59>=AE$1),INDEX(Reliability!J$23:J$50,MATCH($T59,Reliability!$C$23:$C$50,0)),0),0)*$H59*$X59*$Y59),$D59)*$R59","v":12.241789205707633},{"$f":"MIN((IFERROR(IF(AND($V59<=AF$1,$W59>=AF$1),INDEX(Reliability!K$23:K$50,MATCH($S59,Reliability!$C$23:$C$50,0)),0),0)*IF($T59=\"n/a\",$D59*$Y59,$G59)+IFERROR(IF(AND($V59<=AF$1,$W59>=AF$1),INDEX(Reliability!K$23:K$50,MATCH($T59,Reliability!$C$23:$C$50,0)),0),0)*$H59*$X59*$Y59),$D59)*$R59","v":9.48},{"$f":"MIN((IFERROR(IF(AND($V59<=AG$1,$W59>=AG$1),INDEX(Reliability!L$23:L$50,MATCH($S59,Reliability!$C$23:$C$50,0)),0),0)*IF($T59=\"n/a\",$D59*$Y59,$G59)+IFERROR(IF(AND($V59<=AG$1,$W59>=AG$1),INDEX(Reliability!L$23:L$50,MATCH($T59,Reliability!$C$23:$C$50,0)),0),0)*$H59*$X59*$Y59),$D59)*$R59","v":9.6064000000000007},{"$f":"MIN((IFERROR(IF(AND($V59<=AH$1,$W59>=AH$1),INDEX(Reliability!M$23:M$50,MATCH($S59,Reliability!$C$23:$C$50,0)),0),0)*IF($T59=\"n/a\",$D59*$Y59,$G59)+IFERROR(IF(AND($V59<=AH$1,$W59>=AH$1),INDEX(Reliability!M$23:M$50,MATCH($T59,Reliability!$C$23:$C$50,0)),0),0)*$H59*$X59*$Y59),$D59)*$R59","v":9.732800000000001},{"$f":"MIN((IFERROR(IF(AND($V59<=AI$1,$W59>=AI$1),INDEX(Reliability!N$23:N$50,MATCH($S59,Reliability!$C$23:$C$50,0)),0),0)*IF($T59=\"n/a\",$D59*$Y59,$G59)+IFERROR(IF(AND($V59<=AI$1,$W59>=AI$1),INDEX(Reliability!N$23:N$50,MATCH($T59,Reliability!$C$23:$C$50,0)),0),0)*$H59*$X59*$Y59),$D59)*$R59","v":9.8592000000000013},{"$f":"MIN((IFERROR(IF(AND($V59<=AJ$1,$W59>=AJ$1),INDEX(Reliability!O$23:O$50,MATCH($S59,Reliability!$C$23:$C$50,0)),0),0)*IF($T59=\"n/a\",$D59*$Y59,$G59)+IFERROR(IF(AND($V59<=AJ$1,$W59>=AJ$1),INDEX(Reliability!O$23:O$50,MATCH($T59,Reliability!$C$23:$C$50,0)),0),0)*$H59*$X59*$Y59),$D59)*$R59","v":9.9856000000000016},{"$f":"MIN((IFERROR(IF(AND($V59<=AK$1,$W59>=AK$1),INDEX(Reliability!P$23:P$50,MATCH($S59,Reliability!$C$23:$C$50,0)),0),0)*IF($T59=\"n/a\",$D59*$Y59,$G59)+IFERROR(IF(AND($V59<=AK$1,$W59>=AK$1),INDEX(Reliability!P$23:P$50,MATCH($T59,Reliability!$C$23:$C$50,0)),0),0)*$H59*$X59*$Y59),$D59)*$R59","v":10.112}]
[null,{"$f":"unique_contracts!B60","v":"_NEW_GENERIC_SOLAR_1AXIS"},{"$f":"unique_contracts!D60","v":"PlannedNew"},{"$f":"unique_contracts!J60","v":183},{"$f":"unique_contracts!M60","v":"NotHybrid"},{"$f":"unique_contracts!N60","v":"NA"},{"$f":"unique_contracts!P60","v":0},{"$f":"unique_contracts!R60","v":0},{"$f":"unique_contracts!V60","v":0},{"$f":"unique_contracts!AB60","v":0},{"$f":"unique_contracts!AM60","v":2030},{"$f":"unique_contracts!AN60","v":1},{"$f":"unique_contracts!AO60","v":1},{"$f":"unique_contracts!AP60","v":2040},{"$f":"unique_contracts!AQ60","v":1},{"$f":"unique_contracts!AR60","v":1},{"$f":"unique_contracts!BP60","v":"EnergyCapacity"},1,{"$f":"IFERROR(IF(AND(I60>0,E60=\"NotHybrid\"),_xlfn.CONCAT(MAX(MIN(ROUNDDOWN(I60/D60,0),8),4),INDEX(resources!$G:$G,MATCH(B60,resources!$A:$A,0))),INDEX(resources!$G:$G,MATCH(B60,resources!$A:$A,0))),\"n/a\")","v":"utility_pv"},"n/a","utility_pv",2030,2039,1,1,{"$f":"MIN((IFERROR(IF(AND($V60<=Z$1,$W60>=Z$1),INDEX(Reliability!E$23:E$50,MATCH($S60,Reliability!$C$23:$C$50,0)),0),0)*IF($T60=\"n/a\",$D60*$Y60,$G60)+IFERROR(IF(AND($V60<=Z$1,$W60>=Z$1),INDEX(Reliability!E$23:E$50,MATCH($T60,Reliability!$C$23:$C$50,0)),0),0)*$H60*$X60*$Y60),$D60)*$R60","v":0},{"$f":"MIN((IFERROR(IF(AND($V60<=AA$1,$W60>=AA$1),INDEX(Reliability!F$23:F$50,MATCH($S60,Reliability!$C$23:$C$50,0)),0),0)*IF($T60=\"n/a\",$D60*$Y60,$G60)+IFERROR(IF(AND($V60<=AA$1,$W60>=AA$1),INDEX(Reliability!F$23:F$50,MATCH($T60,Reliability!$C$23:$C$50,0)),0),0)*$H60*$X60*$Y60),$D60)*$R60","v":0},{"$f":"MIN((IFERROR(IF(AND($V60<=AB$1,$W60>=AB$1),INDEX(Reliability!G$23:G$50,MATCH($S60,Reliability!$C$23:$C$50,0)),0),0)*IF($T60=\"n/a\",$D60*$Y60,$G60)+IFERROR(IF(AND($V60<=AB$1,$W60>=AB$1),INDEX(Reliability!G$23:G$50,MATCH($T60,Reliability!$C$23:$C$50,0)),0),0)*$H60*$X60*$Y60),$D60)*$R60","v":0},{"$f":"MIN((IFERROR(IF(AND($V60<=AC$1,$W60>=AC$1),INDEX(Reliability!H$23:H$50,MATCH($S60,Reliability!$C$23:$C$50,0)),0),0)*IF($T60=\"n/a\",$D60*$Y60,$G60)+IFERROR(IF(AND($V60<=AC$1,$W60>=AC$1),INDEX(Reliability!H$23:H$50,MATCH($T60,Reliability!$C$23:$C$50,0)),0),0)*$H60*$X60*$Y60),$D60)*$R60","v":0},{"$f":"MIN((IFERROR(IF(AND($V60<=AD$1,$W60>=AD$1),INDEX(Reliability!I$23:I$50,MATCH($S60,Reliability!$C$23:$C$50,0)),0),0)*IF($T60=\"n/a\",$D60*$Y60,$G60)+IFERROR(IF(AND($V60<=AD$1,$W60>=AD$1),INDEX(Reliability!I$23:I$50,MATCH($T60,Reliability!$C$23:$C$50,0)),0),0)*$H60*$X60*$Y60),$D60)*$R60","v":0},{"$f":"MIN((IFERROR(IF(AND($V60<=AE$1,$W60>=AE$1),INDEX(Reliability!J$23:J$50,MATCH($S60,Reliability!$C$23:$C$50,0)),0),0)*IF($T60=\"n/a\",$D60*$Y60,$G60)+IFERROR(IF(AND($V60<=AE$1,$W60>=AE$1),INDEX(Reliability!J$23:J$50,MATCH($T60,Reliability!$C$23:$C$50,0)),0),0)*$H60*$X60*$Y60),$D60)*$R60","v":0},{"$f":"MIN((IFERROR(IF(AND($V60<=AF$1,$W60>=AF$1),INDEX(Reliability!K$23:K$50,MATCH($S60,Reliability!$C$23:$C$50,0)),0),0)*IF($T60=\"n/a\",$D60*$Y60,$G60)+IFERROR(IF(AND($V60<=AF$1,$W60>=AF$1),INDEX(Reliability!K$23:K$50,MATCH($T60,Reliability!$C$23:$C$50,0)),0),0)*$H60*$X60*$Y60),$D60)*$R60","v":10.98},{"$f":"MIN((IFERROR(IF(AND($V60<=AG$1,$W60>=AG$1),INDEX(Reliability!L$23:L$50,MATCH($S60,Reliability!$C$23:$C$50,0)),0),0)*IF($T60=\"n/a\",$D60*$Y60,$G60)+IFERROR(IF(AND($V60<=AG$1,$W60>=AG$1),INDEX(Reliability!L$23:L$50,MATCH($T60,Reliability!$C$23:$C$50,0)),0),0)*$H60*$X60*$Y60),$D60)*$R60","v":11.1264},{"$f":"MIN((IFERROR(IF(AND($V60<=AH$1,$W60>=AH$1),INDEX(Reliability!M$23:M$50,MATCH($S60,Reliability!$C$23:$C$50,0)),0),0)*IF($T60=\"n/a\",$D60*$Y60,$G60)+IFERROR(IF(AND($V60<=AH$1,$W60>=AH$1),INDEX(Reliability!M$23:M$50,MATCH($T60,Reliability!$C$23:$C$50,0)),0),0)*$H60*$X60*$Y60),$D60)*$R60","v":11.2728},{"$f":"MIN((IFERROR(IF(AND($V60<=AI$1,$W60>=AI$1),INDEX(Reliability!N$23:N$50,MATCH($S60,Reliability!$C$23:$C$50,0)),0),0)*IF($T60=\"n/a\",$D60*$Y60,$G60)+IFERROR(IF(AND($V60<=AI$1,$W60>=AI$1),INDEX(Reliability!N$23:N$50,MATCH($T60,Reliability!$C$23:$C$50,0)),0),0)*$H60*$X60*$Y60),$D60)*$R60","v":11.4192},{"$f":"MIN((IFERROR(IF(AND($V60<=AJ$1,$W60>=AJ$1),INDEX(Reliability!O$23:O$50,MATCH($S60,Reliability!$C$23:$C$50,0)),0),0)*IF($T60=\"n/a\",$D60*$Y60,$G60)+IFERROR(IF(AND($V60<=AJ$1,$W60>=AJ$1),INDEX(Reliability!O$23:O$50,MATCH($T60,Reliability!$C$23:$C$50,0)),0),0)*$H60*$X60*$Y60),$D60)*$R60","v":11.565600000000002},{"$f":"MIN((IFERROR(IF(AND($V60<=AK$1,$W60>=AK$1),INDEX(Reliability!P$23:P$50,MATCH($S60,Reliability!$C$23:$C$50,0)),0),0)*IF($T60=\"n/a\",$D60*$Y60,$G60)+IFERROR(IF(AND($V60<=AK$1,$W60>=AK$1),INDEX(Reliability!P$23:P$50,MATCH($T60,Reliability!$C$23:$C$50,0)),0),0)*$H60*$X60*$Y60),$D60)*$R60","v":11.712}]
[null,{"$f":"unique_contracts!B61","v":"_NEW_GENERIC_SOLAR_1AXIS"},{"$f":"unique_contracts!D61","v":"PlannedNew"},{"$f":"unique_contracts!J61","v":43},{"$f":"unique_contracts!M61","v":"NotHybrid"},{"$f":"unique_contracts!N61","v":"NA"},{"$f":"unique_contracts!P61","v":0},{"$f":"unique_contracts!R61","v":0},{"$f":"unique_contracts!V61","v":0},{"$f":"unique_contracts!AB61","v":0},{"$f":"unique_contracts!AM61","v":2031},{"$f":"unique_contracts!AN61","v":1},{"$f":"unique_contracts!AO61","v":1},{"$f":"unique_contracts!AP61","v":2041},{"$f":"unique_contracts!AQ61","v":1},{"$f":"unique_contracts!AR61","v":1},{"$f":"unique_contracts!BP61","v":"EnergyCapacity"},1,{"$f":"IFERROR(IF(AND(I61>0,E61=\"NotHybrid\"),_xlfn.CONCAT(MAX(MIN(ROUNDDOWN(I61/D61,0),8),4),INDEX(resources!$G:$G,MATCH(B61,resources!$A:$A,0))),INDEX(resources!$G:$G,MATCH(B61,resources!$A:$A,0))),\"n/a\")","v":"utility_pv"},"n/a","utility_pv",2031,2040,1,1,{"$f":"MIN((IFERROR(IF(AND($V61<=Z$1,$W61>=Z$1),INDEX(Reliability!E$23:E$50,MATCH($S61,Reliability!$C$23:$C$50,0)),0),0)*IF($T61=\"n/a\",$D61*$Y61,$G61)+IFERROR(IF(AND($V61<=Z$1,$W61>=Z$1),INDEX(Reliability!E$23:E$50,MATCH($T61,Reliability!$C$23:$C$50,0)),0),0)*$H61*$X61*$Y61),$D61)*$R61","v":0},{"$f":"MIN((IFERROR(IF(AND($V61<=AA$1,$W61>=AA$1),INDEX(Reliability!F$23:F$50,MATCH($S61,Reliability!$C$23:$C$50,0)),0),0)*IF($T61=\"n/a\",$D61*$Y61,$G61)+IFERROR(IF(AND($V61<=AA$1,$W61>=AA$1),INDEX(Reliability!F$23:F$50,MATCH($T61,Reliability!$C$23:$C$50,0)),0),0)*$H61*$X61*$Y61),$D61)*$R61","v":0},{"$f":"MIN((IFERROR(IF(AND($V61<=AB$1,$W61>=AB$1),INDEX(Reliability!G$23:G$50,MATCH($S61,Reliability!$C$23:$C$50,0)),0),0)*IF($T61=\"n/a\",$D61*$Y61,$G61)+IFERROR(IF(AND($V61<=AB$1,$W61>=AB$1),INDEX(Reliability!G$23:G$50,MATCH($T61,Reliability!$C$23:$C$50,0)),0),0)*$H61*$X61*$Y61),$D61)*$R61","v":0},{"$f":"MIN((IFERROR(IF(AND($V61<=AC$1,$W61>=AC$1),INDEX(Reliability!H$23:H$50,MATCH($S61,Reliability!$C$23:$C$50,0)),0),0)*IF($T61=\"n/a\",$D61*$Y61,$G61)+IFERROR(IF(AND($V61<=AC$1,$W61>=AC$1),INDEX(Reliability!H$23:H$50,MATCH($T61,Reliability!$C$23:$C$50,0)),0),0)*$H61*$X61*$Y61),$D61)*$R61","v":0},{"$f":"MIN((IFERROR(IF(AND($V61<=AD$1,$W61>=AD$1),INDEX(Reliability!I$23:I$50,MATCH($S61,Reliability!$C$23:$C$50,0)),0),0)*IF($T61=\"n/a\",$D61*$Y61,$G61)+IFERROR(IF(AND($V61<=AD$1,$W61>=AD$1),INDEX(Reliability!I$23:I$50,MATCH($T61,Reliability!$C$23:$C$50,0)),0),0)*$H61*$X61*$Y61),$D61)*$R61","v":0},{"$f":"MIN((IFERROR(IF(AND($V61<=AE$1,$W61>=AE$1),INDEX(Reliability!J$23:J$50,MATCH($S61,Reliability!$C$23:$C$50,0)),0),0)*IF($T61=\"n/a\",$D61*$Y61,$G61)+IFERROR(IF(AND($V61<=AE$1,$W61>=AE$1),INDEX(Reliability!J$23:J$50,MATCH($T61,Reliability!$C$23:$C$50,0)),0),0)*$H61*$X61*$Y61),$D61)*$R61","v":0},{"$f":"MIN((IFERROR(IF(AND($V61<=AF$1,$W61>=AF$1),INDEX(Reliability!K$23:K$50,MATCH($S61,Reliability!$C$23:$C$50,0)),0),0)*IF($T61=\"n/a\",$D61*$Y61,$G61)+IFERROR(IF(AND($V61<=AF$1,$W61>=AF$1),INDEX(Reliability!K$23:K$50,MATCH($T61,Reliability!$C$23:$C$50,0)),0),0)*$H61*$X61*$Y61),$D61)*$R61","v":0},{"$f":"MIN((IFERROR(IF(AND($V61<=AG$1,$W61>=AG$1),INDEX(Reliability!L$23:L$50,MATCH($S61,Reliability!$C$23:$C$50,0)),0),0)*IF($T61=\"n/a\",$D61*$Y61,$G61)+IFERROR(IF(AND($V61<=AG$1,$W61>=AG$1),INDEX(Reliability!L$23:L$50,MATCH($T61,Reliability!$C$23:$C$50,0)),0),0)*$H61*$X61*$Y61),$D61)*$R61","v":2.6143999999999998},{"$f":"MIN((IFERROR(IF(AND($V61<=AH$1,$W61>=AH$1),INDEX(Reliability!M$23:M$50,MATCH($S61,Reliability!$C$23:$C$50,0)),0),0)*IF($T61=\"n/a\",$D61*$Y61,$G61)+IFERROR(IF(AND($V61<=AH$1,$W61>=AH$1),INDEX(Reliability!M$23:M$50,MATCH($T61,Reliability!$C$23:$C$50,0)),0),0)*$H61*$X61*$Y61),$D61)*$R61","v":2.6488},{"$f":"MIN((IFERROR(IF(AND($V61<=AI$1,$W61>=AI$1),INDEX(Reliability!N$23:N$50,MATCH($S61,Reliability!$C$23:$C$50,0)),0),0)*IF($T61=\"n/a\",$D61*$Y61,$G61)+IFERROR(IF(AND($V61<=AI$1,$W61>=AI$1),INDEX(Reliability!N$23:N$50,MATCH($T61,Reliability!$C$23:$C$50,0)),0),0)*$H61*$X61*$Y61),$D61)*$R61","v":2.6832000000000003},{"$f":"MIN((IFERROR(IF(AND($V61<=AJ$1,$W61>=AJ$1),INDEX(Reliability!O$23:O$50,MATCH($S61,Reliability!$C$23:$C$50,0)),0),0)*IF($T61=\"n/a\",$D61*$Y61,$G61)+IFERROR(IF(AND($V61<=AJ$1,$W61>=AJ$1),INDEX(Reliability!O$23:O$50,MATCH($T61,Reliability!$C$23:$C$50,0)),0),0)*$H61*$X61*$Y61),$D61)*$R61","v":2.7176000000000005},{"$f":"MIN((IFERROR(IF(AND($V61<=AK$1,$W61>=AK$1),INDEX(Reliability!P$23:P$50,MATCH($S61,Reliability!$C$23:$C$50,0)),0),0)*IF($T61=\"n/a\",$D61*$Y61,$G61)+IFERROR(IF(AND($V61<=AK$1,$W61>=AK$1),INDEX(Reliability!P$23:P$50,MATCH($T61,Reliability!$C$23:$C$50,0)),0),0)*$H61*$X61*$Y61),$D61)*$R61","v":2.7520000000000002}]
[null,{"$f":"unique_contracts!B62","v":"_NEW_GENERIC_SOLAR_1AXIS"},{"$f":"unique_contracts!D62","v":"PlannedNew"},{"$f":"unique_contracts!J62","v":26},{"$f":"unique_contracts!M62","v":"NotHybrid"},{"$f":"unique_contracts!N62","v":"NA"},{"$f":"unique_contracts!P62","v":0},{"$f":"unique_contracts!R62","v":0},{"$f":"unique_contracts!V62","v":0},{"$f":"unique_contracts!AB62","v":0},{"$f":"unique_contracts!AM62","v":2032},{"$f":"unique_contracts!AN62","v":1},{"$f":"unique_contracts!AO62","v":1},{"$f":"unique_contracts!AP62","v":2042},{"$f":"unique_contracts!AQ62","v":1},{"$f":"unique_contracts!AR62","v":1},{"$f":"unique_contracts!BP62","v":"EnergyCapacity"},1,{"$f":"IFERROR(IF(AND(I62>0,E62=\"NotHybrid\"),_xlfn.CONCAT(MAX(MIN(ROUNDDOWN(I62/D62,0),8),4),INDEX(resources!$G:$G,MATCH(B62,resources!$A:$A,0))),INDEX(resources!$G:$G,MATCH(B62,resources!$A:$A,0))),\"n/a\")","v":"utility_pv"},"n/a","utility_pv",2032,2041,1,1,{"$f":"MIN((IFERROR(IF(AND($V62<=Z$1,$W62>=Z$1),INDEX(Reliability!E$23:E$50,MATCH($S62,Reliability!$C$23:$C$50,0)),0),0)*IF($T62=\"n/a\",$D62*$Y62,$G62)+IFERROR(IF(AND($V62<=Z$1,$W62>=Z$1),INDEX(Reliability!E$23:E$50,MATCH($T62,Reliability!$C$23:$C$50,0)),0),0)*$H62*$X62*$Y62),$D62)*$R62","v":0},{"$f":"MIN((IFERROR(IF(AND($V62<=AA$1,$W62>=AA$1),INDEX(Reliability!F$23:F$50,MATCH($S62,Reliability!$C$23:$C$50,0)),0),0)*IF($T62=\"n/a\",$D62*$Y62,$G62)+IFERROR(IF(AND($V62<=AA$1,$W62>=AA$1),INDEX(Reliability!F$23:F$50,MATCH($T62,Reliability!$C$23:$C$50,0)),0),0)*$H62*$X62*$Y62),$D62)*$R62","v":0},{"$f":"MIN((IFERROR(IF(AND($V62<=AB$1,$W62>=AB$1),INDEX(Reliability!G$23:G$50,MATCH($S62,Reliability!$C$23:$C$50,0)),0),0)*IF($T62=\"n/a\",$D62*$Y62,$G62)+IFERROR(IF(AND($V62<=AB$1,$W62>=AB$1),INDEX(Reliability!G$23:G$50,MATCH($T62,Reliability!$C$23:$C$50,0)),0),0)*$H62*$X62*$Y62),$D62)*$R62","v":0},{"$f":"MIN((IFERROR(IF(AND($V62<=AC$1,$W62>=AC$1),INDEX(Reliability!H$23:H$50,MATCH($S62,Reliability!$C$23:$C$50,0)),0),0)*IF($T62=\"n/a\",$D62*$Y62,$G62)+IFERROR(IF(AND($V62<=AC$1,$W62>=AC$1),INDEX(Reliability!H$23:H$50,MATCH($T62,Reliability!$C$23:$C$50,0)),0),0)*$H62*$X62*$Y62),$D62)*$R62","v":0},{"$f":"MIN((IFERROR(IF(AND($V62<=AD$1,$W62>=AD$1),INDEX(Reliability!I$23:I$50,MATCH($S62,Reliability!$C$23:$C$50,0)),0),0)*IF($T62=\"n/a\",$D62*$Y62,$G62)+IFERROR(IF(AND($V62<=AD$1,$W62>=AD$1),INDEX(Reliability!I$23:I$50,MATCH($T62,Reliability!$C$23:$C$50,0)),0),0)*$H62*$X62*$Y62),$D62)*$R62","v":0},{"$f":"MIN((IFERROR(IF(AND($V62<=AE$1,$W62>=AE$1),INDEX(Reliability!J$23:J$50,MATCH($S62,Reliability!$C$23:$C$50,0)),0),0)*IF($T62=\"n/a\",$D62*$Y62,$G62)+IFERROR(IF(AND($V62<=AE$1,$W62>=AE$1),INDEX(Reliability!J$23:J$50,MATCH($T62,Reliability!$C$23:$C$50,0)),0),0)*$H62*$X62*$Y62),$D62)*$R62","v":0},{"$f":"MIN((IFERROR(IF(AND($V62<=AF$1,$W62>=AF$1),INDEX(Reliability!K$23:K$50,MATCH($S62,Reliability!$C$23:$C$50,0)),0),0)*IF($T62=\"n/a\",$D62*$Y62,$G62)+IFERROR(IF(AND($V62<=AF$1,$W62>=AF$1),INDEX(Reliability!K$23:K$50,MATCH($T62,Reliability!$C$23:$C$50,0)),0),0)*$H62*$X62*$Y62),$D62)*$R62","v":0},{"$f":"MIN((IFERROR(IF(AND($V62<=AG$1,$W62>=AG$1),INDEX(Reliability!L$23:L$50,MATCH($S62,Reliability!$C$23:$C$50,0)),0),0)*IF($T62=\"n/a\",$D62*$Y62,$G62)+IFERROR(IF(AND($V62<=AG$1,$W62>=AG$1),INDEX(Reliability!L$23:L$50,MATCH($T62,Reliability!$C$23:$C$50,0)),0),0)*$H62*$X62*$Y62),$D62)*$R62","v":0},{"$f":"MIN((IFERROR(IF(AND($V62<=AH$1,$W62>=AH$1),INDEX(Reliability!M$23:M$50,MATCH($S62,Reliability!$C$23:$C$50,0)),0),0)*IF($T62=\"n/a\",$D62*$Y62,$G62)+IFERROR(IF(AND($V62<=AH$1,$W62>=AH$1),INDEX(Reliability!M$23:M$50,MATCH($T62,Reliability!$C$23:$C$50,0)),0),0)*$H62*$X62*$Y62),$D62)*$R62","v":1.6016000000000001},{"$f":"MIN((IFERROR(IF(AND($V62<=AI$1,$W62>=AI$1),INDEX(Reliability!N$23:N$50,MATCH($S62,Reliability!$C$23:$C$50,0)),0),0)*IF($T62=\"n/a\",$D62*$Y62,$G62)+IFERROR(IF(AND($V62<=AI$1,$W62>=AI$1),INDEX(Reliability!N$23:N$50,MATCH($T62,Reliability!$C$23:$C$50,0)),0),0)*$H62*$X62*$Y62),$D62)*$R62","v":1.6224000000000001},{"$f":"MIN((IFERROR(IF(AND($V62<=AJ$1,$W62>=AJ$1),INDEX(Reliability!O$23:O$50,MATCH($S62,Reliability!$C$23:$C$50,0)),0),0)*IF($T62=\"n/a\",$D62*$Y62,$G62)+IFERROR(IF(AND($V62<=AJ$1,$W62>=AJ$1),INDEX(Reliability!O$23:O$50,MATCH($T62,Reliability!$C$23:$C$50,0)),0),0)*$H62*$X62*$Y62),$D62)*$R62","v":1.6432000000000002},{"$f":"MIN((IFERROR(IF(AND($V62<=AK$1,$W62>=AK$1),INDEX(Reliability!P$23:P$50,MATCH($S62,Reliability!$C$23:$C$50,0)),0),0)*IF($T62=\"n/a\",$D62*$Y62,$G62)+IFERROR(IF(AND($V62<=AK$1,$W62>=AK$1),INDEX(Reliability!P$23:P$50,MATCH($T62,Reliability!$C$23:$C$50,0)),0),0)*$H62*$X62*$Y62),$D62)*$R62","v":1.6640000000000001}]
[null,{"$f":"unique_contracts!B63","v":"_NEW_GENERIC_SOLAR_1AXIS"},{"$f":"unique_contracts!D63","v":"PlannedNew"},{"$f":"unique_contracts!J63","v":63},{"$f":"unique_contracts!M63","v":"NotHybrid"},{"$f":"unique_contracts!N63","v":"NA"},{"$f":"unique_contracts!P63","v":0},{"$f":"unique_contracts!R63","v":0},{"$f":"unique_contracts!V63","v":0},{"$f":"unique_contracts!AB63","v":0},{"$f":"unique_contracts!AM63","v":2033},{"$f":"unique_contracts!AN63","v":1},{"$f":"unique_contracts!AO63","v":1},{"$f":"unique_contracts!AP63","v":2043},{"$f":"unique_contracts!AQ63","v":1},{"$f":"unique_contracts!AR63","v":1},{"$f":"unique_contracts!BP63","v":"EnergyCapacity"},1,{"$f":"IFERROR(IF(AND(I63>0,E63=\"NotHybrid\"),_xlfn.CONCAT(MAX(MIN(ROUNDDOWN(I63/D63,0),8),4),INDEX(resources!$G:$G,MATCH(B63,resources!$A:$A,0))),INDEX(resources!$G:$G,MATCH(B63,resources!$A:$A,0))),\"n/a\")","v":"utility_pv"},"n/a","utility_pv",2033,2042,1,1,{"$f":"MIN((IFERROR(IF(AND($V63<=Z$1,$W63>=Z$1),INDEX(Reliability!E$23:E$50,MATCH($S63,Reliability!$C$23:$C$50,0)),0),0)*IF($T63=\"n/a\",$D63*$Y63,$G63)+IFERROR(IF(AND($V63<=Z$1,$W63>=Z$1),INDEX(Reliability!E$23:E$50,MATCH($T63,Reliability!$C$23:$C$50,0)),0),0)*$H63*$X63*$Y63),$D63)*$R63","v":0},{"$f":"MIN((IFERROR(IF(AND($V63<=AA$1,$W63>=AA$1),INDEX(Reliability!F$23:F$50,MATCH($S63,Reliability!$C$23:$C$50,0)),0),0)*IF($T63=\"n/a\",$D63*$Y63,$G63)+IFERROR(IF(AND($V63<=AA$1,$W63>=AA$1),INDEX(Reliability!F$23:F$50,MATCH($T63,Reliability!$C$23:$C$50,0)),0),0)*$H63*$X63*$Y63),$D63)*$R63","v":0},{"$f":"MIN((IFERROR(IF(AND($V63<=AB$1,$W63>=AB$1),INDEX(Reliability!G$23:G$50,MATCH($S63,Reliability!$C$23:$C$50,0)),0),0)*IF($T63=\"n/a\",$D63*$Y63,$G63)+IFERROR(IF(AND($V63<=AB$1,$W63>=AB$1),INDEX(Reliability!G$23:G$50,MATCH($T63,Reliability!$C$23:$C$50,0)),0),0)*$H63*$X63*$Y63),$D63)*$R63","v":0},{"$f":"MIN((IFERROR(IF(AND($V63<=AC$1,$W63>=AC$1),INDEX(Reliability!H$23:H$50,MATCH($S63,Reliability!$C$23:$C$50,0)),0),0)*IF($T63=\"n/a\",$D63*$Y63,$G63)+IFERROR(IF(AND($V63<=AC$1,$W63>=AC$1),INDEX(Reliability!H$23:H$50,MATCH($T63,Reliability!$C$23:$C$50,0)),0),0)*$H63*$X63*$Y63),$D63)*$R63","v":0},{"$f":"MIN((IFERROR(IF(AND($V63<=AD$1,$W63>=AD$1),INDEX(Reliability!I$23:I$50,MATCH($S63,Reliability!$C$23:$C$50,0)),0),0)*IF($T63=\"n/a\",$D63*$Y63,$G63)+IFERROR(IF(AND($V63<=AD$1,$W63>=AD$1),INDEX(Reliability!I$23:I$50,MATCH($T63,Reliability!$C$23:$C$50,0)),0),0)*$H63*$X63*$Y63),$D63)*$R63","v":0},{"$f":"MIN((IFERROR(IF(AND($V63<=AE$1,$W63>=AE$1),INDEX(Reliability!J$23:J$50,MATCH($S63,Reliability!$C$23:$C$50,0)),0),0)*IF($T63=\"n/a\",$D63*$Y63,$G63)+IFERROR(IF(AND($V63<=AE$1,$W63>=AE$1),INDEX(Reliability!J$23:J$50,MATCH($T63,Reliability!$C$23:$C$50,0)),0),0)*$H63*$X63*$Y63),$D63)*$R63","v":0},{"$f":"MIN((IFERROR(IF(AND($V63<=AF$1,$W63>=AF$1),INDEX(Reliability!K$23:K$50,MATCH($S63,Reliability!$C$23:$C$50,0)),0),0)*IF($T63=\"n/a\",$D63*$Y63,$G63)+IFERROR(IF(AND($V63<=AF$1,$W63>=AF$1),INDEX(Reliability!K$23:K$50,MATCH($T63,Reliability!$C$23:$C$50,0)),0),0)*$H63*$X63*$Y63),$D63)*$R63","v":0},{"$f":"MIN((IFERROR(IF(AND($V63<=AG$1,$W63>=AG$1),INDEX(Reliability!L$23:L$50,MATCH($S63,Reliability!$C$23:$C$50,0)),0),0)*IF($T63=\"n/a\",$D63*$Y63,$G63)+IFERROR(IF(AND($V63<=AG$1,$W63>=AG$1),INDEX(Reliability!L$23:L$50,MATCH($T63,Reliability!$C$23:$C$50,0)),0),0)*$H63*$X63*$Y63),$D63)*$R63","v":0},{"$f":"MIN((IFERROR(IF(AND($V63<=AH$1,$W63>=AH$1),INDEX(Reliability!M$23:M$50,MATCH($S63,Reliability!$C$23:$C$50,0)),0),0)*IF($T63=\"n/a\",$D63*$Y63,$G63)+IFERROR(IF(AND($V63<=AH$1,$W63>=AH$1),INDEX(Reliability!M$23:M$50,MATCH($T63,Reliability!$C$23:$C$50,0)),0),0)*$H63*$X63*$Y63),$D63)*$R63","v":0},{"$f":"MIN((IFERROR(IF(AND($V63<=AI$1,$W63>=AI$1),INDEX(Reliability!N$23:N$50,MATCH($S63,Reliability!$C$23:$C$50,0)),0),0)*IF($T63=\"n/a\",$D63*$Y63,$G63)+IFERROR(IF(AND($V63<=AI$1,$W63>=AI$1),INDEX(Reliability!N$23:N$50,MATCH($T63,Reliability!$C$23:$C$50,0)),0),0)*$H63*$X63*$Y63),$D63)*$R63","v":3.9312000000000005},{"$f":"MIN((IFERROR(IF(AND($V63<=AJ$1,$W63>=AJ$1),INDEX(Reliability!O$23:O$50,MATCH($S63,Reliability!$C$23:$C$50,0)),0),0)*IF($T63=\"n/a\",$D63*$Y63,$G63)+IFERROR(IF(AND($V63<=AJ$1,$W63>=AJ$1),INDEX(Reliability!O$23:O$50,MATCH($T63,Reliability!$C$23:$C$50,0)),0),0)*$H63*$X63*$Y63),$D63)*$R63","v":3.9816000000000003},{"$f":"MIN((IFERROR(IF(AND($V63<=AK$1,$W63>=AK$1),INDEX(Reliability!P$23:P$50,MATCH($S63,Reliability!$C$23:$C$50,0)),0),0)*IF($T63=\"n/a\",$D63*$Y63,$G63)+IFERROR(IF(AND($V63<=AK$1,$W63>=AK$1),INDEX(Reliability!P$23:P$50,MATCH($T63,Reliability!$C$23:$C$50,0)),0),0)*$H63*$X63*$Y63),$D63)*$R63","v":4.032}]
[null,{"$f":"unique_contracts!B64","v":"_NEW_GENERIC_SOLAR_1AXIS"},{"$f":"unique_contracts!D64","v":"PlannedNew"},{"$f":"unique_contracts!J64","v":44},{"$f":"unique_contracts!M64","v":"NotHybrid"},{"$f":"unique_contracts!N64","v":"NA"},{"$f":"unique_contracts!P64","v":0},{"$f":"unique_contracts!R64","v":0},{"$f":"unique_contracts!V64","v":0},{"$f":"unique_contracts!AB64","v":0},{"$f":"unique_contracts!AM64","v":2034},{"$f":"unique_contracts!AN64","v":1},{"$f":"unique_contracts!AO64","v":1},{"$f":"unique_contracts!AP64","v":2044},{"$f":"unique_contracts!AQ64","v":1},{"$f":"unique_contracts!AR64","v":1},{"$f":"unique_contracts!BP64","v":"EnergyCapacity"},1,{"$f":"IFERROR(IF(AND(I64>0,E64=\"NotHybrid\"),_xlfn.CONCAT(MAX(MIN(ROUNDDOWN(I64/D64,0),8),4),INDEX(resources!$G:$G,MATCH(B64,resources!$A:$A,0))),INDEX(resources!$G:$G,MATCH(B64,resources!$A:$A,0))),\"n/a\")","v":"utility_pv"},"n/a","utility_pv",2034,2043,1,1,{"$f":"MIN((IFERROR(IF(AND($V64<=Z$1,$W64>=Z$1),INDEX(Reliability!E$23:E$50,MATCH($S64,Reliability!$C$23:$C$50,0)),0),0)*IF($T64=\"n/a\",$D64*$Y64,$G64)+IFERROR(IF(AND($V64<=Z$1,$W64>=Z$1),INDEX(Reliability!E$23:E$50,MATCH($T64,Reliability!$C$23:$C$50,0)),0),0)*$H64*$X64*$Y64),$D64)*$R64","v":0},{"$f":"MIN((IFERROR(IF(AND($V64<=AA$1,$W64>=AA$1),INDEX(Reliability!F$23:F$50,MATCH($S64,Reliability!$C$23:$C$50,0)),0),0)*IF($T64=\"n/a\",$D64*$Y64,$G64)+IFERROR(IF(AND($V64<=AA$1,$W64>=AA$1),INDEX(Reliability!F$23:F$50,MATCH($T64,Reliability!$C$23:$C$50,0)),0),0)*$H64*$X64*$Y64),$D64)*$R64","v":0},{"$f":"MIN((IFERROR(IF(AND($V64<=AB$1,$W64>=AB$1),INDEX(Reliability!G$23:G$50,MATCH($S64,Reliability!$C$23:$C$50,0)),0),0)*IF($T64=\"n/a\",$D64*$Y64,$G64)+IFERROR(IF(AND($V64<=AB$1,$W64>=AB$1),INDEX(Reliability!G$23:G$50,MATCH($T64,Reliability!$C$23:$C$50,0)),0),0)*$H64*$X64*$Y64),$D64)*$R64","v":0},{"$f":"MIN((IFERROR(IF(AND($V64<=AC$1,$W64>=AC$1),INDEX(Reliability!H$23:H$50,MATCH($S64,Reliability!$C$23:$C$50,0)),0),0)*IF($T64=\"n/a\",$D64*$Y64,$G64)+IFERROR(IF(AND($V64<=AC$1,$W64>=AC$1),INDEX(Reliability!H$23:H$50,MATCH($T64,Reliability!$C$23:$C$50,0)),0),0)*$H64*$X64*$Y64),$D64)*$R64","v":0},{"$f":"MIN((IFERROR(IF(AND($V64<=AD$1,$W64>=AD$1),INDEX(Reliability!I$23:I$50,MATCH($S64,Reliability!$C$23:$C$50,0)),0),0)*IF($T64=\"n/a\",$D64*$Y64,$G64)+IFERROR(IF(AND($V64<=AD$1,$W64>=AD$1),INDEX(Reliability!I$23:I$50,MATCH($T64,Reliability!$C$23:$C$50,0)),0),0)*$H64*$X64*$Y64),$D64)*$R64","v":0},{"$f":"MIN((IFERROR(IF(AND($V64<=AE$1,$W64>=AE$1),INDEX(Reliability!J$23:J$50,MATCH($S64,Reliability!$C$23:$C$50,0)),0),0)*IF($T64=\"n/a\",$D64*$Y64,$G64)+IFERROR(IF(AND($V64<=AE$1,$W64>=AE$1),INDEX(Reliability!J$23:J$50,MATCH($T64,Reliability!$C$23:$C$50,0)),0),0)*$H64*$X64*$Y64),$D64)*$R64","v":0},{"$f":"MIN((IFERROR(IF(AND($V64<=AF$1,$W64>=AF$1),INDEX(Reliability!K$23:K$50,MATCH($S64,Reliability!$C$23:$C$50,0)),0),0)*IF($T64=\"n/a\",$D64*$Y64,$G64)+IFERROR(IF(AND($V64<=AF$1,$W64>=AF$1),INDEX(Reliability!K$23:K$50,MATCH($T64,Reliability!$C$23:$C$50,0)),0),0)*$H64*$X64*$Y64),$D64)*$R64","v":0},{"$f":"MIN((IFERROR(IF(AND($V64<=AG$1,$W64>=AG$1),INDEX(Reliability!L$23:L$50,MATCH($S64,Reliability!$C$23:$C$50,0)),0),0)*IF($T64=\"n/a\",$D64*$Y64,$G64)+IFERROR(IF(AND($V64<=AG$1,$W64>=AG$1),INDEX(Reliability!L$23:L$50,MATCH($T64,Reliability!$C$23:$C$50,0)),0),0)*$H64*$X64*$Y64),$D64)*$R64","v":0},{"$f":"MIN((IFERROR(IF(AND($V64<=AH$1,$W64>=AH$1),INDEX(Reliability!M$23:M$50,MATCH($S64,Reliability!$C$23:$C$50,0)),0),0)*IF($T64=\"n/a\",$D64*$Y64,$G64)+IFERROR(IF(AND($V64<=AH$1,$W64>=AH$1),INDEX(Reliability!M$23:M$50,MATCH($T64,Reliability!$C$23:$C$50,0)),0),0)*$H64*$X64*$Y64),$D64)*$R64","v":0},{"$f":"MIN((IFERROR(IF(AND($V64<=AI$1,$W64>=AI$1),INDEX(Reliability!N$23:N$50,MATCH($S64,Reliability!$C$23:$C$50,0)),0),0)*IF($T64=\"n/a\",$D64*$Y64,$G64)+IFERROR(IF(AND($V64<=AI$1,$W64>=AI$1),INDEX(Reliability!N$23:N$50,MATCH($T64,Reliability!$C$23:$C$50,0)),0),0)*$H64*$X64*$Y64),$D64)*$R64","v":0},{"$f":"MIN((IFERROR(IF(AND($V64<=AJ$1,$W64>=AJ$1),INDEX(Reliability!O$23:O$50,MATCH($S64,Reliability!$C$23:$C$50,0)),0),0)*IF($T64=\"n/a\",$D64*$Y64,$G64)+IFERROR(IF(AND($V64<=AJ$1,$W64>=AJ$1),INDEX(Reliability!O$23:O$50,MATCH($T64,Reliability!$C$23:$C$50,0)),0),0)*$H64*$X64*$Y64),$D64)*$R64","v":2.7808000000000002},{"$f":"MIN((IFERROR(IF(AND($V64<=AK$1,$W64>=AK$1),INDEX(Reliability!P$23:P$50,MATCH($S64,Reliability!$C$23:$C$50,0)),0),0)*IF($T64=\"n/a\",$D64*$Y64,$G64)+IFERROR(IF(AND($V64<=AK$1,$W64>=AK$1),INDEX(Reliability!P$23:P$50,MATCH($T64,Reliability!$C$23:$C$50,0)),0),0)*$H64*$X64*$Y64),$D64)*$R64","v":2.8159999999999998}]
[null,{"$f":"unique_contracts!B65","v":"_NEW_GENERIC_WIND"},{"$f":"unique_contracts!D65","v":"PlannedNew"},{"$f":"unique_contracts!J65","v":7},{"$f":"unique_contracts!M65","v":"NotHybrid"},{"$f":"unique_contracts!N65","v":"NA"},{"$f":"unique_contracts!P65","v":0},{"$f":"unique_contracts!R65","v":0},{"$f":"unique_contracts!V65","v":0},{"$f":"unique_contracts!AB65","v":0},{"$f":"unique_contracts!AM65","v":2027},{"$f":"unique_contracts!AN65","v":1},{"$f":"unique_contracts!AO65","v":1},{"$f":"unique_contracts!AP65","v":2037},{"$f":"unique_contracts!AQ65","v":1},{"$f":"unique_contracts!AR65","v":1},{"$f":"unique_contracts!BP65","v":"EnergyCapacity"},1,{"$f":"IFERROR(IF(AND(I65>0,E65=\"NotHybrid\"),_xlfn.CONCAT(MAX(MIN(ROUNDDOWN(I65/D65,0),8),4),INDEX(resources!$G:$G,MATCH(B65,resources!$A:$A,0))),INDEX(resources!$G:$G,MATCH(B65,resources!$A:$A,0))),\"n/a\")","v":"in_state_wind_south"},"n/a","in_state_wind_south",2027,2036,1,1,{"$f":"MIN((IFERROR(IF(AND($V65<=Z$1,$W65>=Z$1),INDEX(Reliability!E$23:E$50,MATCH($S65,Reliability!$C$23:$C$50,0)),0),0)*IF($T65=\"n/a\",$D65*$Y65,$G65)+IFERROR(IF(AND($V65<=Z$1,$W65>=Z$1),INDEX(Reliability!E$23:E$50,MATCH($T65,Reliability!$C$23:$C$50,0)),0),0)*$H65*$X65*$Y65),$D65)*$R65","v":0},{"$f":"MIN((IFERROR(IF(AND($V65<=AA$1,$W65>=AA$1),INDEX(Reliability!F$23:F$50,MATCH($S65,Reliability!$C$23:$C$50,0)),0),0)*IF($T65=\"n/a\",$D65*$Y65,$G65)+IFERROR(IF(AND($V65<=AA$1,$W65>=AA$1),INDEX(Reliability!F$23:F$50,MATCH($T65,Reliability!$C$23:$C$50,0)),0),0)*$H65*$X65*$Y65),$D65)*$R65","v":0},{"$f":"MIN((IFERROR(IF(AND($V65<=AB$1,$W65>=AB$1),INDEX(Reliability!G$23:G$50,MATCH($S65,Reliability!$C$23:$C$50,0)),0),0)*IF($T65=\"n/a\",$D65*$Y65,$G65)+IFERROR(IF(AND($V65<=AB$1,$W65>=AB$1),INDEX(Reliability!G$23:G$50,MATCH($T65,Reliability!$C$23:$C$50,0)),0),0)*$H65*$X65*$Y65),$D65)*$R65","v":0},{"$f":"MIN((IFERROR(IF(AND($V65<=AC$1,$W65>=AC$1),INDEX(Reliability!H$23:H$50,MATCH($S65,Reliability!$C$23:$C$50,0)),0),0)*IF($T65=\"n/a\",$D65*$Y65,$G65)+IFERROR(IF(AND($V65<=AC$1,$W65>=AC$1),INDEX(Reliability!H$23:H$50,MATCH($T65,Reliability!$C$23:$C$50,0)),0),0)*$H65*$X65*$Y65),$D65)*$R65","v":0.829382828508611},{"$f":"MIN((IFERROR(IF(AND($V65<=AD$1,$W65>=AD$1),INDEX(Reliability!I$23:I$50,MATCH($S65,Reliability!$C$23:$C$50,0)),0),0)*IF($T65=\"n/a\",$D65*$Y65,$G65)+IFERROR(IF(AND($V65<=AD$1,$W65>=AD$1),INDEX(Reliability!I$23:I$50,MATCH($T65,Reliability!$C$23:$C$50,0)),0),0)*$H65*$X65*$Y65),$D65)*$R65","v":0.59093298887089185},{"$f":"MIN((IFERROR(IF(AND($V65<=AE$1,$W65>=AE$1),INDEX(Reliability!J$23:J$50,MATCH($S65,Reliability!$C$23:$C$50,0)),0),0)*IF($T65=\"n/a\",$D65*$Y65,$G65)+IFERROR(IF(AND($V65<=AE$1,$W65>=AE$1),INDEX(Reliability!J$23:J$50,MATCH($T65,Reliability!$C$23:$C$50,0)),0),0)*$H65*$X65*$Y65),$D65)*$R65","v":0.58391817903293242},{"$f":"MIN((IFERROR(IF(AND($V65<=AF$1,$W65>=AF$1),INDEX(Reliability!K$23:K$50,MATCH($S65,Reliability!$C$23:$C$50,0)),0),0)*IF($T65=\"n/a\",$D65*$Y65,$G65)+IFERROR(IF(AND($V65<=AF$1,$W65>=AF$1),INDEX(Reliability!K$23:K$50,MATCH($T65,Reliability!$C$23:$C$50,0)),0),0)*$H65*$X65*$Y65),$D65)*$R65","v":0.57690336919497298},{"$f":"MIN((IFERROR(IF(AND($V65<=AG$1,$W65>=AG$1),INDEX(Reliability!L$23:L$50,MATCH($S65,Reliability!$C$23:$C$50,0)),0),0)*IF($T65=\"n/a\",$D65*$Y65,$G65)+IFERROR(IF(AND($V65<=AG$1,$W65>=AG$1),INDEX(Reliability!L$23:L$50,MATCH($T65,Reliability!$C$23:$C$50,0)),0),0)*$H65*$X65*$Y65),$D65)*$R65","v":0.52380783787083385},{"$f":"MIN((IFERROR(IF(AND($V65<=AH$1,$W65>=AH$1),INDEX(Reliability!M$23:M$50,MATCH($S65,Reliability!$C$23:$C$50,0)),0),0)*IF($T65=\"n/a\",$D65*$Y65,$G65)+IFERROR(IF(AND($V65<=AH$1,$W65>=AH$1),INDEX(Reliability!M$23:M$50,MATCH($T65,Reliability!$C$23:$C$50,0)),0),0)*$H65*$X65*$Y65),$D65)*$R65","v":0.47071230654669483},{"$f":"MIN((IFERROR(IF(AND($V65<=AI$1,$W65>=AI$1),INDEX(Reliability!N$23:N$50,MATCH($S65,Reliability!$C$23:$C$50,0)),0),0)*IF($T65=\"n/a\",$D65*$Y65,$G65)+IFERROR(IF(AND($V65<=AI$1,$W65>=AI$1),INDEX(Reliability!N$23:N$50,MATCH($T65,Reliability!$C$23:$C$50,0)),0),0)*$H65*$X65*$Y65),$D65)*$R65","v":0.41761677522255569},{"$f":"MIN((IFERROR(IF(AND($V65<=AJ$1,$W65>=AJ$1),INDEX(Reliability!O$23:O$50,MATCH($S65,Reliability!$C$23:$C$50,0)),0),0)*IF($T65=\"n/a\",$D65*$Y65,$G65)+IFERROR(IF(AND($V65<=AJ$1,$W65>=AJ$1),INDEX(Reliability!O$23:O$50,MATCH($T65,Reliability!$C$23:$C$50,0)),0),0)*$H65*$X65*$Y65),$D65)*$R65","v":0.36452124389841656},{"$f":"MIN((IFERROR(IF(AND($V65<=AK$1,$W65>=AK$1),INDEX(Reliability!P$23:P$50,MATCH($S65,Reliability!$C$23:$C$50,0)),0),0)*IF($T65=\"n/a\",$D65*$Y65,$G65)+IFERROR(IF(AND($V65<=AK$1,$W65>=AK$1),INDEX(Reliability!P$23:P$50,MATCH($T65,Reliability!$C$23:$C$50,0)),0),0)*$H65*$X65*$Y65),$D65)*$R65","v":0.31142571257427742}]
[null,{"$f":"unique_contracts!B66","v":"_SUPPLIERS_CHOICE"},{"$f":"unique_contracts!D66","v":"Online"},{"$f":"unique_contracts!J66","v":175},{"$f":"unique_contracts!M66","v":"NotHybrid"},{"$f":"unique_contracts!N66","v":"NA"},{"$f":"unique_contracts!P66","v":0},{"$f":"unique_contracts!R66","v":0},{"$f":"unique_contracts!V66","v":0},{"$f":"unique_contracts!AB66","v":0},{"$f":"unique_contracts!AM66","v":2013},{"$f":"unique_contracts!AN66","v":5},{"$f":"unique_contracts!AO66","v":1},{"$f":"unique_contracts!AP66","v":2022},{"$f":"unique_contracts!AQ66","v":10},{"$f":"unique_contracts!AR66","v":31},{"$f":"unique_contracts!BP66","v":"EnergyCapacity"},1,{"$f":"IFERROR(IF(AND(I66>0,E66=\"NotHybrid\"),_xlfn.CONCAT(MAX(MIN(ROUNDDOWN(I66/D66,0),8),4),INDEX(resources!$G:$G,MATCH(B66,resources!$A:$A,0))),INDEX(resources!$G:$G,MATCH(B66,resources!$A:$A,0))),\"n/a\")","v":"n/a"},"n/a","n/a",2013,2022,1,1,{"$f":"MIN((IFERROR(IF(AND($V66<=Z$1,$W66>=Z$1),INDEX(Reliability!E$23:E$50,MATCH($S66,Reliability!$C$23:$C$50,0)),0),0)*IF($T66=\"n/a\",$D66*$Y66,$G66)+IFERROR(IF(AND($V66<=Z$1,$W66>=Z$1),INDEX(Reliability!E$23:E$50,MATCH($T66,Reliability!$C$23:$C$50,0)),0),0)*$H66*$X66*$Y66),$D66)*$R66","v":0},{"$f":"MIN((IFERROR(IF(AND($V66<=AA$1,$W66>=AA$1),INDEX(Reliability!F$23:F$50,MATCH($S66,Reliability!$C$23:$C$50,0)),0),0)*IF($T66=\"n/a\",$D66*$Y66,$G66)+IFERROR(IF(AND($V66<=AA$1,$W66>=AA$1),INDEX(Reliability!F$23:F$50,MATCH($T66,Reliability!$C$23:$C$50,0)),0),0)*$H66*$X66*$Y66),$D66)*$R66","v":0},{"$f":"MIN((IFERROR(IF(AND($V66<=AB$1,$W66>=AB$1),INDEX(Reliability!G$23:G$50,MATCH($S66,Reliability!$C$23:$C$50,0)),0),0)*IF($T66=\"n/a\",$D66*$Y66,$G66)+IFERROR(IF(AND($V66<=AB$1,$W66>=AB$1),INDEX(Reliability!G$23:G$50,MATCH($T66,Reliability!$C$23:$C$50,0)),0),0)*$H66*$X66*$Y66),$D66)*$R66","v":0},{"$f":"MIN((IFERROR(IF(AND($V66<=AC$1,$W66>=AC$1),INDEX(Reliability!H$23:H$50,MATCH($S66,Reliability!$C$23:$C$50,0)),0),0)*IF($T66=\"n/a\",$D66*$Y66,$G66)+IFERROR(IF(AND($V66<=AC$1,$W66>=AC$1),INDEX(Reliability!H$23:H$50,MATCH($T66,Reliability!$C$23:$C$50,0)),0),0)*$H66*$X66*$Y66),$D66)*$R66","v":0},{"$f":"MIN((IFERROR(IF(AND($V66<=AD$1,$W66>=AD$1),INDEX(Reliability!I$23:I$50,MATCH($S66,Reliability!$C$23:$C$50,0)),0),0)*IF($T66=\"n/a\",$D66*$Y66,$G66)+IFERROR(IF(AND($V66<=AD$1,$W66>=AD$1),INDEX(Reliability!I$23:I$50,MATCH($T66,Reliability!$C$23:$C$50,0)),0),0)*$H66*$X66*$Y66),$D66)*$R66","v":0},{"$f":"MIN((IFERROR(IF(AND($V66<=AE$1,$W66>=AE$1),INDEX(Reliability!J$23:J$50,MATCH($S66,Reliability!$C$23:$C$50,0)),0),0)*IF($T66=\"n/a\",$D66*$Y66,$G66)+IFERROR(IF(AND($V66<=AE$1,$W66>=AE$1),INDEX(Reliability!J$23:J$50,MATCH($T66,Reliability!$C$23:$C$50,0)),0),0)*$H66*$X66*$Y66),$D66)*$R66","v":0},{"$f":"MIN((IFERROR(IF(AND($V66<=AF$1,$W66>=AF$1),INDEX(Reliability!K$23:K$50,MATCH($S66,Reliability!$C$23:$C$50,0)),0),0)*IF($T66=\"n/a\",$D66*$Y66,$G66)+IFERROR(IF(AND($V66<=AF$1,$W66>=AF$1),INDEX(Reliability!K$23:K$50,MATCH($T66,Reliability!$C$23:$C$50,0)),0),0)*$H66*$X66*$Y66),$D66)*$R66","v":0},{"$f":"MIN((IFERROR(IF(AND($V66<=AG$1,$W66>=AG$1),INDEX(Reliability!L$23:L$50,MATCH($S66,Reliability!$C$23:$C$50,0)),0),0)*IF($T66=\"n/a\",$D66*$Y66,$G66)+IFERROR(IF(AND($V66<=AG$1,$W66>=AG$1),INDEX(Reliability!L$23:L$50,MATCH($T66,Reliability!$C$23:$C$50,0)),0),0)*$H66*$X66*$Y66),$D66)*$R66","v":0},{"$f":"MIN((IFERROR(IF(AND($V66<=AH$1,$W66>=AH$1),INDEX(Reliability!M$23:M$50,MATCH($S66,Reliability!$C$23:$C$50,0)),0),0)*IF($T66=\"n/a\",$D66*$Y66,$G66)+IFERROR(IF(AND($V66<=AH$1,$W66>=AH$1),INDEX(Reliability!M$23:M$50,MATCH($T66,Reliability!$C$23:$C$50,0)),0),0)*$H66*$X66*$Y66),$D66)*$R66","v":0},{"$f":"MIN((IFERROR(IF(AND($V66<=AI$1,$W66>=AI$1),INDEX(Reliability!N$23:N$50,MATCH($S66,Reliability!$C$23:$C$50,0)),0),0)*IF($T66=\"n/a\",$D66*$Y66,$G66)+IFERROR(IF(AND($V66<=AI$1,$W66>=AI$1),INDEX(Reliability!N$23:N$50,MATCH($T66,Reliability!$C$23:$C$50,0)),0),0)*$H66*$X66*$Y66),$D66)*$R66","v":0},{"$f":"MIN((IFERROR(IF(AND($V66<=AJ$1,$W66>=AJ$1),INDEX(Reliability!O$23:O$50,MATCH($S66,Reliability!$C$23:$C$50,0)),0),0)*IF($T66=\"n/a\",$D66*$Y66,$G66)+IFERROR(IF(AND($V66<=AJ$1,$W66>=AJ$1),INDEX(Reliability!O$23:O$50,MATCH($T66,Reliability!$C$23:$C$50,0)),0),0)*$H66*$X66*$Y66),$D66)*$R66","v":0},{"$f":"MIN((IFERROR(IF(AND($V66<=AK$1,$W66>=AK$1),INDEX(Reliability!P$23:P$50,MATCH($S66,Reliability!$C$23:$C$50,0)),0),0)*IF($T66=\"n/a\",$D66*$Y66,$G66)+IFERROR(IF(AND($V66<=AK$1,$W66>=AK$1),INDEX(Reliability!P$23:P$50,MATCH($T66,Reliability!$C$23:$C$50,0)),0),0)*$H66*$X66*$Y66),$D66)*$R66","v":0}]
[null,{"$f":"unique_contracts!B67","v":"_NEW_GENERIC_GEOTHERMAL"},{"$f":"unique_contracts!D67","v":"PlannedNew"},{"$f":"unique_contracts!J67","v":42},{"$f":"unique_contracts!M67","v":"NotHybrid"},{"$f":"unique_contracts!N67","v":"NA"},{"$f":"unique_contracts!P67","v":0},{"$f":"unique_contracts!R67","v":0},{"$f":"unique_contracts!V67","v":0},{"$f":"unique_contracts!AB67","v":0},{"$f":"unique_contracts!AM67","v":2026},{"$f":"unique_contracts!AN67","v":1},{"$f":"unique_contracts!AO67","v":1},{"$f":"unique_contracts!AP67","v":2036},{"$f":"unique_contracts!AQ67","v":1},{"$f":"unique_contracts!AR67","v":1},{"$f":"unique_contracts!BP67","v":"EnergyCapacity"},{"$f":"IF(AND(J67=\"Sell\",ISNUMBER(SEARCH(\"Capacity\",Q67))),-1,IF(AND(NOT(J67=\"Sell\"),ISNUMBER(SEARCH(\"Capacity\",Q67))),1,0))","v":1},{"$f":"IFERROR(IF(AND(I67>0,E67=\"NotHybrid\"),_xlfn.CONCAT(MAX(MIN(ROUNDDOWN(I67/D67,0),8),4),INDEX(resources!$G:$G,MATCH(B67,resources!$A:$A,0))),INDEX(resources!$G:$G,MATCH(B67,resources!$A:$A,0))),\"n/a\")","v":"geothermal"},{"$f":"IFERROR(IF(NOT(E67=\"NotHybrid\"),_xlfn.CONCAT(MAX(MIN(ROUNDDOWN(I67/H67,0),8),4),\"hr_batteries\"),\"n/a\"),\"n/a\")","v":"n/a"},{"$f":"IF(T67=\"n/a\",S67,\"hybrid\")","v":"geothermal"},{"$f":"IFERROR(IF(DATE(K67,L67,M67)<=DATE(K67,6,1),K67,K67+1),0)","v":2026},{"$f":"IFERROR(IF(DATE(N67,O67,P67)>=DATE(N67,10,1),N67,N67-1),0)","v":2035},{"$f":"IF(OR(T67=\"n/a\",NOT(F67=\"NO\")),100%,IF(ISNUMBER(SEARCH(\"pv\",S67)),MIN(G67/(1*(ROUNDDOWN(I67/H67,0)/4)),H67)/H67,IF(ISNUMBER(SEARCH(\"wind\",S67)),MIN(G67/(2*(ROUNDDOWN(I67/H67,0)/4)),H67)/H67,1)))","v":1},{"$f":"IF(ISNUMBER(SEARCH(\"batteries\",S67)),MIN(ROUNDDOWN(I67/D67,0)/4,1), IF(ISNUMBER(SEARCH(\"batteries\",T67)),MIN(ROUNDDOWN(I67/H67,0)/4,1),1))","v":1},{"$f":"MIN((IFERROR(IF(AND($V67<=Z$1,$W67>=Z$1),INDEX(Reliability!E$23:E$50,MATCH($S67,Reliability!$C$23:$C$50,0)),0),0)*IF($T67=\"n/a\",$D67*$Y67,$G67)+IFERROR(IF(AND($V67<=Z$1,$W67>=Z$1),INDEX(Reliability!E$23:E$50,MATCH($T67,Reliability!$C$23:$C$50,0)),0),0)*$H67*$X67*$Y67),$D67)*$R67","v":0},{"$f":"MIN((IFERROR(IF(AND($V67<=AA$1,$W67>=AA$1),INDEX(Reliability!F$23:F$50,MATCH($S67,Reliability!$C$23:$C$50,0)),0),0)*IF($T67=\"n/a\",$D67*$Y67,$G67)+IFERROR(IF(AND($V67<=AA$1,$W67>=AA$1),INDEX(Reliability!F$23:F$50,MATCH($T67,Reliability!$C$23:$C$50,0)),0),0)*$H67*$X67*$Y67),$D67)*$R67","v":0},{"$f":"MIN((IFERROR(IF(AND($V67<=AB$1,$W67>=AB$1),INDEX(Reliability!G$23:G$50,MATCH($S67,Reliability!$C$23:$C$50,0)),0),0)*IF($T67=\"n/a\",$D67*$Y67,$G67)+IFERROR(IF(AND($V67<=AB$1,$W67>=AB$1),INDEX(Reliability!G$23:G$50,MATCH($T67,Reliability!$C$23:$C$50,0)),0),0)*$H67*$X67*$Y67),$D67)*$R67","v":37.48585796874751},{"$f":"MIN((IFERROR(IF(AND($V67<=AC$1,$W67>=AC$1),INDEX(Reliability!H$23:H$50,MATCH($S67,Reliability!$C$23:$C$50,0)),0),0)*IF($T67=\"n/a\",$D67*$Y67,$G67)+IFERROR(IF(AND($V67<=AC$1,$W67>=AC$1),INDEX(Reliability!H$23:H$50,MATCH($T67,Reliability!$C$23:$C$50,0)),0),0)*$H67*$X67*$Y67),$D67)*$R67","v":38.220771123316474},{"$f":"MIN((IFERROR(IF(AND($V67<=AD$1,$W67>=AD$1),INDEX(Reliability!I$23:I$50,MATCH($S67,Reliability!$C$23:$C$50,0)),0),0)*IF($T67=\"n/a\",$D67*$Y67,$G67)+IFERROR(IF(AND($V67<=AD$1,$W67>=AD$1),INDEX(Reliability!I$23:I$50,MATCH($T67,Reliability!$C$23:$C$50,0)),0),0)*$H67*$X67*$Y67),$D67)*$R67","v":38.955684277885453},{"$f":"MIN((IFERROR(IF(AND($V67<=AE$1,$W67>=AE$1),INDEX(Reliability!J$23:J$50,MATCH($S67,Reliability!$C$23:$C$50,0)),0),0)*IF($T67=\"n/a\",$D67*$Y67,$G67)+IFERROR(IF(AND($V67<=AE$1,$W67>=AE$1),INDEX(Reliability!J$23:J$50,MATCH($T67,Reliability!$C$23:$C$50,0)),0),0)*$H67*$X67*$Y67),$D67)*$R67","v":38.757847856233312},{"$f":"MIN((IFERROR(IF(AND($V67<=AF$1,$W67>=AF$1),INDEX(Reliability!K$23:K$50,MATCH($S67,Reliability!$C$23:$C$50,0)),0),0)*IF($T67=\"n/a\",$D67*$Y67,$G67)+IFERROR(IF(AND($V67<=AF$1,$W67>=AF$1),INDEX(Reliability!K$23:K$50,MATCH($T67,Reliability!$C$23:$C$50,0)),0),0)*$H67*$X67*$Y67),$D67)*$R67","v":38.560011434581163},{"$f":"MIN((IFERROR(IF(AND($V67<=AG$1,$W67>=AG$1),INDEX(Reliability!L$23:L$50,MATCH($S67,Reliability!$C$23:$C$50,0)),0),0)*IF($T67=\"n/a\",$D67*$Y67,$G67)+IFERROR(IF(AND($V67<=AG$1,$W67>=AG$1),INDEX(Reliability!L$23:L$50,MATCH($T67,Reliability!$C$23:$C$50,0)),0),0)*$H67*$X67*$Y67),$D67)*$R67","v":38.866158336541666},{"$f":"MIN((IFERROR(IF(AND($V67<=AH$1,$W67>=AH$1),INDEX(Reliability!M$23:M$50,MATCH($S67,Reliability!$C$23:$C$50,0)),0),0)*IF($T67=\"n/a\",$D67*$Y67,$G67)+IFERROR(IF(AND($V67<=AH$1,$W67>=AH$1),INDEX(Reliability!M$23:M$50,MATCH($T67,Reliability!$C$23:$C$50,0)),0),0)*$H67*$X67*$Y67),$D67)*$R67","v":39.172305238502162},{"$f":"MIN((IFERROR(IF(AND($V67<=AI$1,$W67>=AI$1),INDEX(Reliability!N$23:N$50,MATCH($S67,Reliability!$C$23:$C$50,0)),0),0)*IF($T67=\"n/a\",$D67*$Y67,$G67)+IFERROR(IF(AND($V67<=AI$1,$W67>=AI$1),INDEX(Reliability!N$23:N$50,MATCH($T67,Reliability!$C$23:$C$50,0)),0),0)*$H67*$X67*$Y67),$D67)*$R67","v":39.478452140462657},{"$f":"MIN((IFERROR(IF(AND($V67<=AJ$1,$W67>=AJ$1),INDEX(Reliability!O$23:O$50,MATCH($S67,Reliability!$C$23:$C$50,0)),0),0)*IF($T67=\"n/a\",$D67*$Y67,$G67)+IFERROR(IF(AND($V67<=AJ$1,$W67>=AJ$1),INDEX(Reliability!O$23:O$50,MATCH($T67,Reliability!$C$23:$C$50,0)),0),0)*$H67*$X67*$Y67),$D67)*$R67","v":39.784599042423153},{"$f":"MIN((IFERROR(IF(AND($V67<=AK$1,$W67>=AK$1),INDEX(Reliability!P$23:P$50,MATCH($S67,Reliability!$C$23:$C$50,0)),0),0)*IF($T67=\"n/a\",$D67*$Y67,$G67)+IFERROR(IF(AND($V67<=AK$1,$W67>=AK$1),INDEX(Reliability!P$23:P$50,MATCH($T67,Reliability!$C$23:$C$50,0)),0),0)*$H67*$X67*$Y67),$D67)*$R67","v":40.090745944383649}]
[null,{"$f":"unique_contracts!B68","v":"_NEW_GENERIC_BATTERY_STORAGE"},{"$f":"unique_contracts!D68","v":"PlannedNew"},{"$f":"unique_contracts!J68","v":80},{"$f":"unique_contracts!M68","v":"NewSolarNewStorage"},{"$f":"unique_contracts!N68","v":"NO"},{"$f":"unique_contracts!P68","v":80},{"$f":"unique_contracts!R68","v":80},{"$f":"unique_contracts!V68","v":320},{"$f":"unique_contracts!AB68","v":0},{"$f":"unique_contracts!AM68","v":2023},{"$f":"unique_contracts!AN68","v":1},{"$f":"unique_contracts!AO68","v":1},{"$f":"unique_contracts!AP68","v":2038},{"$f":"unique_contracts!AQ68","v":1},{"$f":"unique_contracts!AR68","v":1},{"$f":"unique_contracts!BP68","v":"EnergyCapacity"},1,{"$f":"IFERROR(IF(AND(I68>0,E68=\"NotHybrid\"),_xlfn.CONCAT(MAX(MIN(ROUNDDOWN(I68/D68,0),8),4),INDEX(resources!$G:$G,MATCH(B68,resources!$A:$A,0))),INDEX(resources!$G:$G,MATCH(B68,resources!$A:$A,0))),\"n/a\")","v":"hr_batteries"},"4hr_batteries","hybrid",2023,2037,1,1,{"$f":"MIN((IFERROR(IF(AND($V68<=Z$1,$W68>=Z$1),INDEX(Reliability!E$23:E$50,MATCH($S68,Reliability!$C$23:$C$50,0)),0),0)*IF($T68=\"n/a\",$D68*$Y68,$G68)+IFERROR(IF(AND($V68<=Z$1,$W68>=Z$1),INDEX(Reliability!E$23:E$50,MATCH($T68,Reliability!$C$23:$C$50,0)),0),0)*$H68*$X68*$Y68),$D68)*$R68","v":70.8},{"$f":"MIN((IFERROR(IF(AND($V68<=AA$1,$W68>=AA$1),INDEX(Reliability!F$23:F$50,MATCH($S68,Reliability!$C$23:$C$50,0)),0),0)*IF($T68=\"n/a\",$D68*$Y68,$G68)+IFERROR(IF(AND($V68<=AA$1,$W68>=AA$1),INDEX(Reliability!F$23:F$50,MATCH($T68,Reliability!$C$23:$C$50,0)),0),0)*$H68*$X68*$Y68),$D68)*$R68","v":72.12},{"$f":"MIN((IFERROR(IF(AND($V68<=AB$1,$W68>=AB$1),INDEX(Reliability!G$23:G$50,MATCH($S68,Reliability!$C$23:$C$50,0)),0),0)*IF($T68=\"n/a\",$D68*$Y68,$G68)+IFERROR(IF(AND($V68<=AB$1,$W68>=AB$1),INDEX(Reliability!G$23:G$50,MATCH($T68,Reliability!$C$23:$C$50,0)),0),0)*$H68*$X68*$Y68),$D68)*$R68","v":73.44},{"$f":"MIN((IFERROR(IF(AND($V68<=AC$1,$W68>=AC$1),INDEX(Reliability!H$23:H$50,MATCH($S68,Reliability!$C$23:$C$50,0)),0),0)*IF($T68=\"n/a\",$D68*$Y68,$G68)+IFERROR(IF(AND($V68<=AC$1,$W68>=AC$1),INDEX(Reliability!H$23:H$50,MATCH($T68,Reliability!$C$23:$C$50,0)),0),0)*$H68*$X68*$Y68),$D68)*$R68","v":67.64},{"$f":"MIN((IFERROR(IF(AND($V68<=AD$1,$W68>=AD$1),INDEX(Reliability!I$23:I$50,MATCH($S68,Reliability!$C$23:$C$50,0)),0),0)*IF($T68=\"n/a\",$D68*$Y68,$G68)+IFERROR(IF(AND($V68<=AD$1,$W68>=AD$1),INDEX(Reliability!I$23:I$50,MATCH($T68,Reliability!$C$23:$C$50,0)),0),0)*$H68*$X68*$Y68),$D68)*$R68","v":61.84},{"$f":"MIN((IFERROR(IF(AND($V68<=AE$1,$W68>=AE$1),INDEX(Reliability!J$23:J$50,MATCH($S68,Reliability!$C$23:$C$50,0)),0),0)*IF($T68=\"n/a\",$D68*$Y68,$G68)+IFERROR(IF(AND($V68<=AE$1,$W68>=AE$1),INDEX(Reliability!J$23:J$50,MATCH($T68,Reliability!$C$23:$C$50,0)),0),0)*$H68*$X68*$Y68),$D68)*$R68","v":60.72},{"$f":"MIN((IFERROR(IF(AND($V68<=AF$1,$W68>=AF$1),INDEX(Reliability!K$23:K$50,MATCH($S68,Reliability!$C$23:$C$50,0)),0),0)*IF($T68=\"n/a\",$D68*$Y68,$G68)+IFERROR(IF(AND($V68<=AF$1,$W68>=AF$1),INDEX(Reliability!K$23:K$50,MATCH($T68,Reliability!$C$23:$C$50,0)),0),0)*$H68*$X68*$Y68),$D68)*$R68","v":59.6},{"$f":"MIN((IFERROR(IF(AND($V68<=AG$1,$W68>=AG$1),INDEX(Reliability!L$23:L$50,MATCH($S68,Reliability!$C$23:$C$50,0)),0),0)*IF($T68=\"n/a\",$D68*$Y68,$G68)+IFERROR(IF(AND($V68<=AG$1,$W68>=AG$1),INDEX(Reliability!L$23:L$50,MATCH($T68,Reliability!$C$23:$C$50,0)),0),0)*$H68*$X68*$Y68),$D68)*$R68","v":54.096000000000004},{"$f":"MIN((IFERROR(IF(AND($V68<=AH$1,$W68>=AH$1),INDEX(Reliability!M$23:M$50,MATCH($S68,Reliability!$C$23:$C$50,0)),0),0)*IF($T68=\"n/a\",$D68*$Y68,$G68)+IFERROR(IF(AND($V68<=AH$1,$W68>=AH$1),INDEX(Reliability!M$23:M$50,MATCH($T68,Reliability!$C$23:$C$50,0)),0),0)*$H68*$X68*$Y68),$D68)*$R68","v":48.592000000000006},{"$f":"MIN((IFERROR(IF(AND($V68<=AI$1,$W68>=AI$1),INDEX(Reliability!N$23:N$50,MATCH($S68,Reliability!$C$23:$C$50,0)),0),0)*IF($T68=\"n/a\",$D68*$Y68,$G68)+IFERROR(IF(AND($V68<=AI$1,$W68>=AI$1),INDEX(Reliability!N$23:N$50,MATCH($T68,Reliability!$C$23:$C$50,0)),0),0)*$H68*$X68*$Y68),$D68)*$R68","v":43.088000000000008},{"$f":"MIN((IFERROR(IF(AND($V68<=AJ$1,$W68>=AJ$1),INDEX(Reliability!O$23:O$50,MATCH($S68,Reliability!$C$23:$C$50,0)),0),0)*IF($T68=\"n/a\",$D68*$Y68,$G68)+IFERROR(IF(AND($V68<=AJ$1,$W68>=AJ$1),INDEX(Reliability!O$23:O$50,MATCH($T68,Reliability!$C$23:$C$50,0)),0),0)*$H68*$X68*$Y68),$D68)*$R68","v":37.58400000000001},{"$f":"MIN((IFERROR(IF(AND($V68<=AK$1,$W68>=AK$1),INDEX(Reliability!P$23:P$50,MATCH($S68,Reliability!$C$23:$C$50,0)),0),0)*IF($T68=\"n/a\",$D68*$Y68,$G68)+IFERROR(IF(AND($V68<=AK$1,$W68>=AK$1),INDEX(Reliability!P$23:P$50,MATCH($T68,Reliability!$C$23:$C$50,0)),0),0)*$H68*$X68*$Y68),$D68)*$R68","v":32.08}]
[null,{"$f":"unique_contracts!B69","v":"_NEW_GENERIC_BATTERY_STORAGE"},{"$f":"unique_contracts!D69","v":"PlannedNew"},{"$f":"unique_contracts!J69","v":159},{"$f":"unique_contracts!M69","v":"NewSolarNewStorage"},{"$f":"unique_contracts!N69","v":"YES"},{"$f":"unique_contracts!P69","v":173.5},{"$f":"unique_contracts!R69","v":158.5},{"$f":"unique_contracts!V69","v":634},{"$f":"unique_contracts!AB69","v":0},{"$f":"unique_contracts!AM69","v":2025},{"$f":"unique_contracts!AN69","v":1},{"$f":"unique_contracts!AO69","v":1},{"$f":"unique_contracts!AP69","v":2037},{"$f":"unique_contracts!AQ69","v":1},{"$f":"unique_contracts!AR69","v":1},{"$f":"unique_contracts!BP69","v":"EnergyCapacity"},1,{"$f":"IFERROR(IF(AND(I69>0,E69=\"NotHybrid\"),_xlfn.CONCAT(MAX(MIN(ROUNDDOWN(I69/D69,0),8),4),INDEX(resources!$G:$G,MATCH(B69,resources!$A:$A,0))),INDEX(resources!$G:$G,MATCH(B69,resources!$A:$A,0))),\"n/a\")","v":"hr_batteries"},"4hr_batteries","hybrid",2025,2036,1,0.75,{"$f":"MIN((IFERROR(IF(AND($V69<=Z$1,$W69>=Z$1),INDEX(Reliability!E$23:E$50,MATCH($S69,Reliability!$C$23:$C$50,0)),0),0)*IF($T69=\"n/a\",$D69*$Y69,$G69)+IFERROR(IF(AND($V69<=Z$1,$W69>=Z$1),INDEX(Reliability!E$23:E$50,MATCH($T69,Reliability!$C$23:$C$50,0)),0),0)*$H69*$X69*$Y69),$D69)*$R69","v":0},{"$f":"MIN((IFERROR(IF(AND($V69<=AA$1,$W69>=AA$1),INDEX(Reliability!F$23:F$50,MATCH($S69,Reliability!$C$23:$C$50,0)),0),0)*IF($T69=\"n/a\",$D69*$Y69,$G69)+IFERROR(IF(AND($V69<=AA$1,$W69>=AA$1),INDEX(Reliability!F$23:F$50,MATCH($T69,Reliability!$C$23:$C$50,0)),0),0)*$H69*$X69*$Y69),$D69)*$R69","v":107.16581249999999},{"$f":"MIN((IFERROR(IF(AND($V69<=AB$1,$W69>=AB$1),INDEX(Reliability!G$23:G$50,MATCH($S69,Reliability!$C$23:$C$50,0)),0),0)*IF($T69=\"n/a\",$D69*$Y69,$G69)+IFERROR(IF(AND($V69<=AB$1,$W69>=AB$1),INDEX(Reliability!G$23:G$50,MATCH($T69,Reliability!$C$23:$C$50,0)),0),0)*$H69*$X69*$Y69),$D69)*$R69","v":109.12725},{"$f":"MIN((IFERROR(IF(AND($V69<=AC$1,$W69>=AC$1),INDEX(Reliability!H$23:H$50,MATCH($S69,Reliability!$C$23:$C$50,0)),0),0)*IF($T69=\"n/a\",$D69*$Y69,$G69)+IFERROR(IF(AND($V69<=AC$1,$W69>=AC$1),INDEX(Reliability!H$23:H$50,MATCH($T69,Reliability!$C$23:$C$50,0)),0),0)*$H69*$X69*$Y69),$D69)*$R69","v":100.5088125},{"$f":"MIN((IFERROR(IF(AND($V69<=AD$1,$W69>=AD$1),INDEX(Reliability!I$23:I$50,MATCH($S69,Reliability!$C$23:$C$50,0)),0),0)*IF($T69=\"n/a\",$D69*$Y69,$G69)+IFERROR(IF(AND($V69<=AD$1,$W69>=AD$1),INDEX(Reliability!I$23:I$50,MATCH($T69,Reliability!$C$23:$C$50,0)),0),0)*$H69*$X69*$Y69),$D69)*$R69","v":91.890375000000006},{"$f":"MIN((IFERROR(IF(AND($V69<=AE$1,$W69>=AE$1),INDEX(Reliability!J$23:J$50,MATCH($S69,Reliability!$C$23:$C$50,0)),0),0)*IF($T69=\"n/a\",$D69*$Y69,$G69)+IFERROR(IF(AND($V69<=AE$1,$W69>=AE$1),INDEX(Reliability!J$23:J$50,MATCH($T69,Reliability!$C$23:$C$50,0)),0),0)*$H69*$X69*$Y69),$D69)*$R69","v":90.226124999999996},{"$f":"MIN((IFERROR(IF(AND($V69<=AF$1,$W69>=AF$1),INDEX(Reliability!K$23:K$50,MATCH($S69,Reliability!$C$23:$C$50,0)),0),0)*IF($T69=\"n/a\",$D69*$Y69,$G69)+IFERROR(IF(AND($V69<=AF$1,$W69>=AF$1),INDEX(Reliability!K$23:K$50,MATCH($T69,Reliability!$C$23:$C$50,0)),0),0)*$H69*$X69*$Y69),$D69)*$R69","v":88.561875000000001},{"$f":"MIN((IFERROR(IF(AND($V69<=AG$1,$W69>=AG$1),INDEX(Reliability!L$23:L$50,MATCH($S69,Reliability!$C$23:$C$50,0)),0),0)*IF($T69=\"n/a\",$D69*$Y69,$G69)+IFERROR(IF(AND($V69<=AG$1,$W69>=AG$1),INDEX(Reliability!L$23:L$50,MATCH($T69,Reliability!$C$23:$C$50,0)),0),0)*$H69*$X69*$Y69),$D69)*$R69","v":80.383274999999998},{"$f":"MIN((IFERROR(IF(AND($V69<=AH$1,$W69>=AH$1),INDEX(Reliability!M$23:M$50,MATCH($S69,Reliability!$C$23:$C$50,0)),0),0)*IF($T69=\"n/a\",$D69*$Y69,$G69)+IFERROR(IF(AND($V69<=AH$1,$W69>=AH$1),INDEX(Reliability!M$23:M$50,MATCH($T69,Reliability!$C$23:$C$50,0)),0),0)*$H69*$X69*$Y69),$D69)*$R69","v":72.204675000000009},{"$f":"MIN((IFERROR(IF(AND($V69<=AI$1,$W69>=AI$1),INDEX(Reliability!N$23:N$50,MATCH($S69,Reliability!$C$23:$C$50,0)),0),0)*IF($T69=\"n/a\",$D69*$Y69,$G69)+IFERROR(IF(AND($V69<=AI$1,$W69>=AI$1),INDEX(Reliability!N$23:N$50,MATCH($T69,Reliability!$C$23:$C$50,0)),0),0)*$H69*$X69*$Y69),$D69)*$R69","v":64.026075000000006},{"$f":"MIN((IFERROR(IF(AND($V69<=AJ$1,$W69>=AJ$1),INDEX(Reliability!O$23:O$50,MATCH($S69,Reliability!$C$23:$C$50,0)),0),0)*IF($T69=\"n/a\",$D69*$Y69,$G69)+IFERROR(IF(AND($V69<=AJ$1,$W69>=AJ$1),INDEX(Reliability!O$23:O$50,MATCH($T69,Reliability!$C$23:$C$50,0)),0),0)*$H69*$X69*$Y69),$D69)*$R69","v":55.847475000000017},{"$f":"MIN((IFERROR(IF(AND($V69<=AK$1,$W69>=AK$1),INDEX(Reliability!P$23:P$50,MATCH($S69,Reliability!$C$23:$C$50,0)),0),0)*IF($T69=\"n/a\",$D69*$Y69,$G69)+IFERROR(IF(AND($V69<=AK$1,$W69>=AK$1),INDEX(Reliability!P$23:P$50,MATCH($T69,Reliability!$C$23:$C$50,0)),0),0)*$H69*$X69*$Y69),$D69)*$R69","v":47.668875}]
[null,{"$f":"unique_contracts!B70","v":"_NEW_GENERIC_BATTERY_STORAGE"},{"$f":"unique_contracts!D70","v":"PlannedNew"},{"$f":"unique_contracts!J70","v":55},{"$f":"unique_contracts!M70","v":"NotHybrid"},{"$f":"unique_contracts!N70","v":"NA"},{"$f":"unique_contracts!P70","v":0},{"$f":"unique_contracts!R70","v":0},{"$f":"unique_contracts!V70","v":440},{"$f":"unique_contracts!AB70","v":0},{"$f":"unique_contracts!AM70","v":2026},{"$f":"unique_contracts!AN70","v":1},{"$f":"unique_contracts!AO70","v":1},{"$f":"unique_contracts!AP70","v":2036},{"$f":"unique_contracts!AQ70","v":1},{"$f":"unique_contracts!AR70","v":1},{"$f":"unique_contracts!BP70","v":"EnergyCapacity"},1,{"$f":"IFERROR(IF(AND(I70>0,E70=\"NotHybrid\"),_xlfn.CONCAT(MAX(MIN(ROUNDDOWN(I70/D70,0),8),4),INDEX(resources!$G:$G,MATCH(B70,resources!$A:$A,0))),INDEX(resources!$G:$G,MATCH(B70,resources!$A:$A,0))),\"n/a\")","v":"8hr_batteries"},"n/a","8hr_batteries",2026,2035,1,1,{"$f":"MIN((IFERROR(IF(AND($V70<=Z$1,$W70>=Z$1),INDEX(Reliability!E$23:E$50,MATCH($S70,Reliability!$C$23:$C$50,0)),0),0)*IF($T70=\"n/a\",$D70*$Y70,$G70)+IFERROR(IF(AND($V70<=Z$1,$W70>=Z$1),INDEX(Reliability!E$23:E$50,MATCH($T70,Reliability!$C$23:$C$50,0)),0),0)*$H70*$X70*$Y70),$D70)*$R70","v":0},{"$f":"MIN((IFERROR(IF(AND($V70<=AA$1,$W70>=AA$1),INDEX(Reliability!F$23:F$50,MATCH($S70,Reliability!$C$23:$C$50,0)),0),0)*IF($T70=\"n/a\",$D70*$Y70,$G70)+IFERROR(IF(AND($V70<=AA$1,$W70>=AA$1),INDEX(Reliability!F$23:F$50,MATCH($T70,Reliability!$C$23:$C$50,0)),0),0)*$H70*$X70*$Y70),$D70)*$R70","v":0},{"$f":"MIN((IFERROR(IF(AND($V70<=AB$1,$W70>=AB$1),INDEX(Reliability!G$23:G$50,MATCH($S70,Reliability!$C$23:$C$50,0)),0),0)*IF($T70=\"n/a\",$D70*$Y70,$G70)+IFERROR(IF(AND($V70<=AB$1,$W70>=AB$1),INDEX(Reliability!G$23:G$50,MATCH($T70,Reliability!$C$23:$C$50,0)),0),0)*$H70*$X70*$Y70),$D70)*$R70","v":51.150000000000006},{"$f":"MIN((IFERROR(IF(AND($V70<=AC$1,$W70>=AC$1),INDEX(Reliability!H$23:H$50,MATCH($S70,Reliability!$C$23:$C$50,0)),0),0)*IF($T70=\"n/a\",$D70*$Y70,$G70)+IFERROR(IF(AND($V70<=AC$1,$W70>=AC$1),INDEX(Reliability!H$23:H$50,MATCH($T70,Reliability!$C$23:$C$50,0)),0),0)*$H70*$X70*$Y70),$D70)*$R70","v":49.445},{"$f":"MIN((IFERROR(IF(AND($V70<=AD$1,$W70>=AD$1),INDEX(Reliability!I$23:I$50,MATCH($S70,Reliability!$C$23:$C$50,0)),0),0)*IF($T70=\"n/a\",$D70*$Y70,$G70)+IFERROR(IF(AND($V70<=AD$1,$W70>=AD$1),INDEX(Reliability!I$23:I$50,MATCH($T70,Reliability!$C$23:$C$50,0)),0),0)*$H70*$X70*$Y70),$D70)*$R70","v":47.74},{"$f":"MIN((IFERROR(IF(AND($V70<=AE$1,$W70>=AE$1),INDEX(Reliability!J$23:J$50,MATCH($S70,Reliability!$C$23:$C$50,0)),0),0)*IF($T70=\"n/a\",$D70*$Y70,$G70)+IFERROR(IF(AND($V70<=AE$1,$W70>=AE$1),INDEX(Reliability!J$23:J$50,MATCH($T70,Reliability!$C$23:$C$50,0)),0),0)*$H70*$X70*$Y70),$D70)*$R70","v":47.162499999999994},{"$f":"MIN((IFERROR(IF(AND($V70<=AF$1,$W70>=AF$1),INDEX(Reliability!K$23:K$50,MATCH($S70,Reliability!$C$23:$C$50,0)),0),0)*IF($T70=\"n/a\",$D70*$Y70,$G70)+IFERROR(IF(AND($V70<=AF$1,$W70>=AF$1),INDEX(Reliability!K$23:K$50,MATCH($T70,Reliability!$C$23:$C$50,0)),0),0)*$H70*$X70*$Y70),$D70)*$R70","v":46.585000000000001},{"$f":"MIN((IFERROR(IF(AND($V70<=AG$1,$W70>=AG$1),INDEX(Reliability!L$23:L$50,MATCH($S70,Reliability!$C$23:$C$50,0)),0),0)*IF($T70=\"n/a\",$D70*$Y70,$G70)+IFERROR(IF(AND($V70<=AG$1,$W70>=AG$1),INDEX(Reliability!L$23:L$50,MATCH($T70,Reliability!$C$23:$C$50,0)),0),0)*$H70*$X70*$Y70),$D70)*$R70","v":44.923999999999999},{"$f":"MIN((IFERROR(IF(AND($V70<=AH$1,$W70>=AH$1),INDEX(Reliability!M$23:M$50,MATCH($S70,Reliability!$C$23:$C$50,0)),0),0)*IF($T70=\"n/a\",$D70*$Y70,$G70)+IFERROR(IF(AND($V70<=AH$1,$W70>=AH$1),INDEX(Reliability!M$23:M$50,MATCH($T70,Reliability!$C$23:$C$50,0)),0),0)*$H70*$X70*$Y70),$D70)*$R70","v":43.262999999999998},{"$f":"MIN((IFERROR(IF(AND($V70<=AI$1,$W70>=AI$1),INDEX(Reliability!N$23:N$50,MATCH($S70,Reliability!$C$23:$C$50,0)),0),0)*IF($T70=\"n/a\",$D70*$Y70,$G70)+IFERROR(IF(AND($V70<=AI$1,$W70>=AI$1),INDEX(Reliability!N$23:N$50,MATCH($T70,Reliability!$C$23:$C$50,0)),0),0)*$H70*$X70*$Y70),$D70)*$R70","v":41.601999999999997},{"$f":"MIN((IFERROR(IF(AND($V70<=AJ$1,$W70>=AJ$1),INDEX(Reliability!O$23:O$50,MATCH($S70,Reliability!$C$23:$C$50,0)),0),0)*IF($T70=\"n/a\",$D70*$Y70,$G70)+IFERROR(IF(AND($V70<=AJ$1,$W70>=AJ$1),INDEX(Reliability!O$23:O$50,MATCH($T70,Reliability!$C$23:$C$50,0)),0),0)*$H70*$X70*$Y70),$D70)*$R70","v":39.940999999999995},{"$f":"MIN((IFERROR(IF(AND($V70<=AK$1,$W70>=AK$1),INDEX(Reliability!P$23:P$50,MATCH($S70,Reliability!$C$23:$C$50,0)),0),0)*IF($T70=\"n/a\",$D70*$Y70,$G70)+IFERROR(IF(AND($V70<=AK$1,$W70>=AK$1),INDEX(Reliability!P$23:P$50,MATCH($T70,Reliability!$C$23:$C$50,0)),0),0)*$H70*$X70*$Y70),$D70)*$R70","v":38.279999999999994}]
[null,{"$f":"unique_contracts!B71","v":"_NEW_GENERIC_BATTERY_STORAGE"},{"$f":"unique_contracts!D71","v":"PlannedNew"},{"$f":"unique_contracts!J71","v":280},{"$f":"unique_contracts!M71","v":"NotHybrid"},{"$f":"unique_contracts!N71","v":"NA"},{"$f":"unique_contracts!P71","v":0},{"$f":"unique_contracts!R71","v":0},{"$f":"unique_contracts!V71","v":1120},{"$f":"unique_contracts!AB71","v":0},{"$f":"unique_contracts!AM71","v":2024},{"$f":"unique_contracts!AN71","v":1},{"$f":"unique_contracts!AO71","v":1},{"$f":"unique_contracts!AP71","v":2036},{"$f":"unique_contracts!AQ71","v":1},{"$f":"unique_contracts!AR71","v":1},{"$f":"unique_contracts!BP71","v":"EnergyCapacity"},1,{"$f":"IFERROR(IF(AND(I71>0,E71=\"NotHybrid\"),_xlfn.CONCAT(MAX(MIN(ROUNDDOWN(I71/D71,0),8),4),INDEX(resources!$G:$G,MATCH(B71,resources!$A:$A,0))),INDEX(resources!$G:$G,MATCH(B71,resources!$A:$A,0))),\"n/a\")","v":"4hr_batteries"},"n/a","4hr_batteries",2024,2035,1,1,{"$f":"MIN((IFERROR(IF(AND($V71<=Z$1,$W71>=Z$1),INDEX(Reliability!E$23:E$50,MATCH($S71,Reliability!$C$23:$C$50,0)),0),0)*IF($T71=\"n/a\",$D71*$Y71,$G71)+IFERROR(IF(AND($V71<=Z$1,$W71>=Z$1),INDEX(Reliability!E$23:E$50,MATCH($T71,Reliability!$C$23:$C$50,0)),0),0)*$H71*$X71*$Y71),$D71)*$R71","v":247.8},{"$f":"MIN((IFERROR(IF(AND($V71<=AA$1,$W71>=AA$1),INDEX(Reliability!F$23:F$50,MATCH($S71,Reliability!$C$23:$C$50,0)),0),0)*IF($T71=\"n/a\",$D71*$Y71,$G71)+IFERROR(IF(AND($V71<=AA$1,$W71>=AA$1),INDEX(Reliability!F$23:F$50,MATCH($T71,Reliability!$C$23:$C$50,0)),0),0)*$H71*$X71*$Y71),$D71)*$R71","v":252.42},{"$f":"MIN((IFERROR(IF(AND($V71<=AB$1,$W71>=AB$1),INDEX(Reliability!G$23:G$50,MATCH($S71,Reliability!$C$23:$C$50,0)),0),0)*IF($T71=\"n/a\",$D71*$Y71,$G71)+IFERROR(IF(AND($V71<=AB$1,$W71>=AB$1),INDEX(Reliability!G$23:G$50,MATCH($T71,Reliability!$C$23:$C$50,0)),0),0)*$H71*$X71*$Y71),$D71)*$R71","v":257.04000000000002},{"$f":"MIN((IFERROR(IF(AND($V71<=AC$1,$W71>=AC$1),INDEX(Reliability!H$23:H$50,MATCH($S71,Reliability!$C$23:$C$50,0)),0),0)*IF($T71=\"n/a\",$D71*$Y71,$G71)+IFERROR(IF(AND($V71<=AC$1,$W71>=AC$1),INDEX(Reliability!H$23:H$50,MATCH($T71,Reliability!$C$23:$C$50,0)),0),0)*$H71*$X71*$Y71),$D71)*$R71","v":236.74},{"$f":"MIN((IFERROR(IF(AND($V71<=AD$1,$W71>=AD$1),INDEX(Reliability!I$23:I$50,MATCH($S71,Reliability!$C$23:$C$50,0)),0),0)*IF($T71=\"n/a\",$D71*$Y71,$G71)+IFERROR(IF(AND($V71<=AD$1,$W71>=AD$1),INDEX(Reliability!I$23:I$50,MATCH($T71,Reliability!$C$23:$C$50,0)),0),0)*$H71*$X71*$Y71),$D71)*$R71","v":216.44},{"$f":"MIN((IFERROR(IF(AND($V71<=AE$1,$W71>=AE$1),INDEX(Reliability!J$23:J$50,MATCH($S71,Reliability!$C$23:$C$50,0)),0),0)*IF($T71=\"n/a\",$D71*$Y71,$G71)+IFERROR(IF(AND($V71<=AE$1,$W71>=AE$1),INDEX(Reliability!J$23:J$50,MATCH($T71,Reliability!$C$23:$C$50,0)),0),0)*$H71*$X71*$Y71),$D71)*$R71","v":212.52},{"$f":"MIN((IFERROR(IF(AND($V71<=AF$1,$W71>=AF$1),INDEX(Reliability!K$23:K$50,MATCH($S71,Reliability!$C$23:$C$50,0)),0),0)*IF($T71=\"n/a\",$D71*$Y71,$G71)+IFERROR(IF(AND($V71<=AF$1,$W71>=AF$1),INDEX(Reliability!K$23:K$50,MATCH($T71,Reliability!$C$23:$C$50,0)),0),0)*$H71*$X71*$Y71),$D71)*$R71","v":208.6},{"$f":"MIN((IFERROR(IF(AND($V71<=AG$1,$W71>=AG$1),INDEX(Reliability!L$23:L$50,MATCH($S71,Reliability!$C$23:$C$50,0)),0),0)*IF($T71=\"n/a\",$D71*$Y71,$G71)+IFERROR(IF(AND($V71<=AG$1,$W71>=AG$1),INDEX(Reliability!L$23:L$50,MATCH($T71,Reliability!$C$23:$C$50,0)),0),0)*$H71*$X71*$Y71),$D71)*$R71","v":189.33600000000001},{"$f":"MIN((IFERROR(IF(AND($V71<=AH$1,$W71>=AH$1),INDEX(Reliability!M$23:M$50,MATCH($S71,Reliability!$C$23:$C$50,0)),0),0)*IF($T71=\"n/a\",$D71*$Y71,$G71)+IFERROR(IF(AND($V71<=AH$1,$W71>=AH$1),INDEX(Reliability!M$23:M$50,MATCH($T71,Reliability!$C$23:$C$50,0)),0),0)*$H71*$X71*$Y71),$D71)*$R71","v":170.072},{"$f":"MIN((IFERROR(IF(AND($V71<=AI$1,$W71>=AI$1),INDEX(Reliability!N$23:N$50,MATCH($S71,Reliability!$C$23:$C$50,0)),0),0)*IF($T71=\"n/a\",$D71*$Y71,$G71)+IFERROR(IF(AND($V71<=AI$1,$W71>=AI$1),INDEX(Reliability!N$23:N$50,MATCH($T71,Reliability!$C$23:$C$50,0)),0),0)*$H71*$X71*$Y71),$D71)*$R71","v":150.80800000000002},{"$f":"MIN((IFERROR(IF(AND($V71<=AJ$1,$W71>=AJ$1),INDEX(Reliability!O$23:O$50,MATCH($S71,Reliability!$C$23:$C$50,0)),0),0)*IF($T71=\"n/a\",$D71*$Y71,$G71)+IFERROR(IF(AND($V71<=AJ$1,$W71>=AJ$1),INDEX(Reliability!O$23:O$50,MATCH($T71,Reliability!$C$23:$C$50,0)),0),0)*$H71*$X71*$Y71),$D71)*$R71","v":131.54400000000004},{"$f":"MIN((IFERROR(IF(AND($V71<=AK$1,$W71>=AK$1),INDEX(Reliability!P$23:P$50,MATCH($S71,Reliability!$C$23:$C$50,0)),0),0)*IF($T71=\"n/a\",$D71*$Y71,$G71)+IFERROR(IF(AND($V71<=AK$1,$W71>=AK$1),INDEX(Reliability!P$23:P$50,MATCH($T71,Reliability!$C$23:$C$50,0)),0),0)*$H71*$X71*$Y71),$D71)*$R71","v":112.28}]
[null,{"$f":"unique_contracts!B72","v":"_EXISTING_GENERIC_DR"},{"$f":"unique_contracts!D72","v":"Online"},{"$f":"unique_contracts!J72","v":4.5},{"$f":"unique_contracts!M72","v":"NotHybrid"},{"$f":"unique_contracts!N72","v":"NA"},{"$f":"unique_contracts!P72","v":0},{"$f":"unique_contracts!R72","v":0},{"$f":"unique_contracts!V72","v":0},{"$f":"unique_contracts!AB72","v":0},{"$f":"unique_contracts!AM72","v":2019},{"$f":"unique_contracts!AN72","v":1},{"$f":"unique_contracts!AO72","v":1},{"$f":"unique_contracts!AP72","v":2024},{"$f":"unique_contracts!AQ72","v":12},{"$f":"unique_contracts!AR72","v":31},{"$f":"unique_contracts!BP72","v":"EnergyCapacity"},1,{"$f":"IFERROR(IF(AND(I72>0,E72=\"NotHybrid\"),_xlfn.CONCAT(MAX(MIN(ROUNDDOWN(I72/D72,0),8),4),INDEX(resources!$G:$G,MATCH(B72,resources!$A:$A,0))),INDEX(resources!$G:$G,MATCH(B72,resources!$A:$A,0))),\"n/a\")","v":"demand_response"},"n/a","demand_response",2019,2024,1,1,{"$f":"MIN((IFERROR(IF(AND($V72<=Z$1,$W72>=Z$1),INDEX(Reliability!E$23:E$50,MATCH($S72,Reliability!$C$23:$C$50,0)),0),0)*IF($T72=\"n/a\",$D72*$Y72,$G72)+IFERROR(IF(AND($V72<=Z$1,$W72>=Z$1),INDEX(Reliability!E$23:E$50,MATCH($T72,Reliability!$C$23:$C$50,0)),0),0)*$H72*$X72*$Y72),$D72)*$R72","v":4.0185000000000004},{"$f":"MIN((IFERROR(IF(AND($V72<=AA$1,$W72>=AA$1),INDEX(Reliability!F$23:F$50,MATCH($S72,Reliability!$C$23:$C$50,0)),0),0)*IF($T72=\"n/a\",$D72*$Y72,$G72)+IFERROR(IF(AND($V72<=AA$1,$W72>=AA$1),INDEX(Reliability!F$23:F$50,MATCH($T72,Reliability!$C$23:$C$50,0)),0),0)*$H72*$X72*$Y72),$D72)*$R72","v":0},{"$f":"MIN((IFERROR(IF(AND($V72<=AB$1,$W72>=AB$1),INDEX(Reliability!G$23:G$50,MATCH($S72,Reliability!$C$23:$C$50,0)),0),0)*IF($T72=\"n/a\",$D72*$Y72,$G72)+IFERROR(IF(AND($V72<=AB$1,$W72>=AB$1),INDEX(Reliability!G$23:G$50,MATCH($T72,Reliability!$C$23:$C$50,0)),0),0)*$H72*$X72*$Y72),$D72)*$R72","v":0},{"$f":"MIN((IFERROR(IF(AND($V72<=AC$1,$W72>=AC$1),INDEX(Reliability!H$23:H$50,MATCH($S72,Reliability!$C$23:$C$50,0)),0),0)*IF($T72=\"n/a\",$D72*$Y72,$G72)+IFERROR(IF(AND($V72<=AC$1,$W72>=AC$1),INDEX(Reliability!H$23:H$50,MATCH($T72,Reliability!$C$23:$C$50,0)),0),0)*$H72*$X72*$Y72),$D72)*$R72","v":0},{"$f":"MIN((IFERROR(IF(AND($V72<=AD$1,$W72>=AD$1),INDEX(Reliability!I$23:I$50,MATCH($S72,Reliability!$C$23:$C$50,0)),0),0)*IF($T72=\"n/a\",$D72*$Y72,$G72)+IFERROR(IF(AND($V72<=AD$1,$W72>=AD$1),INDEX(Reliability!I$23:I$50,MATCH($T72,Reliability!$C$23:$C$50,0)),0),0)*$H72*$X72*$Y72),$D72)*$R72","v":0},{"$f":"MIN((IFERROR(IF(AND($V72<=AE$1,$W72>=AE$1),INDEX(Reliability!J$23:J$50,MATCH($S72,Reliability!$C$23:$C$50,0)),0),0)*IF($T72=\"n/a\",$D72*$Y72,$G72)+IFERROR(IF(AND($V72<=AE$1,$W72>=AE$1),INDEX(Reliability!J$23:J$50,MATCH($T72,Reliability!$C$23:$C$50,0)),0),0)*$H72*$X72*$Y72),$D72)*$R72","v":0},{"$f":"MIN((IFERROR(IF(AND($V72<=AF$1,$W72>=AF$1),INDEX(Reliability!K$23:K$50,MATCH($S72,Reliability!$C$23:$C$50,0)),0),0)*IF($T72=\"n/a\",$D72*$Y72,$G72)+IFERROR(IF(AND($V72<=AF$1,$W72>=AF$1),INDEX(Reliability!K$23:K$50,MATCH($T72,Reliability!$C$23:$C$50,0)),0),0)*$H72*$X72*$Y72),$D72)*$R72","v":0},{"$f":"MIN((IFERROR(IF(AND($V72<=AG$1,$W72>=AG$1),INDEX(Reliability!L$23:L$50,MATCH($S72,Reliability!$C$23:$C$50,0)),0),0)*IF($T72=\"n/a\",$D72*$Y72,$G72)+IFERROR(IF(AND($V72<=AG$1,$W72>=AG$1),INDEX(Reliability!L$23:L$50,MATCH($T72,Reliability!$C$23:$C$50,0)),0),0)*$H72*$X72*$Y72),$D72)*$R72","v":0},{"$f":"MIN((IFERROR(IF(AND($V72<=AH$1,$W72>=AH$1),INDEX(Reliability!M$23:M$50,MATCH($S72,Reliability!$C$23:$C$50,0)),0),0)*IF($T72=\"n/a\",$D72*$Y72,$G72)+IFERROR(IF(AND($V72<=AH$1,$W72>=AH$1),INDEX(Reliability!M$23:M$50,MATCH($T72,Reliability!$C$23:$C$50,0)),0),0)*$H72*$X72*$Y72),$D72)*$R72","v":0},{"$f":"MIN((IFERROR(IF(AND($V72<=AI$1,$W72>=AI$1),INDEX(Reliability!N$23:N$50,MATCH($S72,Reliability!$C$23:$C$50,0)),0),0)*IF($T72=\"n/a\",$D72*$Y72,$G72)+IFERROR(IF(AND($V72<=AI$1,$W72>=AI$1),INDEX(Reliability!N$23:N$50,MATCH($T72,Reliability!$C$23:$C$50,0)),0),0)*$H72*$X72*$Y72),$D72)*$R72","v":0},{"$f":"MIN((IFERROR(IF(AND($V72<=AJ$1,$W72>=AJ$1),INDEX(Reliability!O$23:O$50,MATCH($S72,Reliability!$C$23:$C$50,0)),0),0)*IF($T72=\"n/a\",$D72*$Y72,$G72)+IFERROR(IF(AND($V72<=AJ$1,$W72>=AJ$1),INDEX(Reliability!O$23:O$50,MATCH($T72,Reliability!$C$23:$C$50,0)),0),0)*$H72*$X72*$Y72),$D72)*$R72","v":0},{"$f":"MIN((IFERROR(IF(AND($V72<=AK$1,$W72>=AK$1),INDEX(Reliability!P$23:P$50,MATCH($S72,Reliability!$C$23:$C$50,0)),0),0)*IF($T72=\"n/a\",$D72*$Y72,$G72)+IFERROR(IF(AND($V72<=AK$1,$W72>=AK$1),INDEX(Reliability!P$23:P$50,MATCH($T72,Reliability!$C$23:$C$50,0)),0),0)*$H72*$X72*$Y72),$D72)*$R72","v":0}]
[null,{"$f":"unique_contracts!B73","v":"_EXISTING_GENERIC_DR"},{"$f":"unique_contracts!D73","v":"Online"},{"$f":"unique_contracts!J73","v":3.411},{"$f":"unique_contracts!M73","v":"NotHybrid"},{"$f":"unique_contracts!N73","v":"NA"},{"$f":"unique_contracts!P73","v":0},{"$f":"unique_contracts!R73","v":0},{"$f":"unique_contracts!V73","v":0},{"$f":"unique_contracts!AB73","v":"sell"},{"$f":"unique_contracts!AM73","v":2019},{"$f":"unique_contracts!AN73","v":1},{"$f":"unique_contracts!AO73","v":1},{"$f":"unique_contracts!AP73","v":2024},{"$f":"unique_contracts!AQ73","v":12},{"$f":"unique_contracts!AR73","v":31},{"$f":"unique_contracts!BP73","v":"EnergyCapacity"},-1,{"$f":"IFERROR(IF(AND(I73>0,E73=\"NotHybrid\"),_xlfn.CONCAT(MAX(MIN(ROUNDDOWN(I73/D73,0),8),4),INDEX(resources!$G:$G,MATCH(B73,resources!$A:$A,0))),INDEX(resources!$G:$G,MATCH(B73,resources!$A:$A,0))),\"n/a\")","v":"demand_response"},"n/a","demand_response",2019,2024,1,1,{"$f":"MIN((IFERROR(IF(AND($V73<=Z$1,$W73>=Z$1),INDEX(Reliability!E$23:E$50,MATCH($S73,Reliability!$C$23:$C$50,0)),0),0)*IF($T73=\"n/a\",$D73*$Y73,$G73)+IFERROR(IF(AND($V73<=Z$1,$W73>=Z$1),INDEX(Reliability!E$23:E$50,MATCH($T73,Reliability!$C$23:$C$50,0)),0),0)*$H73*$X73*$Y73),$D73)*$R73","v":-3.0460229999999999},{"$f":"MIN((IFERROR(IF(AND($V73<=AA$1,$W73>=AA$1),INDEX(Reliability!F$23:F$50,MATCH($S73,Reliability!$C$23:$C$50,0)),0),0)*IF($T73=\"n/a\",$D73*$Y73,$G73)+IFERROR(IF(AND($V73<=AA$1,$W73>=AA$1),INDEX(Reliability!F$23:F$50,MATCH($T73,Reliability!$C$23:$C$50,0)),0),0)*$H73*$X73*$Y73),$D73)*$R73","v":0},{"$f":"MIN((IFERROR(IF(AND($V73<=AB$1,$W73>=AB$1),INDEX(Reliability!G$23:G$50,MATCH($S73,Reliability!$C$23:$C$50,0)),0),0)*IF($T73=\"n/a\",$D73*$Y73,$G73)+IFERROR(IF(AND($V73<=AB$1,$W73>=AB$1),INDEX(Reliability!G$23:G$50,MATCH($T73,Reliability!$C$23:$C$50,0)),0),0)*$H73*$X73*$Y73),$D73)*$R73","v":0},{"$f":"MIN((IFERROR(IF(AND($V73<=AC$1,$W73>=AC$1),INDEX(Reliability!H$23:H$50,MATCH($S73,Reliability!$C$23:$C$50,0)),0),0)*IF($T73=\"n/a\",$D73*$Y73,$G73)+IFERROR(IF(AND($V73<=AC$1,$W73>=AC$1),INDEX(Reliability!H$23:H$50,MATCH($T73,Reliability!$C$23:$C$50,0)),0),0)*$H73*$X73*$Y73),$D73)*$R73","v":0},{"$f":"MIN((IFERROR(IF(AND($V73<=AD$1,$W73>=AD$1),INDEX(Reliability!I$23:I$50,MATCH($S73,Reliability!$C$23:$C$50,0)),0),0)*IF($T73=\"n/a\",$D73*$Y73,$G73)+IFERROR(IF(AND($V73<=AD$1,$W73>=AD$1),INDEX(Reliability!I$23:I$50,MATCH($T73,Reliability!$C$23:$C$50,0)),0),0)*$H73*$X73*$Y73),$D73)*$R73","v":0},{"$f":"MIN((IFERROR(IF(AND($V73<=AE$1,$W73>=AE$1),INDEX(Reliability!J$23:J$50,MATCH($S73,Reliability!$C$23:$C$50,0)),0),0)*IF($T73=\"n/a\",$D73*$Y73,$G73)+IFERROR(IF(AND($V73<=AE$1,$W73>=AE$1),INDEX(Reliability!J$23:J$50,MATCH($T73,Reliability!$C$23:$C$50,0)),0),0)*$H73*$X73*$Y73),$D73)*$R73","v":0},{"$f":"MIN((IFERROR(IF(AND($V73<=AF$1,$W73>=AF$1),INDEX(Reliability!K$23:K$50,MATCH($S73,Reliability!$C$23:$C$50,0)),0),0)*IF($T73=\"n/a\",$D73*$Y73,$G73)+IFERROR(IF(AND($V73<=AF$1,$W73>=AF$1),INDEX(Reliability!K$23:K$50,MATCH($T73,Reliability!$C$23:$C$50,0)),0),0)*$H73*$X73*$Y73),$D73)*$R73","v":0},{"$f":"MIN((IFERROR(IF(AND($V73<=AG$1,$W73>=AG$1),INDEX(Reliability!L$23:L$50,MATCH($S73,Reliability!$C$23:$C$50,0)),0),0)*IF($T73=\"n/a\",$D73*$Y73,$G73)+IFERROR(IF(AND($V73<=AG$1,$W73>=AG$1),INDEX(Reliability!L$23:L$50,MATCH($T73,Reliability!$C$23:$C$50,0)),0),0)*$H73*$X73*$Y73),$D73)*$R73","v":0},{"$f":"MIN((IFERROR(IF(AND($V73<=AH$1,$W73>=AH$1),INDEX(Reliability!M$23:M$50,MATCH($S73,Reliability!$C$23:$C$50,0)),0),0)*IF($T73=\"n/a\",$D73*$Y73,$G73)+IFERROR(IF(AND($V73<=AH$1,$W73>=AH$1),INDEX(Reliability!M$23:M$50,MATCH($T73,Reliability!$C$23:$C$50,0)),0),0)*$H73*$X73*$Y73),$D73)*$R73","v":0},{"$f":"MIN((IFERROR(IF(AND($V73<=AI$1,$W73>=AI$1),INDEX(Reliability!N$23:N$50,MATCH($S73,Reliability!$C$23:$C$50,0)),0),0)*IF($T73=\"n/a\",$D73*$Y73,$G73)+IFERROR(IF(AND($V73<=AI$1,$W73>=AI$1),INDEX(Reliability!N$23:N$50,MATCH($T73,Reliability!$C$23:$C$50,0)),0),0)*$H73*$X73*$Y73),$D73)*$R73","v":0},{"$f":"MIN((IFERROR(IF(AND($V73<=AJ$1,$W73>=AJ$1),INDEX(Reliability!O$23:O$50,MATCH($S73,Reliability!$C$23:$C$50,0)),0),0)*IF($T73=\"n/a\",$D73*$Y73,$G73)+IFERROR(IF(AND($V73<=AJ$1,$W73>=AJ$1),INDEX(Reliability!O$23:O$50,MATCH($T73,Reliability!$C$23:$C$50,0)),0),0)*$H73*$X73*$Y73),$D73)*$R73","v":0},{"$f":"MIN((IFERROR(IF(AND($V73<=AK$1,$W73>=AK$1),INDEX(Reliability!P$23:P$50,MATCH($S73,Reliability!$C$23:$C$50,0)),0),0)*IF($T73=\"n/a\",$D73*$Y73,$G73)+IFERROR(IF(AND($V73<=AK$1,$W73>=AK$1),INDEX(Reliability!P$23:P$50,MATCH($T73,Reliability!$C$23:$C$50,0)),0),0)*$H73*$X73*$Y73),$D73)*$R73","v":0}]
[null,{"$f":"unique_contracts!B74","v":"OGROVE_6_PL1X2"},{"$f":"unique_contracts!D74","v":"Online"},{"$f":"unique_contracts!J74","v":99.21},{"$f":"unique_contracts!M74","v":"NotHybrid"},{"$f":"unique_contracts!N74","v":"NA"},{"$f":"unique_contracts!P74","v":0},{"$f":"unique_contracts!R74","v":0},{"$f":"unique_contracts!V74","v":0},{"$f":"unique_contracts!AB74","v":0},{"$f":"unique_contracts!AM74","v":2010},{"$f":"unique_contracts!AN74","v":6},{"$f":"unique_contracts!AO74","v":17},{"$f":"unique_contracts!AP74","v":2035},{"$f":"unique_contracts!AQ74","v":6},{"$f":"unique_contracts!AR74","v":16},{"$f":"unique_contracts!BP74","v":"EnergyCapacity"},1,{"$f":"IFERROR(IF(AND(I74>0,E74=\"NotHybrid\"),_xlfn.CONCAT(MAX(MIN(ROUNDDOWN(I74/D74,0),8),4),INDEX(resources!$G:$G,MATCH(B74,resources!$A:$A,0))),INDEX(resources!$G:$G,MATCH(B74,resources!$A:$A,0))),\"n/a\")","v":"gas_ct"},"n/a","gas_ct",2011,2034,1,1,{"$f":"MIN((IFERROR(IF(AND($V74<=Z$1,$W74>=Z$1),INDEX(Reliability!E$23:E$50,MATCH($S74,Reliability!$C$23:$C$50,0)),0),0)*IF($T74=\"n/a\",$D74*$Y74,$G74)+IFERROR(IF(AND($V74<=Z$1,$W74>=Z$1),INDEX(Reliability!E$23:E$50,MATCH($T74,Reliability!$C$23:$C$50,0)),0),0)*$H74*$X74*$Y74),$D74)*$R74","v":79.576735301367933},{"$f":"MIN((IFERROR(IF(AND($V74<=AA$1,$W74>=AA$1),INDEX(Reliability!F$23:F$50,MATCH($S74,Reliability!$C$23:$C$50,0)),0),0)*IF($T74=\"n/a\",$D74*$Y74,$G74)+IFERROR(IF(AND($V74<=AA$1,$W74>=AA$1),INDEX(Reliability!F$23:F$50,MATCH($T74,Reliability!$C$23:$C$50,0)),0),0)*$H74*$X74*$Y74),$D74)*$R74","v":80.995591305174926},{"$f":"MIN((IFERROR(IF(AND($V74<=AB$1,$W74>=AB$1),INDEX(Reliability!G$23:G$50,MATCH($S74,Reliability!$C$23:$C$50,0)),0),0)*IF($T74=\"n/a\",$D74*$Y74,$G74)+IFERROR(IF(AND($V74<=AB$1,$W74>=AB$1),INDEX(Reliability!G$23:G$50,MATCH($T74,Reliability!$C$23:$C$50,0)),0),0)*$H74*$X74*$Y74),$D74)*$R74","v":82.414447308981934},{"$f":"MIN((IFERROR(IF(AND($V74<=AC$1,$W74>=AC$1),INDEX(Reliability!H$23:H$50,MATCH($S74,Reliability!$C$23:$C$50,0)),0),0)*IF($T74=\"n/a\",$D74*$Y74,$G74)+IFERROR(IF(AND($V74<=AC$1,$W74>=AC$1),INDEX(Reliability!H$23:H$50,MATCH($T74,Reliability!$C$23:$C$50,0)),0),0)*$H74*$X74*$Y74),$D74)*$R74","v":81.961628407868702},{"$f":"MIN((IFERROR(IF(AND($V74<=AD$1,$W74>=AD$1),INDEX(Reliability!I$23:I$50,MATCH($S74,Reliability!$C$23:$C$50,0)),0),0)*IF($T74=\"n/a\",$D74*$Y74,$G74)+IFERROR(IF(AND($V74<=AD$1,$W74>=AD$1),INDEX(Reliability!I$23:I$50,MATCH($T74,Reliability!$C$23:$C$50,0)),0),0)*$H74*$X74*$Y74),$D74)*$R74","v":81.508809506755483},{"$f":"MIN((IFERROR(IF(AND($V74<=AE$1,$W74>=AE$1),INDEX(Reliability!J$23:J$50,MATCH($S74,Reliability!$C$23:$C$50,0)),0),0)*IF($T74=\"n/a\",$D74*$Y74,$G74)+IFERROR(IF(AND($V74<=AE$1,$W74>=AE$1),INDEX(Reliability!J$23:J$50,MATCH($T74,Reliability!$C$23:$C$50,0)),0),0)*$H74*$X74*$Y74),$D74)*$R74","v":79.944504724496952},{"$f":"MIN((IFERROR(IF(AND($V74<=AF$1,$W74>=AF$1),INDEX(Reliability!K$23:K$50,MATCH($S74,Reliability!$C$23:$C$50,0)),0),0)*IF($T74=\"n/a\",$D74*$Y74,$G74)+IFERROR(IF(AND($V74<=AF$1,$W74>=AF$1),INDEX(Reliability!K$23:K$50,MATCH($T74,Reliability!$C$23:$C$50,0)),0),0)*$H74*$X74*$Y74),$D74)*$R74","v":78.38019994223842},{"$f":"MIN((IFERROR(IF(AND($V74<=AG$1,$W74>=AG$1),INDEX(Reliability!L$23:L$50,MATCH($S74,Reliability!$C$23:$C$50,0)),0),0)*IF($T74=\"n/a\",$D74*$Y74,$G74)+IFERROR(IF(AND($V74<=AG$1,$W74>=AG$1),INDEX(Reliability!L$23:L$50,MATCH($T74,Reliability!$C$23:$C$50,0)),0),0)*$H74*$X74*$Y74),$D74)*$R74","v":79.33112593032223},{"$f":"MIN((IFERROR(IF(AND($V74<=AH$1,$W74>=AH$1),INDEX(Reliability!M$23:M$50,MATCH($S74,Reliability!$C$23:$C$50,0)),0),0)*IF($T74=\"n/a\",$D74*$Y74,$G74)+IFERROR(IF(AND($V74<=AH$1,$W74>=AH$1),INDEX(Reliability!M$23:M$50,MATCH($T74,Reliability!$C$23:$C$50,0)),0),0)*$H74*$X74*$Y74),$D74)*$R74","v":80.28205191840604},{"$f":"MIN((IFERROR(IF(AND($V74<=AI$1,$W74>=AI$1),INDEX(Reliability!N$23:N$50,MATCH($S74,Reliability!$C$23:$C$50,0)),0),0)*IF($T74=\"n/a\",$D74*$Y74,$G74)+IFERROR(IF(AND($V74<=AI$1,$W74>=AI$1),INDEX(Reliability!N$23:N$50,MATCH($T74,Reliability!$C$23:$C$50,0)),0),0)*$H74*$X74*$Y74),$D74)*$R74","v":81.23297790648985},{"$f":"MIN((IFERROR(IF(AND($V74<=AJ$1,$W74>=AJ$1),INDEX(Reliability!O$23:O$50,MATCH($S74,Reliability!$C$23:$C$50,0)),0),0)*IF($T74=\"n/a\",$D74*$Y74,$G74)+IFERROR(IF(AND($V74<=AJ$1,$W74>=AJ$1),INDEX(Reliability!O$23:O$50,MATCH($T74,Reliability!$C$23:$C$50,0)),0),0)*$H74*$X74*$Y74),$D74)*$R74","v":82.18390389457366},{"$f":"MIN((IFERROR(IF(AND($V74<=AK$1,$W74>=AK$1),INDEX(Reliability!P$23:P$50,MATCH($S74,Reliability!$C$23:$C$50,0)),0),0)*IF($T74=\"n/a\",$D74*$Y74,$G74)+IFERROR(IF(AND($V74<=AK$1,$W74>=AK$1),INDEX(Reliability!P$23:P$50,MATCH($T74,Reliability!$C$23:$C$50,0)),0),0)*$H74*$X74*$Y74),$D74)*$R74","v":0}]
[null,{"$f":"unique_contracts!B75","v":"_NEW_GENERIC_BATTERY_STORAGE"},{"$f":"unique_contracts!D75","v":"Development"},{"$f":"unique_contracts!J75","v":10},{"$f":"unique_contracts!M75","v":"NotHybrid"},{"$f":"unique_contracts!N75","v":"NA"},{"$f":"unique_contracts!P75","v":0},{"$f":"unique_contracts!R75","v":0},{"$f":"unique_contracts!V75","v":40},{"$f":"unique_contracts!AB75","v":0},{"$f":"unique_contracts!AM75","v":0},{"$f":"unique_contracts!AN75","v":0},{"$f":"unique_contracts!AO75","v":0},{"$f":"unique_contracts!AP75","v":0},{"$f":"unique_contracts!AQ75","v":0},{"$f":"unique_contracts!AR75","v":0},{"$f":"unique_contracts!BP75","v":"CapacityOnly"},1,{"$f":"IFERROR(IF(AND(I75>0,E75=\"NotHybrid\"),_xlfn.CONCAT(MAX(MIN(ROUNDDOWN(I75/D75,0),8),4),INDEX(resources!$G:$G,MATCH(B75,resources!$A:$A,0))),INDEX(resources!$G:$G,MATCH(B75,resources!$A:$A,0))),\"n/a\")","v":"4hr_batteries"},"n/a","4hr_batteries",0,0,1,1,{"$f":"MIN((IFERROR(IF(AND($V75<=Z$1,$W75>=Z$1),INDEX(Reliability!E$23:E$50,MATCH($S75,Reliability!$C$23:$C$50,0)),0),0)*IF($T75=\"n/a\",$D75*$Y75,$G75)+IFERROR(IF(AND($V75<=Z$1,$W75>=Z$1),INDEX(Reliability!E$23:E$50,MATCH($T75,Reliability!$C$23:$C$50,0)),0),0)*$H75*$X75*$Y75),$D75)*$R75","v":0},{"$f":"MIN((IFERROR(IF(AND($V75<=AA$1,$W75>=AA$1),INDEX(Reliability!F$23:F$50,MATCH($S75,Reliability!$C$23:$C$50,0)),0),0)*IF($T75=\"n/a\",$D75*$Y75,$G75)+IFERROR(IF(AND($V75<=AA$1,$W75>=AA$1),INDEX(Reliability!F$23:F$50,MATCH($T75,Reliability!$C$23:$C$50,0)),0),0)*$H75*$X75*$Y75),$D75)*$R75","v":0},{"$f":"MIN((IFERROR(IF(AND($V75<=AB$1,$W75>=AB$1),INDEX(Reliability!G$23:G$50,MATCH($S75,Reliability!$C$23:$C$50,0)),0),0)*IF($T75=\"n/a\",$D75*$Y75,$G75)+IFERROR(IF(AND($V75<=AB$1,$W75>=AB$1),INDEX(Reliability!G$23:G$50,MATCH($T75,Reliability!$C$23:$C$50,0)),0),0)*$H75*$X75*$Y75),$D75)*$R75","v":0},{"$f":"MIN((IFERROR(IF(AND($V75<=AC$1,$W75>=AC$1),INDEX(Reliability!H$23:H$50,MATCH($S75,Reliability!$C$23:$C$50,0)),0),0)*IF($T75=\"n/a\",$D75*$Y75,$G75)+IFERROR(IF(AND($V75<=AC$1,$W75>=AC$1),INDEX(Reliability!H$23:H$50,MATCH($T75,Reliability!$C$23:$C$50,0)),0),0)*$H75*$X75*$Y75),$D75)*$R75","v":0},{"$f":"MIN((IFERROR(IF(AND($V75<=AD$1,$W75>=AD$1),INDEX(Reliability!I$23:I$50,MATCH($S75,Reliability!$C$23:$C$50,0)),0),0)*IF($T75=\"n/a\",$D75*$Y75,$G75)+IFERROR(IF(AND($V75<=AD$1,$W75>=AD$1),INDEX(Reliability!I$23:I$50,MATCH($T75,Reliability!$C$23:$C$50,0)),0),0)*$H75*$X75*$Y75),$D75)*$R75","v":0},{"$f":"MIN((IFERROR(IF(AND($V75<=AE$1,$W75>=AE$1),INDEX(Reliability!J$23:J$50,MATCH($S75,Reliability!$C$23:$C$50,0)),0),0)*IF($T75=\"n/a\",$D75*$Y75,$G75)+IFERROR(IF(AND($V75<=AE$1,$W75>=AE$1),INDEX(Reliability!J$23:J$50,MATCH($T75,Reliability!$C$23:$C$50,0)),0),0)*$H75*$X75*$Y75),$D75)*$R75","v":0},{"$f":"MIN((IFERROR(IF(AND($V75<=AF$1,$W75>=AF$1),INDEX(Reliability!K$23:K$50,MATCH($S75,Reliability!$C$23:$C$50,0)),0),0)*IF($T75=\"n/a\",$D75*$Y75,$G75)+IFERROR(IF(AND($V75<=AF$1,$W75>=AF$1),INDEX(Reliability!K$23:K$50,MATCH($T75,Reliability!$C$23:$C$50,0)),0),0)*$H75*$X75*$Y75),$D75)*$R75","v":0},{"$f":"MIN((IFERROR(IF(AND($V75<=AG$1,$W75>=AG$1),INDEX(Reliability!L$23:L$50,MATCH($S75,Reliability!$C$23:$C$50,0)),0),0)*IF($T75=\"n/a\",$D75*$Y75,$G75)+IFERROR(IF(AND($V75<=AG$1,$W75>=AG$1),INDEX(Reliability!L$23:L$50,MATCH($T75,Reliability!$C$23:$C$50,0)),0),0)*$H75*$X75*$Y75),$D75)*$R75","v":0},{"$f":"MIN((IFERROR(IF(AND($V75<=AH$1,$W75>=AH$1),INDEX(Reliability!M$23:M$50,MATCH($S75,Reliability!$C$23:$C$50,0)),0),0)*IF($T75=\"n/a\",$D75*$Y75,$G75)+IFERROR(IF(AND($V75<=AH$1,$W75>=AH$1),INDEX(Reliability!M$23:M$50,MATCH($T75,Reliability!$C$23:$C$50,0)),0),0)*$H75*$X75*$Y75),$D75)*$R75","v":0},{"$f":"MIN((IFERROR(IF(AND($V75<=AI$1,$W75>=AI$1),INDEX(Reliability!N$23:N$50,MATCH($S75,Reliability!$C$23:$C$50,0)),0),0)*IF($T75=\"n/a\",$D75*$Y75,$G75)+IFERROR(IF(AND($V75<=AI$1,$W75>=AI$1),INDEX(Reliability!N$23:N$50,MATCH($T75,Reliability!$C$23:$C$50,0)),0),0)*$H75*$X75*$Y75),$D75)*$R75","v":0},{"$f":"MIN((IFERROR(IF(AND($V75<=AJ$1,$W75>=AJ$1),INDEX(Reliability!O$23:O$50,MATCH($S75,Reliability!$C$23:$C$50,0)),0),0)*IF($T75=\"n/a\",$D75*$Y75,$G75)+IFERROR(IF(AND($V75<=AJ$1,$W75>=AJ$1),INDEX(Reliability!O$23:O$50,MATCH($T75,Reliability!$C$23:$C$50,0)),0),0)*$H75*$X75*$Y75),$D75)*$R75","v":0},{"$f":"MIN((IFERROR(IF(AND($V75<=AK$1,$W75>=AK$1),INDEX(Reliability!P$23:P$50,MATCH($S75,Reliability!$C$23:$C$50,0)),0),0)*IF($T75=\"n/a\",$D75*$Y75,$G75)+IFERROR(IF(AND($V75<=AK$1,$W75>=AK$1),INDEX(Reliability!P$23:P$50,MATCH($T75,Reliability!$C$23:$C$50,0)),0),0)*$H75*$X75*$Y75),$D75)*$R75","v":0}]
[null,{"$f":"unique_contracts!B76","v":"_NEW_GENERIC_BATTERY_STORAGE"},{"$f":"unique_contracts!D76","v":"Development"},{"$f":"unique_contracts!J76","v":4.0220000000000002},{"$f":"unique_contracts!M76","v":"NotHybrid"},{"$f":"unique_contracts!N76","v":"NA"},{"$f":"unique_contracts!P76","v":0},{"$f":"unique_contracts!R76","v":0},{"$f":"unique_contracts!V76","v":0},{"$f":"unique_contracts!AB76","v":"sell"},{"$f":"unique_contracts!AM76","v":0},{"$f":"unique_contracts!AN76","v":0},{"$f":"unique_contracts!AO76","v":0},{"$f":"unique_contracts!AP76","v":0},{"$f":"unique_contracts!AQ76","v":0},{"$f":"unique_contracts!AR76","v":0},{"$f":"unique_contracts!BP76","v":"CapacityOnly"},-1,{"$f":"IFERROR(IF(AND(I76>0,E76=\"NotHybrid\"),_xlfn.CONCAT(MAX(MIN(ROUNDDOWN(I76/D76,0),8),4),INDEX(resources!$G:$G,MATCH(B76,resources!$A:$A,0))),INDEX(resources!$G:$G,MATCH(B76,resources!$A:$A,0))),\"n/a\")","v":"hr_batteries"},"n/a","hr_batteries",0,0,1,0,{"$f":"MIN((IFERROR(IF(AND($V76<=Z$1,$W76>=Z$1),INDEX(Reliability!E$23:E$50,MATCH($S76,Reliability!$C$23:$C$50,0)),0),0)*IF($T76=\"n/a\",$D76*$Y76,$G76)+IFERROR(IF(AND($V76<=Z$1,$W76>=Z$1),INDEX(Reliability!E$23:E$50,MATCH($T76,Reliability!$C$23:$C$50,0)),0),0)*$H76*$X76*$Y76),$D76)*$R76","v":0},{"$f":"MIN((IFERROR(IF(AND($V76<=AA$1,$W76>=AA$1),INDEX(Reliability!F$23:F$50,MATCH($S76,Reliability!$C$23:$C$50,0)),0),0)*IF($T76=\"n/a\",$D76*$Y76,$G76)+IFERROR(IF(AND($V76<=AA$1,$W76>=AA$1),INDEX(Reliability!F$23:F$50,MATCH($T76,Reliability!$C$23:$C$50,0)),0),0)*$H76*$X76*$Y76),$D76)*$R76","v":0},{"$f":"MIN((IFERROR(IF(AND($V76<=AB$1,$W76>=AB$1),INDEX(Reliability!G$23:G$50,MATCH($S76,Reliability!$C$23:$C$50,0)),0),0)*IF($T76=\"n/a\",$D76*$Y76,$G76)+IFERROR(IF(AND($V76<=AB$1,$W76>=AB$1),INDEX(Reliability!G$23:G$50,MATCH($T76,Reliability!$C$23:$C$50,0)),0),0)*$H76*$X76*$Y76),$D76)*$R76","v":0},{"$f":"MIN((IFERROR(IF(AND($V76<=AC$1,$W76>=AC$1),INDEX(Reliability!H$23:H$50,MATCH($S76,Reliability!$C$23:$C$50,0)),0),0)*IF($T76=\"n/a\",$D76*$Y76,$G76)+IFERROR(IF(AND($V76<=AC$1,$W76>=AC$1),INDEX(Reliability!H$23:H$50,MATCH($T76,Reliability!$C$23:$C$50,0)),0),0)*$H76*$X76*$Y76),$D76)*$R76","v":0},{"$f":"MIN((IFERROR(IF(AND($V76<=AD$1,$W76>=AD$1),INDEX(Reliability!I$23:I$50,MATCH($S76,Reliability!$C$23:$C$50,0)),0),0)*IF($T76=\"n/a\",$D76*$Y76,$G76)+IFERROR(IF(AND($V76<=AD$1,$W76>=AD$1),INDEX(Reliability!I$23:I$50,MATCH($T76,Reliability!$C$23:$C$50,0)),0),0)*$H76*$X76*$Y76),$D76)*$R76","v":0},{"$f":"MIN((IFERROR(IF(AND($V76<=AE$1,$W76>=AE$1),INDEX(Reliability!J$23:J$50,MATCH($S76,Reliability!$C$23:$C$50,0)),0),0)*IF($T76=\"n/a\",$D76*$Y76,$G76)+IFERROR(IF(AND($V76<=AE$1,$W76>=AE$1),INDEX(Reliability!J$23:J$50,MATCH($T76,Reliability!$C$23:$C$50,0)),0),0)*$H76*$X76*$Y76),$D76)*$R76","v":0},{"$f":"MIN((IFERROR(IF(AND($V76<=AF$1,$W76>=AF$1),INDEX(Reliability!K$23:K$50,MATCH($S76,Reliability!$C$23:$C$50,0)),0),0)*IF($T76=\"n/a\",$D76*$Y76,$G76)+IFERROR(IF(AND($V76<=AF$1,$W76>=AF$1),INDEX(Reliability!K$23:K$50,MATCH($T76,Reliability!$C$23:$C$50,0)),0),0)*$H76*$X76*$Y76),$D76)*$R76","v":0},{"$f":"MIN((IFERROR(IF(AND($V76<=AG$1,$W76>=AG$1),INDEX(Reliability!L$23:L$50,MATCH($S76,Reliability!$C$23:$C$50,0)),0),0)*IF($T76=\"n/a\",$D76*$Y76,$G76)+IFERROR(IF(AND($V76<=AG$1,$W76>=AG$1),INDEX(Reliability!L$23:L$50,MATCH($T76,Reliability!$C$23:$C$50,0)),0),0)*$H76*$X76*$Y76),$D76)*$R76","v":0},{"$f":"MIN((IFERROR(IF(AND($V76<=AH$1,$W76>=AH$1),INDEX(Reliability!M$23:M$50,MATCH($S76,Reliability!$C$23:$C$50,0)),0),0)*IF($T76=\"n/a\",$D76*$Y76,$G76)+IFERROR(IF(AND($V76<=AH$1,$W76>=AH$1),INDEX(Reliability!M$23:M$50,MATCH($T76,Reliability!$C$23:$C$50,0)),0),0)*$H76*$X76*$Y76),$D76)*$R76","v":0},{"$f":"MIN((IFERROR(IF(AND($V76<=AI$1,$W76>=AI$1),INDEX(Reliability!N$23:N$50,MATCH($S76,Reliability!$C$23:$C$50,0)),0),0)*IF($T76=\"n/a\",$D76*$Y76,$G76)+IFERROR(IF(AND($V76<=AI$1,$W76>=AI$1),INDEX(Reliability!N$23:N$50,MATCH($T76,Reliability!$C$23:$C$50,0)),0),0)*$H76*$X76*$Y76),$D76)*$R76","v":0},{"$f":"MIN((IFERROR(IF(AND($V76<=AJ$1,$W76>=AJ$1),INDEX(Reliability!O$23:O$50,MATCH($S76,Reliability!$C$23:$C$50,0)),0),0)*IF($T76=\"n/a\",$D76*$Y76,$G76)+IFERROR(IF(AND($V76<=AJ$1,$W76>=AJ$1),INDEX(Reliability!O$23:O$50,MATCH($T76,Reliability!$C$23:$C$50,0)),0),0)*$H76*$X76*$Y76),$D76)*$R76","v":0},{"$f":"MIN((IFERROR(IF(AND($V76<=AK$1,$W76>=AK$1),INDEX(Reliability!P$23:P$50,MATCH($S76,Reliability!$C$23:$C$50,0)),0),0)*IF($T76=\"n/a\",$D76*$Y76,$G76)+IFERROR(IF(AND($V76<=AK$1,$W76>=AK$1),INDEX(Reliability!P$23:P$50,MATCH($T76,Reliability!$C$23:$C$50,0)),0),0)*$H76*$X76*$Y76),$D76)*$R76","v":0}]
[null,{"$f":"unique_contracts!B77","v":"OTMESA_2_PL1X3"},{"$f":"unique_contracts!D77","v":"Online"},{"$f":"unique_contracts!J77","v":603.6},{"$f":"unique_contracts!M77","v":"NotHybrid"},{"$f":"unique_contracts!N77","v":"NA"},{"$f":"unique_contracts!P77","v":0},{"$f":"unique_contracts!R77","v":0},{"$f":"unique_contracts!V77","v":0},{"$f":"unique_contracts!AB77","v":0},{"$f":"unique_contracts!AM77","v":2019},{"$f":"unique_contracts!AN77","v":10},{"$f":"unique_contracts!AO77","v":3},{"$f":"unique_contracts!AP77","v":2024},{"$f":"unique_contracts!AQ77","v":8},{"$f":"unique_contracts!AR77","v":30},{"$f":"unique_contracts!BP77","v":"CapacityOnly"},1,{"$f":"IFERROR(IF(AND(I77>0,E77=\"NotHybrid\"),_xlfn.CONCAT(MAX(MIN(ROUNDDOWN(I77/D77,0),8),4),INDEX(resources!$G:$G,MATCH(B77,resources!$A:$A,0))),INDEX(resources!$G:$G,MATCH(B77,resources!$A:$A,0))),\"n/a\")","v":"gas_cc"},"n/a","gas_cc",2020,2023,1,1,{"$f":"MIN((IFERROR(IF(AND($V77<=Z$1,$W77>=Z$1),INDEX(Reliability!E$23:E$50,MATCH($S77,Reliability!$C$23:$C$50,0)),0),0)*IF($T77=\"n/a\",$D77*$Y77,$G77)+IFERROR(IF(AND($V77<=Z$1,$W77>=Z$1),INDEX(Reliability!E$23:E$50,MATCH($T77,Reliability!$C$23:$C$50,0)),0),0)*$H77*$X77*$Y77),$D77)*$R77","v":0},{"$f":"MIN((IFERROR(IF(AND($V77<=AA$1,$W77>=AA$1),INDEX(Reliability!F$23:F$50,MATCH($S77,Reliability!$C$23:$C$50,0)),0),0)*IF($T77=\"n/a\",$D77*$Y77,$G77)+IFERROR(IF(AND($V77<=AA$1,$W77>=AA$1),INDEX(Reliability!F$23:F$50,MATCH($T77,Reliability!$C$23:$C$50,0)),0),0)*$H77*$X77*$Y77),$D77)*$R77","v":0},{"$f":"MIN((IFERROR(IF(AND($V77<=AB$1,$W77>=AB$1),INDEX(Reliability!G$23:G$50,MATCH($S77,Reliability!$C$23:$C$50,0)),0),0)*IF($T77=\"n/a\",$D77*$Y77,$G77)+IFERROR(IF(AND($V77<=AB$1,$W77>=AB$1),INDEX(Reliability!G$23:G$50,MATCH($T77,Reliability!$C$23:$C$50,0)),0),0)*$H77*$X77*$Y77),$D77)*$R77","v":0},{"$f":"MIN((IFERROR(IF(AND($V77<=AC$1,$W77>=AC$1),INDEX(Reliability!H$23:H$50,MATCH($S77,Reliability!$C$23:$C$50,0)),0),0)*IF($T77=\"n/a\",$D77*$Y77,$G77)+IFERROR(IF(AND($V77<=AC$1,$W77>=AC$1),INDEX(Reliability!H$23:H$50,MATCH($T77,Reliability!$C$23:$C$50,0)),0),0)*$H77*$X77*$Y77),$D77)*$R77","v":0},{"$f":"MIN((IFERROR(IF(AND($V77<=AD$1,$W77>=AD$1),INDEX(Reliability!I$23:I$50,MATCH($S77,Reliability!$C$23:$C$50,0)),0),0)*IF($T77=\"n/a\",$D77*$Y77,$G77)+IFERROR(IF(AND($V77<=AD$1,$W77>=AD$1),INDEX(Reliability!I$23:I$50,MATCH($T77,Reliability!$C$23:$C$50,0)),0),0)*$H77*$X77*$Y77),$D77)*$R77","v":0},{"$f":"MIN((IFERROR(IF(AND($V77<=AE$1,$W77>=AE$1),INDEX(Reliability!J$23:J$50,MATCH($S77,Reliability!$C$23:$C$50,0)),0),0)*IF($T77=\"n/a\",$D77*$Y77,$G77)+IFERROR(IF(AND($V77<=AE$1,$W77>=AE$1),INDEX(Reliability!J$23:J$50,MATCH($T77,Reliability!$C$23:$C$50,0)),0),0)*$H77*$X77*$Y77),$D77)*$R77","v":0},{"$f":"MIN((IFERROR(IF(AND($V77<=AF$1,$W77>=AF$1),INDEX(Reliability!K$23:K$50,MATCH($S77,Reliability!$C$23:$C$50,0)),0),0)*IF($T77=\"n/a\",$D77*$Y77,$G77)+IFERROR(IF(AND($V77<=AF$1,$W77>=AF$1),INDEX(Reliability!K$23:K$50,MATCH($T77,Reliability!$C$23:$C$50,0)),0),0)*$H77*$X77*$Y77),$D77)*$R77","v":0},{"$f":"MIN((IFERROR(IF(AND($V77<=AG$1,$W77>=AG$1),INDEX(Reliability!L$23:L$50,MATCH($S77,Reliability!$C$23:$C$50,0)),0),0)*IF($T77=\"n/a\",$D77*$Y77,$G77)+IFERROR(IF(AND($V77<=AG$1,$W77>=AG$1),INDEX(Reliability!L$23:L$50,MATCH($T77,Reliability!$C$23:$C$50,0)),0),0)*$H77*$X77*$Y77),$D77)*$R77","v":0},{"$f":"MIN((IFERROR(IF(AND($V77<=AH$1,$W77>=AH$1),INDEX(Reliability!M$23:M$50,MATCH($S77,Reliability!$C$23:$C$50,0)),0),0)*IF($T77=\"n/a\",$D77*$Y77,$G77)+IFERROR(IF(AND($V77<=AH$1,$W77>=AH$1),INDEX(Reliability!M$23:M$50,MATCH($T77,Reliability!$C$23:$C$50,0)),0),0)*$H77*$X77*$Y77),$D77)*$R77","v":0},{"$f":"MIN((IFERROR(IF(AND($V77<=AI$1,$W77>=AI$1),INDEX(Reliability!N$23:N$50,MATCH($S77,Reliability!$C$23:$C$50,0)),0),0)*IF($T77=\"n/a\",$D77*$Y77,$G77)+IFERROR(IF(AND($V77<=AI$1,$W77>=AI$1),INDEX(Reliability!N$23:N$50,MATCH($T77,Reliability!$C$23:$C$50,0)),0),0)*$H77*$X77*$Y77),$D77)*$R77","v":0},{"$f":"MIN((IFERROR(IF(AND($V77<=AJ$1,$W77>=AJ$1),INDEX(Reliability!O$23:O$50,MATCH($S77,Reliability!$C$23:$C$50,0)),0),0)*IF($T77=\"n/a\",$D77*$Y77,$G77)+IFERROR(IF(AND($V77<=AJ$1,$W77>=AJ$1),INDEX(Reliability!O$23:O$50,MATCH($T77,Reliability!$C$23:$C$50,0)),0),0)*$H77*$X77*$Y77),$D77)*$R77","v":0},{"$f":"MIN((IFERROR(IF(AND($V77<=AK$1,$W77>=AK$1),INDEX(Reliability!P$23:P$50,MATCH($S77,Reliability!$C$23:$C$50,0)),0),0)*IF($T77=\"n/a\",$D77*$Y77,$G77)+IFERROR(IF(AND($V77<=AK$1,$W77>=AK$1),INDEX(Reliability!P$23:P$50,MATCH($T77,Reliability!$C$23:$C$50,0)),0),0)*$H77*$X77*$Y77),$D77)*$R77","v":0}]
[null,{"$f":"unique_contracts!B78","v":"_NEW_GENERIC_BATTERY_STORAGE"},{"$f":"unique_contracts!D78","v":"Development"},{"$f":"unique_contracts!J78","v":10},{"$f":"unique_contracts!M78","v":"NotHybrid"},{"$f":"unique_contracts!N78","v":"NA"},{"$f":"unique_contracts!P78","v":0},{"$f":"unique_contracts!R78","v":0},{"$f":"unique_contracts!V78","v":60},{"$f":"unique_contracts!AB78","v":"Owned"},{"$f":"unique_contracts!AM78","v":0},{"$f":"unique_contracts!AN78","v":0},{"$f":"unique_contracts!AO78","v":0},{"$f":"unique_contracts!AP78","v":2060},{"$f":"unique_contracts!AQ78","v":12},{"$f":"unique_contracts!AR78","v":31},{"$f":"unique_contracts!BP78","v":"EnergyCapacity"},1,{"$f":"IFERROR(IF(AND(I78>0,E78=\"NotHybrid\"),_xlfn.CONCAT(MAX(MIN(ROUNDDOWN(I78/D78,0),8),4),INDEX(resources!$G:$G,MATCH(B78,resources!$A:$A,0))),INDEX(resources!$G:$G,MATCH(B78,resources!$A:$A,0))),\"n/a\")","v":"6hr_batteries"},"n/a","6hr_batteries",0,2060,1,1,{"$f":"MIN((IFERROR(IF(AND($V78<=Z$1,$W78>=Z$1),INDEX(Reliability!E$23:E$50,MATCH($S78,Reliability!$C$23:$C$50,0)),0),0)*IF($T78=\"n/a\",$D78*$Y78,$G78)+IFERROR(IF(AND($V78<=Z$1,$W78>=Z$1),INDEX(Reliability!E$23:E$50,MATCH($T78,Reliability!$C$23:$C$50,0)),0),0)*$H78*$X78*$Y78),$D78)*$R78","v":8.8850000000000016},{"$f":"MIN((IFERROR(IF(AND($V78<=AA$1,$W78>=AA$1),INDEX(Reliability!F$23:F$50,MATCH($S78,Reliability!$C$23:$C$50,0)),0),0)*IF($T78=\"n/a\",$D78*$Y78,$G78)+IFERROR(IF(AND($V78<=AA$1,$W78>=AA$1),INDEX(Reliability!F$23:F$50,MATCH($T78,Reliability!$C$23:$C$50,0)),0),0)*$H78*$X78*$Y78),$D78)*$R78","v":9.0625},{"$f":"MIN((IFERROR(IF(AND($V78<=AB$1,$W78>=AB$1),INDEX(Reliability!G$23:G$50,MATCH($S78,Reliability!$C$23:$C$50,0)),0),0)*IF($T78=\"n/a\",$D78*$Y78,$G78)+IFERROR(IF(AND($V78<=AB$1,$W78>=AB$1),INDEX(Reliability!G$23:G$50,MATCH($T78,Reliability!$C$23:$C$50,0)),0),0)*$H78*$X78*$Y78),$D78)*$R78","v":9.24},{"$f":"MIN((IFERROR(IF(AND($V78<=AC$1,$W78>=AC$1),INDEX(Reliability!H$23:H$50,MATCH($S78,Reliability!$C$23:$C$50,0)),0),0)*IF($T78=\"n/a\",$D78*$Y78,$G78)+IFERROR(IF(AND($V78<=AC$1,$W78>=AC$1),INDEX(Reliability!H$23:H$50,MATCH($T78,Reliability!$C$23:$C$50,0)),0),0)*$H78*$X78*$Y78),$D78)*$R78","v":8.7225000000000001},{"$f":"MIN((IFERROR(IF(AND($V78<=AD$1,$W78>=AD$1),INDEX(Reliability!I$23:I$50,MATCH($S78,Reliability!$C$23:$C$50,0)),0),0)*IF($T78=\"n/a\",$D78*$Y78,$G78)+IFERROR(IF(AND($V78<=AD$1,$W78>=AD$1),INDEX(Reliability!I$23:I$50,MATCH($T78,Reliability!$C$23:$C$50,0)),0),0)*$H78*$X78*$Y78),$D78)*$R78","v":8.2050000000000001},{"$f":"MIN((IFERROR(IF(AND($V78<=AE$1,$W78>=AE$1),INDEX(Reliability!J$23:J$50,MATCH($S78,Reliability!$C$23:$C$50,0)),0),0)*IF($T78=\"n/a\",$D78*$Y78,$G78)+IFERROR(IF(AND($V78<=AE$1,$W78>=AE$1),INDEX(Reliability!J$23:J$50,MATCH($T78,Reliability!$C$23:$C$50,0)),0),0)*$H78*$X78*$Y78),$D78)*$R78","v":8.0824999999999996},{"$f":"MIN((IFERROR(IF(AND($V78<=AF$1,$W78>=AF$1),INDEX(Reliability!K$23:K$50,MATCH($S78,Reliability!$C$23:$C$50,0)),0),0)*IF($T78=\"n/a\",$D78*$Y78,$G78)+IFERROR(IF(AND($V78<=AF$1,$W78>=AF$1),INDEX(Reliability!K$23:K$50,MATCH($T78,Reliability!$C$23:$C$50,0)),0),0)*$H78*$X78*$Y78),$D78)*$R78","v":7.9599999999999991},{"$f":"MIN((IFERROR(IF(AND($V78<=AG$1,$W78>=AG$1),INDEX(Reliability!L$23:L$50,MATCH($S78,Reliability!$C$23:$C$50,0)),0),0)*IF($T78=\"n/a\",$D78*$Y78,$G78)+IFERROR(IF(AND($V78<=AG$1,$W78>=AG$1),INDEX(Reliability!L$23:L$50,MATCH($T78,Reliability!$C$23:$C$50,0)),0),0)*$H78*$X78*$Y78),$D78)*$R78","v":7.4650000000000007},{"$f":"MIN((IFERROR(IF(AND($V78<=AH$1,$W78>=AH$1),INDEX(Reliability!M$23:M$50,MATCH($S78,Reliability!$C$23:$C$50,0)),0),0)*IF($T78=\"n/a\",$D78*$Y78,$G78)+IFERROR(IF(AND($V78<=AH$1,$W78>=AH$1),INDEX(Reliability!M$23:M$50,MATCH($T78,Reliability!$C$23:$C$50,0)),0),0)*$H78*$X78*$Y78),$D78)*$R78","v":6.97},{"$f":"MIN((IFERROR(IF(AND($V78<=AI$1,$W78>=AI$1),INDEX(Reliability!N$23:N$50,MATCH($S78,Reliability!$C$23:$C$50,0)),0),0)*IF($T78=\"n/a\",$D78*$Y78,$G78)+IFERROR(IF(AND($V78<=AI$1,$W78>=AI$1),INDEX(Reliability!N$23:N$50,MATCH($T78,Reliability!$C$23:$C$50,0)),0),0)*$H78*$X78*$Y78),$D78)*$R78","v":6.4750000000000005},{"$f":"MIN((IFERROR(IF(AND($V78<=AJ$1,$W78>=AJ$1),INDEX(Reliability!O$23:O$50,MATCH($S78,Reliability!$C$23:$C$50,0)),0),0)*IF($T78=\"n/a\",$D78*$Y78,$G78)+IFERROR(IF(AND($V78<=AJ$1,$W78>=AJ$1),INDEX(Reliability!O$23:O$50,MATCH($T78,Reliability!$C$23:$C$50,0)),0),0)*$H78*$X78*$Y78),$D78)*$R78","v":5.9799999999999995},{"$f":"MIN((IFERROR(IF(AND($V78<=AK$1,$W78>=AK$1),INDEX(Reliability!P$23:P$50,MATCH($S78,Reliability!$C$23:$C$50,0)),0),0)*IF($T78=\"n/a\",$D78*$Y78,$G78)+IFERROR(IF(AND($V78<=AK$1,$W78>=AK$1),INDEX(Reliability!P$23:P$50,MATCH($T78,Reliability!$C$23:$C$50,0)),0),0)*$H78*$X78*$Y78),$D78)*$R78","v":5.4849999999999994}]
[null,{"$f":"unique_contracts!B79","v":"_NEW_GENERIC_BATTERY_STORAGE"},{"$f":"unique_contracts!D79","v":"Development"},{"$f":"unique_contracts!J79","v":7.58},{"$f":"unique_contracts!M79","v":"NotHybrid"},{"$f":"unique_contracts!N79","v":"NA"},{"$f":"unique_contracts!P79","v":0},{"$f":"unique_contracts!R79","v":0},{"$f":"unique_contracts!V79","v":45.480000000000004},{"$f":"unique_contracts!AB79","v":"sell"},{"$f":"unique_contracts!AM79","v":0},{"$f":"unique_contracts!AN79","v":0},{"$f":"unique_contracts!AO79","v":0},{"$f":"unique_contracts!AP79","v":2060},{"$f":"unique_contracts!AQ79","v":12},{"$f":"unique_contracts!AR79","v":31},{"$f":"unique_contracts!BP79","v":"EnergyCapacity"},-1,{"$f":"IFERROR(IF(AND(I79>0,E79=\"NotHybrid\"),_xlfn.CONCAT(MAX(MIN(ROUNDDOWN(I79/D79,0),8),4),INDEX(resources!$G:$G,MATCH(B79,resources!$A:$A,0))),INDEX(resources!$G:$G,MATCH(B79,resources!$A:$A,0))),\"n/a\")","v":"6hr_batteries"},"n/a","6hr_batteries",0,2060,1,1,{"$f":"MIN((IFERROR(IF(AND($V79<=Z$1,$W79>=Z$1),INDEX(Reliability!E$23:E$50,MATCH($S79,Reliability!$C$23:$C$50,0)),0),0)*IF($T79=\"n/a\",$D79*$Y79,$G79)+IFERROR(IF(AND($V79<=Z$1,$W79>=Z$1),INDEX(Reliability!E$23:E$50,MATCH($T79,Reliability!$C$23:$C$50,0)),0),0)*$H79*$X79*$Y79),$D79)*$R79","v":-6.7348300000000005},{"$f":"MIN((IFERROR(IF(AND($V79<=AA$1,$W79>=AA$1),INDEX(Reliability!F$23:F$50,MATCH($S79,Reliability!$C$23:$C$50,0)),0),0)*IF($T79=\"n/a\",$D79*$Y79,$G79)+IFERROR(IF(AND($V79<=AA$1,$W79>=AA$1),INDEX(Reliability!F$23:F$50,MATCH($T79,Reliability!$C$23:$C$50,0)),0),0)*$H79*$X79*$Y79),$D79)*$R79","v":-6.8693749999999998},{"$f":"MIN((IFERROR(IF(AND($V79<=AB$1,$W79>=AB$1),INDEX(Reliability!G$23:G$50,MATCH($S79,Reliability!$C$23:$C$50,0)),0),0)*IF($T79=\"n/a\",$D79*$Y79,$G79)+IFERROR(IF(AND($V79<=AB$1,$W79>=AB$1),INDEX(Reliability!G$23:G$50,MATCH($T79,Reliability!$C$23:$C$50,0)),0),0)*$H79*$X79*$Y79),$D79)*$R79","v":-7.0039200000000008},{"$f":"MIN((IFERROR(IF(AND($V79<=AC$1,$W79>=AC$1),INDEX(Reliability!H$23:H$50,MATCH($S79,Reliability!$C$23:$C$50,0)),0),0)*IF($T79=\"n/a\",$D79*$Y79,$G79)+IFERROR(IF(AND($V79<=AC$1,$W79>=AC$1),INDEX(Reliability!H$23:H$50,MATCH($T79,Reliability!$C$23:$C$50,0)),0),0)*$H79*$X79*$Y79),$D79)*$R79","v":-6.6116550000000007},{"$f":"MIN((IFERROR(IF(AND($V79<=AD$1,$W79>=AD$1),INDEX(Reliability!I$23:I$50,MATCH($S79,Reliability!$C$23:$C$50,0)),0),0)*IF($T79=\"n/a\",$D79*$Y79,$G79)+IFERROR(IF(AND($V79<=AD$1,$W79>=AD$1),INDEX(Reliability!I$23:I$50,MATCH($T79,Reliability!$C$23:$C$50,0)),0),0)*$H79*$X79*$Y79),$D79)*$R79","v":-6.2193899999999998},{"$f":"MIN((IFERROR(IF(AND($V79<=AE$1,$W79>=AE$1),INDEX(Reliability!J$23:J$50,MATCH($S79,Reliability!$C$23:$C$50,0)),0),0)*IF($T79=\"n/a\",$D79*$Y79,$G79)+IFERROR(IF(AND($V79<=AE$1,$W79>=AE$1),INDEX(Reliability!J$23:J$50,MATCH($T79,Reliability!$C$23:$C$50,0)),0),0)*$H79*$X79*$Y79),$D79)*$R79","v":-6.1265350000000005},{"$f":"MIN((IFERROR(IF(AND($V79<=AF$1,$W79>=AF$1),INDEX(Reliability!K$23:K$50,MATCH($S79,Reliability!$C$23:$C$50,0)),0),0)*IF($T79=\"n/a\",$D79*$Y79,$G79)+IFERROR(IF(AND($V79<=AF$1,$W79>=AF$1),INDEX(Reliability!K$23:K$50,MATCH($T79,Reliability!$C$23:$C$50,0)),0),0)*$H79*$X79*$Y79),$D79)*$R79","v":-6.0336799999999995},{"$f":"MIN((IFERROR(IF(AND($V79<=AG$1,$W79>=AG$1),INDEX(Reliability!L$23:L$50,MATCH($S79,Reliability!$C$23:$C$50,0)),0),0)*IF($T79=\"n/a\",$D79*$Y79,$G79)+IFERROR(IF(AND($V79<=AG$1,$W79>=AG$1),INDEX(Reliability!L$23:L$50,MATCH($T79,Reliability!$C$23:$C$50,0)),0),0)*$H79*$X79*$Y79),$D79)*$R79","v":-5.6584700000000003},{"$f":"MIN((IFERROR(IF(AND($V79<=AH$1,$W79>=AH$1),INDEX(Reliability!M$23:M$50,MATCH($S79,Reliability!$C$23:$C$50,0)),0),0)*IF($T79=\"n/a\",$D79*$Y79,$G79)+IFERROR(IF(AND($V79<=AH$1,$W79>=AH$1),INDEX(Reliability!M$23:M$50,MATCH($T79,Reliability!$C$23:$C$50,0)),0),0)*$H79*$X79*$Y79),$D79)*$R79","v":-5.2832599999999994},{"$f":"MIN((IFERROR(IF(AND($V79<=AI$1,$W79>=AI$1),INDEX(Reliability!N$23:N$50,MATCH($S79,Reliability!$C$23:$C$50,0)),0),0)*IF($T79=\"n/a\",$D79*$Y79,$G79)+IFERROR(IF(AND($V79<=AI$1,$W79>=AI$1),INDEX(Reliability!N$23:N$50,MATCH($T79,Reliability!$C$23:$C$50,0)),0),0)*$H79*$X79*$Y79),$D79)*$R79","v":-4.9080500000000002},{"$f":"MIN((IFERROR(IF(AND($V79<=AJ$1,$W79>=AJ$1),INDEX(Reliability!O$23:O$50,MATCH($S79,Reliability!$C$23:$C$50,0)),0),0)*IF($T79=\"n/a\",$D79*$Y79,$G79)+IFERROR(IF(AND($V79<=AJ$1,$W79>=AJ$1),INDEX(Reliability!O$23:O$50,MATCH($T79,Reliability!$C$23:$C$50,0)),0),0)*$H79*$X79*$Y79),$D79)*$R79","v":-4.5328400000000002},{"$f":"MIN((IFERROR(IF(AND($V79<=AK$1,$W79>=AK$1),INDEX(Reliability!P$23:P$50,MATCH($S79,Reliability!$C$23:$C$50,0)),0),0)*IF($T79=\"n/a\",$D79*$Y79,$G79)+IFERROR(IF(AND($V79<=AK$1,$W79>=AK$1),INDEX(Reliability!P$23:P$50,MATCH($T79,Reliability!$C$23:$C$50,0)),0),0)*$H79*$X79*$Y79),$D79)*$R79","v":-4.1576300000000002}]
[null,{"$f":"unique_contracts!B80","v":"PALOMR_2_PL1X3"},{"$f":"unique_contracts!D80","v":"Online"},{"$f":"unique_contracts!J80","v":588.21},{"$f":"unique_contracts!M80","v":"NotHybrid"},{"$f":"unique_contracts!N80","v":"NA"},{"$f":"unique_contracts!P80","v":0},{"$f":"unique_contracts!R80","v":0},{"$f":"unique_contracts!V80","v":0},{"$f":"unique_contracts!AB80","v":"Owned"},{"$f":"unique_contracts!AM80","v":2006},{"$f":"unique_contracts!AN80","v":4},{"$f":"unique_contracts!AO80","v":1},{"$f":"unique_contracts!AP80","v":2060},{"$f":"unique_contracts!AQ80","v":12},{"$f":"unique_contracts!AR80","v":31},{"$f":"unique_contracts!BP80","v":"EnergyCapacity"},1,{"$f":"IFERROR(IF(AND(I80>0,E80=\"NotHybrid\"),_xlfn.CONCAT(MAX(MIN(ROUNDDOWN(I80/D80,0),8),4),INDEX(resources!$G:$G,MATCH(B80,resources!$A:$A,0))),INDEX(resources!$G:$G,MATCH(B80,resources!$A:$A,0))),\"n/a\")","v":"gas_cc"},"n/a","gas_cc",2006,2060,1,1,{"$f":"MIN((IFERROR(IF(AND($V80<=Z$1,$W80>=Z$1),INDEX(Reliability!E$23:E$50,MATCH($S80,Reliability!$C$23:$C$50,0)),0),0)*IF($T80=\"n/a\",$D80*$Y80,$G80)+IFERROR(IF(AND($V80<=Z$1,$W80>=Z$1),INDEX(Reliability!E$23:E$50,MATCH($T80,Reliability!$C$23:$C$50,0)),0),0)*$H80*$X80*$Y80),$D80)*$R80","v":498.88888788401539},{"$f":"MIN((IFERROR(IF(AND($V80<=AA$1,$W80>=AA$1),INDEX(Reliability!F$23:F$50,MATCH($S80,Reliability!$C$23:$C$50,0)),0),0)*IF($T80=\"n/a\",$D80*$Y80,$G80)+IFERROR(IF(AND($V80<=AA$1,$W80>=AA$1),INDEX(Reliability!F$23:F$50,MATCH($T80,Reliability!$C$23:$C$50,0)),0),0)*$H80*$X80*$Y80),$D80)*$R80","v":507.41280978129697},{"$f":"MIN((IFERROR(IF(AND($V80<=AB$1,$W80>=AB$1),INDEX(Reliability!G$23:G$50,MATCH($S80,Reliability!$C$23:$C$50,0)),0),0)*IF($T80=\"n/a\",$D80*$Y80,$G80)+IFERROR(IF(AND($V80<=AB$1,$W80>=AB$1),INDEX(Reliability!G$23:G$50,MATCH($T80,Reliability!$C$23:$C$50,0)),0),0)*$H80*$X80*$Y80),$D80)*$R80","v":515.93673167857844},{"$f":"MIN((IFERROR(IF(AND($V80<=AC$1,$W80>=AC$1),INDEX(Reliability!H$23:H$50,MATCH($S80,Reliability!$C$23:$C$50,0)),0),0)*IF($T80=\"n/a\",$D80*$Y80,$G80)+IFERROR(IF(AND($V80<=AC$1,$W80>=AC$1),INDEX(Reliability!H$23:H$50,MATCH($T80,Reliability!$C$23:$C$50,0)),0),0)*$H80*$X80*$Y80),$D80)*$R80","v":514.20104675726748},{"$f":"MIN((IFERROR(IF(AND($V80<=AD$1,$W80>=AD$1),INDEX(Reliability!I$23:I$50,MATCH($S80,Reliability!$C$23:$C$50,0)),0),0)*IF($T80=\"n/a\",$D80*$Y80,$G80)+IFERROR(IF(AND($V80<=AD$1,$W80>=AD$1),INDEX(Reliability!I$23:I$50,MATCH($T80,Reliability!$C$23:$C$50,0)),0),0)*$H80*$X80*$Y80),$D80)*$R80","v":512.4653618359564},{"$f":"MIN((IFERROR(IF(AND($V80<=AE$1,$W80>=AE$1),INDEX(Reliability!J$23:J$50,MATCH($S80,Reliability!$C$23:$C$50,0)),0),0)*IF($T80=\"n/a\",$D80*$Y80,$G80)+IFERROR(IF(AND($V80<=AE$1,$W80>=AE$1),INDEX(Reliability!J$23:J$50,MATCH($T80,Reliability!$C$23:$C$50,0)),0),0)*$H80*$X80*$Y80),$D80)*$R80","v":506.38512030062782},{"$f":"MIN((IFERROR(IF(AND($V80<=AF$1,$W80>=AF$1),INDEX(Reliability!K$23:K$50,MATCH($S80,Reliability!$C$23:$C$50,0)),0),0)*IF($T80=\"n/a\",$D80*$Y80,$G80)+IFERROR(IF(AND($V80<=AF$1,$W80>=AF$1),INDEX(Reliability!K$23:K$50,MATCH($T80,Reliability!$C$23:$C$50,0)),0),0)*$H80*$X80*$Y80),$D80)*$R80","v":500.30487876529929},{"$f":"MIN((IFERROR(IF(AND($V80<=AG$1,$W80>=AG$1),INDEX(Reliability!L$23:L$50,MATCH($S80,Reliability!$C$23:$C$50,0)),0),0)*IF($T80=\"n/a\",$D80*$Y80,$G80)+IFERROR(IF(AND($V80<=AG$1,$W80>=AG$1),INDEX(Reliability!L$23:L$50,MATCH($T80,Reliability!$C$23:$C$50,0)),0),0)*$H80*$X80*$Y80),$D80)*$R80","v":507.61565661390921},{"$f":"MIN((IFERROR(IF(AND($V80<=AH$1,$W80>=AH$1),INDEX(Reliability!M$23:M$50,MATCH($S80,Reliability!$C$23:$C$50,0)),0),0)*IF($T80=\"n/a\",$D80*$Y80,$G80)+IFERROR(IF(AND($V80<=AH$1,$W80>=AH$1),INDEX(Reliability!M$23:M$50,MATCH($T80,Reliability!$C$23:$C$50,0)),0),0)*$H80*$X80*$Y80),$D80)*$R80","v":514.92643446251918},{"$f":"MIN((IFERROR(IF(AND($V80<=AI$1,$W80>=AI$1),INDEX(Reliability!N$23:N$50,MATCH($S80,Reliability!$C$23:$C$50,0)),0),0)*IF($T80=\"n/a\",$D80*$Y80,$G80)+IFERROR(IF(AND($V80<=AI$1,$W80>=AI$1),INDEX(Reliability!N$23:N$50,MATCH($T80,Reliability!$C$23:$C$50,0)),0),0)*$H80*$X80*$Y80),$D80)*$R80","v":522.23721231112916},{"$f":"MIN((IFERROR(IF(AND($V80<=AJ$1,$W80>=AJ$1),INDEX(Reliability!O$23:O$50,MATCH($S80,Reliability!$C$23:$C$50,0)),0),0)*IF($T80=\"n/a\",$D80*$Y80,$G80)+IFERROR(IF(AND($V80<=AJ$1,$W80>=AJ$1),INDEX(Reliability!O$23:O$50,MATCH($T80,Reliability!$C$23:$C$50,0)),0),0)*$H80*$X80*$Y80),$D80)*$R80","v":529.54799015973913},{"$f":"MIN((IFERROR(IF(AND($V80<=AK$1,$W80>=AK$1),INDEX(Reliability!P$23:P$50,MATCH($S80,Reliability!$C$23:$C$50,0)),0),0)*IF($T80=\"n/a\",$D80*$Y80,$G80)+IFERROR(IF(AND($V80<=AK$1,$W80>=AK$1),INDEX(Reliability!P$23:P$50,MATCH($T80,Reliability!$C$23:$C$50,0)),0),0)*$H80*$X80*$Y80),$D80)*$R80","v":536.8587680083491}]
[null,{"$f":"unique_contracts!B81","v":"_NEW_GENERIC_BATTERY_STORAGE"},{"$f":"unique_contracts!D81","v":"Development"},{"$f":"unique_contracts!J81","v":10},{"$f":"unique_contracts!M81","v":"NotHybrid"},{"$f":"unique_contracts!N81","v":"NA"},{"$f":"unique_contracts!P81","v":0},{"$f":"unique_contracts!R81","v":0},{"$f":"unique_contracts!V81","v":40},{"$f":"unique_contracts!AB81","v":"Owned"},{"$f":"unique_contracts!AM81","v":0},{"$f":"unique_contracts!AN81","v":0},{"$f":"unique_contracts!AO81","v":0},{"$f":"unique_contracts!AP81","v":2060},{"$f":"unique_contracts!AQ81","v":12},{"$f":"unique_contracts!AR81","v":31},{"$f":"unique_contracts!BP81","v":"EnergyCapacity"},1,{"$f":"IFERROR(IF(AND(I81>0,E81=\"NotHybrid\"),_xlfn.CONCAT(MAX(MIN(ROUNDDOWN(I81/D81,0),8),4),INDEX(resources!$G:$G,MATCH(B81,resources!$A:$A,0))),INDEX(resources!$G:$G,MATCH(B81,resources!$A:$A,0))),\"n/a\")","v":"4hr_batteries"},"n/a","4hr_batteries",0,2060,1,1,{"$f":"MIN((IFERROR(IF(AND($V81<=Z$1,$W81>=Z$1),INDEX(Reliability!E$23:E$50,MATCH($S81,Reliability!$C$23:$C$50,0)),0),0)*IF($T81=\"n/a\",$D81*$Y81,$G81)+IFERROR(IF(AND($V81<=Z$1,$W81>=Z$1),INDEX(Reliability!E$23:E$50,MATCH($T81,Reliability!$C$23:$C$50,0)),0),0)*$H81*$X81*$Y81),$D81)*$R81","v":8.85},{"$f":"MIN((IFERROR(IF(AND($V81<=AA$1,$W81>=AA$1),INDEX(Reliability!F$23:F$50,MATCH($S81,Reliability!$C$23:$C$50,0)),0),0)*IF($T81=\"n/a\",$D81*$Y81,$G81)+IFERROR(IF(AND($V81<=AA$1,$W81>=AA$1),INDEX(Reliability!F$23:F$50,MATCH($T81,Reliability!$C$23:$C$50,0)),0),0)*$H81*$X81*$Y81),$D81)*$R81","v":9.0150000000000006},{"$f":"MIN((IFERROR(IF(AND($V81<=AB$1,$W81>=AB$1),INDEX(Reliability!G$23:G$50,MATCH($S81,Reliability!$C$23:$C$50,0)),0),0)*IF($T81=\"n/a\",$D81*$Y81,$G81)+IFERROR(IF(AND($V81<=AB$1,$W81>=AB$1),INDEX(Reliability!G$23:G$50,MATCH($T81,Reliability!$C$23:$C$50,0)),0),0)*$H81*$X81*$Y81),$D81)*$R81","v":9.18},{"$f":"MIN((IFERROR(IF(AND($V81<=AC$1,$W81>=AC$1),INDEX(Reliability!H$23:H$50,MATCH($S81,Reliability!$C$23:$C$50,0)),0),0)*IF($T81=\"n/a\",$D81*$Y81,$G81)+IFERROR(IF(AND($V81<=AC$1,$W81>=AC$1),INDEX(Reliability!H$23:H$50,MATCH($T81,Reliability!$C$23:$C$50,0)),0),0)*$H81*$X81*$Y81),$D81)*$R81","v":8.4550000000000001},{"$f":"MIN((IFERROR(IF(AND($V81<=AD$1,$W81>=AD$1),INDEX(Reliability!I$23:I$50,MATCH($S81,Reliability!$C$23:$C$50,0)),0),0)*IF($T81=\"n/a\",$D81*$Y81,$G81)+IFERROR(IF(AND($V81<=AD$1,$W81>=AD$1),INDEX(Reliability!I$23:I$50,MATCH($T81,Reliability!$C$23:$C$50,0)),0),0)*$H81*$X81*$Y81),$D81)*$R81","v":7.73},{"$f":"MIN((IFERROR(IF(AND($V81<=AE$1,$W81>=AE$1),INDEX(Reliability!J$23:J$50,MATCH($S81,Reliability!$C$23:$C$50,0)),0),0)*IF($T81=\"n/a\",$D81*$Y81,$G81)+IFERROR(IF(AND($V81<=AE$1,$W81>=AE$1),INDEX(Reliability!J$23:J$50,MATCH($T81,Reliability!$C$23:$C$50,0)),0),0)*$H81*$X81*$Y81),$D81)*$R81","v":7.59},{"$f":"MIN((IFERROR(IF(AND($V81<=AF$1,$W81>=AF$1),INDEX(Reliability!K$23:K$50,MATCH($S81,Reliability!$C$23:$C$50,0)),0),0)*IF($T81=\"n/a\",$D81*$Y81,$G81)+IFERROR(IF(AND($V81<=AF$1,$W81>=AF$1),INDEX(Reliability!K$23:K$50,MATCH($T81,Reliability!$C$23:$C$50,0)),0),0)*$H81*$X81*$Y81),$D81)*$R81","v":7.45},{"$f":"MIN((IFERROR(IF(AND($V81<=AG$1,$W81>=AG$1),INDEX(Reliability!L$23:L$50,MATCH($S81,Reliability!$C$23:$C$50,0)),0),0)*IF($T81=\"n/a\",$D81*$Y81,$G81)+IFERROR(IF(AND($V81<=AG$1,$W81>=AG$1),INDEX(Reliability!L$23:L$50,MATCH($T81,Reliability!$C$23:$C$50,0)),0),0)*$H81*$X81*$Y81),$D81)*$R81","v":6.7620000000000005},{"$f":"MIN((IFERROR(IF(AND($V81<=AH$1,$W81>=AH$1),INDEX(Reliability!M$23:M$50,MATCH($S81,Reliability!$C$23:$C$50,0)),0),0)*IF($T81=\"n/a\",$D81*$Y81,$G81)+IFERROR(IF(AND($V81<=AH$1,$W81>=AH$1),INDEX(Reliability!M$23:M$50,MATCH($T81,Reliability!$C$23:$C$50,0)),0),0)*$H81*$X81*$Y81),$D81)*$R81","v":6.0740000000000007},{"$f":"MIN((IFERROR(IF(AND($V81<=AI$1,$W81>=AI$1),INDEX(Reliability!N$23:N$50,MATCH($S81,Reliability!$C$23:$C$50,0)),0),0)*IF($T81=\"n/a\",$D81*$Y81,$G81)+IFERROR(IF(AND($V81<=AI$1,$W81>=AI$1),INDEX(Reliability!N$23:N$50,MATCH($T81,Reliability!$C$23:$C$50,0)),0),0)*$H81*$X81*$Y81),$D81)*$R81","v":5.386000000000001},{"$f":"MIN((IFERROR(IF(AND($V81<=AJ$1,$W81>=AJ$1),INDEX(Reliability!O$23:O$50,MATCH($S81,Reliability!$C$23:$C$50,0)),0),0)*IF($T81=\"n/a\",$D81*$Y81,$G81)+IFERROR(IF(AND($V81<=AJ$1,$W81>=AJ$1),INDEX(Reliability!O$23:O$50,MATCH($T81,Reliability!$C$23:$C$50,0)),0),0)*$H81*$X81*$Y81),$D81)*$R81","v":4.6980000000000013},{"$f":"MIN((IFERROR(IF(AND($V81<=AK$1,$W81>=AK$1),INDEX(Reliability!P$23:P$50,MATCH($S81,Reliability!$C$23:$C$50,0)),0),0)*IF($T81=\"n/a\",$D81*$Y81,$G81)+IFERROR(IF(AND($V81<=AK$1,$W81>=AK$1),INDEX(Reliability!P$23:P$50,MATCH($T81,Reliability!$C$23:$C$50,0)),0),0)*$H81*$X81*$Y81),$D81)*$R81","v":4.01}]
[null,{"$f":"unique_contracts!B82","v":"_NEW_GENERIC_BATTERY_STORAGE"},{"$f":"unique_contracts!D82","v":"Development"},{"$f":"unique_contracts!J82","v":7.58},{"$f":"unique_contracts!M82","v":"NotHybrid"},{"$f":"unique_contracts!N82","v":"NA"},{"$f":"unique_contracts!P82","v":0},{"$f":"unique_contracts!R82","v":0},{"$f":"unique_contracts!V82","v":30.32},{"$f":"unique_contracts!AB82","v":"sell"},{"$f":"unique_contracts!AM82","v":0},{"$f":"unique_contracts!AN82","v":0},{"$f":"unique_contracts!AO82","v":0},{"$f":"unique_contracts!AP82","v":2060},{"$f":"unique_contracts!AQ82","v":12},{"$f":"unique_contracts!AR82","v":31},{"$f":"unique_contracts!BP82","v":"EnergyCapacity"},-1,{"$f":"IFERROR(IF(AND(I82>0,E82=\"NotHybrid\"),_xlfn.CONCAT(MAX(MIN(ROUNDDOWN(I82/D82,0),8),4),INDEX(resources!$G:$G,MATCH(B82,resources!$A:$A,0))),INDEX(resources!$G:$G,MATCH(B82,resources!$A:$A,0))),\"n/a\")","v":"4hr_batteries"},"n/a","4hr_batteries",0,2060,1,1,{"$f":"MIN((IFERROR(IF(AND($V82<=Z$1,$W82>=Z$1),INDEX(Reliability!E$23:E$50,MATCH($S82,Reliability!$C$23:$C$50,0)),0),0)*IF($T82=\"n/a\",$D82*$Y82,$G82)+IFERROR(IF(AND($V82<=Z$1,$W82>=Z$1),INDEX(Reliability!E$23:E$50,MATCH($T82,Reliability!$C$23:$C$50,0)),0),0)*$H82*$X82*$Y82),$D82)*$R82","v":-6.7083000000000004},{"$f":"MIN((IFERROR(IF(AND($V82<=AA$1,$W82>=AA$1),INDEX(Reliability!F$23:F$50,MATCH($S82,Reliability!$C$23:$C$50,0)),0),0)*IF($T82=\"n/a\",$D82*$Y82,$G82)+IFERROR(IF(AND($V82<=AA$1,$W82>=AA$1),INDEX(Reliability!F$23:F$50,MATCH($T82,Reliability!$C$23:$C$50,0)),0),0)*$H82*$X82*$Y82),$D82)*$R82","v":-6.8333699999999995},{"$f":"MIN((IFERROR(IF(AND($V82<=AB$1,$W82>=AB$1),INDEX(Reliability!G$23:G$50,MATCH($S82,Reliability!$C$23:$C$50,0)),0),0)*IF($T82=\"n/a\",$D82*$Y82,$G82)+IFERROR(IF(AND($V82<=AB$1,$W82>=AB$1),INDEX(Reliability!G$23:G$50,MATCH($T82,Reliability!$C$23:$C$50,0)),0),0)*$H82*$X82*$Y82),$D82)*$R82","v":-6.9584400000000004},{"$f":"MIN((IFERROR(IF(AND($V82<=AC$1,$W82>=AC$1),INDEX(Reliability!H$23:H$50,MATCH($S82,Reliability!$C$23:$C$50,0)),0),0)*IF($T82=\"n/a\",$D82*$Y82,$G82)+IFERROR(IF(AND($V82<=AC$1,$W82>=AC$1),INDEX(Reliability!H$23:H$50,MATCH($T82,Reliability!$C$23:$C$50,0)),0),0)*$H82*$X82*$Y82),$D82)*$R82","v":-6.4088900000000004},{"$f":"MIN((IFERROR(IF(AND($V82<=AD$1,$W82>=AD$1),INDEX(Reliability!I$23:I$50,MATCH($S82,Reliability!$C$23:$C$50,0)),0),0)*IF($T82=\"n/a\",$D82*$Y82,$G82)+IFERROR(IF(AND($V82<=AD$1,$W82>=AD$1),INDEX(Reliability!I$23:I$50,MATCH($T82,Reliability!$C$23:$C$50,0)),0),0)*$H82*$X82*$Y82),$D82)*$R82","v":-5.8593400000000004},{"$f":"MIN((IFERROR(IF(AND($V82<=AE$1,$W82>=AE$1),INDEX(Reliability!J$23:J$50,MATCH($S82,Reliability!$C$23:$C$50,0)),0),0)*IF($T82=\"n/a\",$D82*$Y82,$G82)+IFERROR(IF(AND($V82<=AE$1,$W82>=AE$1),INDEX(Reliability!J$23:J$50,MATCH($T82,Reliability!$C$23:$C$50,0)),0),0)*$H82*$X82*$Y82),$D82)*$R82","v":-5.7532199999999998},{"$f":"MIN((IFERROR(IF(AND($V82<=AF$1,$W82>=AF$1),INDEX(Reliability!K$23:K$50,MATCH($S82,Reliability!$C$23:$C$50,0)),0),0)*IF($T82=\"n/a\",$D82*$Y82,$G82)+IFERROR(IF(AND($V82<=AF$1,$W82>=AF$1),INDEX(Reliability!K$23:K$50,MATCH($T82,Reliability!$C$23:$C$50,0)),0),0)*$H82*$X82*$Y82),$D82)*$R82","v":-5.6471},{"$f":"MIN((IFERROR(IF(AND($V82<=AG$1,$W82>=AG$1),INDEX(Reliability!L$23:L$50,MATCH($S82,Reliability!$C$23:$C$50,0)),0),0)*IF($T82=\"n/a\",$D82*$Y82,$G82)+IFERROR(IF(AND($V82<=AG$1,$W82>=AG$1),INDEX(Reliability!L$23:L$50,MATCH($T82,Reliability!$C$23:$C$50,0)),0),0)*$H82*$X82*$Y82),$D82)*$R82","v":-5.1255959999999998},{"$f":"MIN((IFERROR(IF(AND($V82<=AH$1,$W82>=AH$1),INDEX(Reliability!M$23:M$50,MATCH($S82,Reliability!$C$23:$C$50,0)),0),0)*IF($T82=\"n/a\",$D82*$Y82,$G82)+IFERROR(IF(AND($V82<=AH$1,$W82>=AH$1),INDEX(Reliability!M$23:M$50,MATCH($T82,Reliability!$C$23:$C$50,0)),0),0)*$H82*$X82*$Y82),$D82)*$R82","v":-4.6040920000000005},{"$f":"MIN((IFERROR(IF(AND($V82<=AI$1,$W82>=AI$1),INDEX(Reliability!N$23:N$50,MATCH($S82,Reliability!$C$23:$C$50,0)),0),0)*IF($T82=\"n/a\",$D82*$Y82,$G82)+IFERROR(IF(AND($V82<=AI$1,$W82>=AI$1),INDEX(Reliability!N$23:N$50,MATCH($T82,Reliability!$C$23:$C$50,0)),0),0)*$H82*$X82*$Y82),$D82)*$R82","v":-4.0825880000000003},{"$f":"MIN((IFERROR(IF(AND($V82<=AJ$1,$W82>=AJ$1),INDEX(Reliability!O$23:O$50,MATCH($S82,Reliability!$C$23:$C$50,0)),0),0)*IF($T82=\"n/a\",$D82*$Y82,$G82)+IFERROR(IF(AND($V82<=AJ$1,$W82>=AJ$1),INDEX(Reliability!O$23:O$50,MATCH($T82,Reliability!$C$23:$C$50,0)),0),0)*$H82*$X82*$Y82),$D82)*$R82","v":-3.561084000000001},{"$f":"MIN((IFERROR(IF(AND($V82<=AK$1,$W82>=AK$1),INDEX(Reliability!P$23:P$50,MATCH($S82,Reliability!$C$23:$C$50,0)),0),0)*IF($T82=\"n/a\",$D82*$Y82,$G82)+IFERROR(IF(AND($V82<=AK$1,$W82>=AK$1),INDEX(Reliability!P$23:P$50,MATCH($T82,Reliability!$C$23:$C$50,0)),0),0)*$H82*$X82*$Y82),$D82)*$R82","v":-3.0395800000000004}]
[null,{"$f":"unique_contracts!B83","v":"PIOPIC_2_CTG1"},{"$f":"unique_contracts!D83","v":"Online"},{"$f":"unique_contracts!J83","v":111.3},{"$f":"unique_contracts!M83","v":"NotHybrid"},{"$f":"unique_contracts!N83","v":"NA"},{"$f":"unique_contracts!P83","v":0},{"$f":"unique_contracts!R83","v":0},{"$f":"unique_contracts!V83","v":0},{"$f":"unique_contracts!AB83","v":0},{"$f":"unique_contracts!AM83","v":2017},{"$f":"unique_contracts!AN83","v":6},{"$f":"unique_contracts!AO83","v":1},{"$f":"unique_contracts!AP83","v":2037},{"$f":"unique_contracts!AQ83","v":12},{"$f":"unique_contracts!AR83","v":31},{"$f":"unique_contracts!BP83","v":"EnergyCapacity"},1,{"$f":"IFERROR(IF(AND(I83>0,E83=\"NotHybrid\"),_xlfn.CONCAT(MAX(MIN(ROUNDDOWN(I83/D83,0),8),4),INDEX(resources!$G:$G,MATCH(B83,resources!$A:$A,0))),INDEX(resources!$G:$G,MATCH(B83,resources!$A:$A,0))),\"n/a\")","v":"gas_ct"},"n/a","gas_ct",2017,2037,1,1,{"$f":"MIN((IFERROR(IF(AND($V83<=Z$1,$W83>=Z$1),INDEX(Reliability!E$23:E$50,MATCH($S83,Reliability!$C$23:$C$50,0)),0),0)*IF($T83=\"n/a\",$D83*$Y83,$G83)+IFERROR(IF(AND($V83<=Z$1,$W83>=Z$1),INDEX(Reliability!E$23:E$50,MATCH($T83,Reliability!$C$23:$C$50,0)),0),0)*$H83*$X83*$Y83),$D83)*$R83","v":89.274172352003333},{"$f":"MIN((IFERROR(IF(AND($V83<=AA$1,$W83>=AA$1),INDEX(Reliability!F$23:F$50,MATCH($S83,Reliability!$C$23:$C$50,0)),0),0)*IF($T83=\"n/a\",$D83*$Y83,$G83)+IFERROR(IF(AND($V83<=AA$1,$W83>=AA$1),INDEX(Reliability!F$23:F$50,MATCH($T83,Reliability!$C$23:$C$50,0)),0),0)*$H83*$X83*$Y83),$D83)*$R83","v":90.865934001269721},{"$f":"MIN((IFERROR(IF(AND($V83<=AB$1,$W83>=AB$1),INDEX(Reliability!G$23:G$50,MATCH($S83,Reliability!$C$23:$C$50,0)),0),0)*IF($T83=\"n/a\",$D83*$Y83,$G83)+IFERROR(IF(AND($V83<=AB$1,$W83>=AB$1),INDEX(Reliability!G$23:G$50,MATCH($T83,Reliability!$C$23:$C$50,0)),0),0)*$H83*$X83*$Y83),$D83)*$R83","v":92.457695650536124},{"$f":"MIN((IFERROR(IF(AND($V83<=AC$1,$W83>=AC$1),INDEX(Reliability!H$23:H$50,MATCH($S83,Reliability!$C$23:$C$50,0)),0),0)*IF($T83=\"n/a\",$D83*$Y83,$G83)+IFERROR(IF(AND($V83<=AC$1,$W83>=AC$1),INDEX(Reliability!H$23:H$50,MATCH($T83,Reliability!$C$23:$C$50,0)),0),0)*$H83*$X83*$Y83),$D83)*$R83","v":91.949695008525225},{"$f":"MIN((IFERROR(IF(AND($V83<=AD$1,$W83>=AD$1),INDEX(Reliability!I$23:I$50,MATCH($S83,Reliability!$C$23:$C$50,0)),0),0)*IF($T83=\"n/a\",$D83*$Y83,$G83)+IFERROR(IF(AND($V83<=AD$1,$W83>=AD$1),INDEX(Reliability!I$23:I$50,MATCH($T83,Reliability!$C$23:$C$50,0)),0),0)*$H83*$X83*$Y83),$D83)*$R83","v":91.441694366514326},{"$f":"MIN((IFERROR(IF(AND($V83<=AE$1,$W83>=AE$1),INDEX(Reliability!J$23:J$50,MATCH($S83,Reliability!$C$23:$C$50,0)),0),0)*IF($T83=\"n/a\",$D83*$Y83,$G83)+IFERROR(IF(AND($V83<=AE$1,$W83>=AE$1),INDEX(Reliability!J$23:J$50,MATCH($T83,Reliability!$C$23:$C$50,0)),0),0)*$H83*$X83*$Y83),$D83)*$R83","v":89.6867591556951},{"$f":"MIN((IFERROR(IF(AND($V83<=AF$1,$W83>=AF$1),INDEX(Reliability!K$23:K$50,MATCH($S83,Reliability!$C$23:$C$50,0)),0),0)*IF($T83=\"n/a\",$D83*$Y83,$G83)+IFERROR(IF(AND($V83<=AF$1,$W83>=AF$1),INDEX(Reliability!K$23:K$50,MATCH($T83,Reliability!$C$23:$C$50,0)),0),0)*$H83*$X83*$Y83),$D83)*$R83","v":87.931823944875887},{"$f":"MIN((IFERROR(IF(AND($V83<=AG$1,$W83>=AG$1),INDEX(Reliability!L$23:L$50,MATCH($S83,Reliability!$C$23:$C$50,0)),0),0)*IF($T83=\"n/a\",$D83*$Y83,$G83)+IFERROR(IF(AND($V83<=AG$1,$W83>=AG$1),INDEX(Reliability!L$23:L$50,MATCH($T83,Reliability!$C$23:$C$50,0)),0),0)*$H83*$X83*$Y83),$D83)*$R83","v":88.998632356061535},{"$f":"MIN((IFERROR(IF(AND($V83<=AH$1,$W83>=AH$1),INDEX(Reliability!M$23:M$50,MATCH($S83,Reliability!$C$23:$C$50,0)),0),0)*IF($T83=\"n/a\",$D83*$Y83,$G83)+IFERROR(IF(AND($V83<=AH$1,$W83>=AH$1),INDEX(Reliability!M$23:M$50,MATCH($T83,Reliability!$C$23:$C$50,0)),0),0)*$H83*$X83*$Y83),$D83)*$R83","v":90.065440767247182},{"$f":"MIN((IFERROR(IF(AND($V83<=AI$1,$W83>=AI$1),INDEX(Reliability!N$23:N$50,MATCH($S83,Reliability!$C$23:$C$50,0)),0),0)*IF($T83=\"n/a\",$D83*$Y83,$G83)+IFERROR(IF(AND($V83<=AI$1,$W83>=AI$1),INDEX(Reliability!N$23:N$50,MATCH($T83,Reliability!$C$23:$C$50,0)),0),0)*$H83*$X83*$Y83),$D83)*$R83","v":91.132249178432829},{"$f":"MIN((IFERROR(IF(AND($V83<=AJ$1,$W83>=AJ$1),INDEX(Reliability!O$23:O$50,MATCH($S83,Reliability!$C$23:$C$50,0)),0),0)*IF($T83=\"n/a\",$D83*$Y83,$G83)+IFERROR(IF(AND($V83<=AJ$1,$W83>=AJ$1),INDEX(Reliability!O$23:O$50,MATCH($T83,Reliability!$C$23:$C$50,0)),0),0)*$H83*$X83*$Y83),$D83)*$R83","v":92.199057589618477},{"$f":"MIN((IFERROR(IF(AND($V83<=AK$1,$W83>=AK$1),INDEX(Reliability!P$23:P$50,MATCH($S83,Reliability!$C$23:$C$50,0)),0),0)*IF($T83=\"n/a\",$D83*$Y83,$G83)+IFERROR(IF(AND($V83<=AK$1,$W83>=AK$1),INDEX(Reliability!P$23:P$50,MATCH($T83,Reliability!$C$23:$C$50,0)),0),0)*$H83*$X83*$Y83),$D83)*$R83","v":93.26586600080411}]
[null,{"$f":"unique_contracts!B84","v":"_EXISTING_GENERIC_PEAKER"},{"$f":"unique_contracts!D84","v":"Online"},{"$f":"unique_contracts!J84","v":84.365399999999994},{"$f":"unique_contracts!M84","v":"NotHybrid"},{"$f":"unique_contracts!N84","v":"NA"},{"$f":"unique_contracts!P84","v":0},{"$f":"unique_contracts!R84","v":0},{"$f":"unique_contracts!V84","v":0},{"$f":"unique_contracts!AB84","v":"sell"},{"$f":"unique_contracts!AM84","v":2017},{"$f":"unique_contracts!AN84","v":6},{"$f":"unique_contracts!AO84","v":1},{"$f":"unique_contracts!AP84","v":2037},{"$f":"unique_contracts!AQ84","v":12},{"$f":"unique_contracts!AR84","v":31},{"$f":"unique_contracts!BP84","v":"EnergyCapacity"},-1,{"$f":"IFERROR(IF(AND(I84>0,E84=\"NotHybrid\"),_xlfn.CONCAT(MAX(MIN(ROUNDDOWN(I84/D84,0),8),4),INDEX(resources!$G:$G,MATCH(B84,resources!$A:$A,0))),INDEX(resources!$G:$G,MATCH(B84,resources!$A:$A,0))),\"n/a\")","v":"gas_ct"},"n/a","gas_ct",2017,2037,1,1,{"$f":"MIN((IFERROR(IF(AND($V84<=Z$1,$W84>=Z$1),INDEX(Reliability!E$23:E$50,MATCH($S84,Reliability!$C$23:$C$50,0)),0),0)*IF($T84=\"n/a\",$D84*$Y84,$G84)+IFERROR(IF(AND($V84<=Z$1,$W84>=Z$1),INDEX(Reliability!E$23:E$50,MATCH($T84,Reliability!$C$23:$C$50,0)),0),0)*$H84*$X84*$Y84),$D84)*$R84","v":-67.669822642818531},{"$f":"MIN((IFERROR(IF(AND($V84<=AA$1,$W84>=AA$1),INDEX(Reliability!F$23:F$50,MATCH($S84,Reliability!$C$23:$C$50,0)),0),0)*IF($T84=\"n/a\",$D84*$Y84,$G84)+IFERROR(IF(AND($V84<=AA$1,$W84>=AA$1),INDEX(Reliability!F$23:F$50,MATCH($T84,Reliability!$C$23:$C$50,0)),0),0)*$H84*$X84*$Y84),$D84)*$R84","v":-68.876377972962445},{"$f":"MIN((IFERROR(IF(AND($V84<=AB$1,$W84>=AB$1),INDEX(Reliability!G$23:G$50,MATCH($S84,Reliability!$C$23:$C$50,0)),0),0)*IF($T84=\"n/a\",$D84*$Y84,$G84)+IFERROR(IF(AND($V84<=AB$1,$W84>=AB$1),INDEX(Reliability!G$23:G$50,MATCH($T84,Reliability!$C$23:$C$50,0)),0),0)*$H84*$X84*$Y84),$D84)*$R84","v":-70.082933303106373},{"$f":"MIN((IFERROR(IF(AND($V84<=AC$1,$W84>=AC$1),INDEX(Reliability!H$23:H$50,MATCH($S84,Reliability!$C$23:$C$50,0)),0),0)*IF($T84=\"n/a\",$D84*$Y84,$G84)+IFERROR(IF(AND($V84<=AC$1,$W84>=AC$1),INDEX(Reliability!H$23:H$50,MATCH($T84,Reliability!$C$23:$C$50,0)),0),0)*$H84*$X84*$Y84),$D84)*$R84","v":-69.697868816462119},{"$f":"MIN((IFERROR(IF(AND($V84<=AD$1,$W84>=AD$1),INDEX(Reliability!I$23:I$50,MATCH($S84,Reliability!$C$23:$C$50,0)),0),0)*IF($T84=\"n/a\",$D84*$Y84,$G84)+IFERROR(IF(AND($V84<=AD$1,$W84>=AD$1),INDEX(Reliability!I$23:I$50,MATCH($T84,Reliability!$C$23:$C$50,0)),0),0)*$H84*$X84*$Y84),$D84)*$R84","v":-69.312804329817851},{"$f":"MIN((IFERROR(IF(AND($V84<=AE$1,$W84>=AE$1),INDEX(Reliability!J$23:J$50,MATCH($S84,Reliability!$C$23:$C$50,0)),0),0)*IF($T84=\"n/a\",$D84*$Y84,$G84)+IFERROR(IF(AND($V84<=AE$1,$W84>=AE$1),INDEX(Reliability!J$23:J$50,MATCH($T84,Reliability!$C$23:$C$50,0)),0),0)*$H84*$X84*$Y84),$D84)*$R84","v":-67.982563440016889},{"$f":"MIN((IFERROR(IF(AND($V84<=AF$1,$W84>=AF$1),INDEX(Reliability!K$23:K$50,MATCH($S84,Reliability!$C$23:$C$50,0)),0),0)*IF($T84=\"n/a\",$D84*$Y84,$G84)+IFERROR(IF(AND($V84<=AF$1,$W84>=AF$1),INDEX(Reliability!K$23:K$50,MATCH($T84,Reliability!$C$23:$C$50,0)),0),0)*$H84*$X84*$Y84),$D84)*$R84","v":-66.652322550215914},{"$f":"MIN((IFERROR(IF(AND($V84<=AG$1,$W84>=AG$1),INDEX(Reliability!L$23:L$50,MATCH($S84,Reliability!$C$23:$C$50,0)),0),0)*IF($T84=\"n/a\",$D84*$Y84,$G84)+IFERROR(IF(AND($V84<=AG$1,$W84>=AG$1),INDEX(Reliability!L$23:L$50,MATCH($T84,Reliability!$C$23:$C$50,0)),0),0)*$H84*$X84*$Y84),$D84)*$R84","v":-67.460963325894639},{"$f":"MIN((IFERROR(IF(AND($V84<=AH$1,$W84>=AH$1),INDEX(Reliability!M$23:M$50,MATCH($S84,Reliability!$C$23:$C$50,0)),0),0)*IF($T84=\"n/a\",$D84*$Y84,$G84)+IFERROR(IF(AND($V84<=AH$1,$W84>=AH$1),INDEX(Reliability!M$23:M$50,MATCH($T84,Reliability!$C$23:$C$50,0)),0),0)*$H84*$X84*$Y84),$D84)*$R84","v":-68.269604101573364},{"$f":"MIN((IFERROR(IF(AND($V84<=AI$1,$W84>=AI$1),INDEX(Reliability!N$23:N$50,MATCH($S84,Reliability!$C$23:$C$50,0)),0),0)*IF($T84=\"n/a\",$D84*$Y84,$G84)+IFERROR(IF(AND($V84<=AI$1,$W84>=AI$1),INDEX(Reliability!N$23:N$50,MATCH($T84,Reliability!$C$23:$C$50,0)),0),0)*$H84*$X84*$Y84),$D84)*$R84","v":-69.078244877252075},{"$f":"MIN((IFERROR(IF(AND($V84<=AJ$1,$W84>=AJ$1),INDEX(Reliability!O$23:O$50,MATCH($S84,Reliability!$C$23:$C$50,0)),0),0)*IF($T84=\"n/a\",$D84*$Y84,$G84)+IFERROR(IF(AND($V84<=AJ$1,$W84>=AJ$1),INDEX(Reliability!O$23:O$50,MATCH($T84,Reliability!$C$23:$C$50,0)),0),0)*$H84*$X84*$Y84),$D84)*$R84","v":-69.8868856529308},{"$f":"MIN((IFERROR(IF(AND($V84<=AK$1,$W84>=AK$1),INDEX(Reliability!P$23:P$50,MATCH($S84,Reliability!$C$23:$C$50,0)),0),0)*IF($T84=\"n/a\",$D84*$Y84,$G84)+IFERROR(IF(AND($V84<=AK$1,$W84>=AK$1),INDEX(Reliability!P$23:P$50,MATCH($T84,Reliability!$C$23:$C$50,0)),0),0)*$H84*$X84*$Y84),$D84)*$R84","v":-70.695526428609512}]
[null,{"$f":"unique_contracts!B85","v":"PIOPIC_2_CTG2"},{"$f":"unique_contracts!D85","v":"Online"},{"$f":"unique_contracts!J85","v":112.7},{"$f":"unique_contracts!M85","v":"NotHybrid"},{"$f":"unique_contracts!N85","v":"NA"},{"$f":"unique_contracts!P85","v":0},{"$f":"unique_contracts!R85","v":0},{"$f":"unique_contracts!V85","v":0},{"$f":"unique_contracts!AB85","v":0},{"$f":"unique_contracts!AM85","v":2017},{"$f":"unique_contracts!AN85","v":6},{"$f":"unique_contracts!AO85","v":1},{"$f":"unique_contracts!AP85","v":2037},{"$f":"unique_contracts!AQ85","v":12},{"$f":"unique_contracts!AR85","v":31},{"$f":"unique_contracts!BP85","v":"EnergyCapacity"},1,{"$f":"IFERROR(IF(AND(I85>0,E85=\"NotHybrid\"),_xlfn.CONCAT(MAX(MIN(ROUNDDOWN(I85/D85,0),8),4),INDEX(resources!$G:$G,MATCH(B85,resources!$A:$A,0))),INDEX(resources!$G:$G,MATCH(B85,resources!$A:$A,0))),\"n/a\")","v":"gas_ct"},"n/a","gas_ct",2017,2037,1,1,{"$f":"MIN((IFERROR(IF(AND($V85<=Z$1,$W85>=Z$1),INDEX(Reliability!E$23:E$50,MATCH($S85,Reliability!$C$23:$C$50,0)),0),0)*IF($T85=\"n/a\",$D85*$Y85,$G85)+IFERROR(IF(AND($V85<=Z$1,$W85>=Z$1),INDEX(Reliability!E$23:E$50,MATCH($T85,Reliability!$C$23:$C$50,0)),0),0)*$H85*$X85*$Y85),$D85)*$R85","v":90.397117916179482},{"$f":"MIN((IFERROR(IF(AND($V85<=AA$1,$W85>=AA$1),INDEX(Reliability!F$23:F$50,MATCH($S85,Reliability!$C$23:$C$50,0)),0),0)*IF($T85=\"n/a\",$D85*$Y85,$G85)+IFERROR(IF(AND($V85<=AA$1,$W85>=AA$1),INDEX(Reliability!F$23:F$50,MATCH($T85,Reliability!$C$23:$C$50,0)),0),0)*$H85*$X85*$Y85),$D85)*$R85","v":92.008901724556139},{"$f":"MIN((IFERROR(IF(AND($V85<=AB$1,$W85>=AB$1),INDEX(Reliability!G$23:G$50,MATCH($S85,Reliability!$C$23:$C$50,0)),0),0)*IF($T85=\"n/a\",$D85*$Y85,$G85)+IFERROR(IF(AND($V85<=AB$1,$W85>=AB$1),INDEX(Reliability!G$23:G$50,MATCH($T85,Reliability!$C$23:$C$50,0)),0),0)*$H85*$X85*$Y85),$D85)*$R85","v":93.620685532932811},{"$f":"MIN((IFERROR(IF(AND($V85<=AC$1,$W85>=AC$1),INDEX(Reliability!H$23:H$50,MATCH($S85,Reliability!$C$23:$C$50,0)),0),0)*IF($T85=\"n/a\",$D85*$Y85,$G85)+IFERROR(IF(AND($V85<=AC$1,$W85>=AC$1),INDEX(Reliability!H$23:H$50,MATCH($T85,Reliability!$C$23:$C$50,0)),0),0)*$H85*$X85*$Y85),$D85)*$R85","v":93.106294945739378},{"$f":"MIN((IFERROR(IF(AND($V85<=AD$1,$W85>=AD$1),INDEX(Reliability!I$23:I$50,MATCH($S85,Reliability!$C$23:$C$50,0)),0),0)*IF($T85=\"n/a\",$D85*$Y85,$G85)+IFERROR(IF(AND($V85<=AD$1,$W85>=AD$1),INDEX(Reliability!I$23:I$50,MATCH($T85,Reliability!$C$23:$C$50,0)),0),0)*$H85*$X85*$Y85),$D85)*$R85","v":92.59190435854596},{"$f":"MIN((IFERROR(IF(AND($V85<=AE$1,$W85>=AE$1),INDEX(Reliability!J$23:J$50,MATCH($S85,Reliability!$C$23:$C$50,0)),0),0)*IF($T85=\"n/a\",$D85*$Y85,$G85)+IFERROR(IF(AND($V85<=AE$1,$W85>=AE$1),INDEX(Reliability!J$23:J$50,MATCH($T85,Reliability!$C$23:$C$50,0)),0),0)*$H85*$X85*$Y85),$D85)*$R85","v":90.814894490986873},{"$f":"MIN((IFERROR(IF(AND($V85<=AF$1,$W85>=AF$1),INDEX(Reliability!K$23:K$50,MATCH($S85,Reliability!$C$23:$C$50,0)),0),0)*IF($T85=\"n/a\",$D85*$Y85,$G85)+IFERROR(IF(AND($V85<=AF$1,$W85>=AF$1),INDEX(Reliability!K$23:K$50,MATCH($T85,Reliability!$C$23:$C$50,0)),0),0)*$H85*$X85*$Y85),$D85)*$R85","v":89.037884623427786},{"$f":"MIN((IFERROR(IF(AND($V85<=AG$1,$W85>=AG$1),INDEX(Reliability!L$23:L$50,MATCH($S85,Reliability!$C$23:$C$50,0)),0),0)*IF($T85=\"n/a\",$D85*$Y85,$G85)+IFERROR(IF(AND($V85<=AG$1,$W85>=AG$1),INDEX(Reliability!L$23:L$50,MATCH($T85,Reliability!$C$23:$C$50,0)),0),0)*$H85*$X85*$Y85),$D85)*$R85","v":90.11811200833904},{"$f":"MIN((IFERROR(IF(AND($V85<=AH$1,$W85>=AH$1),INDEX(Reliability!M$23:M$50,MATCH($S85,Reliability!$C$23:$C$50,0)),0),0)*IF($T85=\"n/a\",$D85*$Y85,$G85)+IFERROR(IF(AND($V85<=AH$1,$W85>=AH$1),INDEX(Reliability!M$23:M$50,MATCH($T85,Reliability!$C$23:$C$50,0)),0),0)*$H85*$X85*$Y85),$D85)*$R85","v":91.198339393250293},{"$f":"MIN((IFERROR(IF(AND($V85<=AI$1,$W85>=AI$1),INDEX(Reliability!N$23:N$50,MATCH($S85,Reliability!$C$23:$C$50,0)),0),0)*IF($T85=\"n/a\",$D85*$Y85,$G85)+IFERROR(IF(AND($V85<=AI$1,$W85>=AI$1),INDEX(Reliability!N$23:N$50,MATCH($T85,Reliability!$C$23:$C$50,0)),0),0)*$H85*$X85*$Y85),$D85)*$R85","v":92.278566778161547},{"$f":"MIN((IFERROR(IF(AND($V85<=AJ$1,$W85>=AJ$1),INDEX(Reliability!O$23:O$50,MATCH($S85,Reliability!$C$23:$C$50,0)),0),0)*IF($T85=\"n/a\",$D85*$Y85,$G85)+IFERROR(IF(AND($V85<=AJ$1,$W85>=AJ$1),INDEX(Reliability!O$23:O$50,MATCH($T85,Reliability!$C$23:$C$50,0)),0),0)*$H85*$X85*$Y85),$D85)*$R85","v":93.358794163072801},{"$f":"MIN((IFERROR(IF(AND($V85<=AK$1,$W85>=AK$1),INDEX(Reliability!P$23:P$50,MATCH($S85,Reliability!$C$23:$C$50,0)),0),0)*IF($T85=\"n/a\",$D85*$Y85,$G85)+IFERROR(IF(AND($V85<=AK$1,$W85>=AK$1),INDEX(Reliability!P$23:P$50,MATCH($T85,Reliability!$C$23:$C$50,0)),0),0)*$H85*$X85*$Y85),$D85)*$R85","v":94.439021547984041}]
[null,{"$f":"unique_contracts!B86","v":"_EXISTING_GENERIC_PEAKER"},{"$f":"unique_contracts!D86","v":"Online"},{"$f":"unique_contracts!J86","v":85.426600000000008},{"$f":"unique_contracts!M86","v":"NotHybrid"},{"$f":"unique_contracts!N86","v":"NA"},{"$f":"unique_contracts!P86","v":0},{"$f":"unique_contracts!R86","v":0},{"$f":"unique_contracts!V86","v":0},{"$f":"unique_contracts!AB86","v":"sell"},{"$f":"unique_contracts!AM86","v":2017},{"$f":"unique_contracts!AN86","v":6},{"$f":"unique_contracts!AO86","v":1},{"$f":"unique_contracts!AP86","v":2037},{"$f":"unique_contracts!AQ86","v":12},{"$f":"unique_contracts!AR86","v":31},{"$f":"unique_contracts!BP86","v":"EnergyCapacity"},-1,{"$f":"IFERROR(IF(AND(I86>0,E86=\"NotHybrid\"),_xlfn.CONCAT(MAX(MIN(ROUNDDOWN(I86/D86,0),8),4),INDEX(resources!$G:$G,MATCH(B86,resources!$A:$A,0))),INDEX(resources!$G:$G,MATCH(B86,resources!$A:$A,0))),\"n/a\")","v":"gas_ct"},"n/a","gas_ct",2017,2037,1,1,{"$f":"MIN((IFERROR(IF(AND($V86<=Z$1,$W86>=Z$1),INDEX(Reliability!E$23:E$50,MATCH($S86,Reliability!$C$23:$C$50,0)),0),0)*IF($T86=\"n/a\",$D86*$Y86,$G86)+IFERROR(IF(AND($V86<=Z$1,$W86>=Z$1),INDEX(Reliability!E$23:E$50,MATCH($T86,Reliability!$C$23:$C$50,0)),0),0)*$H86*$X86*$Y86),$D86)*$R86","v":-68.52101538046405},{"$f":"MIN((IFERROR(IF(AND($V86<=AA$1,$W86>=AA$1),INDEX(Reliability!F$23:F$50,MATCH($S86,Reliability!$C$23:$C$50,0)),0),0)*IF($T86=\"n/a\",$D86*$Y86,$G86)+IFERROR(IF(AND($V86<=AA$1,$W86>=AA$1),INDEX(Reliability!F$23:F$50,MATCH($T86,Reliability!$C$23:$C$50,0)),0),0)*$H86*$X86*$Y86),$D86)*$R86","v":-69.742747507213565},{"$f":"MIN((IFERROR(IF(AND($V86<=AB$1,$W86>=AB$1),INDEX(Reliability!G$23:G$50,MATCH($S86,Reliability!$C$23:$C$50,0)),0),0)*IF($T86=\"n/a\",$D86*$Y86,$G86)+IFERROR(IF(AND($V86<=AB$1,$W86>=AB$1),INDEX(Reliability!G$23:G$50,MATCH($T86,Reliability!$C$23:$C$50,0)),0),0)*$H86*$X86*$Y86),$D86)*$R86","v":-70.96447963396308},{"$f":"MIN((IFERROR(IF(AND($V86<=AC$1,$W86>=AC$1),INDEX(Reliability!H$23:H$50,MATCH($S86,Reliability!$C$23:$C$50,0)),0),0)*IF($T86=\"n/a\",$D86*$Y86,$G86)+IFERROR(IF(AND($V86<=AC$1,$W86>=AC$1),INDEX(Reliability!H$23:H$50,MATCH($T86,Reliability!$C$23:$C$50,0)),0),0)*$H86*$X86*$Y86),$D86)*$R86","v":-70.574571568870454},{"$f":"MIN((IFERROR(IF(AND($V86<=AD$1,$W86>=AD$1),INDEX(Reliability!I$23:I$50,MATCH($S86,Reliability!$C$23:$C$50,0)),0),0)*IF($T86=\"n/a\",$D86*$Y86,$G86)+IFERROR(IF(AND($V86<=AD$1,$W86>=AD$1),INDEX(Reliability!I$23:I$50,MATCH($T86,Reliability!$C$23:$C$50,0)),0),0)*$H86*$X86*$Y86),$D86)*$R86","v":-70.184663503777841},{"$f":"MIN((IFERROR(IF(AND($V86<=AE$1,$W86>=AE$1),INDEX(Reliability!J$23:J$50,MATCH($S86,Reliability!$C$23:$C$50,0)),0),0)*IF($T86=\"n/a\",$D86*$Y86,$G86)+IFERROR(IF(AND($V86<=AE$1,$W86>=AE$1),INDEX(Reliability!J$23:J$50,MATCH($T86,Reliability!$C$23:$C$50,0)),0),0)*$H86*$X86*$Y86),$D86)*$R86","v":-68.837690024168054},{"$f":"MIN((IFERROR(IF(AND($V86<=AF$1,$W86>=AF$1),INDEX(Reliability!K$23:K$50,MATCH($S86,Reliability!$C$23:$C$50,0)),0),0)*IF($T86=\"n/a\",$D86*$Y86,$G86)+IFERROR(IF(AND($V86<=AF$1,$W86>=AF$1),INDEX(Reliability!K$23:K$50,MATCH($T86,Reliability!$C$23:$C$50,0)),0),0)*$H86*$X86*$Y86),$D86)*$R86","v":-67.490716544558268},{"$f":"MIN((IFERROR(IF(AND($V86<=AG$1,$W86>=AG$1),INDEX(Reliability!L$23:L$50,MATCH($S86,Reliability!$C$23:$C$50,0)),0),0)*IF($T86=\"n/a\",$D86*$Y86,$G86)+IFERROR(IF(AND($V86<=AG$1,$W86>=AG$1),INDEX(Reliability!L$23:L$50,MATCH($T86,Reliability!$C$23:$C$50,0)),0),0)*$H86*$X86*$Y86),$D86)*$R86","v":-68.309528902320992},{"$f":"MIN((IFERROR(IF(AND($V86<=AH$1,$W86>=AH$1),INDEX(Reliability!M$23:M$50,MATCH($S86,Reliability!$C$23:$C$50,0)),0),0)*IF($T86=\"n/a\",$D86*$Y86,$G86)+IFERROR(IF(AND($V86<=AH$1,$W86>=AH$1),INDEX(Reliability!M$23:M$50,MATCH($T86,Reliability!$C$23:$C$50,0)),0),0)*$H86*$X86*$Y86),$D86)*$R86","v":-69.128341260083729},{"$f":"MIN((IFERROR(IF(AND($V86<=AI$1,$W86>=AI$1),INDEX(Reliability!N$23:N$50,MATCH($S86,Reliability!$C$23:$C$50,0)),0),0)*IF($T86=\"n/a\",$D86*$Y86,$G86)+IFERROR(IF(AND($V86<=AI$1,$W86>=AI$1),INDEX(Reliability!N$23:N$50,MATCH($T86,Reliability!$C$23:$C$50,0)),0),0)*$H86*$X86*$Y86),$D86)*$R86","v":-69.947153617846453},{"$f":"MIN((IFERROR(IF(AND($V86<=AJ$1,$W86>=AJ$1),INDEX(Reliability!O$23:O$50,MATCH($S86,Reliability!$C$23:$C$50,0)),0),0)*IF($T86=\"n/a\",$D86*$Y86,$G86)+IFERROR(IF(AND($V86<=AJ$1,$W86>=AJ$1),INDEX(Reliability!O$23:O$50,MATCH($T86,Reliability!$C$23:$C$50,0)),0),0)*$H86*$X86*$Y86),$D86)*$R86","v":-70.765965975609191},{"$f":"MIN((IFERROR(IF(AND($V86<=AK$1,$W86>=AK$1),INDEX(Reliability!P$23:P$50,MATCH($S86,Reliability!$C$23:$C$50,0)),0),0)*IF($T86=\"n/a\",$D86*$Y86,$G86)+IFERROR(IF(AND($V86<=AK$1,$W86>=AK$1),INDEX(Reliability!P$23:P$50,MATCH($T86,Reliability!$C$23:$C$50,0)),0),0)*$H86*$X86*$Y86),$D86)*$R86","v":-71.584778333371901}]
[null,{"$f":"unique_contracts!B87","v":"PIOPIC_2_CTG3"},{"$f":"unique_contracts!D87","v":"Online"},{"$f":"unique_contracts!J87","v":112},{"$f":"unique_contracts!M87","v":"NotHybrid"},{"$f":"unique_contracts!N87","v":"NA"},{"$f":"unique_contracts!P87","v":0},{"$f":"unique_contracts!R87","v":0},{"$f":"unique_contracts!V87","v":0},{"$f":"unique_contracts!AB87","v":0},{"$f":"unique_contracts!AM87","v":2017},{"$f":"unique_contracts!AN87","v":6},{"$f":"unique_contracts!AO87","v":1},{"$f":"unique_contracts!AP87","v":2037},{"$f":"unique_contracts!AQ87","v":12},{"$f":"unique_contracts!AR87","v":31},{"$f":"unique_contracts!BP87","v":"EnergyCapacity"},1,{"$f":"IFERROR(IF(AND(I87>0,E87=\"NotHybrid\"),_xlfn.CONCAT(MAX(MIN(ROUNDDOWN(I87/D87,0),8),4),INDEX(resources!$G:$G,MATCH(B87,resources!$A:$A,0))),INDEX(resources!$G:$G,MATCH(B87,resources!$A:$A,0))),\"n/a\")","v":"gas_ct"},"n/a","gas_ct",2017,2037,1,1,{"$f":"MIN((IFERROR(IF(AND($V87<=Z$1,$W87>=Z$1),INDEX(Reliability!E$23:E$50,MATCH($S87,Reliability!$C$23:$C$50,0)),0),0)*IF($T87=\"n/a\",$D87*$Y87,$G87)+IFERROR(IF(AND($V87<=Z$1,$W87>=Z$1),INDEX(Reliability!E$23:E$50,MATCH($T87,Reliability!$C$23:$C$50,0)),0),0)*$H87*$X87*$Y87),$D87)*$R87","v":89.835645134091408},{"$f":"MIN((IFERROR(IF(AND($V87<=AA$1,$W87>=AA$1),INDEX(Reliability!F$23:F$50,MATCH($S87,Reliability!$C$23:$C$50,0)),0),0)*IF($T87=\"n/a\",$D87*$Y87,$G87)+IFERROR(IF(AND($V87<=AA$1,$W87>=AA$1),INDEX(Reliability!F$23:F$50,MATCH($T87,Reliability!$C$23:$C$50,0)),0),0)*$H87*$X87*$Y87),$D87)*$R87","v":91.437417862912937},{"$f":"MIN((IFERROR(IF(AND($V87<=AB$1,$W87>=AB$1),INDEX(Reliability!G$23:G$50,MATCH($S87,Reliability!$C$23:$C$50,0)),0),0)*IF($T87=\"n/a\",$D87*$Y87,$G87)+IFERROR(IF(AND($V87<=AB$1,$W87>=AB$1),INDEX(Reliability!G$23:G$50,MATCH($T87,Reliability!$C$23:$C$50,0)),0),0)*$H87*$X87*$Y87),$D87)*$R87","v":93.039190591734467},{"$f":"MIN((IFERROR(IF(AND($V87<=AC$1,$W87>=AC$1),INDEX(Reliability!H$23:H$50,MATCH($S87,Reliability!$C$23:$C$50,0)),0),0)*IF($T87=\"n/a\",$D87*$Y87,$G87)+IFERROR(IF(AND($V87<=AC$1,$W87>=AC$1),INDEX(Reliability!H$23:H$50,MATCH($T87,Reliability!$C$23:$C$50,0)),0),0)*$H87*$X87*$Y87),$D87)*$R87","v":92.527994977132295},{"$f":"MIN((IFERROR(IF(AND($V87<=AD$1,$W87>=AD$1),INDEX(Reliability!I$23:I$50,MATCH($S87,Reliability!$C$23:$C$50,0)),0),0)*IF($T87=\"n/a\",$D87*$Y87,$G87)+IFERROR(IF(AND($V87<=AD$1,$W87>=AD$1),INDEX(Reliability!I$23:I$50,MATCH($T87,Reliability!$C$23:$C$50,0)),0),0)*$H87*$X87*$Y87),$D87)*$R87","v":92.016799362530136},{"$f":"MIN((IFERROR(IF(AND($V87<=AE$1,$W87>=AE$1),INDEX(Reliability!J$23:J$50,MATCH($S87,Reliability!$C$23:$C$50,0)),0),0)*IF($T87=\"n/a\",$D87*$Y87,$G87)+IFERROR(IF(AND($V87<=AE$1,$W87>=AE$1),INDEX(Reliability!J$23:J$50,MATCH($T87,Reliability!$C$23:$C$50,0)),0),0)*$H87*$X87*$Y87),$D87)*$R87","v":90.250826823340986},{"$f":"MIN((IFERROR(IF(AND($V87<=AF$1,$W87>=AF$1),INDEX(Reliability!K$23:K$50,MATCH($S87,Reliability!$C$23:$C$50,0)),0),0)*IF($T87=\"n/a\",$D87*$Y87,$G87)+IFERROR(IF(AND($V87<=AF$1,$W87>=AF$1),INDEX(Reliability!K$23:K$50,MATCH($T87,Reliability!$C$23:$C$50,0)),0),0)*$H87*$X87*$Y87),$D87)*$R87","v":88.484854284151837},{"$f":"MIN((IFERROR(IF(AND($V87<=AG$1,$W87>=AG$1),INDEX(Reliability!L$23:L$50,MATCH($S87,Reliability!$C$23:$C$50,0)),0),0)*IF($T87=\"n/a\",$D87*$Y87,$G87)+IFERROR(IF(AND($V87<=AG$1,$W87>=AG$1),INDEX(Reliability!L$23:L$50,MATCH($T87,Reliability!$C$23:$C$50,0)),0),0)*$H87*$X87*$Y87),$D87)*$R87","v":89.558372182200287},{"$f":"MIN((IFERROR(IF(AND($V87<=AH$1,$W87>=AH$1),INDEX(Reliability!M$23:M$50,MATCH($S87,Reliability!$C$23:$C$50,0)),0),0)*IF($T87=\"n/a\",$D87*$Y87,$G87)+IFERROR(IF(AND($V87<=AH$1,$W87>=AH$1),INDEX(Reliability!M$23:M$50,MATCH($T87,Reliability!$C$23:$C$50,0)),0),0)*$H87*$X87*$Y87),$D87)*$R87","v":90.631890080248738},{"$f":"MIN((IFERROR(IF(AND($V87<=AI$1,$W87>=AI$1),INDEX(Reliability!N$23:N$50,MATCH($S87,Reliability!$C$23:$C$50,0)),0),0)*IF($T87=\"n/a\",$D87*$Y87,$G87)+IFERROR(IF(AND($V87<=AI$1,$W87>=AI$1),INDEX(Reliability!N$23:N$50,MATCH($T87,Reliability!$C$23:$C$50,0)),0),0)*$H87*$X87*$Y87),$D87)*$R87","v":91.705407978297188},{"$f":"MIN((IFERROR(IF(AND($V87<=AJ$1,$W87>=AJ$1),INDEX(Reliability!O$23:O$50,MATCH($S87,Reliability!$C$23:$C$50,0)),0),0)*IF($T87=\"n/a\",$D87*$Y87,$G87)+IFERROR(IF(AND($V87<=AJ$1,$W87>=AJ$1),INDEX(Reliability!O$23:O$50,MATCH($T87,Reliability!$C$23:$C$50,0)),0),0)*$H87*$X87*$Y87),$D87)*$R87","v":92.778925876345639},{"$f":"MIN((IFERROR(IF(AND($V87<=AK$1,$W87>=AK$1),INDEX(Reliability!P$23:P$50,MATCH($S87,Reliability!$C$23:$C$50,0)),0),0)*IF($T87=\"n/a\",$D87*$Y87,$G87)+IFERROR(IF(AND($V87<=AK$1,$W87>=AK$1),INDEX(Reliability!P$23:P$50,MATCH($T87,Reliability!$C$23:$C$50,0)),0),0)*$H87*$X87*$Y87),$D87)*$R87","v":93.852443774394075}]
[null,{"$f":"unique_contracts!B88","v":"_EXISTING_GENERIC_PEAKER"},{"$f":"unique_contracts!D88","v":"Online"},{"$f":"unique_contracts!J88","v":84.896000000000001},{"$f":"unique_contracts!M88","v":"NotHybrid"},{"$f":"unique_contracts!N88","v":"NA"},{"$f":"unique_contracts!P88","v":0},{"$f":"unique_contracts!R88","v":0},{"$f":"unique_contracts!V88","v":0},{"$f":"unique_contracts!AB88","v":"sell"},{"$f":"unique_contracts!AM88","v":2017},{"$f":"unique_contracts!AN88","v":6},{"$f":"unique_contracts!AO88","v":1},{"$f":"unique_contracts!AP88","v":2037},{"$f":"unique_contracts!AQ88","v":12},{"$f":"unique_contracts!AR88","v":31},{"$f":"unique_contracts!BP88","v":"EnergyCapacity"},-1,{"$f":"IFERROR(IF(AND(I88>0,E88=\"NotHybrid\"),_xlfn.CONCAT(MAX(MIN(ROUNDDOWN(I88/D88,0),8),4),INDEX(resources!$G:$G,MATCH(B88,resources!$A:$A,0))),INDEX(resources!$G:$G,MATCH(B88,resources!$A:$A,0))),\"n/a\")","v":"gas_ct"},"n/a","gas_ct",2017,2037,1,1,{"$f":"MIN((IFERROR(IF(AND($V88<=Z$1,$W88>=Z$1),INDEX(Reliability!E$23:E$50,MATCH($S88,Reliability!$C$23:$C$50,0)),0),0)*IF($T88=\"n/a\",$D88*$Y88,$G88)+IFERROR(IF(AND($V88<=Z$1,$W88>=Z$1),INDEX(Reliability!E$23:E$50,MATCH($T88,Reliability!$C$23:$C$50,0)),0),0)*$H88*$X88*$Y88),$D88)*$R88","v":-68.095419011641297},{"$f":"MIN((IFERROR(IF(AND($V88<=AA$1,$W88>=AA$1),INDEX(Reliability!F$23:F$50,MATCH($S88,Reliability!$C$23:$C$50,0)),0),0)*IF($T88=\"n/a\",$D88*$Y88,$G88)+IFERROR(IF(AND($V88<=AA$1,$W88>=AA$1),INDEX(Reliability!F$23:F$50,MATCH($T88,Reliability!$C$23:$C$50,0)),0),0)*$H88*$X88*$Y88),$D88)*$R88","v":-69.309562740087998},{"$f":"MIN((IFERROR(IF(AND($V88<=AB$1,$W88>=AB$1),INDEX(Reliability!G$23:G$50,MATCH($S88,Reliability!$C$23:$C$50,0)),0),0)*IF($T88=\"n/a\",$D88*$Y88,$G88)+IFERROR(IF(AND($V88<=AB$1,$W88>=AB$1),INDEX(Reliability!G$23:G$50,MATCH($T88,Reliability!$C$23:$C$50,0)),0),0)*$H88*$X88*$Y88),$D88)*$R88","v":-70.523706468534726},{"$f":"MIN((IFERROR(IF(AND($V88<=AC$1,$W88>=AC$1),INDEX(Reliability!H$23:H$50,MATCH($S88,Reliability!$C$23:$C$50,0)),0),0)*IF($T88=\"n/a\",$D88*$Y88,$G88)+IFERROR(IF(AND($V88<=AC$1,$W88>=AC$1),INDEX(Reliability!H$23:H$50,MATCH($T88,Reliability!$C$23:$C$50,0)),0),0)*$H88*$X88*$Y88),$D88)*$R88","v":-70.136220192666286},{"$f":"MIN((IFERROR(IF(AND($V88<=AD$1,$W88>=AD$1),INDEX(Reliability!I$23:I$50,MATCH($S88,Reliability!$C$23:$C$50,0)),0),0)*IF($T88=\"n/a\",$D88*$Y88,$G88)+IFERROR(IF(AND($V88<=AD$1,$W88>=AD$1),INDEX(Reliability!I$23:I$50,MATCH($T88,Reliability!$C$23:$C$50,0)),0),0)*$H88*$X88*$Y88),$D88)*$R88","v":-69.748733916797846},{"$f":"MIN((IFERROR(IF(AND($V88<=AE$1,$W88>=AE$1),INDEX(Reliability!J$23:J$50,MATCH($S88,Reliability!$C$23:$C$50,0)),0),0)*IF($T88=\"n/a\",$D88*$Y88,$G88)+IFERROR(IF(AND($V88<=AE$1,$W88>=AE$1),INDEX(Reliability!J$23:J$50,MATCH($T88,Reliability!$C$23:$C$50,0)),0),0)*$H88*$X88*$Y88),$D88)*$R88","v":-68.410126732092465},{"$f":"MIN((IFERROR(IF(AND($V88<=AF$1,$W88>=AF$1),INDEX(Reliability!K$23:K$50,MATCH($S88,Reliability!$C$23:$C$50,0)),0),0)*IF($T88=\"n/a\",$D88*$Y88,$G88)+IFERROR(IF(AND($V88<=AF$1,$W88>=AF$1),INDEX(Reliability!K$23:K$50,MATCH($T88,Reliability!$C$23:$C$50,0)),0),0)*$H88*$X88*$Y88),$D88)*$R88","v":-67.071519547387098},{"$f":"MIN((IFERROR(IF(AND($V88<=AG$1,$W88>=AG$1),INDEX(Reliability!L$23:L$50,MATCH($S88,Reliability!$C$23:$C$50,0)),0),0)*IF($T88=\"n/a\",$D88*$Y88,$G88)+IFERROR(IF(AND($V88<=AG$1,$W88>=AG$1),INDEX(Reliability!L$23:L$50,MATCH($T88,Reliability!$C$23:$C$50,0)),0),0)*$H88*$X88*$Y88),$D88)*$R88","v":-67.885246114107815},{"$f":"MIN((IFERROR(IF(AND($V88<=AH$1,$W88>=AH$1),INDEX(Reliability!M$23:M$50,MATCH($S88,Reliability!$C$23:$C$50,0)),0),0)*IF($T88=\"n/a\",$D88*$Y88,$G88)+IFERROR(IF(AND($V88<=AH$1,$W88>=AH$1),INDEX(Reliability!M$23:M$50,MATCH($T88,Reliability!$C$23:$C$50,0)),0),0)*$H88*$X88*$Y88),$D88)*$R88","v":-68.698972680828547},{"$f":"MIN((IFERROR(IF(AND($V88<=AI$1,$W88>=AI$1),INDEX(Reliability!N$23:N$50,MATCH($S88,Reliability!$C$23:$C$50,0)),0),0)*IF($T88=\"n/a\",$D88*$Y88,$G88)+IFERROR(IF(AND($V88<=AI$1,$W88>=AI$1),INDEX(Reliability!N$23:N$50,MATCH($T88,Reliability!$C$23:$C$50,0)),0),0)*$H88*$X88*$Y88),$D88)*$R88","v":-69.512699247549264},{"$f":"MIN((IFERROR(IF(AND($V88<=AJ$1,$W88>=AJ$1),INDEX(Reliability!O$23:O$50,MATCH($S88,Reliability!$C$23:$C$50,0)),0),0)*IF($T88=\"n/a\",$D88*$Y88,$G88)+IFERROR(IF(AND($V88<=AJ$1,$W88>=AJ$1),INDEX(Reliability!O$23:O$50,MATCH($T88,Reliability!$C$23:$C$50,0)),0),0)*$H88*$X88*$Y88),$D88)*$R88","v":-70.326425814269996},{"$f":"MIN((IFERROR(IF(AND($V88<=AK$1,$W88>=AK$1),INDEX(Reliability!P$23:P$50,MATCH($S88,Reliability!$C$23:$C$50,0)),0),0)*IF($T88=\"n/a\",$D88*$Y88,$G88)+IFERROR(IF(AND($V88<=AK$1,$W88>=AK$1),INDEX(Reliability!P$23:P$50,MATCH($T88,Reliability!$C$23:$C$50,0)),0),0)*$H88*$X88*$Y88),$D88)*$R88","v":-71.140152380990713}]
[null,{"$f":"unique_contracts!B89","v":"_NEW_GENERIC_BATTERY_STORAGE"},{"$f":"unique_contracts!D89","v":"Development"},{"$f":"unique_contracts!J89","v":80},{"$f":"unique_contracts!M89","v":"NotHybrid"},{"$f":"unique_contracts!N89","v":"NA"},{"$f":"unique_contracts!P89","v":0},{"$f":"unique_contracts!R89","v":0},{"$f":"unique_contracts!V89","v":320},{"$f":"unique_contracts!AB89","v":0},{"$f":"unique_contracts!AM89","v":0},{"$f":"unique_contracts!AN89","v":0},{"$f":"unique_contracts!AO89","v":0},{"$f":"unique_contracts!AP89","v":0},{"$f":"unique_contracts!AQ89","v":0},{"$f":"unique_contracts!AR89","v":0},{"$f":"unique_contracts!BP89","v":"EnergyCapacity"},1,{"$f":"IFERROR(IF(AND(I89>0,E89=\"NotHybrid\"),_xlfn.CONCAT(MAX(MIN(ROUNDDOWN(I89/D89,0),8),4),INDEX(resources!$G:$G,MATCH(B89,resources!$A:$A,0))),INDEX(resources!$G:$G,MATCH(B89,resources!$A:$A,0))),\"n/a\")","v":"4hr_batteries"},"n/a","4hr_batteries",0,0,1,1,{"$f":"MIN((IFERROR(IF(AND($V89<=Z$1,$W89>=Z$1),INDEX(Reliability!E$23:E$50,MATCH($S89,Reliability!$C$23:$C$50,0)),0),0)*IF($T89=\"n/a\",$D89*$Y89,$G89)+IFERROR(IF(AND($V89<=Z$1,$W89>=Z$1),INDEX(Reliability!E$23:E$50,MATCH($T89,Reliability!$C$23:$C$50,0)),0),0)*$H89*$X89*$Y89),$D89)*$R89","v":0},{"$f":"MIN((IFERROR(IF(AND($V89<=AA$1,$W89>=AA$1),INDEX(Reliability!F$23:F$50,MATCH($S89,Reliability!$C$23:$C$50,0)),0),0)*IF($T89=\"n/a\",$D89*$Y89,$G89)+IFERROR(IF(AND($V89<=AA$1,$W89>=AA$1),INDEX(Reliability!F$23:F$50,MATCH($T89,Reliability!$C$23:$C$50,0)),0),0)*$H89*$X89*$Y89),$D89)*$R89","v":0},{"$f":"MIN((IFERROR(IF(AND($V89<=AB$1,$W89>=AB$1),INDEX(Reliability!G$23:G$50,MATCH($S89,Reliability!$C$23:$C$50,0)),0),0)*IF($T89=\"n/a\",$D89*$Y89,$G89)+IFERROR(IF(AND($V89<=AB$1,$W89>=AB$1),INDEX(Reliability!G$23:G$50,MATCH($T89,Reliability!$C$23:$C$50,0)),0),0)*$H89*$X89*$Y89),$D89)*$R89","v":0},{"$f":"MIN((IFERROR(IF(AND($V89<=AC$1,$W89>=AC$1),INDEX(Reliability!H$23:H$50,MATCH($S89,Reliability!$C$23:$C$50,0)),0),0)*IF($T89=\"n/a\",$D89*$Y89,$G89)+IFERROR(IF(AND($V89<=AC$1,$W89>=AC$1),INDEX(Reliability!H$23:H$50,MATCH($T89,Reliability!$C$23:$C$50,0)),0),0)*$H89*$X89*$Y89),$D89)*$R89","v":0},{"$f":"MIN((IFERROR(IF(AND($V89<=AD$1,$W89>=AD$1),INDEX(Reliability!I$23:I$50,MATCH($S89,Reliability!$C$23:$C$50,0)),0),0)*IF($T89=\"n/a\",$D89*$Y89,$G89)+IFERROR(IF(AND($V89<=AD$1,$W89>=AD$1),INDEX(Reliability!I$23:I$50,MATCH($T89,Reliability!$C$23:$C$50,0)),0),0)*$H89*$X89*$Y89),$D89)*$R89","v":0},{"$f":"MIN((IFERROR(IF(AND($V89<=AE$1,$W89>=AE$1),INDEX(Reliability!J$23:J$50,MATCH($S89,Reliability!$C$23:$C$50,0)),0),0)*IF($T89=\"n/a\",$D89*$Y89,$G89)+IFERROR(IF(AND($V89<=AE$1,$W89>=AE$1),INDEX(Reliability!J$23:J$50,MATCH($T89,Reliability!$C$23:$C$50,0)),0),0)*$H89*$X89*$Y89),$D89)*$R89","v":0},{"$f":"MIN((IFERROR(IF(AND($V89<=AF$1,$W89>=AF$1),INDEX(Reliability!K$23:K$50,MATCH($S89,Reliability!$C$23:$C$50,0)),0),0)*IF($T89=\"n/a\",$D89*$Y89,$G89)+IFERROR(IF(AND($V89<=AF$1,$W89>=AF$1),INDEX(Reliability!K$23:K$50,MATCH($T89,Reliability!$C$23:$C$50,0)),0),0)*$H89*$X89*$Y89),$D89)*$R89","v":0},{"$f":"MIN((IFERROR(IF(AND($V89<=AG$1,$W89>=AG$1),INDEX(Reliability!L$23:L$50,MATCH($S89,Reliability!$C$23:$C$50,0)),0),0)*IF($T89=\"n/a\",$D89*$Y89,$G89)+IFERROR(IF(AND($V89<=AG$1,$W89>=AG$1),INDEX(Reliability!L$23:L$50,MATCH($T89,Reliability!$C$23:$C$50,0)),0),0)*$H89*$X89*$Y89),$D89)*$R89","v":0},{"$f":"MIN((IFERROR(IF(AND($V89<=AH$1,$W89>=AH$1),INDEX(Reliability!M$23:M$50,MATCH($S89,Reliability!$C$23:$C$50,0)),0),0)*IF($T89=\"n/a\",$D89*$Y89,$G89)+IFERROR(IF(AND($V89<=AH$1,$W89>=AH$1),INDEX(Reliability!M$23:M$50,MATCH($T89,Reliability!$C$23:$C$50,0)),0),0)*$H89*$X89*$Y89),$D89)*$R89","v":0},{"$f":"MIN((IFERROR(IF(AND($V89<=AI$1,$W89>=AI$1),INDEX(Reliability!N$23:N$50,MATCH($S89,Reliability!$C$23:$C$50,0)),0),0)*IF($T89=\"n/a\",$D89*$Y89,$G89)+IFERROR(IF(AND($V89<=AI$1,$W89>=AI$1),INDEX(Reliability!N$23:N$50,MATCH($T89,Reliability!$C$23:$C$50,0)),0),0)*$H89*$X89*$Y89),$D89)*$R89","v":0},{"$f":"MIN((IFERROR(IF(AND($V89<=AJ$1,$W89>=AJ$1),INDEX(Reliability!O$23:O$50,MATCH($S89,Reliability!$C$23:$C$50,0)),0),0)*IF($T89=\"n/a\",$D89*$Y89,$G89)+IFERROR(IF(AND($V89<=AJ$1,$W89>=AJ$1),INDEX(Reliability!O$23:O$50,MATCH($T89,Reliability!$C$23:$C$50,0)),0),0)*$H89*$X89*$Y89),$D89)*$R89","v":0},{"$f":"MIN((IFERROR(IF(AND($V89<=AK$1,$W89>=AK$1),INDEX(Reliability!P$23:P$50,MATCH($S89,Reliability!$C$23:$C$50,0)),0),0)*IF($T89=\"n/a\",$D89*$Y89,$G89)+IFERROR(IF(AND($V89<=AK$1,$W89>=AK$1),INDEX(Reliability!P$23:P$50,MATCH($T89,Reliability!$C$23:$C$50,0)),0),0)*$H89*$X89*$Y89),$D89)*$R89","v":0}]
[null,{"$f":"unique_contracts!B90","v":"_NEW_GENERIC_BATTERY_STORAGE"},{"$f":"unique_contracts!D90","v":"Development"},{"$f":"unique_contracts!J90","v":32.176000000000002},{"$f":"unique_contracts!M90","v":"NotHybrid"},{"$f":"unique_contracts!N90","v":"NA"},{"$f":"unique_contracts!P90","v":0},{"$f":"unique_contracts!R90","v":0},{"$f":"unique_contracts!V90","v":0},{"$f":"unique_contracts!AB90","v":"sell"},{"$f":"unique_contracts!AM90","v":0},{"$f":"unique_contracts!AN90","v":0},{"$f":"unique_contracts!AO90","v":0},{"$f":"unique_contracts!AP90","v":0},{"$f":"unique_contracts!AQ90","v":0},{"$f":"unique_contracts!AR90","v":0},{"$f":"unique_contracts!BP90","v":"CapacityOnly"},-1,{"$f":"IFERROR(IF(AND(I90>0,E90=\"NotHybrid\"),_xlfn.CONCAT(MAX(MIN(ROUNDDOWN(I90/D90,0),8),4),INDEX(resources!$G:$G,MATCH(B90,resources!$A:$A,0))),INDEX(resources!$G:$G,MATCH(B90,resources!$A:$A,0))),\"n/a\")","v":"hr_batteries"},"n/a","hr_batteries",0,0,1,0,{"$f":"MIN((IFERROR(IF(AND($V90<=Z$1,$W90>=Z$1),INDEX(Reliability!E$23:E$50,MATCH($S90,Reliability!$C$23:$C$50,0)),0),0)*IF($T90=\"n/a\",$D90*$Y90,$G90)+IFERROR(IF(AND($V90<=Z$1,$W90>=Z$1),INDEX(Reliability!E$23:E$50,MATCH($T90,Reliability!$C$23:$C$50,0)),0),0)*$H90*$X90*$Y90),$D90)*$R90","v":0},{"$f":"MIN((IFERROR(IF(AND($V90<=AA$1,$W90>=AA$1),INDEX(Reliability!F$23:F$50,MATCH($S90,Reliability!$C$23:$C$50,0)),0),0)*IF($T90=\"n/a\",$D90*$Y90,$G90)+IFERROR(IF(AND($V90<=AA$1,$W90>=AA$1),INDEX(Reliability!F$23:F$50,MATCH($T90,Reliability!$C$23:$C$50,0)),0),0)*$H90*$X90*$Y90),$D90)*$R90","v":0},{"$f":"MIN((IFERROR(IF(AND($V90<=AB$1,$W90>=AB$1),INDEX(Reliability!G$23:G$50,MATCH($S90,Reliability!$C$23:$C$50,0)),0),0)*IF($T90=\"n/a\",$D90*$Y90,$G90)+IFERROR(IF(AND($V90<=AB$1,$W90>=AB$1),INDEX(Reliability!G$23:G$50,MATCH($T90,Reliability!$C$23:$C$50,0)),0),0)*$H90*$X90*$Y90),$D90)*$R90","v":0},{"$f":"MIN((IFERROR(IF(AND($V90<=AC$1,$W90>=AC$1),INDEX(Reliability!H$23:H$50,MATCH($S90,Reliability!$C$23:$C$50,0)),0),0)*IF($T90=\"n/a\",$D90*$Y90,$G90)+IFERROR(IF(AND($V90<=AC$1,$W90>=AC$1),INDEX(Reliability!H$23:H$50,MATCH($T90,Reliability!$C$23:$C$50,0)),0),0)*$H90*$X90*$Y90),$D90)*$R90","v":0},{"$f":"MIN((IFERROR(IF(AND($V90<=AD$1,$W90>=AD$1),INDEX(Reliability!I$23:I$50,MATCH($S90,Reliability!$C$23:$C$50,0)),0),0)*IF($T90=\"n/a\",$D90*$Y90,$G90)+IFERROR(IF(AND($V90<=AD$1,$W90>=AD$1),INDEX(Reliability!I$23:I$50,MATCH($T90,Reliability!$C$23:$C$50,0)),0),0)*$H90*$X90*$Y90),$D90)*$R90","v":0},{"$f":"MIN((IFERROR(IF(AND($V90<=AE$1,$W90>=AE$1),INDEX(Reliability!J$23:J$50,MATCH($S90,Reliability!$C$23:$C$50,0)),0),0)*IF($T90=\"n/a\",$D90*$Y90,$G90)+IFERROR(IF(AND($V90<=AE$1,$W90>=AE$1),INDEX(Reliability!J$23:J$50,MATCH($T90,Reliability!$C$23:$C$50,0)),0),0)*$H90*$X90*$Y90),$D90)*$R90","v":0},{"$f":"MIN((IFERROR(IF(AND($V90<=AF$1,$W90>=AF$1),INDEX(Reliability!K$23:K$50,MATCH($S90,Reliability!$C$23:$C$50,0)),0),0)*IF($T90=\"n/a\",$D90*$Y90,$G90)+IFERROR(IF(AND($V90<=AF$1,$W90>=AF$1),INDEX(Reliability!K$23:K$50,MATCH($T90,Reliability!$C$23:$C$50,0)),0),0)*$H90*$X90*$Y90),$D90)*$R90","v":0},{"$f":"MIN((IFERROR(IF(AND($V90<=AG$1,$W90>=AG$1),INDEX(Reliability!L$23:L$50,MATCH($S90,Reliability!$C$23:$C$50,0)),0),0)*IF($T90=\"n/a\",$D90*$Y90,$G90)+IFERROR(IF(AND($V90<=AG$1,$W90>=AG$1),INDEX(Reliability!L$23:L$50,MATCH($T90,Reliability!$C$23:$C$50,0)),0),0)*$H90*$X90*$Y90),$D90)*$R90","v":0},{"$f":"MIN((IFERROR(IF(AND($V90<=AH$1,$W90>=AH$1),INDEX(Reliability!M$23:M$50,MATCH($S90,Reliability!$C$23:$C$50,0)),0),0)*IF($T90=\"n/a\",$D90*$Y90,$G90)+IFERROR(IF(AND($V90<=AH$1,$W90>=AH$1),INDEX(Reliability!M$23:M$50,MATCH($T90,Reliability!$C$23:$C$50,0)),0),0)*$H90*$X90*$Y90),$D90)*$R90","v":0},{"$f":"MIN((IFERROR(IF(AND($V90<=AI$1,$W90>=AI$1),INDEX(Reliability!N$23:N$50,MATCH($S90,Reliability!$C$23:$C$50,0)),0),0)*IF($T90=\"n/a\",$D90*$Y90,$G90)+IFERROR(IF(AND($V90<=AI$1,$W90>=AI$1),INDEX(Reliability!N$23:N$50,MATCH($T90,Reliability!$C$23:$C$50,0)),0),0)*$H90*$X90*$Y90),$D90)*$R90","v":0},{"$f":"MIN((IFERROR(IF(AND($V90<=AJ$1,$W90>=AJ$1),INDEX(Reliability!O$23:O$50,MATCH($S90,Reliability!$C$23:$C$50,0)),0),0)*IF($T90=\"n/a\",$D90*$Y90,$G90)+IFERROR(IF(AND($V90<=AJ$1,$W90>=AJ$1),INDEX(Reliability!O$23:O$50,MATCH($T90,Reliability!$C$23:$C$50,0)),0),0)*$H90*$X90*$Y90),$D90)*$R90","v":0},{"$f":"MIN((IFERROR(IF(AND($V90<=AK$1,$W90>=AK$1),INDEX(Reliability!P$23:P$50,MATCH($S90,Reliability!$C$23:$C$50,0)),0),0)*IF($T90=\"n/a\",$D90*$Y90,$G90)+IFERROR(IF(AND($V90<=AK$1,$W90>=AK$1),INDEX(Reliability!P$23:P$50,MATCH($T90,Reliability!$C$23:$C$50,0)),0),0)*$H90*$X90*$Y90),$D90)*$R90","v":0}]
[null,{"$f":"unique_contracts!B91","v":"CHILLS_1_SYCENG"},{"$f":"unique_contracts!D91","v":"Online"},{"$f":"unique_contracts!J91","v":1.5},{"$f":"unique_contracts!M91","v":"NotHybrid"},{"$f":"unique_contracts!N91","v":"NA"},{"$f":"unique_contracts!P91","v":0},{"$f":"unique_contracts!R91","v":0},{"$f":"unique_contracts!V91","v":0},{"$f":"unique_contracts!AB91","v":0},{"$f":"unique_contracts!AM91","v":2011},{"$f":"unique_contracts!AN91","v":5},{"$f":"unique_contracts!AO91","v":16},{"$f":"unique_contracts!AP91","v":2031},{"$f":"unique_contracts!AQ91","v":5},{"$f":"unique_contracts!AR91","v":15},{"$f":"unique_contracts!BP91","v":"EnergyCapacity"},1,{"$f":"IFERROR(IF(AND(I91>0,E91=\"NotHybrid\"),_xlfn.CONCAT(MAX(MIN(ROUNDDOWN(I91/D91,0),8),4),INDEX(resources!$G:$G,MATCH(B91,resources!$A:$A,0))),INDEX(resources!$G:$G,MATCH(B91,resources!$A:$A,0))),\"n/a\")","v":"biomass_wood"},"n/a","biomass_wood",2011,2030,1,1,{"$f":"MIN((IFERROR(IF(AND($V91<=Z$1,$W91>=Z$1),INDEX(Reliability!E$23:E$50,MATCH($S91,Reliability!$C$23:$C$50,0)),0),0)*IF($T91=\"n/a\",$D91*$Y91,$G91)+IFERROR(IF(AND($V91<=Z$1,$W91>=Z$1),INDEX(Reliability!E$23:E$50,MATCH($T91,Reliability!$C$23:$C$50,0)),0),0)*$H91*$X91*$Y91),$D91)*$R91","v":1.181658781641969},{"$f":"MIN((IFERROR(IF(AND($V91<=AA$1,$W91>=AA$1),INDEX(Reliability!F$23:F$50,MATCH($S91,Reliability!$C$23:$C$50,0)),0),0)*IF($T91=\"n/a\",$D91*$Y91,$G91)+IFERROR(IF(AND($V91<=AA$1,$W91>=AA$1),INDEX(Reliability!F$23:F$50,MATCH($T91,Reliability!$C$23:$C$50,0)),0),0)*$H91*$X91*$Y91),$D91)*$R91","v":1.2131027865664812},{"$f":"MIN((IFERROR(IF(AND($V91<=AB$1,$W91>=AB$1),INDEX(Reliability!G$23:G$50,MATCH($S91,Reliability!$C$23:$C$50,0)),0),0)*IF($T91=\"n/a\",$D91*$Y91,$G91)+IFERROR(IF(AND($V91<=AB$1,$W91>=AB$1),INDEX(Reliability!G$23:G$50,MATCH($T91,Reliability!$C$23:$C$50,0)),0),0)*$H91*$X91*$Y91),$D91)*$R91","v":1.2445467914909936},{"$f":"MIN((IFERROR(IF(AND($V91<=AC$1,$W91>=AC$1),INDEX(Reliability!H$23:H$50,MATCH($S91,Reliability!$C$23:$C$50,0)),0),0)*IF($T91=\"n/a\",$D91*$Y91,$G91)+IFERROR(IF(AND($V91<=AC$1,$W91>=AC$1),INDEX(Reliability!H$23:H$50,MATCH($T91,Reliability!$C$23:$C$50,0)),0),0)*$H91*$X91*$Y91),$D91)*$R91","v":1.2454269073240574},{"$f":"MIN((IFERROR(IF(AND($V91<=AD$1,$W91>=AD$1),INDEX(Reliability!I$23:I$50,MATCH($S91,Reliability!$C$23:$C$50,0)),0),0)*IF($T91=\"n/a\",$D91*$Y91,$G91)+IFERROR(IF(AND($V91<=AD$1,$W91>=AD$1),INDEX(Reliability!I$23:I$50,MATCH($T91,Reliability!$C$23:$C$50,0)),0),0)*$H91*$X91*$Y91),$D91)*$R91","v":1.2463070231571209},{"$f":"MIN((IFERROR(IF(AND($V91<=AE$1,$W91>=AE$1),INDEX(Reliability!J$23:J$50,MATCH($S91,Reliability!$C$23:$C$50,0)),0),0)*IF($T91=\"n/a\",$D91*$Y91,$G91)+IFERROR(IF(AND($V91<=AE$1,$W91>=AE$1),INDEX(Reliability!J$23:J$50,MATCH($T91,Reliability!$C$23:$C$50,0)),0),0)*$H91*$X91*$Y91),$D91)*$R91","v":1.2351688956149318},{"$f":"MIN((IFERROR(IF(AND($V91<=AF$1,$W91>=AF$1),INDEX(Reliability!K$23:K$50,MATCH($S91,Reliability!$C$23:$C$50,0)),0),0)*IF($T91=\"n/a\",$D91*$Y91,$G91)+IFERROR(IF(AND($V91<=AF$1,$W91>=AF$1),INDEX(Reliability!K$23:K$50,MATCH($T91,Reliability!$C$23:$C$50,0)),0),0)*$H91*$X91*$Y91),$D91)*$R91","v":1.2240307680727427},{"$f":"MIN((IFERROR(IF(AND($V91<=AG$1,$W91>=AG$1),INDEX(Reliability!L$23:L$50,MATCH($S91,Reliability!$C$23:$C$50,0)),0),0)*IF($T91=\"n/a\",$D91*$Y91,$G91)+IFERROR(IF(AND($V91<=AG$1,$W91>=AG$1),INDEX(Reliability!L$23:L$50,MATCH($T91,Reliability!$C$23:$C$50,0)),0),0)*$H91*$X91*$Y91),$D91)*$R91","v":0},{"$f":"MIN((IFERROR(IF(AND($V91<=AH$1,$W91>=AH$1),INDEX(Reliability!M$23:M$50,MATCH($S91,Reliability!$C$23:$C$50,0)),0),0)*IF($T91=\"n/a\",$D91*$Y91,$G91)+IFERROR(IF(AND($V91<=AH$1,$W91>=AH$1),INDEX(Reliability!M$23:M$50,MATCH($T91,Reliability!$C$23:$C$50,0)),0),0)*$H91*$X91*$Y91),$D91)*$R91","v":0},{"$f":"MIN((IFERROR(IF(AND($V91<=AI$1,$W91>=AI$1),INDEX(Reliability!N$23:N$50,MATCH($S91,Reliability!$C$23:$C$50,0)),0),0)*IF($T91=\"n/a\",$D91*$Y91,$G91)+IFERROR(IF(AND($V91<=AI$1,$W91>=AI$1),INDEX(Reliability!N$23:N$50,MATCH($T91,Reliability!$C$23:$C$50,0)),0),0)*$H91*$X91*$Y91),$D91)*$R91","v":0},{"$f":"MIN((IFERROR(IF(AND($V91<=AJ$1,$W91>=AJ$1),INDEX(Reliability!O$23:O$50,MATCH($S91,Reliability!$C$23:$C$50,0)),0),0)*IF($T91=\"n/a\",$D91*$Y91,$G91)+IFERROR(IF(AND($V91<=AJ$1,$W91>=AJ$1),INDEX(Reliability!O$23:O$50,MATCH($T91,Reliability!$C$23:$C$50,0)),0),0)*$H91*$X91*$Y91),$D91)*$R91","v":0},{"$f":"MIN((IFERROR(IF(AND($V91<=AK$1,$W91>=AK$1),INDEX(Reliability!P$23:P$50,MATCH($S91,Reliability!$C$23:$C$50,0)),0),0)*IF($T91=\"n/a\",$D91*$Y91,$G91)+IFERROR(IF(AND($V91<=AK$1,$W91>=AK$1),INDEX(Reliability!P$23:P$50,MATCH($T91,Reliability!$C$23:$C$50,0)),0),0)*$H91*$X91*$Y91),$D91)*$R91","v":0}]
[null,{"$f":"unique_contracts!B92","v":"_EXISTING_GENERIC_SOLAR_1AXIS"},{"$f":"unique_contracts!D92","v":"Online"},{"$f":"unique_contracts!J92","v":0},{"$f":"unique_contracts!M92","v":"NotHybrid"},{"$f":"unique_contracts!N92","v":"NA"},{"$f":"unique_contracts!P92","v":0},{"$f":"unique_contracts!R92","v":0},{"$f":"unique_contracts!V92","v":0},{"$f":"unique_contracts!AB92","v":"sell"},{"$f":"unique_contracts!AM92","v":2011},{"$f":"unique_contracts!AN92","v":5},{"$f":"unique_contracts!AO92","v":16},{"$f":"unique_contracts!AP92","v":2031},{"$f":"unique_contracts!AQ92","v":5},{"$f":"unique_contracts!AR92","v":15},{"$f":"unique_contracts!BP92","v":"EnergyOnly"},0,{"$f":"IFERROR(IF(AND(I92>0,E92=\"NotHybrid\"),_xlfn.CONCAT(MAX(MIN(ROUNDDOWN(I92/D92,0),8),4),INDEX(resources!$G:$G,MATCH(B92,resources!$A:$A,0))),INDEX(resources!$G:$G,MATCH(B92,resources!$A:$A,0))),\"n/a\")","v":"utility_pv"},"n/a","utility_pv",2011,2030,1,1,{"$f":"MIN((IFERROR(IF(AND($V92<=Z$1,$W92>=Z$1),INDEX(Reliability!E$23:E$50,MATCH($S92,Reliability!$C$23:$C$50,0)),0),0)*IF($T92=\"n/a\",$D92*$Y92,$G92)+IFERROR(IF(AND($V92<=Z$1,$W92>=Z$1),INDEX(Reliability!E$23:E$50,MATCH($T92,Reliability!$C$23:$C$50,0)),0),0)*$H92*$X92*$Y92),$D92)*$R92","v":0},{"$f":"MIN((IFERROR(IF(AND($V92<=AA$1,$W92>=AA$1),INDEX(Reliability!F$23:F$50,MATCH($S92,Reliability!$C$23:$C$50,0)),0),0)*IF($T92=\"n/a\",$D92*$Y92,$G92)+IFERROR(IF(AND($V92<=AA$1,$W92>=AA$1),INDEX(Reliability!F$23:F$50,MATCH($T92,Reliability!$C$23:$C$50,0)),0),0)*$H92*$X92*$Y92),$D92)*$R92","v":0},{"$f":"MIN((IFERROR(IF(AND($V92<=AB$1,$W92>=AB$1),INDEX(Reliability!G$23:G$50,MATCH($S92,Reliability!$C$23:$C$50,0)),0),0)*IF($T92=\"n/a\",$D92*$Y92,$G92)+IFERROR(IF(AND($V92<=AB$1,$W92>=AB$1),INDEX(Reliability!G$23:G$50,MATCH($T92,Reliability!$C$23:$C$50,0)),0),0)*$H92*$X92*$Y92),$D92)*$R92","v":0},{"$f":"MIN((IFERROR(IF(AND($V92<=AC$1,$W92>=AC$1),INDEX(Reliability!H$23:H$50,MATCH($S92,Reliability!$C$23:$C$50,0)),0),0)*IF($T92=\"n/a\",$D92*$Y92,$G92)+IFERROR(IF(AND($V92<=AC$1,$W92>=AC$1),INDEX(Reliability!H$23:H$50,MATCH($T92,Reliability!$C$23:$C$50,0)),0),0)*$H92*$X92*$Y92),$D92)*$R92","v":0},{"$f":"MIN((IFERROR(IF(AND($V92<=AD$1,$W92>=AD$1),INDEX(Reliability!I$23:I$50,MATCH($S92,Reliability!$C$23:$C$50,0)),0),0)*IF($T92=\"n/a\",$D92*$Y92,$G92)+IFERROR(IF(AND($V92<=AD$1,$W92>=AD$1),INDEX(Reliability!I$23:I$50,MATCH($T92,Reliability!$C$23:$C$50,0)),0),0)*$H92*$X92*$Y92),$D92)*$R92","v":0},{"$f":"MIN((IFERROR(IF(AND($V92<=AE$1,$W92>=AE$1),INDEX(Reliability!J$23:J$50,MATCH($S92,Reliability!$C$23:$C$50,0)),0),0)*IF($T92=\"n/a\",$D92*$Y92,$G92)+IFERROR(IF(AND($V92<=AE$1,$W92>=AE$1),INDEX(Reliability!J$23:J$50,MATCH($T92,Reliability!$C$23:$C$50,0)),0),0)*$H92*$X92*$Y92),$D92)*$R92","v":0},{"$f":"MIN((IFERROR(IF(AND($V92<=AF$1,$W92>=AF$1),INDEX(Reliability!K$23:K$50,MATCH($S92,Reliability!$C$23:$C$50,0)),0),0)*IF($T92=\"n/a\",$D92*$Y92,$G92)+IFERROR(IF(AND($V92<=AF$1,$W92>=AF$1),INDEX(Reliability!K$23:K$50,MATCH($T92,Reliability!$C$23:$C$50,0)),0),0)*$H92*$X92*$Y92),$D92)*$R92","v":0},{"$f":"MIN((IFERROR(IF(AND($V92<=AG$1,$W92>=AG$1),INDEX(Reliability!L$23:L$50,MATCH($S92,Reliability!$C$23:$C$50,0)),0),0)*IF($T92=\"n/a\",$D92*$Y92,$G92)+IFERROR(IF(AND($V92<=AG$1,$W92>=AG$1),INDEX(Reliability!L$23:L$50,MATCH($T92,Reliability!$C$23:$C$50,0)),0),0)*$H92*$X92*$Y92),$D92)*$R92","v":0},{"$f":"MIN((IFERROR(IF(AND($V92<=AH$1,$W92>=AH$1),INDEX(Reliability!M$23:M$50,MATCH($S92,Reliability!$C$23:$C$50,0)),0),0)*IF($T92=\"n/a\",$D92*$Y92,$G92)+IFERROR(IF(AND($V92<=AH$1,$W92>=AH$1),INDEX(Reliability!M$23:M$50,MATCH($T92,Reliability!$C$23:$C$50,0)),0),0)*$H92*$X92*$Y92),$D92)*$R92","v":0},{"$f":"MIN((IFERROR(IF(AND($V92<=AI$1,$W92>=AI$1),INDEX(Reliability!N$23:N$50,MATCH($S92,Reliability!$C$23:$C$50,0)),0),0)*IF($T92=\"n/a\",$D92*$Y92,$G92)+IFERROR(IF(AND($V92<=AI$1,$W92>=AI$1),INDEX(Reliability!N$23:N$50,MATCH($T92,Reliability!$C$23:$C$50,0)),0),0)*$H92*$X92*$Y92),$D92)*$R92","v":0},{"$f":"MIN((IFERROR(IF(AND($V92<=AJ$1,$W92>=AJ$1),INDEX(Reliability!O$23:O$50,MATCH($S92,Reliability!$C$23:$C$50,0)),0),0)*IF($T92=\"n/a\",$D92*$Y92,$G92)+IFERROR(IF(AND($V92<=AJ$1,$W92>=AJ$1),INDEX(Reliability!O$23:O$50,MATCH($T92,Reliability!$C$23:$C$50,0)),0),0)*$H92*$X92*$Y92),$D92)*$R92","v":0},{"$f":"MIN((IFERROR(IF(AND($V92<=AK$1,$W92>=AK$1),INDEX(Reliability!P$23:P$50,MATCH($S92,Reliability!$C$23:$C$50,0)),0),0)*IF($T92=\"n/a\",$D92*$Y92,$G92)+IFERROR(IF(AND($V92<=AK$1,$W92>=AK$1),INDEX(Reliability!P$23:P$50,MATCH($T92,Reliability!$C$23:$C$50,0)),0),0)*$H92*$X92*$Y92),$D92)*$R92","v":0}]
[null,{"$f":"unique_contracts!B93","v":"CPSTNO_7_PRMADS"},{"$f":"unique_contracts!D93","v":"Online"},{"$f":"unique_contracts!J93","v":6.1},{"$f":"unique_contracts!M93","v":"NotHybrid"},{"$f":"unique_contracts!N93","v":"NA"},{"$f":"unique_contracts!P93","v":0},{"$f":"unique_contracts!R93","v":0},{"$f":"unique_contracts!V93","v":0},{"$f":"unique_contracts!AB93","v":0},{"$f":"unique_contracts!AM93","v":2007},{"$f":"unique_contracts!AN93","v":10},{"$f":"unique_contracts!AO93","v":1},{"$f":"unique_contracts!AP93","v":2022},{"$f":"unique_contracts!AQ93","v":9},{"$f":"unique_contracts!AR93","v":30},{"$f":"unique_contracts!BP93","v":"EnergyCapacity"},1,{"$f":"IFERROR(IF(AND(I93>0,E93=\"NotHybrid\"),_xlfn.CONCAT(MAX(MIN(ROUNDDOWN(I93/D93,0),8),4),INDEX(resources!$G:$G,MATCH(B93,resources!$A:$A,0))),INDEX(resources!$G:$G,MATCH(B93,resources!$A:$A,0))),\"n/a\")","v":"cogen"},"n/a","cogen",2008,2021,1,1,{"$f":"MIN((IFERROR(IF(AND($V93<=Z$1,$W93>=Z$1),INDEX(Reliability!E$23:E$50,MATCH($S93,Reliability!$C$23:$C$50,0)),0),0)*IF($T93=\"n/a\",$D93*$Y93,$G93)+IFERROR(IF(AND($V93<=Z$1,$W93>=Z$1),INDEX(Reliability!E$23:E$50,MATCH($T93,Reliability!$C$23:$C$50,0)),0),0)*$H93*$X93*$Y93),$D93)*$R93","v":0},{"$f":"MIN((IFERROR(IF(AND($V93<=AA$1,$W93>=AA$1),INDEX(Reliability!F$23:F$50,MATCH($S93,Reliability!$C$23:$C$50,0)),0),0)*IF($T93=\"n/a\",$D93*$Y93,$G93)+IFERROR(IF(AND($V93<=AA$1,$W93>=AA$1),INDEX(Reliability!F$23:F$50,MATCH($T93,Reliability!$C$23:$C$50,0)),0),0)*$H93*$X93*$Y93),$D93)*$R93","v":0},{"$f":"MIN((IFERROR(IF(AND($V93<=AB$1,$W93>=AB$1),INDEX(Reliability!G$23:G$50,MATCH($S93,Reliability!$C$23:$C$50,0)),0),0)*IF($T93=\"n/a\",$D93*$Y93,$G93)+IFERROR(IF(AND($V93<=AB$1,$W93>=AB$1),INDEX(Reliability!G$23:G$50,MATCH($T93,Reliability!$C$23:$C$50,0)),0),0)*$H93*$X93*$Y93),$D93)*$R93","v":0},{"$f":"MIN((IFERROR(IF(AND($V93<=AC$1,$W93>=AC$1),INDEX(Reliability!H$23:H$50,MATCH($S93,Reliability!$C$23:$C$50,0)),0),0)*IF($T93=\"n/a\",$D93*$Y93,$G93)+IFERROR(IF(AND($V93<=AC$1,$W93>=AC$1),INDEX(Reliability!H$23:H$50,MATCH($T93,Reliability!$C$23:$C$50,0)),0),0)*$H93*$X93*$Y93),$D93)*$R93","v":0},{"$f":"MIN((IFERROR(IF(AND($V93<=AD$1,$W93>=AD$1),INDEX(Reliability!I$23:I$50,MATCH($S93,Reliability!$C$23:$C$50,0)),0),0)*IF($T93=\"n/a\",$D93*$Y93,$G93)+IFERROR(IF(AND($V93<=AD$1,$W93>=AD$1),INDEX(Reliability!I$23:I$50,MATCH($T93,Reliability!$C$23:$C$50,0)),0),0)*$H93*$X93*$Y93),$D93)*$R93","v":0},{"$f":"MIN((IFERROR(IF(AND($V93<=AE$1,$W93>=AE$1),INDEX(Reliability!J$23:J$50,MATCH($S93,Reliability!$C$23:$C$50,0)),0),0)*IF($T93=\"n/a\",$D93*$Y93,$G93)+IFERROR(IF(AND($V93<=AE$1,$W93>=AE$1),INDEX(Reliability!J$23:J$50,MATCH($T93,Reliability!$C$23:$C$50,0)),0),0)*$H93*$X93*$Y93),$D93)*$R93","v":0},{"$f":"MIN((IFERROR(IF(AND($V93<=AF$1,$W93>=AF$1),INDEX(Reliability!K$23:K$50,MATCH($S93,Reliability!$C$23:$C$50,0)),0),0)*IF($T93=\"n/a\",$D93*$Y93,$G93)+IFERROR(IF(AND($V93<=AF$1,$W93>=AF$1),INDEX(Reliability!K$23:K$50,MATCH($T93,Reliability!$C$23:$C$50,0)),0),0)*$H93*$X93*$Y93),$D93)*$R93","v":0},{"$f":"MIN((IFERROR(IF(AND($V93<=AG$1,$W93>=AG$1),INDEX(Reliability!L$23:L$50,MATCH($S93,Reliability!$C$23:$C$50,0)),0),0)*IF($T93=\"n/a\",$D93*$Y93,$G93)+IFERROR(IF(AND($V93<=AG$1,$W93>=AG$1),INDEX(Reliability!L$23:L$50,MATCH($T93,Reliability!$C$23:$C$50,0)),0),0)*$H93*$X93*$Y93),$D93)*$R93","v":0},{"$f":"MIN((IFERROR(IF(AND($V93<=AH$1,$W93>=AH$1),INDEX(Reliability!M$23:M$50,MATCH($S93,Reliability!$C$23:$C$50,0)),0),0)*IF($T93=\"n/a\",$D93*$Y93,$G93)+IFERROR(IF(AND($V93<=AH$1,$W93>=AH$1),INDEX(Reliability!M$23:M$50,MATCH($T93,Reliability!$C$23:$C$50,0)),0),0)*$H93*$X93*$Y93),$D93)*$R93","v":0},{"$f":"MIN((IFERROR(IF(AND($V93<=AI$1,$W93>=AI$1),INDEX(Reliability!N$23:N$50,MATCH($S93,Reliability!$C$23:$C$50,0)),0),0)*IF($T93=\"n/a\",$D93*$Y93,$G93)+IFERROR(IF(AND($V93<=AI$1,$W93>=AI$1),INDEX(Reliability!N$23:N$50,MATCH($T93,Reliability!$C$23:$C$50,0)),0),0)*$H93*$X93*$Y93),$D93)*$R93","v":0},{"$f":"MIN((IFERROR(IF(AND($V93<=AJ$1,$W93>=AJ$1),INDEX(Reliability!O$23:O$50,MATCH($S93,Reliability!$C$23:$C$50,0)),0),0)*IF($T93=\"n/a\",$D93*$Y93,$G93)+IFERROR(IF(AND($V93<=AJ$1,$W93>=AJ$1),INDEX(Reliability!O$23:O$50,MATCH($T93,Reliability!$C$23:$C$50,0)),0),0)*$H93*$X93*$Y93),$D93)*$R93","v":0},{"$f":"MIN((IFERROR(IF(AND($V93<=AK$1,$W93>=AK$1),INDEX(Reliability!P$23:P$50,MATCH($S93,Reliability!$C$23:$C$50,0)),0),0)*IF($T93=\"n/a\",$D93*$Y93,$G93)+IFERROR(IF(AND($V93<=AK$1,$W93>=AK$1),INDEX(Reliability!P$23:P$50,MATCH($T93,Reliability!$C$23:$C$50,0)),0),0)*$H93*$X93*$Y93),$D93)*$R93","v":0}]
[null,{"$f":"unique_contracts!B94","v":"SMRCOS_6_LNDFIL"},{"$f":"unique_contracts!D94","v":"Online"},{"$f":"unique_contracts!J94","v":1.5},{"$f":"unique_contracts!M94","v":"NotHybrid"},{"$f":"unique_contracts!N94","v":"NA"},{"$f":"unique_contracts!P94","v":0},{"$f":"unique_contracts!R94","v":0},{"$f":"unique_contracts!V94","v":0},{"$f":"unique_contracts!AB94","v":0},{"$f":"unique_contracts!AM94","v":2011},{"$f":"unique_contracts!AN94","v":5},{"$f":"unique_contracts!AO94","v":18},{"$f":"unique_contracts!AP94","v":2031},{"$f":"unique_contracts!AQ94","v":5},{"$f":"unique_contracts!AR94","v":17},{"$f":"unique_contracts!BP94","v":"EnergyCapacity"},1,{"$f":"IFERROR(IF(AND(I94>0,E94=\"NotHybrid\"),_xlfn.CONCAT(MAX(MIN(ROUNDDOWN(I94/D94,0),8),4),INDEX(resources!$G:$G,MATCH(B94,resources!$A:$A,0))),INDEX(resources!$G:$G,MATCH(B94,resources!$A:$A,0))),\"n/a\")","v":"biomass_wood"},"n/a","biomass_wood",2011,2030,1,1,{"$f":"MIN((IFERROR(IF(AND($V94<=Z$1,$W94>=Z$1),INDEX(Reliability!E$23:E$50,MATCH($S94,Reliability!$C$23:$C$50,0)),0),0)*IF($T94=\"n/a\",$D94*$Y94,$G94)+IFERROR(IF(AND($V94<=Z$1,$W94>=Z$1),INDEX(Reliability!E$23:E$50,MATCH($T94,Reliability!$C$23:$C$50,0)),0),0)*$H94*$X94*$Y94),$D94)*$R94","v":1.181658781641969},{"$f":"MIN((IFERROR(IF(AND($V94<=AA$1,$W94>=AA$1),INDEX(Reliability!F$23:F$50,MATCH($S94,Reliability!$C$23:$C$50,0)),0),0)*IF($T94=\"n/a\",$D94*$Y94,$G94)+IFERROR(IF(AND($V94<=AA$1,$W94>=AA$1),INDEX(Reliability!F$23:F$50,MATCH($T94,Reliability!$C$23:$C$50,0)),0),0)*$H94*$X94*$Y94),$D94)*$R94","v":1.2131027865664812},{"$f":"MIN((IFERROR(IF(AND($V94<=AB$1,$W94>=AB$1),INDEX(Reliability!G$23:G$50,MATCH($S94,Reliability!$C$23:$C$50,0)),0),0)*IF($T94=\"n/a\",$D94*$Y94,$G94)+IFERROR(IF(AND($V94<=AB$1,$W94>=AB$1),INDEX(Reliability!G$23:G$50,MATCH($T94,Reliability!$C$23:$C$50,0)),0),0)*$H94*$X94*$Y94),$D94)*$R94","v":1.2445467914909936},{"$f":"MIN((IFERROR(IF(AND($V94<=AC$1,$W94>=AC$1),INDEX(Reliability!H$23:H$50,MATCH($S94,Reliability!$C$23:$C$50,0)),0),0)*IF($T94=\"n/a\",$D94*$Y94,$G94)+IFERROR(IF(AND($V94<=AC$1,$W94>=AC$1),INDEX(Reliability!H$23:H$50,MATCH($T94,Reliability!$C$23:$C$50,0)),0),0)*$H94*$X94*$Y94),$D94)*$R94","v":1.2454269073240574},{"$f":"MIN((IFERROR(IF(AND($V94<=AD$1,$W94>=AD$1),INDEX(Reliability!I$23:I$50,MATCH($S94,Reliability!$C$23:$C$50,0)),0),0)*IF($T94=\"n/a\",$D94*$Y94,$G94)+IFERROR(IF(AND($V94<=AD$1,$W94>=AD$1),INDEX(Reliability!I$23:I$50,MATCH($T94,Reliability!$C$23:$C$50,0)),0),0)*$H94*$X94*$Y94),$D94)*$R94","v":1.2463070231571209},{"$f":"MIN((IFERROR(IF(AND($V94<=AE$1,$W94>=AE$1),INDEX(Reliability!J$23:J$50,MATCH($S94,Reliability!$C$23:$C$50,0)),0),0)*IF($T94=\"n/a\",$D94*$Y94,$G94)+IFERROR(IF(AND($V94<=AE$1,$W94>=AE$1),INDEX(Reliability!J$23:J$50,MATCH($T94,Reliability!$C$23:$C$50,0)),0),0)*$H94*$X94*$Y94),$D94)*$R94","v":1.2351688956149318},{"$f":"MIN((IFERROR(IF(AND($V94<=AF$1,$W94>=AF$1),INDEX(Reliability!K$23:K$50,MATCH($S94,Reliability!$C$23:$C$50,0)),0),0)*IF($T94=\"n/a\",$D94*$Y94,$G94)+IFERROR(IF(AND($V94<=AF$1,$W94>=AF$1),INDEX(Reliability!K$23:K$50,MATCH($T94,Reliability!$C$23:$C$50,0)),0),0)*$H94*$X94*$Y94),$D94)*$R94","v":1.2240307680727427},{"$f":"MIN((IFERROR(IF(AND($V94<=AG$1,$W94>=AG$1),INDEX(Reliability!L$23:L$50,MATCH($S94,Reliability!$C$23:$C$50,0)),0),0)*IF($T94=\"n/a\",$D94*$Y94,$G94)+IFERROR(IF(AND($V94<=AG$1,$W94>=AG$1),INDEX(Reliability!L$23:L$50,MATCH($T94,Reliability!$C$23:$C$50,0)),0),0)*$H94*$X94*$Y94),$D94)*$R94","v":0},{"$f":"MIN((IFERROR(IF(AND($V94<=AH$1,$W94>=AH$1),INDEX(Reliability!M$23:M$50,MATCH($S94,Reliability!$C$23:$C$50,0)),0),0)*IF($T94=\"n/a\",$D94*$Y94,$G94)+IFERROR(IF(AND($V94<=AH$1,$W94>=AH$1),INDEX(Reliability!M$23:M$50,MATCH($T94,Reliability!$C$23:$C$50,0)),0),0)*$H94*$X94*$Y94),$D94)*$R94","v":0},{"$f":"MIN((IFERROR(IF(AND($V94<=AI$1,$W94>=AI$1),INDEX(Reliability!N$23:N$50,MATCH($S94,Reliability!$C$23:$C$50,0)),0),0)*IF($T94=\"n/a\",$D94*$Y94,$G94)+IFERROR(IF(AND($V94<=AI$1,$W94>=AI$1),INDEX(Reliability!N$23:N$50,MATCH($T94,Reliability!$C$23:$C$50,0)),0),0)*$H94*$X94*$Y94),$D94)*$R94","v":0},{"$f":"MIN((IFERROR(IF(AND($V94<=AJ$1,$W94>=AJ$1),INDEX(Reliability!O$23:O$50,MATCH($S94,Reliability!$C$23:$C$50,0)),0),0)*IF($T94=\"n/a\",$D94*$Y94,$G94)+IFERROR(IF(AND($V94<=AJ$1,$W94>=AJ$1),INDEX(Reliability!O$23:O$50,MATCH($T94,Reliability!$C$23:$C$50,0)),0),0)*$H94*$X94*$Y94),$D94)*$R94","v":0},{"$f":"MIN((IFERROR(IF(AND($V94<=AK$1,$W94>=AK$1),INDEX(Reliability!P$23:P$50,MATCH($S94,Reliability!$C$23:$C$50,0)),0),0)*IF($T94=\"n/a\",$D94*$Y94,$G94)+IFERROR(IF(AND($V94<=AK$1,$W94>=AK$1),INDEX(Reliability!P$23:P$50,MATCH($T94,Reliability!$C$23:$C$50,0)),0),0)*$H94*$X94*$Y94),$D94)*$R94","v":0}]
[null,{"$f":"unique_contracts!B95","v":"_EXISTING_GENERIC_SOLAR_1AXIS"},{"$f":"unique_contracts!D95","v":"Online"},{"$f":"unique_contracts!J95","v":0},{"$f":"unique_contracts!M95","v":"NotHybrid"},{"$f":"unique_contracts!N95","v":"NA"},{"$f":"unique_contracts!P95","v":0},{"$f":"unique_contracts!R95","v":0},{"$f":"unique_contracts!V95","v":0},{"$f":"unique_contracts!AB95","v":"sell"},{"$f":"unique_contracts!AM95","v":2011},{"$f":"unique_contracts!AN95","v":5},{"$f":"unique_contracts!AO95","v":18},{"$f":"unique_contracts!AP95","v":2031},{"$f":"unique_contracts!AQ95","v":5},{"$f":"unique_contracts!AR95","v":17},{"$f":"unique_contracts!BP95","v":"EnergyOnly"},0,{"$f":"IFERROR(IF(AND(I95>0,E95=\"NotHybrid\"),_xlfn.CONCAT(MAX(MIN(ROUNDDOWN(I95/D95,0),8),4),INDEX(resources!$G:$G,MATCH(B95,resources!$A:$A,0))),INDEX(resources!$G:$G,MATCH(B95,resources!$A:$A,0))),\"n/a\")","v":"utility_pv"},"n/a","utility_pv",2011,2030,1,1,{"$f":"MIN((IFERROR(IF(AND($V95<=Z$1,$W95>=Z$1),INDEX(Reliability!E$23:E$50,MATCH($S95,Reliability!$C$23:$C$50,0)),0),0)*IF($T95=\"n/a\",$D95*$Y95,$G95)+IFERROR(IF(AND($V95<=Z$1,$W95>=Z$1),INDEX(Reliability!E$23:E$50,MATCH($T95,Reliability!$C$23:$C$50,0)),0),0)*$H95*$X95*$Y95),$D95)*$R95","v":0},{"$f":"MIN((IFERROR(IF(AND($V95<=AA$1,$W95>=AA$1),INDEX(Reliability!F$23:F$50,MATCH($S95,Reliability!$C$23:$C$50,0)),0),0)*IF($T95=\"n/a\",$D95*$Y95,$G95)+IFERROR(IF(AND($V95<=AA$1,$W95>=AA$1),INDEX(Reliability!F$23:F$50,MATCH($T95,Reliability!$C$23:$C$50,0)),0),0)*$H95*$X95*$Y95),$D95)*$R95","v":0},{"$f":"MIN((IFERROR(IF(AND($V95<=AB$1,$W95>=AB$1),INDEX(Reliability!G$23:G$50,MATCH($S95,Reliability!$C$23:$C$50,0)),0),0)*IF($T95=\"n/a\",$D95*$Y95,$G95)+IFERROR(IF(AND($V95<=AB$1,$W95>=AB$1),INDEX(Reliability!G$23:G$50,MATCH($T95,Reliability!$C$23:$C$50,0)),0),0)*$H95*$X95*$Y95),$D95)*$R95","v":0},{"$f":"MIN((IFERROR(IF(AND($V95<=AC$1,$W95>=AC$1),INDEX(Reliability!H$23:H$50,MATCH($S95,Reliability!$C$23:$C$50,0)),0),0)*IF($T95=\"n/a\",$D95*$Y95,$G95)+IFERROR(IF(AND($V95<=AC$1,$W95>=AC$1),INDEX(Reliability!H$23:H$50,MATCH($T95,Reliability!$C$23:$C$50,0)),0),0)*$H95*$X95*$Y95),$D95)*$R95","v":0},{"$f":"MIN((IFERROR(IF(AND($V95<=AD$1,$W95>=AD$1),INDEX(Reliability!I$23:I$50,MATCH($S95,Reliability!$C$23:$C$50,0)),0),0)*IF($T95=\"n/a\",$D95*$Y95,$G95)+IFERROR(IF(AND($V95<=AD$1,$W95>=AD$1),INDEX(Reliability!I$23:I$50,MATCH($T95,Reliability!$C$23:$C$50,0)),0),0)*$H95*$X95*$Y95),$D95)*$R95","v":0},{"$f":"MIN((IFERROR(IF(AND($V95<=AE$1,$W95>=AE$1),INDEX(Reliability!J$23:J$50,MATCH($S95,Reliability!$C$23:$C$50,0)),0),0)*IF($T95=\"n/a\",$D95*$Y95,$G95)+IFERROR(IF(AND($V95<=AE$1,$W95>=AE$1),INDEX(Reliability!J$23:J$50,MATCH($T95,Reliability!$C$23:$C$50,0)),0),0)*$H95*$X95*$Y95),$D95)*$R95","v":0},{"$f":"MIN((IFERROR(IF(AND($V95<=AF$1,$W95>=AF$1),INDEX(Reliability!K$23:K$50,MATCH($S95,Reliability!$C$23:$C$50,0)),0),0)*IF($T95=\"n/a\",$D95*$Y95,$G95)+IFERROR(IF(AND($V95<=AF$1,$W95>=AF$1),INDEX(Reliability!K$23:K$50,MATCH($T95,Reliability!$C$23:$C$50,0)),0),0)*$H95*$X95*$Y95),$D95)*$R95","v":0},{"$f":"MIN((IFERROR(IF(AND($V95<=AG$1,$W95>=AG$1),INDEX(Reliability!L$23:L$50,MATCH($S95,Reliability!$C$23:$C$50,0)),0),0)*IF($T95=\"n/a\",$D95*$Y95,$G95)+IFERROR(IF(AND($V95<=AG$1,$W95>=AG$1),INDEX(Reliability!L$23:L$50,MATCH($T95,Reliability!$C$23:$C$50,0)),0),0)*$H95*$X95*$Y95),$D95)*$R95","v":0},{"$f":"MIN((IFERROR(IF(AND($V95<=AH$1,$W95>=AH$1),INDEX(Reliability!M$23:M$50,MATCH($S95,Reliability!$C$23:$C$50,0)),0),0)*IF($T95=\"n/a\",$D95*$Y95,$G95)+IFERROR(IF(AND($V95<=AH$1,$W95>=AH$1),INDEX(Reliability!M$23:M$50,MATCH($T95,Reliability!$C$23:$C$50,0)),0),0)*$H95*$X95*$Y95),$D95)*$R95","v":0},{"$f":"MIN((IFERROR(IF(AND($V95<=AI$1,$W95>=AI$1),INDEX(Reliability!N$23:N$50,MATCH($S95,Reliability!$C$23:$C$50,0)),0),0)*IF($T95=\"n/a\",$D95*$Y95,$G95)+IFERROR(IF(AND($V95<=AI$1,$W95>=AI$1),INDEX(Reliability!N$23:N$50,MATCH($T95,Reliability!$C$23:$C$50,0)),0),0)*$H95*$X95*$Y95),$D95)*$R95","v":0},{"$f":"MIN((IFERROR(IF(AND($V95<=AJ$1,$W95>=AJ$1),INDEX(Reliability!O$23:O$50,MATCH($S95,Reliability!$C$23:$C$50,0)),0),0)*IF($T95=\"n/a\",$D95*$Y95,$G95)+IFERROR(IF(AND($V95<=AJ$1,$W95>=AJ$1),INDEX(Reliability!O$23:O$50,MATCH($T95,Reliability!$C$23:$C$50,0)),0),0)*$H95*$X95*$Y95),$D95)*$R95","v":0},{"$f":"MIN((IFERROR(IF(AND($V95<=AK$1,$W95>=AK$1),INDEX(Reliability!P$23:P$50,MATCH($S95,Reliability!$C$23:$C$50,0)),0),0)*IF($T95=\"n/a\",$D95*$Y95,$G95)+IFERROR(IF(AND($V95<=AK$1,$W95>=AK$1),INDEX(Reliability!P$23:P$50,MATCH($T95,Reliability!$C$23:$C$50,0)),0),0)*$H95*$X95*$Y95),$D95)*$R95","v":0}]
[null,{"$f":"unique_contracts!B96","v":"MSHGTS_6_MMARLF"},{"$f":"unique_contracts!D96","v":"Online"},{"$f":"unique_contracts!J96","v":4.5},{"$f":"unique_contracts!M96","v":"NotHybrid"},{"$f":"unique_contracts!N96","v":"NA"},{"$f":"unique_contracts!P96","v":0},{"$f":"unique_contracts!R96","v":0},{"$f":"unique_contracts!V96","v":0},{"$f":"unique_contracts!AB96","v":0},{"$f":"unique_contracts!AM96","v":2013},{"$f":"unique_contracts!AN96","v":5},{"$f":"unique_contracts!AO96","v":20},{"$f":"unique_contracts!AP96","v":2023},{"$f":"unique_contracts!AQ96","v":5},{"$f":"unique_contracts!AR96","v":19},{"$f":"unique_contracts!BP96","v":"EnergyCapacity"},1,{"$f":"IFERROR(IF(AND(I96>0,E96=\"NotHybrid\"),_xlfn.CONCAT(MAX(MIN(ROUNDDOWN(I96/D96,0),8),4),INDEX(resources!$G:$G,MATCH(B96,resources!$A:$A,0))),INDEX(resources!$G:$G,MATCH(B96,resources!$A:$A,0))),\"n/a\")","v":"biomass_wood"},"n/a","biomass_wood",2013,2022,1,1,{"$f":"MIN((IFERROR(IF(AND($V96<=Z$1,$W96>=Z$1),INDEX(Reliability!E$23:E$50,MATCH($S96,Reliability!$C$23:$C$50,0)),0),0)*IF($T96=\"n/a\",$D96*$Y96,$G96)+IFERROR(IF(AND($V96<=Z$1,$W96>=Z$1),INDEX(Reliability!E$23:E$50,MATCH($T96,Reliability!$C$23:$C$50,0)),0),0)*$H96*$X96*$Y96),$D96)*$R96","v":0},{"$f":"MIN((IFERROR(IF(AND($V96<=AA$1,$W96>=AA$1),INDEX(Reliability!F$23:F$50,MATCH($S96,Reliability!$C$23:$C$50,0)),0),0)*IF($T96=\"n/a\",$D96*$Y96,$G96)+IFERROR(IF(AND($V96<=AA$1,$W96>=AA$1),INDEX(Reliability!F$23:F$50,MATCH($T96,Reliability!$C$23:$C$50,0)),0),0)*$H96*$X96*$Y96),$D96)*$R96","v":0},{"$f":"MIN((IFERROR(IF(AND($V96<=AB$1,$W96>=AB$1),INDEX(Reliability!G$23:G$50,MATCH($S96,Reliability!$C$23:$C$50,0)),0),0)*IF($T96=\"n/a\",$D96*$Y96,$G96)+IFERROR(IF(AND($V96<=AB$1,$W96>=AB$1),INDEX(Reliability!G$23:G$50,MATCH($T96,Reliability!$C$23:$C$50,0)),0),0)*$H96*$X96*$Y96),$D96)*$R96","v":0},{"$f":"MIN((IFERROR(IF(AND($V96<=AC$1,$W96>=AC$1),INDEX(Reliability!H$23:H$50,MATCH($S96,Reliability!$C$23:$C$50,0)),0),0)*IF($T96=\"n/a\",$D96*$Y96,$G96)+IFERROR(IF(AND($V96<=AC$1,$W96>=AC$1),INDEX(Reliability!H$23:H$50,MATCH($T96,Reliability!$C$23:$C$50,0)),0),0)*$H96*$X96*$Y96),$D96)*$R96","v":0},{"$f":"MIN((IFERROR(IF(AND($V96<=AD$1,$W96>=AD$1),INDEX(Reliability!I$23:I$50,MATCH($S96,Reliability!$C$23:$C$50,0)),0),0)*IF($T96=\"n/a\",$D96*$Y96,$G96)+IFERROR(IF(AND($V96<=AD$1,$W96>=AD$1),INDEX(Reliability!I$23:I$50,MATCH($T96,Reliability!$C$23:$C$50,0)),0),0)*$H96*$X96*$Y96),$D96)*$R96","v":0},{"$f":"MIN((IFERROR(IF(AND($V96<=AE$1,$W96>=AE$1),INDEX(Reliability!J$23:J$50,MATCH($S96,Reliability!$C$23:$C$50,0)),0),0)*IF($T96=\"n/a\",$D96*$Y96,$G96)+IFERROR(IF(AND($V96<=AE$1,$W96>=AE$1),INDEX(Reliability!J$23:J$50,MATCH($T96,Reliability!$C$23:$C$50,0)),0),0)*$H96*$X96*$Y96),$D96)*$R96","v":0},{"$f":"MIN((IFERROR(IF(AND($V96<=AF$1,$W96>=AF$1),INDEX(Reliability!K$23:K$50,MATCH($S96,Reliability!$C$23:$C$50,0)),0),0)*IF($T96=\"n/a\",$D96*$Y96,$G96)+IFERROR(IF(AND($V96<=AF$1,$W96>=AF$1),INDEX(Reliability!K$23:K$50,MATCH($T96,Reliability!$C$23:$C$50,0)),0),0)*$H96*$X96*$Y96),$D96)*$R96","v":0},{"$f":"MIN((IFERROR(IF(AND($V96<=AG$1,$W96>=AG$1),INDEX(Reliability!L$23:L$50,MATCH($S96,Reliability!$C$23:$C$50,0)),0),0)*IF($T96=\"n/a\",$D96*$Y96,$G96)+IFERROR(IF(AND($V96<=AG$1,$W96>=AG$1),INDEX(Reliability!L$23:L$50,MATCH($T96,Reliability!$C$23:$C$50,0)),0),0)*$H96*$X96*$Y96),$D96)*$R96","v":0},{"$f":"MIN((IFERROR(IF(AND($V96<=AH$1,$W96>=AH$1),INDEX(Reliability!M$23:M$50,MATCH($S96,Reliability!$C$23:$C$50,0)),0),0)*IF($T96=\"n/a\",$D96*$Y96,$G96)+IFERROR(IF(AND($V96<=AH$1,$W96>=AH$1),INDEX(Reliability!M$23:M$50,MATCH($T96,Reliability!$C$23:$C$50,0)),0),0)*$H96*$X96*$Y96),$D96)*$R96","v":0},{"$f":"MIN((IFERROR(IF(AND($V96<=AI$1,$W96>=AI$1),INDEX(Reliability!N$23:N$50,MATCH($S96,Reliability!$C$23:$C$50,0)),0),0)*IF($T96=\"n/a\",$D96*$Y96,$G96)+IFERROR(IF(AND($V96<=AI$1,$W96>=AI$1),INDEX(Reliability!N$23:N$50,MATCH($T96,Reliability!$C$23:$C$50,0)),0),0)*$H96*$X96*$Y96),$D96)*$R96","v":0},{"$f":"MIN((IFERROR(IF(AND($V96<=AJ$1,$W96>=AJ$1),INDEX(Reliability!O$23:O$50,MATCH($S96,Reliability!$C$23:$C$50,0)),0),0)*IF($T96=\"n/a\",$D96*$Y96,$G96)+IFERROR(IF(AND($V96<=AJ$1,$W96>=AJ$1),INDEX(Reliability!O$23:O$50,MATCH($T96,Reliability!$C$23:$C$50,0)),0),0)*$H96*$X96*$Y96),$D96)*$R96","v":0},{"$f":"MIN((IFERROR(IF(AND($V96<=AK$1,$W96>=AK$1),INDEX(Reliability!P$23:P$50,MATCH($S96,Reliability!$C$23:$C$50,0)),0),0)*IF($T96=\"n/a\",$D96*$Y96,$G96)+IFERROR(IF(AND($V96<=AK$1,$W96>=AK$1),INDEX(Reliability!P$23:P$50,MATCH($T96,Reliability!$C$23:$C$50,0)),0),0)*$H96*$X96*$Y96),$D96)*$R96","v":0}]
[null,{"$f":"unique_contracts!B97","v":"_EXISTING_GENERIC_SOLAR_1AXIS"},{"$f":"unique_contracts!D97","v":"Online"},{"$f":"unique_contracts!J97","v":0},{"$f":"unique_contracts!M97","v":"NotHybrid"},{"$f":"unique_contracts!N97","v":"NA"},{"$f":"unique_contracts!P97","v":0},{"$f":"unique_contracts!R97","v":0},{"$f":"unique_contracts!V97","v":0},{"$f":"unique_contracts!AB97","v":"sell"},{"$f":"unique_contracts!AM97","v":2013},{"$f":"unique_contracts!AN97","v":5},{"$f":"unique_contracts!AO97","v":20},{"$f":"unique_contracts!AP97","v":2023},{"$f":"unique_contracts!AQ97","v":5},{"$f":"unique_contracts!AR97","v":19},{"$f":"unique_contracts!BP97","v":"EnergyOnly"},0,{"$f":"IFERROR(IF(AND(I97>0,E97=\"NotHybrid\"),_xlfn.CONCAT(MAX(MIN(ROUNDDOWN(I97/D97,0),8),4),INDEX(resources!$G:$G,MATCH(B97,resources!$A:$A,0))),INDEX(resources!$G:$G,MATCH(B97,resources!$A:$A,0))),\"n/a\")","v":"utility_pv"},"n/a","utility_pv",2013,2022,1,1,{"$f":"MIN((IFERROR(IF(AND($V97<=Z$1,$W97>=Z$1),INDEX(Reliability!E$23:E$50,MATCH($S97,Reliability!$C$23:$C$50,0)),0),0)*IF($T97=\"n/a\",$D97*$Y97,$G97)+IFERROR(IF(AND($V97<=Z$1,$W97>=Z$1),INDEX(Reliability!E$23:E$50,MATCH($T97,Reliability!$C$23:$C$50,0)),0),0)*$H97*$X97*$Y97),$D97)*$R97","v":0},{"$f":"MIN((IFERROR(IF(AND($V97<=AA$1,$W97>=AA$1),INDEX(Reliability!F$23:F$50,MATCH($S97,Reliability!$C$23:$C$50,0)),0),0)*IF($T97=\"n/a\",$D97*$Y97,$G97)+IFERROR(IF(AND($V97<=AA$1,$W97>=AA$1),INDEX(Reliability!F$23:F$50,MATCH($T97,Reliability!$C$23:$C$50,0)),0),0)*$H97*$X97*$Y97),$D97)*$R97","v":0},{"$f":"MIN((IFERROR(IF(AND($V97<=AB$1,$W97>=AB$1),INDEX(Reliability!G$23:G$50,MATCH($S97,Reliability!$C$23:$C$50,0)),0),0)*IF($T97=\"n/a\",$D97*$Y97,$G97)+IFERROR(IF(AND($V97<=AB$1,$W97>=AB$1),INDEX(Reliability!G$23:G$50,MATCH($T97,Reliability!$C$23:$C$50,0)),0),0)*$H97*$X97*$Y97),$D97)*$R97","v":0},{"$f":"MIN((IFERROR(IF(AND($V97<=AC$1,$W97>=AC$1),INDEX(Reliability!H$23:H$50,MATCH($S97,Reliability!$C$23:$C$50,0)),0),0)*IF($T97=\"n/a\",$D97*$Y97,$G97)+IFERROR(IF(AND($V97<=AC$1,$W97>=AC$1),INDEX(Reliability!H$23:H$50,MATCH($T97,Reliability!$C$23:$C$50,0)),0),0)*$H97*$X97*$Y97),$D97)*$R97","v":0},{"$f":"MIN((IFERROR(IF(AND($V97<=AD$1,$W97>=AD$1),INDEX(Reliability!I$23:I$50,MATCH($S97,Reliability!$C$23:$C$50,0)),0),0)*IF($T97=\"n/a\",$D97*$Y97,$G97)+IFERROR(IF(AND($V97<=AD$1,$W97>=AD$1),INDEX(Reliability!I$23:I$50,MATCH($T97,Reliability!$C$23:$C$50,0)),0),0)*$H97*$X97*$Y97),$D97)*$R97","v":0},{"$f":"MIN((IFERROR(IF(AND($V97<=AE$1,$W97>=AE$1),INDEX(Reliability!J$23:J$50,MATCH($S97,Reliability!$C$23:$C$50,0)),0),0)*IF($T97=\"n/a\",$D97*$Y97,$G97)+IFERROR(IF(AND($V97<=AE$1,$W97>=AE$1),INDEX(Reliability!J$23:J$50,MATCH($T97,Reliability!$C$23:$C$50,0)),0),0)*$H97*$X97*$Y97),$D97)*$R97","v":0},{"$f":"MIN((IFERROR(IF(AND($V97<=AF$1,$W97>=AF$1),INDEX(Reliability!K$23:K$50,MATCH($S97,Reliability!$C$23:$C$50,0)),0),0)*IF($T97=\"n/a\",$D97*$Y97,$G97)+IFERROR(IF(AND($V97<=AF$1,$W97>=AF$1),INDEX(Reliability!K$23:K$50,MATCH($T97,Reliability!$C$23:$C$50,0)),0),0)*$H97*$X97*$Y97),$D97)*$R97","v":0},{"$f":"MIN((IFERROR(IF(AND($V97<=AG$1,$W97>=AG$1),INDEX(Reliability!L$23:L$50,MATCH($S97,Reliability!$C$23:$C$50,0)),0),0)*IF($T97=\"n/a\",$D97*$Y97,$G97)+IFERROR(IF(AND($V97<=AG$1,$W97>=AG$1),INDEX(Reliability!L$23:L$50,MATCH($T97,Reliability!$C$23:$C$50,0)),0),0)*$H97*$X97*$Y97),$D97)*$R97","v":0},{"$f":"MIN((IFERROR(IF(AND($V97<=AH$1,$W97>=AH$1),INDEX(Reliability!M$23:M$50,MATCH($S97,Reliability!$C$23:$C$50,0)),0),0)*IF($T97=\"n/a\",$D97*$Y97,$G97)+IFERROR(IF(AND($V97<=AH$1,$W97>=AH$1),INDEX(Reliability!M$23:M$50,MATCH($T97,Reliability!$C$23:$C$50,0)),0),0)*$H97*$X97*$Y97),$D97)*$R97","v":0},{"$f":"MIN((IFERROR(IF(AND($V97<=AI$1,$W97>=AI$1),INDEX(Reliability!N$23:N$50,MATCH($S97,Reliability!$C$23:$C$50,0)),0),0)*IF($T97=\"n/a\",$D97*$Y97,$G97)+IFERROR(IF(AND($V97<=AI$1,$W97>=AI$1),INDEX(Reliability!N$23:N$50,MATCH($T97,Reliability!$C$23:$C$50,0)),0),0)*$H97*$X97*$Y97),$D97)*$R97","v":0},{"$f":"MIN((IFERROR(IF(AND($V97<=AJ$1,$W97>=AJ$1),INDEX(Reliability!O$23:O$50,MATCH($S97,Reliability!$C$23:$C$50,0)),0),0)*IF($T97=\"n/a\",$D97*$Y97,$G97)+IFERROR(IF(AND($V97<=AJ$1,$W97>=AJ$1),INDEX(Reliability!O$23:O$50,MATCH($T97,Reliability!$C$23:$C$50,0)),0),0)*$H97*$X97*$Y97),$D97)*$R97","v":0},{"$f":"MIN((IFERROR(IF(AND($V97<=AK$1,$W97>=AK$1),INDEX(Reliability!P$23:P$50,MATCH($S97,Reliability!$C$23:$C$50,0)),0),0)*IF($T97=\"n/a\",$D97*$Y97,$G97)+IFERROR(IF(AND($V97<=AK$1,$W97>=AK$1),INDEX(Reliability!P$23:P$50,MATCH($T97,Reliability!$C$23:$C$50,0)),0),0)*$H97*$X97*$Y97),$D97)*$R97","v":0}]
[null,{"$f":"unique_contracts!B98","v":"CHILLS_7_UNITA1"},{"$f":"unique_contracts!D98","v":"Online"},{"$f":"unique_contracts!J98","v":2.25},{"$f":"unique_contracts!M98","v":"NotHybrid"},{"$f":"unique_contracts!N98","v":"NA"},{"$f":"unique_contracts!P98","v":0},{"$f":"unique_contracts!R98","v":0},{"$f":"unique_contracts!V98","v":0},{"$f":"unique_contracts!AB98","v":0},{"$f":"unique_contracts!AM98","v":2014},{"$f":"unique_contracts!AN98","v":3},{"$f":"unique_contracts!AO98","v":30},{"$f":"unique_contracts!AP98","v":2024},{"$f":"unique_contracts!AQ98","v":3},{"$f":"unique_contracts!AR98","v":29},{"$f":"unique_contracts!BP98","v":"EnergyCapacity"},1,{"$f":"IFERROR(IF(AND(I98>0,E98=\"NotHybrid\"),_xlfn.CONCAT(MAX(MIN(ROUNDDOWN(I98/D98,0),8),4),INDEX(resources!$G:$G,MATCH(B98,resources!$A:$A,0))),INDEX(resources!$G:$G,MATCH(B98,resources!$A:$A,0))),\"n/a\")","v":"biomass_wood"},"n/a","biomass_wood",2014,2023,1,1,{"$f":"MIN((IFERROR(IF(AND($V98<=Z$1,$W98>=Z$1),INDEX(Reliability!E$23:E$50,MATCH($S98,Reliability!$C$23:$C$50,0)),0),0)*IF($T98=\"n/a\",$D98*$Y98,$G98)+IFERROR(IF(AND($V98<=Z$1,$W98>=Z$1),INDEX(Reliability!E$23:E$50,MATCH($T98,Reliability!$C$23:$C$50,0)),0),0)*$H98*$X98*$Y98),$D98)*$R98","v":0},{"$f":"MIN((IFERROR(IF(AND($V98<=AA$1,$W98>=AA$1),INDEX(Reliability!F$23:F$50,MATCH($S98,Reliability!$C$23:$C$50,0)),0),0)*IF($T98=\"n/a\",$D98*$Y98,$G98)+IFERROR(IF(AND($V98<=AA$1,$W98>=AA$1),INDEX(Reliability!F$23:F$50,MATCH($T98,Reliability!$C$23:$C$50,0)),0),0)*$H98*$X98*$Y98),$D98)*$R98","v":0},{"$f":"MIN((IFERROR(IF(AND($V98<=AB$1,$W98>=AB$1),INDEX(Reliability!G$23:G$50,MATCH($S98,Reliability!$C$23:$C$50,0)),0),0)*IF($T98=\"n/a\",$D98*$Y98,$G98)+IFERROR(IF(AND($V98<=AB$1,$W98>=AB$1),INDEX(Reliability!G$23:G$50,MATCH($T98,Reliability!$C$23:$C$50,0)),0),0)*$H98*$X98*$Y98),$D98)*$R98","v":0},{"$f":"MIN((IFERROR(IF(AND($V98<=AC$1,$W98>=AC$1),INDEX(Reliability!H$23:H$50,MATCH($S98,Reliability!$C$23:$C$50,0)),0),0)*IF($T98=\"n/a\",$D98*$Y98,$G98)+IFERROR(IF(AND($V98<=AC$1,$W98>=AC$1),INDEX(Reliability!H$23:H$50,MATCH($T98,Reliability!$C$23:$C$50,0)),0),0)*$H98*$X98*$Y98),$D98)*$R98","v":0},{"$f":"MIN((IFERROR(IF(AND($V98<=AD$1,$W98>=AD$1),INDEX(Reliability!I$23:I$50,MATCH($S98,Reliability!$C$23:$C$50,0)),0),0)*IF($T98=\"n/a\",$D98*$Y98,$G98)+IFERROR(IF(AND($V98<=AD$1,$W98>=AD$1),INDEX(Reliability!I$23:I$50,MATCH($T98,Reliability!$C$23:$C$50,0)),0),0)*$H98*$X98*$Y98),$D98)*$R98","v":0},{"$f":"MIN((IFERROR(IF(AND($V98<=AE$1,$W98>=AE$1),INDEX(Reliability!J$23:J$50,MATCH($S98,Reliability!$C$23:$C$50,0)),0),0)*IF($T98=\"n/a\",$D98*$Y98,$G98)+IFERROR(IF(AND($V98<=AE$1,$W98>=AE$1),INDEX(Reliability!J$23:J$50,MATCH($T98,Reliability!$C$23:$C$50,0)),0),0)*$H98*$X98*$Y98),$D98)*$R98","v":0},{"$f":"MIN((IFERROR(IF(AND($V98<=AF$1,$W98>=AF$1),INDEX(Reliability!K$23:K$50,MATCH($S98,Reliability!$C$23:$C$50,0)),0),0)*IF($T98=\"n/a\",$D98*$Y98,$G98)+IFERROR(IF(AND($V98<=AF$1,$W98>=AF$1),INDEX(Reliability!K$23:K$50,MATCH($T98,Reliability!$C$23:$C$50,0)),0),0)*$H98*$X98*$Y98),$D98)*$R98","v":0},{"$f":"MIN((IFERROR(IF(AND($V98<=AG$1,$W98>=AG$1),INDEX(Reliability!L$23:L$50,MATCH($S98,Reliability!$C$23:$C$50,0)),0),0)*IF($T98=\"n/a\",$D98*$Y98,$G98)+IFERROR(IF(AND($V98<=AG$1,$W98>=AG$1),INDEX(Reliability!L$23:L$50,MATCH($T98,Reliability!$C$23:$C$50,0)),0),0)*$H98*$X98*$Y98),$D98)*$R98","v":0},{"$f":"MIN((IFERROR(IF(AND($V98<=AH$1,$W98>=AH$1),INDEX(Reliability!M$23:M$50,MATCH($S98,Reliability!$C$23:$C$50,0)),0),0)*IF($T98=\"n/a\",$D98*$Y98,$G98)+IFERROR(IF(AND($V98<=AH$1,$W98>=AH$1),INDEX(Reliability!M$23:M$50,MATCH($T98,Reliability!$C$23:$C$50,0)),0),0)*$H98*$X98*$Y98),$D98)*$R98","v":0},{"$f":"MIN((IFERROR(IF(AND($V98<=AI$1,$W98>=AI$1),INDEX(Reliability!N$23:N$50,MATCH($S98,Reliability!$C$23:$C$50,0)),0),0)*IF($T98=\"n/a\",$D98*$Y98,$G98)+IFERROR(IF(AND($V98<=AI$1,$W98>=AI$1),INDEX(Reliability!N$23:N$50,MATCH($T98,Reliability!$C$23:$C$50,0)),0),0)*$H98*$X98*$Y98),$D98)*$R98","v":0},{"$f":"MIN((IFERROR(IF(AND($V98<=AJ$1,$W98>=AJ$1),INDEX(Reliability!O$23:O$50,MATCH($S98,Reliability!$C$23:$C$50,0)),0),0)*IF($T98=\"n/a\",$D98*$Y98,$G98)+IFERROR(IF(AND($V98<=AJ$1,$W98>=AJ$1),INDEX(Reliability!O$23:O$50,MATCH($T98,Reliability!$C$23:$C$50,0)),0),0)*$H98*$X98*$Y98),$D98)*$R98","v":0},{"$f":"MIN((IFERROR(IF(AND($V98<=AK$1,$W98>=AK$1),INDEX(Reliability!P$23:P$50,MATCH($S98,Reliability!$C$23:$C$50,0)),0),0)*IF($T98=\"n/a\",$D98*$Y98,$G98)+IFERROR(IF(AND($V98<=AK$1,$W98>=AK$1),INDEX(Reliability!P$23:P$50,MATCH($T98,Reliability!$C$23:$C$50,0)),0),0)*$H98*$X98*$Y98),$D98)*$R98","v":0}]
[null,{"$f":"unique_contracts!B99","v":"LASSEN_6_UNITS"},{"$f":"unique_contracts!D99","v":"Online"},{"$f":"unique_contracts!J99","v":30},{"$f":"unique_contracts!M99","v":"NotHybrid"},{"$f":"unique_contracts!N99","v":"NA"},{"$f":"unique_contracts!P99","v":0},{"$f":"unique_contracts!R99","v":0},{"$f":"unique_contracts!V99","v":0},{"$f":"unique_contracts!AB99","v":0},{"$f":"unique_contracts!AM99","v":2017},{"$f":"unique_contracts!AN99","v":2},{"$f":"unique_contracts!AO99","v":1},{"$f":"unique_contracts!AP99","v":2027},{"$f":"unique_contracts!AQ99","v":1},{"$f":"unique_contracts!AR99","v":31},{"$f":"unique_contracts!BP99","v":"EnergyCapacity"},1,{"$f":"IFERROR(IF(AND(I99>0,E99=\"NotHybrid\"),_xlfn.CONCAT(MAX(MIN(ROUNDDOWN(I99/D99,0),8),4),INDEX(resources!$G:$G,MATCH(B99,resources!$A:$A,0))),INDEX(resources!$G:$G,MATCH(B99,resources!$A:$A,0))),\"n/a\")","v":"biomass_wood"},"n/a","biomass_wood",2017,2026,1,1,{"$f":"MIN((IFERROR(IF(AND($V99<=Z$1,$W99>=Z$1),INDEX(Reliability!E$23:E$50,MATCH($S99,Reliability!$C$23:$C$50,0)),0),0)*IF($T99=\"n/a\",$D99*$Y99,$G99)+IFERROR(IF(AND($V99<=Z$1,$W99>=Z$1),INDEX(Reliability!E$23:E$50,MATCH($T99,Reliability!$C$23:$C$50,0)),0),0)*$H99*$X99*$Y99),$D99)*$R99","v":23.633175632839382},{"$f":"MIN((IFERROR(IF(AND($V99<=AA$1,$W99>=AA$1),INDEX(Reliability!F$23:F$50,MATCH($S99,Reliability!$C$23:$C$50,0)),0),0)*IF($T99=\"n/a\",$D99*$Y99,$G99)+IFERROR(IF(AND($V99<=AA$1,$W99>=AA$1),INDEX(Reliability!F$23:F$50,MATCH($T99,Reliability!$C$23:$C$50,0)),0),0)*$H99*$X99*$Y99),$D99)*$R99","v":24.262055731329625},{"$f":"MIN((IFERROR(IF(AND($V99<=AB$1,$W99>=AB$1),INDEX(Reliability!G$23:G$50,MATCH($S99,Reliability!$C$23:$C$50,0)),0),0)*IF($T99=\"n/a\",$D99*$Y99,$G99)+IFERROR(IF(AND($V99<=AB$1,$W99>=AB$1),INDEX(Reliability!G$23:G$50,MATCH($T99,Reliability!$C$23:$C$50,0)),0),0)*$H99*$X99*$Y99),$D99)*$R99","v":24.89093582981987},{"$f":"MIN((IFERROR(IF(AND($V99<=AC$1,$W99>=AC$1),INDEX(Reliability!H$23:H$50,MATCH($S99,Reliability!$C$23:$C$50,0)),0),0)*IF($T99=\"n/a\",$D99*$Y99,$G99)+IFERROR(IF(AND($V99<=AC$1,$W99>=AC$1),INDEX(Reliability!H$23:H$50,MATCH($T99,Reliability!$C$23:$C$50,0)),0),0)*$H99*$X99*$Y99),$D99)*$R99","v":0},{"$f":"MIN((IFERROR(IF(AND($V99<=AD$1,$W99>=AD$1),INDEX(Reliability!I$23:I$50,MATCH($S99,Reliability!$C$23:$C$50,0)),0),0)*IF($T99=\"n/a\",$D99*$Y99,$G99)+IFERROR(IF(AND($V99<=AD$1,$W99>=AD$1),INDEX(Reliability!I$23:I$50,MATCH($T99,Reliability!$C$23:$C$50,0)),0),0)*$H99*$X99*$Y99),$D99)*$R99","v":0},{"$f":"MIN((IFERROR(IF(AND($V99<=AE$1,$W99>=AE$1),INDEX(Reliability!J$23:J$50,MATCH($S99,Reliability!$C$23:$C$50,0)),0),0)*IF($T99=\"n/a\",$D99*$Y99,$G99)+IFERROR(IF(AND($V99<=AE$1,$W99>=AE$1),INDEX(Reliability!J$23:J$50,MATCH($T99,Reliability!$C$23:$C$50,0)),0),0)*$H99*$X99*$Y99),$D99)*$R99","v":0},{"$f":"MIN((IFERROR(IF(AND($V99<=AF$1,$W99>=AF$1),INDEX(Reliability!K$23:K$50,MATCH($S99,Reliability!$C$23:$C$50,0)),0),0)*IF($T99=\"n/a\",$D99*$Y99,$G99)+IFERROR(IF(AND($V99<=AF$1,$W99>=AF$1),INDEX(Reliability!K$23:K$50,MATCH($T99,Reliability!$C$23:$C$50,0)),0),0)*$H99*$X99*$Y99),$D99)*$R99","v":0},{"$f":"MIN((IFERROR(IF(AND($V99<=AG$1,$W99>=AG$1),INDEX(Reliability!L$23:L$50,MATCH($S99,Reliability!$C$23:$C$50,0)),0),0)*IF($T99=\"n/a\",$D99*$Y99,$G99)+IFERROR(IF(AND($V99<=AG$1,$W99>=AG$1),INDEX(Reliability!L$23:L$50,MATCH($T99,Reliability!$C$23:$C$50,0)),0),0)*$H99*$X99*$Y99),$D99)*$R99","v":0},{"$f":"MIN((IFERROR(IF(AND($V99<=AH$1,$W99>=AH$1),INDEX(Reliability!M$23:M$50,MATCH($S99,Reliability!$C$23:$C$50,0)),0),0)*IF($T99=\"n/a\",$D99*$Y99,$G99)+IFERROR(IF(AND($V99<=AH$1,$W99>=AH$1),INDEX(Reliability!M$23:M$50,MATCH($T99,Reliability!$C$23:$C$50,0)),0),0)*$H99*$X99*$Y99),$D99)*$R99","v":0},{"$f":"MIN((IFERROR(IF(AND($V99<=AI$1,$W99>=AI$1),INDEX(Reliability!N$23:N$50,MATCH($S99,Reliability!$C$23:$C$50,0)),0),0)*IF($T99=\"n/a\",$D99*$Y99,$G99)+IFERROR(IF(AND($V99<=AI$1,$W99>=AI$1),INDEX(Reliability!N$23:N$50,MATCH($T99,Reliability!$C$23:$C$50,0)),0),0)*$H99*$X99*$Y99),$D99)*$R99","v":0},{"$f":"MIN((IFERROR(IF(AND($V99<=AJ$1,$W99>=AJ$1),INDEX(Reliability!O$23:O$50,MATCH($S99,Reliability!$C$23:$C$50,0)),0),0)*IF($T99=\"n/a\",$D99*$Y99,$G99)+IFERROR(IF(AND($V99<=AJ$1,$W99>=AJ$1),INDEX(Reliability!O$23:O$50,MATCH($T99,Reliability!$C$23:$C$50,0)),0),0)*$H99*$X99*$Y99),$D99)*$R99","v":0},{"$f":"MIN((IFERROR(IF(AND($V99<=AK$1,$W99>=AK$1),INDEX(Reliability!P$23:P$50,MATCH($S99,Reliability!$C$23:$C$50,0)),0),0)*IF($T99=\"n/a\",$D99*$Y99,$G99)+IFERROR(IF(AND($V99<=AK$1,$W99>=AK$1),INDEX(Reliability!P$23:P$50,MATCH($T99,Reliability!$C$23:$C$50,0)),0),0)*$H99*$X99*$Y99),$D99)*$R99","v":0}]
[null,{"$f":"unique_contracts!B100","v":"_EXISTING_GENERIC_INSTATE_SMALL_HYDRO"},{"$f":"unique_contracts!D100","v":"Online"},{"$f":"unique_contracts!J100","v":0.45},{"$f":"unique_contracts!M100","v":"NotHybrid"},{"$f":"unique_contracts!N100","v":"NA"},{"$f":"unique_contracts!P100","v":0},{"$f":"unique_contracts!R100","v":0},{"$f":"unique_contracts!V100","v":0},{"$f":"unique_contracts!AB100","v":0},{"$f":"unique_contracts!AM100","v":2013},{"$f":"unique_contracts!AN100","v":10},{"$f":"unique_contracts!AO100","v":1},{"$f":"unique_contracts!AP100","v":2033},{"$f":"unique_contracts!AQ100","v":9},{"$f":"unique_contracts!AR100","v":30},{"$f":"unique_contracts!BP100","v":"EnergyOnly"},0,{"$f":"IFERROR(IF(AND(I100>0,E100=\"NotHybrid\"),_xlfn.CONCAT(MAX(MIN(ROUNDDOWN(I100/D100,0),8),4),INDEX(resources!$G:$G,MATCH(B100,resources!$A:$A,0))),INDEX(resources!$G:$G,MATCH(B100,resources!$A:$A,0))),\"n/a\")","v":"hydro"},"n/a","hydro",2014,2032,1,1,{"$f":"MIN((IFERROR(IF(AND($V100<=Z$1,$W100>=Z$1),INDEX(Reliability!E$23:E$50,MATCH($S100,Reliability!$C$23:$C$50,0)),0),0)*IF($T100=\"n/a\",$D100*$Y100,$G100)+IFERROR(IF(AND($V100<=Z$1,$W100>=Z$1),INDEX(Reliability!E$23:E$50,MATCH($T100,Reliability!$C$23:$C$50,0)),0),0)*$H100*$X100*$Y100),$D100)*$R100","v":0},{"$f":"MIN((IFERROR(IF(AND($V100<=AA$1,$W100>=AA$1),INDEX(Reliability!F$23:F$50,MATCH($S100,Reliability!$C$23:$C$50,0)),0),0)*IF($T100=\"n/a\",$D100*$Y100,$G100)+IFERROR(IF(AND($V100<=AA$1,$W100>=AA$1),INDEX(Reliability!F$23:F$50,MATCH($T100,Reliability!$C$23:$C$50,0)),0),0)*$H100*$X100*$Y100),$D100)*$R100","v":0},{"$f":"MIN((IFERROR(IF(AND($V100<=AB$1,$W100>=AB$1),INDEX(Reliability!G$23:G$50,MATCH($S100,Reliability!$C$23:$C$50,0)),0),0)*IF($T100=\"n/a\",$D100*$Y100,$G100)+IFERROR(IF(AND($V100<=AB$1,$W100>=AB$1),INDEX(Reliability!G$23:G$50,MATCH($T100,Reliability!$C$23:$C$50,0)),0),0)*$H100*$X100*$Y100),$D100)*$R100","v":0},{"$f":"MIN((IFERROR(IF(AND($V100<=AC$1,$W100>=AC$1),INDEX(Reliability!H$23:H$50,MATCH($S100,Reliability!$C$23:$C$50,0)),0),0)*IF($T100=\"n/a\",$D100*$Y100,$G100)+IFERROR(IF(AND($V100<=AC$1,$W100>=AC$1),INDEX(Reliability!H$23:H$50,MATCH($T100,Reliability!$C$23:$C$50,0)),0),0)*$H100*$X100*$Y100),$D100)*$R100","v":0},{"$f":"MIN((IFERROR(IF(AND($V100<=AD$1,$W100>=AD$1),INDEX(Reliability!I$23:I$50,MATCH($S100,Reliability!$C$23:$C$50,0)),0),0)*IF($T100=\"n/a\",$D100*$Y100,$G100)+IFERROR(IF(AND($V100<=AD$1,$W100>=AD$1),INDEX(Reliability!I$23:I$50,MATCH($T100,Reliability!$C$23:$C$50,0)),0),0)*$H100*$X100*$Y100),$D100)*$R100","v":0},{"$f":"MIN((IFERROR(IF(AND($V100<=AE$1,$W100>=AE$1),INDEX(Reliability!J$23:J$50,MATCH($S100,Reliability!$C$23:$C$50,0)),0),0)*IF($T100=\"n/a\",$D100*$Y100,$G100)+IFERROR(IF(AND($V100<=AE$1,$W100>=AE$1),INDEX(Reliability!J$23:J$50,MATCH($T100,Reliability!$C$23:$C$50,0)),0),0)*$H100*$X100*$Y100),$D100)*$R100","v":0},{"$f":"MIN((IFERROR(IF(AND($V100<=AF$1,$W100>=AF$1),INDEX(Reliability!K$23:K$50,MATCH($S100,Reliability!$C$23:$C$50,0)),0),0)*IF($T100=\"n/a\",$D100*$Y100,$G100)+IFERROR(IF(AND($V100<=AF$1,$W100>=AF$1),INDEX(Reliability!K$23:K$50,MATCH($T100,Reliability!$C$23:$C$50,0)),0),0)*$H100*$X100*$Y100),$D100)*$R100","v":0},{"$f":"MIN((IFERROR(IF(AND($V100<=AG$1,$W100>=AG$1),INDEX(Reliability!L$23:L$50,MATCH($S100,Reliability!$C$23:$C$50,0)),0),0)*IF($T100=\"n/a\",$D100*$Y100,$G100)+IFERROR(IF(AND($V100<=AG$1,$W100>=AG$1),INDEX(Reliability!L$23:L$50,MATCH($T100,Reliability!$C$23:$C$50,0)),0),0)*$H100*$X100*$Y100),$D100)*$R100","v":0},{"$f":"MIN((IFERROR(IF(AND($V100<=AH$1,$W100>=AH$1),INDEX(Reliability!M$23:M$50,MATCH($S100,Reliability!$C$23:$C$50,0)),0),0)*IF($T100=\"n/a\",$D100*$Y100,$G100)+IFERROR(IF(AND($V100<=AH$1,$W100>=AH$1),INDEX(Reliability!M$23:M$50,MATCH($T100,Reliability!$C$23:$C$50,0)),0),0)*$H100*$X100*$Y100),$D100)*$R100","v":0},{"$f":"MIN((IFERROR(IF(AND($V100<=AI$1,$W100>=AI$1),INDEX(Reliability!N$23:N$50,MATCH($S100,Reliability!$C$23:$C$50,0)),0),0)*IF($T100=\"n/a\",$D100*$Y100,$G100)+IFERROR(IF(AND($V100<=AI$1,$W100>=AI$1),INDEX(Reliability!N$23:N$50,MATCH($T100,Reliability!$C$23:$C$50,0)),0),0)*$H100*$X100*$Y100),$D100)*$R100","v":0},{"$f":"MIN((IFERROR(IF(AND($V100<=AJ$1,$W100>=AJ$1),INDEX(Reliability!O$23:O$50,MATCH($S100,Reliability!$C$23:$C$50,0)),0),0)*IF($T100=\"n/a\",$D100*$Y100,$G100)+IFERROR(IF(AND($V100<=AJ$1,$W100>=AJ$1),INDEX(Reliability!O$23:O$50,MATCH($T100,Reliability!$C$23:$C$50,0)),0),0)*$H100*$X100*$Y100),$D100)*$R100","v":0},{"$f":"MIN((IFERROR(IF(AND($V100<=AK$1,$W100>=AK$1),INDEX(Reliability!P$23:P$50,MATCH($S100,Reliability!$C$23:$C$50,0)),0),0)*IF($T100=\"n/a\",$D100*$Y100,$G100)+IFERROR(IF(AND($V100<=AK$1,$W100>=AK$1),INDEX(Reliability!P$23:P$50,MATCH($T100,Reliability!$C$23:$C$50,0)),0),0)*$H100*$X100*$Y100),$D100)*$R100","v":0}]
[null,{"$f":"unique_contracts!B101","v":"_EXISTING_GENERIC_INSTATE_SMALL_HYDRO"},{"$f":"unique_contracts!D101","v":"Online"},{"$f":"unique_contracts!J101","v":0.35},{"$f":"unique_contracts!M101","v":"NotHybrid"},{"$f":"unique_contracts!N101","v":"NA"},{"$f":"unique_contracts!P101","v":0},{"$f":"unique_contracts!R101","v":0},{"$f":"unique_contracts!V101","v":0},{"$f":"unique_contracts!AB101","v":0},{"$f":"unique_contracts!AM101","v":1985},{"$f":"unique_contracts!AN101","v":12},{"$f":"unique_contracts!AO101","v":15},{"$f":"unique_contracts!AP101","v":2060},{"$f":"unique_contracts!AQ101","v":12},{"$f":"unique_contracts!AR101","v":31},{"$f":"unique_contracts!BP101","v":"EnergyOnly"},0,{"$f":"IFERROR(IF(AND(I101>0,E101=\"NotHybrid\"),_xlfn.CONCAT(MAX(MIN(ROUNDDOWN(I101/D101,0),8),4),INDEX(resources!$G:$G,MATCH(B101,resources!$A:$A,0))),INDEX(resources!$G:$G,MATCH(B101,resources!$A:$A,0))),\"n/a\")","v":"hydro"},"n/a","hydro",1986,2060,1,1,{"$f":"MIN((IFERROR(IF(AND($V101<=Z$1,$W101>=Z$1),INDEX(Reliability!E$23:E$50,MATCH($S101,Reliability!$C$23:$C$50,0)),0),0)*IF($T101=\"n/a\",$D101*$Y101,$G101)+IFERROR(IF(AND($V101<=Z$1,$W101>=Z$1),INDEX(Reliability!E$23:E$50,MATCH($T101,Reliability!$C$23:$C$50,0)),0),0)*$H101*$X101*$Y101),$D101)*$R101","v":0},{"$f":"MIN((IFERROR(IF(AND($V101<=AA$1,$W101>=AA$1),INDEX(Reliability!F$23:F$50,MATCH($S101,Reliability!$C$23:$C$50,0)),0),0)*IF($T101=\"n/a\",$D101*$Y101,$G101)+IFERROR(IF(AND($V101<=AA$1,$W101>=AA$1),INDEX(Reliability!F$23:F$50,MATCH($T101,Reliability!$C$23:$C$50,0)),0),0)*$H101*$X101*$Y101),$D101)*$R101","v":0},{"$f":"MIN((IFERROR(IF(AND($V101<=AB$1,$W101>=AB$1),INDEX(Reliability!G$23:G$50,MATCH($S101,Reliability!$C$23:$C$50,0)),0),0)*IF($T101=\"n/a\",$D101*$Y101,$G101)+IFERROR(IF(AND($V101<=AB$1,$W101>=AB$1),INDEX(Reliability!G$23:G$50,MATCH($T101,Reliability!$C$23:$C$50,0)),0),0)*$H101*$X101*$Y101),$D101)*$R101","v":0},{"$f":"MIN((IFERROR(IF(AND($V101<=AC$1,$W101>=AC$1),INDEX(Reliability!H$23:H$50,MATCH($S101,Reliability!$C$23:$C$50,0)),0),0)*IF($T101=\"n/a\",$D101*$Y101,$G101)+IFERROR(IF(AND($V101<=AC$1,$W101>=AC$1),INDEX(Reliability!H$23:H$50,MATCH($T101,Reliability!$C$23:$C$50,0)),0),0)*$H101*$X101*$Y101),$D101)*$R101","v":0},{"$f":"MIN((IFERROR(IF(AND($V101<=AD$1,$W101>=AD$1),INDEX(Reliability!I$23:I$50,MATCH($S101,Reliability!$C$23:$C$50,0)),0),0)*IF($T101=\"n/a\",$D101*$Y101,$G101)+IFERROR(IF(AND($V101<=AD$1,$W101>=AD$1),INDEX(Reliability!I$23:I$50,MATCH($T101,Reliability!$C$23:$C$50,0)),0),0)*$H101*$X101*$Y101),$D101)*$R101","v":0},{"$f":"MIN((IFERROR(IF(AND($V101<=AE$1,$W101>=AE$1),INDEX(Reliability!J$23:J$50,MATCH($S101,Reliability!$C$23:$C$50,0)),0),0)*IF($T101=\"n/a\",$D101*$Y101,$G101)+IFERROR(IF(AND($V101<=AE$1,$W101>=AE$1),INDEX(Reliability!J$23:J$50,MATCH($T101,Reliability!$C$23:$C$50,0)),0),0)*$H101*$X101*$Y101),$D101)*$R101","v":0},{"$f":"MIN((IFERROR(IF(AND($V101<=AF$1,$W101>=AF$1),INDEX(Reliability!K$23:K$50,MATCH($S101,Reliability!$C$23:$C$50,0)),0),0)*IF($T101=\"n/a\",$D101*$Y101,$G101)+IFERROR(IF(AND($V101<=AF$1,$W101>=AF$1),INDEX(Reliability!K$23:K$50,MATCH($T101,Reliability!$C$23:$C$50,0)),0),0)*$H101*$X101*$Y101),$D101)*$R101","v":0},{"$f":"MIN((IFERROR(IF(AND($V101<=AG$1,$W101>=AG$1),INDEX(Reliability!L$23:L$50,MATCH($S101,Reliability!$C$23:$C$50,0)),0),0)*IF($T101=\"n/a\",$D101*$Y101,$G101)+IFERROR(IF(AND($V101<=AG$1,$W101>=AG$1),INDEX(Reliability!L$23:L$50,MATCH($T101,Reliability!$C$23:$C$50,0)),0),0)*$H101*$X101*$Y101),$D101)*$R101","v":0},{"$f":"MIN((IFERROR(IF(AND($V101<=AH$1,$W101>=AH$1),INDEX(Reliability!M$23:M$50,MATCH($S101,Reliability!$C$23:$C$50,0)),0),0)*IF($T101=\"n/a\",$D101*$Y101,$G101)+IFERROR(IF(AND($V101<=AH$1,$W101>=AH$1),INDEX(Reliability!M$23:M$50,MATCH($T101,Reliability!$C$23:$C$50,0)),0),0)*$H101*$X101*$Y101),$D101)*$R101","v":0},{"$f":"MIN((IFERROR(IF(AND($V101<=AI$1,$W101>=AI$1),INDEX(Reliability!N$23:N$50,MATCH($S101,Reliability!$C$23:$C$50,0)),0),0)*IF($T101=\"n/a\",$D101*$Y101,$G101)+IFERROR(IF(AND($V101<=AI$1,$W101>=AI$1),INDEX(Reliability!N$23:N$50,MATCH($T101,Reliability!$C$23:$C$50,0)),0),0)*$H101*$X101*$Y101),$D101)*$R101","v":0},{"$f":"MIN((IFERROR(IF(AND($V101<=AJ$1,$W101>=AJ$1),INDEX(Reliability!O$23:O$50,MATCH($S101,Reliability!$C$23:$C$50,0)),0),0)*IF($T101=\"n/a\",$D101*$Y101,$G101)+IFERROR(IF(AND($V101<=AJ$1,$W101>=AJ$1),INDEX(Reliability!O$23:O$50,MATCH($T101,Reliability!$C$23:$C$50,0)),0),0)*$H101*$X101*$Y101),$D101)*$R101","v":0},{"$f":"MIN((IFERROR(IF(AND($V101<=AK$1,$W101>=AK$1),INDEX(Reliability!P$23:P$50,MATCH($S101,Reliability!$C$23:$C$50,0)),0),0)*IF($T101=\"n/a\",$D101*$Y101,$G101)+IFERROR(IF(AND($V101<=AK$1,$W101>=AK$1),INDEX(Reliability!P$23:P$50,MATCH($T101,Reliability!$C$23:$C$50,0)),0),0)*$H101*$X101*$Y101),$D101)*$R101","v":0}]
[null,{"$f":"unique_contracts!B102","v":"_EXISTING_GENERIC_INSTATE_SMALL_HYDRO"},{"$f":"unique_contracts!D102","v":"Online"},{"$f":"unique_contracts!J102","v":1.5},{"$f":"unique_contracts!M102","v":"NotHybrid"},{"$f":"unique_contracts!N102","v":"NA"},{"$f":"unique_contracts!P102","v":0},{"$f":"unique_contracts!R102","v":0},{"$f":"unique_contracts!V102","v":0},{"$f":"unique_contracts!AB102","v":0},{"$f":"unique_contracts!AM102","v":1994},{"$f":"unique_contracts!AN102","v":4},{"$f":"unique_contracts!AO102","v":13},{"$f":"unique_contracts!AP102","v":2060},{"$f":"unique_contracts!AQ102","v":12},{"$f":"unique_contracts!AR102","v":31},{"$f":"unique_contracts!BP102","v":"EnergyOnly"},0,{"$f":"IFERROR(IF(AND(I102>0,E102=\"NotHybrid\"),_xlfn.CONCAT(MAX(MIN(ROUNDDOWN(I102/D102,0),8),4),INDEX(resources!$G:$G,MATCH(B102,resources!$A:$A,0))),INDEX(resources!$G:$G,MATCH(B102,resources!$A:$A,0))),\"n/a\")","v":"hydro"},"n/a","hydro",1994,2060,1,1,{"$f":"MIN((IFERROR(IF(AND($V102<=Z$1,$W102>=Z$1),INDEX(Reliability!E$23:E$50,MATCH($S102,Reliability!$C$23:$C$50,0)),0),0)*IF($T102=\"n/a\",$D102*$Y102,$G102)+IFERROR(IF(AND($V102<=Z$1,$W102>=Z$1),INDEX(Reliability!E$23:E$50,MATCH($T102,Reliability!$C$23:$C$50,0)),0),0)*$H102*$X102*$Y102),$D102)*$R102","v":0},{"$f":"MIN((IFERROR(IF(AND($V102<=AA$1,$W102>=AA$1),INDEX(Reliability!F$23:F$50,MATCH($S102,Reliability!$C$23:$C$50,0)),0),0)*IF($T102=\"n/a\",$D102*$Y102,$G102)+IFERROR(IF(AND($V102<=AA$1,$W102>=AA$1),INDEX(Reliability!F$23:F$50,MATCH($T102,Reliability!$C$23:$C$50,0)),0),0)*$H102*$X102*$Y102),$D102)*$R102","v":0},{"$f":"MIN((IFERROR(IF(AND($V102<=AB$1,$W102>=AB$1),INDEX(Reliability!G$23:G$50,MATCH($S102,Reliability!$C$23:$C$50,0)),0),0)*IF($T102=\"n/a\",$D102*$Y102,$G102)+IFERROR(IF(AND($V102<=AB$1,$W102>=AB$1),INDEX(Reliability!G$23:G$50,MATCH($T102,Reliability!$C$23:$C$50,0)),0),0)*$H102*$X102*$Y102),$D102)*$R102","v":0},{"$f":"MIN((IFERROR(IF(AND($V102<=AC$1,$W102>=AC$1),INDEX(Reliability!H$23:H$50,MATCH($S102,Reliability!$C$23:$C$50,0)),0),0)*IF($T102=\"n/a\",$D102*$Y102,$G102)+IFERROR(IF(AND($V102<=AC$1,$W102>=AC$1),INDEX(Reliability!H$23:H$50,MATCH($T102,Reliability!$C$23:$C$50,0)),0),0)*$H102*$X102*$Y102),$D102)*$R102","v":0},{"$f":"MIN((IFERROR(IF(AND($V102<=AD$1,$W102>=AD$1),INDEX(Reliability!I$23:I$50,MATCH($S102,Reliability!$C$23:$C$50,0)),0),0)*IF($T102=\"n/a\",$D102*$Y102,$G102)+IFERROR(IF(AND($V102<=AD$1,$W102>=AD$1),INDEX(Reliability!I$23:I$50,MATCH($T102,Reliability!$C$23:$C$50,0)),0),0)*$H102*$X102*$Y102),$D102)*$R102","v":0},{"$f":"MIN((IFERROR(IF(AND($V102<=AE$1,$W102>=AE$1),INDEX(Reliability!J$23:J$50,MATCH($S102,Reliability!$C$23:$C$50,0)),0),0)*IF($T102=\"n/a\",$D102*$Y102,$G102)+IFERROR(IF(AND($V102<=AE$1,$W102>=AE$1),INDEX(Reliability!J$23:J$50,MATCH($T102,Reliability!$C$23:$C$50,0)),0),0)*$H102*$X102*$Y102),$D102)*$R102","v":0},{"$f":"MIN((IFERROR(IF(AND($V102<=AF$1,$W102>=AF$1),INDEX(Reliability!K$23:K$50,MATCH($S102,Reliability!$C$23:$C$50,0)),0),0)*IF($T102=\"n/a\",$D102*$Y102,$G102)+IFERROR(IF(AND($V102<=AF$1,$W102>=AF$1),INDEX(Reliability!K$23:K$50,MATCH($T102,Reliability!$C$23:$C$50,0)),0),0)*$H102*$X102*$Y102),$D102)*$R102","v":0},{"$f":"MIN((IFERROR(IF(AND($V102<=AG$1,$W102>=AG$1),INDEX(Reliability!L$23:L$50,MATCH($S102,Reliability!$C$23:$C$50,0)),0),0)*IF($T102=\"n/a\",$D102*$Y102,$G102)+IFERROR(IF(AND($V102<=AG$1,$W102>=AG$1),INDEX(Reliability!L$23:L$50,MATCH($T102,Reliability!$C$23:$C$50,0)),0),0)*$H102*$X102*$Y102),$D102)*$R102","v":0},{"$f":"MIN((IFERROR(IF(AND($V102<=AH$1,$W102>=AH$1),INDEX(Reliability!M$23:M$50,MATCH($S102,Reliability!$C$23:$C$50,0)),0),0)*IF($T102=\"n/a\",$D102*$Y102,$G102)+IFERROR(IF(AND($V102<=AH$1,$W102>=AH$1),INDEX(Reliability!M$23:M$50,MATCH($T102,Reliability!$C$23:$C$50,0)),0),0)*$H102*$X102*$Y102),$D102)*$R102","v":0},{"$f":"MIN((IFERROR(IF(AND($V102<=AI$1,$W102>=AI$1),INDEX(Reliability!N$23:N$50,MATCH($S102,Reliability!$C$23:$C$50,0)),0),0)*IF($T102=\"n/a\",$D102*$Y102,$G102)+IFERROR(IF(AND($V102<=AI$1,$W102>=AI$1),INDEX(Reliability!N$23:N$50,MATCH($T102,Reliability!$C$23:$C$50,0)),0),0)*$H102*$X102*$Y102),$D102)*$R102","v":0},{"$f":"MIN((IFERROR(IF(AND($V102<=AJ$1,$W102>=AJ$1),INDEX(Reliability!O$23:O$50,MATCH($S102,Reliability!$C$23:$C$50,0)),0),0)*IF($T102=\"n/a\",$D102*$Y102,$G102)+IFERROR(IF(AND($V102<=AJ$1,$W102>=AJ$1),INDEX(Reliability!O$23:O$50,MATCH($T102,Reliability!$C$23:$C$50,0)),0),0)*$H102*$X102*$Y102),$D102)*$R102","v":0},{"$f":"MIN((IFERROR(IF(AND($V102<=AK$1,$W102>=AK$1),INDEX(Reliability!P$23:P$50,MATCH($S102,Reliability!$C$23:$C$50,0)),0),0)*IF($T102=\"n/a\",$D102*$Y102,$G102)+IFERROR(IF(AND($V102<=AK$1,$W102>=AK$1),INDEX(Reliability!P$23:P$50,MATCH($T102,Reliability!$C$23:$C$50,0)),0),0)*$H102*$X102*$Y102),$D102)*$R102","v":0}]
[null,{"$f":"unique_contracts!B103","v":"CNTNLA_2_SOLAR1"},{"$f":"unique_contracts!D103","v":"Online"},{"$f":"unique_contracts!J103","v":125},{"$f":"unique_contracts!M103","v":"NotHybrid"},{"$f":"unique_contracts!N103","v":"NA"},{"$f":"unique_contracts!P103","v":0},{"$f":"unique_contracts!R103","v":0},{"$f":"unique_contracts!V103","v":0},{"$f":"unique_contracts!AB103","v":0},{"$f":"unique_contracts!AM103","v":2014},{"$f":"unique_contracts!AN103","v":8},{"$f":"unique_contracts!AO103","v":1},{"$f":"unique_contracts!AP103","v":2034},{"$f":"unique_contracts!AQ103","v":7},{"$f":"unique_contracts!AR103","v":31},{"$f":"unique_contracts!BP103","v":"EnergyCapacity"},1,{"$f":"IFERROR(IF(AND(I103>0,E103=\"NotHybrid\"),_xlfn.CONCAT(MAX(MIN(ROUNDDOWN(I103/D103,0),8),4),INDEX(resources!$G:$G,MATCH(B103,resources!$A:$A,0))),INDEX(resources!$G:$G,MATCH(B103,resources!$A:$A,0))),\"n/a\")","v":"utility_pv"},"n/a","utility_pv",2015,2033,1,1,{"$f":"MIN((IFERROR(IF(AND($V103<=Z$1,$W103>=Z$1),INDEX(Reliability!E$23:E$50,MATCH($S103,Reliability!$C$23:$C$50,0)),0),0)*IF($T103=\"n/a\",$D103*$Y103,$G103)+IFERROR(IF(AND($V103<=Z$1,$W103>=Z$1),INDEX(Reliability!E$23:E$50,MATCH($T103,Reliability!$C$23:$C$50,0)),0),0)*$H103*$X103*$Y103),$D103)*$R103","v":12},{"$f":"MIN((IFERROR(IF(AND($V103<=AA$1,$W103>=AA$1),INDEX(Reliability!F$23:F$50,MATCH($S103,Reliability!$C$23:$C$50,0)),0),0)*IF($T103=\"n/a\",$D103*$Y103,$G103)+IFERROR(IF(AND($V103<=AA$1,$W103>=AA$1),INDEX(Reliability!F$23:F$50,MATCH($T103,Reliability!$C$23:$C$50,0)),0),0)*$H103*$X103*$Y103),$D103)*$R103","v":12.775080440737284},{"$f":"MIN((IFERROR(IF(AND($V103<=AB$1,$W103>=AB$1),INDEX(Reliability!G$23:G$50,MATCH($S103,Reliability!$C$23:$C$50,0)),0),0)*IF($T103=\"n/a\",$D103*$Y103,$G103)+IFERROR(IF(AND($V103<=AB$1,$W103>=AB$1),INDEX(Reliability!G$23:G$50,MATCH($T103,Reliability!$C$23:$C$50,0)),0),0)*$H103*$X103*$Y103),$D103)*$R103","v":13.550160881474572},{"$f":"MIN((IFERROR(IF(AND($V103<=AC$1,$W103>=AC$1),INDEX(Reliability!H$23:H$50,MATCH($S103,Reliability!$C$23:$C$50,0)),0),0)*IF($T103=\"n/a\",$D103*$Y103,$G103)+IFERROR(IF(AND($V103<=AC$1,$W103>=AC$1),INDEX(Reliability!H$23:H$50,MATCH($T103,Reliability!$C$23:$C$50,0)),0),0)*$H103*$X103*$Y103),$D103)*$R103","v":12.710040255379401},{"$f":"MIN((IFERROR(IF(AND($V103<=AD$1,$W103>=AD$1),INDEX(Reliability!I$23:I$50,MATCH($S103,Reliability!$C$23:$C$50,0)),0),0)*IF($T103=\"n/a\",$D103*$Y103,$G103)+IFERROR(IF(AND($V103<=AD$1,$W103>=AD$1),INDEX(Reliability!I$23:I$50,MATCH($T103,Reliability!$C$23:$C$50,0)),0),0)*$H103*$X103*$Y103),$D103)*$R103","v":11.869919629284228},{"$f":"MIN((IFERROR(IF(AND($V103<=AE$1,$W103>=AE$1),INDEX(Reliability!J$23:J$50,MATCH($S103,Reliability!$C$23:$C$50,0)),0),0)*IF($T103=\"n/a\",$D103*$Y103,$G103)+IFERROR(IF(AND($V103<=AE$1,$W103>=AE$1),INDEX(Reliability!J$23:J$50,MATCH($T103,Reliability!$C$23:$C$50,0)),0),0)*$H103*$X103*$Y103),$D103)*$R103","v":9.6849598146421148},{"$f":"MIN((IFERROR(IF(AND($V103<=AF$1,$W103>=AF$1),INDEX(Reliability!K$23:K$50,MATCH($S103,Reliability!$C$23:$C$50,0)),0),0)*IF($T103=\"n/a\",$D103*$Y103,$G103)+IFERROR(IF(AND($V103<=AF$1,$W103>=AF$1),INDEX(Reliability!K$23:K$50,MATCH($T103,Reliability!$C$23:$C$50,0)),0),0)*$H103*$X103*$Y103),$D103)*$R103","v":7.5},{"$f":"MIN((IFERROR(IF(AND($V103<=AG$1,$W103>=AG$1),INDEX(Reliability!L$23:L$50,MATCH($S103,Reliability!$C$23:$C$50,0)),0),0)*IF($T103=\"n/a\",$D103*$Y103,$G103)+IFERROR(IF(AND($V103<=AG$1,$W103>=AG$1),INDEX(Reliability!L$23:L$50,MATCH($T103,Reliability!$C$23:$C$50,0)),0),0)*$H103*$X103*$Y103),$D103)*$R103","v":7.6},{"$f":"MIN((IFERROR(IF(AND($V103<=AH$1,$W103>=AH$1),INDEX(Reliability!M$23:M$50,MATCH($S103,Reliability!$C$23:$C$50,0)),0),0)*IF($T103=\"n/a\",$D103*$Y103,$G103)+IFERROR(IF(AND($V103<=AH$1,$W103>=AH$1),INDEX(Reliability!M$23:M$50,MATCH($T103,Reliability!$C$23:$C$50,0)),0),0)*$H103*$X103*$Y103),$D103)*$R103","v":7.7},{"$f":"MIN((IFERROR(IF(AND($V103<=AI$1,$W103>=AI$1),INDEX(Reliability!N$23:N$50,MATCH($S103,Reliability!$C$23:$C$50,0)),0),0)*IF($T103=\"n/a\",$D103*$Y103,$G103)+IFERROR(IF(AND($V103<=AI$1,$W103>=AI$1),INDEX(Reliability!N$23:N$50,MATCH($T103,Reliability!$C$23:$C$50,0)),0),0)*$H103*$X103*$Y103),$D103)*$R103","v":7.8000000000000007},{"$f":"MIN((IFERROR(IF(AND($V103<=AJ$1,$W103>=AJ$1),INDEX(Reliability!O$23:O$50,MATCH($S103,Reliability!$C$23:$C$50,0)),0),0)*IF($T103=\"n/a\",$D103*$Y103,$G103)+IFERROR(IF(AND($V103<=AJ$1,$W103>=AJ$1),INDEX(Reliability!O$23:O$50,MATCH($T103,Reliability!$C$23:$C$50,0)),0),0)*$H103*$X103*$Y103),$D103)*$R103","v":0},{"$f":"MIN((IFERROR(IF(AND($V103<=AK$1,$W103>=AK$1),INDEX(Reliability!P$23:P$50,MATCH($S103,Reliability!$C$23:$C$50,0)),0),0)*IF($T103=\"n/a\",$D103*$Y103,$G103)+IFERROR(IF(AND($V103<=AK$1,$W103>=AK$1),INDEX(Reliability!P$23:P$50,MATCH($T103,Reliability!$C$23:$C$50,0)),0),0)*$H103*$X103*$Y103),$D103)*$R103","v":0}]
[null,{"$f":"unique_contracts!B104","v":"_EXISTING_GENERIC_SOLAR_1AXIS"},{"$f":"unique_contracts!D104","v":"Online"},{"$f":"unique_contracts!J104","v":0},{"$f":"unique_contracts!M104","v":"NotHybrid"},{"$f":"unique_contracts!N104","v":"NA"},{"$f":"unique_contracts!P104","v":0},{"$f":"unique_contracts!R104","v":0},{"$f":"unique_contracts!V104","v":0},{"$f":"unique_contracts!AB104","v":"sell"},{"$f":"unique_contracts!AM104","v":2014},{"$f":"unique_contracts!AN104","v":8},{"$f":"unique_contracts!AO104","v":1},{"$f":"unique_contracts!AP104","v":2034},{"$f":"unique_contracts!AQ104","v":7},{"$f":"unique_contracts!AR104","v":31},{"$f":"unique_contracts!BP104","v":"EnergyOnly"},0,{"$f":"IFERROR(IF(AND(I104>0,E104=\"NotHybrid\"),_xlfn.CONCAT(MAX(MIN(ROUNDDOWN(I104/D104,0),8),4),INDEX(resources!$G:$G,MATCH(B104,resources!$A:$A,0))),INDEX(resources!$G:$G,MATCH(B104,resources!$A:$A,0))),\"n/a\")","v":"utility_pv"},"n/a","utility_pv",2015,2033,1,1,{"$f":"MIN((IFERROR(IF(AND($V104<=Z$1,$W104>=Z$1),INDEX(Reliability!E$23:E$50,MATCH($S104,Reliability!$C$23:$C$50,0)),0),0)*IF($T104=\"n/a\",$D104*$Y104,$G104)+IFERROR(IF(AND($V104<=Z$1,$W104>=Z$1),INDEX(Reliability!E$23:E$50,MATCH($T104,Reliability!$C$23:$C$50,0)),0),0)*$H104*$X104*$Y104),$D104)*$R104","v":0},{"$f":"MIN((IFERROR(IF(AND($V104<=AA$1,$W104>=AA$1),INDEX(Reliability!F$23:F$50,MATCH($S104,Reliability!$C$23:$C$50,0)),0),0)*IF($T104=\"n/a\",$D104*$Y104,$G104)+IFERROR(IF(AND($V104<=AA$1,$W104>=AA$1),INDEX(Reliability!F$23:F$50,MATCH($T104,Reliability!$C$23:$C$50,0)),0),0)*$H104*$X104*$Y104),$D104)*$R104","v":0},{"$f":"MIN((IFERROR(IF(AND($V104<=AB$1,$W104>=AB$1),INDEX(Reliability!G$23:G$50,MATCH($S104,Reliability!$C$23:$C$50,0)),0),0)*IF($T104=\"n/a\",$D104*$Y104,$G104)+IFERROR(IF(AND($V104<=AB$1,$W104>=AB$1),INDEX(Reliability!G$23:G$50,MATCH($T104,Reliability!$C$23:$C$50,0)),0),0)*$H104*$X104*$Y104),$D104)*$R104","v":0},{"$f":"MIN((IFERROR(IF(AND($V104<=AC$1,$W104>=AC$1),INDEX(Reliability!H$23:H$50,MATCH($S104,Reliability!$C$23:$C$50,0)),0),0)*IF($T104=\"n/a\",$D104*$Y104,$G104)+IFERROR(IF(AND($V104<=AC$1,$W104>=AC$1),INDEX(Reliability!H$23:H$50,MATCH($T104,Reliability!$C$23:$C$50,0)),0),0)*$H104*$X104*$Y104),$D104)*$R104","v":0},{"$f":"MIN((IFERROR(IF(AND($V104<=AD$1,$W104>=AD$1),INDEX(Reliability!I$23:I$50,MATCH($S104,Reliability!$C$23:$C$50,0)),0),0)*IF($T104=\"n/a\",$D104*$Y104,$G104)+IFERROR(IF(AND($V104<=AD$1,$W104>=AD$1),INDEX(Reliability!I$23:I$50,MATCH($T104,Reliability!$C$23:$C$50,0)),0),0)*$H104*$X104*$Y104),$D104)*$R104","v":0},{"$f":"MIN((IFERROR(IF(AND($V104<=AE$1,$W104>=AE$1),INDEX(Reliability!J$23:J$50,MATCH($S104,Reliability!$C$23:$C$50,0)),0),0)*IF($T104=\"n/a\",$D104*$Y104,$G104)+IFERROR(IF(AND($V104<=AE$1,$W104>=AE$1),INDEX(Reliability!J$23:J$50,MATCH($T104,Reliability!$C$23:$C$50,0)),0),0)*$H104*$X104*$Y104),$D104)*$R104","v":0},{"$f":"MIN((IFERROR(IF(AND($V104<=AF$1,$W104>=AF$1),INDEX(Reliability!K$23:K$50,MATCH($S104,Reliability!$C$23:$C$50,0)),0),0)*IF($T104=\"n/a\",$D104*$Y104,$G104)+IFERROR(IF(AND($V104<=AF$1,$W104>=AF$1),INDEX(Reliability!K$23:K$50,MATCH($T104,Reliability!$C$23:$C$50,0)),0),0)*$H104*$X104*$Y104),$D104)*$R104","v":0},{"$f":"MIN((IFERROR(IF(AND($V104<=AG$1,$W104>=AG$1),INDEX(Reliability!L$23:L$50,MATCH($S104,Reliability!$C$23:$C$50,0)),0),0)*IF($T104=\"n/a\",$D104*$Y104,$G104)+IFERROR(IF(AND($V104<=AG$1,$W104>=AG$1),INDEX(Reliability!L$23:L$50,MATCH($T104,Reliability!$C$23:$C$50,0)),0),0)*$H104*$X104*$Y104),$D104)*$R104","v":0},{"$f":"MIN((IFERROR(IF(AND($V104<=AH$1,$W104>=AH$1),INDEX(Reliability!M$23:M$50,MATCH($S104,Reliability!$C$23:$C$50,0)),0),0)*IF($T104=\"n/a\",$D104*$Y104,$G104)+IFERROR(IF(AND($V104<=AH$1,$W104>=AH$1),INDEX(Reliability!M$23:M$50,MATCH($T104,Reliability!$C$23:$C$50,0)),0),0)*$H104*$X104*$Y104),$D104)*$R104","v":0},{"$f":"MIN((IFERROR(IF(AND($V104<=AI$1,$W104>=AI$1),INDEX(Reliability!N$23:N$50,MATCH($S104,Reliability!$C$23:$C$50,0)),0),0)*IF($T104=\"n/a\",$D104*$Y104,$G104)+IFERROR(IF(AND($V104<=AI$1,$W104>=AI$1),INDEX(Reliability!N$23:N$50,MATCH($T104,Reliability!$C$23:$C$50,0)),0),0)*$H104*$X104*$Y104),$D104)*$R104","v":0},{"$f":"MIN((IFERROR(IF(AND($V104<=AJ$1,$W104>=AJ$1),INDEX(Reliability!O$23:O$50,MATCH($S104,Reliability!$C$23:$C$50,0)),0),0)*IF($T104=\"n/a\",$D104*$Y104,$G104)+IFERROR(IF(AND($V104<=AJ$1,$W104>=AJ$1),INDEX(Reliability!O$23:O$50,MATCH($T104,Reliability!$C$23:$C$50,0)),0),0)*$H104*$X104*$Y104),$D104)*$R104","v":0},{"$f":"MIN((IFERROR(IF(AND($V104<=AK$1,$W104>=AK$1),INDEX(Reliability!P$23:P$50,MATCH($S104,Reliability!$C$23:$C$50,0)),0),0)*IF($T104=\"n/a\",$D104*$Y104,$G104)+IFERROR(IF(AND($V104<=AK$1,$W104>=AK$1),INDEX(Reliability!P$23:P$50,MATCH($T104,Reliability!$C$23:$C$50,0)),0),0)*$H104*$X104*$Y104),$D104)*$R104","v":0}]
[null,{"$f":"unique_contracts!B105","v":"CNTNLA_2_SOLAR2"},{"$f":"unique_contracts!D105","v":"Online"},{"$f":"unique_contracts!J105","v":45},{"$f":"unique_contracts!M105","v":"NotHybrid"},{"$f":"unique_contracts!N105","v":"NA"},{"$f":"unique_contracts!P105","v":0},{"$f":"unique_contracts!R105","v":0},{"$f":"unique_contracts!V105","v":0},{"$f":"unique_contracts!AB105","v":0},{"$f":"unique_contracts!AM105","v":2014},{"$f":"unique_contracts!AN105","v":8},{"$f":"unique_contracts!AO105","v":15},{"$f":"unique_contracts!AP105","v":2034},{"$f":"unique_contracts!AQ105","v":8},{"$f":"unique_contracts!AR105","v":15},{"$f":"unique_contracts!BP105","v":"EnergyCapacity"},1,{"$f":"IFERROR(IF(AND(I105>0,E105=\"NotHybrid\"),_xlfn.CONCAT(MAX(MIN(ROUNDDOWN(I105/D105,0),8),4),INDEX(resources!$G:$G,MATCH(B105,resources!$A:$A,0))),INDEX(resources!$G:$G,MATCH(B105,resources!$A:$A,0))),\"n/a\")","v":"utility_pv"},"n/a","utility_pv",2015,2033,1,1,{"$f":"MIN((IFERROR(IF(AND($V105<=Z$1,$W105>=Z$1),INDEX(Reliability!E$23:E$50,MATCH($S105,Reliability!$C$23:$C$50,0)),0),0)*IF($T105=\"n/a\",$D105*$Y105,$G105)+IFERROR(IF(AND($V105<=Z$1,$W105>=Z$1),INDEX(Reliability!E$23:E$50,MATCH($T105,Reliability!$C$23:$C$50,0)),0),0)*$H105*$X105*$Y105),$D105)*$R105","v":4.32},{"$f":"MIN((IFERROR(IF(AND($V105<=AA$1,$W105>=AA$1),INDEX(Reliability!F$23:F$50,MATCH($S105,Reliability!$C$23:$C$50,0)),0),0)*IF($T105=\"n/a\",$D105*$Y105,$G105)+IFERROR(IF(AND($V105<=AA$1,$W105>=AA$1),INDEX(Reliability!F$23:F$50,MATCH($T105,Reliability!$C$23:$C$50,0)),0),0)*$H105*$X105*$Y105),$D105)*$R105","v":4.5990289586654223},{"$f":"MIN((IFERROR(IF(AND($V105<=AB$1,$W105>=AB$1),INDEX(Reliability!G$23:G$50,MATCH($S105,Reliability!$C$23:$C$50,0)),0),0)*IF($T105=\"n/a\",$D105*$Y105,$G105)+IFERROR(IF(AND($V105<=AB$1,$W105>=AB$1),INDEX(Reliability!G$23:G$50,MATCH($T105,Reliability!$C$23:$C$50,0)),0),0)*$H105*$X105*$Y105),$D105)*$R105","v":4.8780579173308452},{"$f":"MIN((IFERROR(IF(AND($V105<=AC$1,$W105>=AC$1),INDEX(Reliability!H$23:H$50,MATCH($S105,Reliability!$C$23:$C$50,0)),0),0)*IF($T105=\"n/a\",$D105*$Y105,$G105)+IFERROR(IF(AND($V105<=AC$1,$W105>=AC$1),INDEX(Reliability!H$23:H$50,MATCH($T105,Reliability!$C$23:$C$50,0)),0),0)*$H105*$X105*$Y105),$D105)*$R105","v":4.5756144919365838},{"$f":"MIN((IFERROR(IF(AND($V105<=AD$1,$W105>=AD$1),INDEX(Reliability!I$23:I$50,MATCH($S105,Reliability!$C$23:$C$50,0)),0),0)*IF($T105=\"n/a\",$D105*$Y105,$G105)+IFERROR(IF(AND($V105<=AD$1,$W105>=AD$1),INDEX(Reliability!I$23:I$50,MATCH($T105,Reliability!$C$23:$C$50,0)),0),0)*$H105*$X105*$Y105),$D105)*$R105","v":4.2731710665423224},{"$f":"MIN((IFERROR(IF(AND($V105<=AE$1,$W105>=AE$1),INDEX(Reliability!J$23:J$50,MATCH($S105,Reliability!$C$23:$C$50,0)),0),0)*IF($T105=\"n/a\",$D105*$Y105,$G105)+IFERROR(IF(AND($V105<=AE$1,$W105>=AE$1),INDEX(Reliability!J$23:J$50,MATCH($T105,Reliability!$C$23:$C$50,0)),0),0)*$H105*$X105*$Y105),$D105)*$R105","v":3.4865855332711613},{"$f":"MIN((IFERROR(IF(AND($V105<=AF$1,$W105>=AF$1),INDEX(Reliability!K$23:K$50,MATCH($S105,Reliability!$C$23:$C$50,0)),0),0)*IF($T105=\"n/a\",$D105*$Y105,$G105)+IFERROR(IF(AND($V105<=AF$1,$W105>=AF$1),INDEX(Reliability!K$23:K$50,MATCH($T105,Reliability!$C$23:$C$50,0)),0),0)*$H105*$X105*$Y105),$D105)*$R105","v":2.6999999999999997},{"$f":"MIN((IFERROR(IF(AND($V105<=AG$1,$W105>=AG$1),INDEX(Reliability!L$23:L$50,MATCH($S105,Reliability!$C$23:$C$50,0)),0),0)*IF($T105=\"n/a\",$D105*$Y105,$G105)+IFERROR(IF(AND($V105<=AG$1,$W105>=AG$1),INDEX(Reliability!L$23:L$50,MATCH($T105,Reliability!$C$23:$C$50,0)),0),0)*$H105*$X105*$Y105),$D105)*$R105","v":2.7360000000000002},{"$f":"MIN((IFERROR(IF(AND($V105<=AH$1,$W105>=AH$1),INDEX(Reliability!M$23:M$50,MATCH($S105,Reliability!$C$23:$C$50,0)),0),0)*IF($T105=\"n/a\",$D105*$Y105,$G105)+IFERROR(IF(AND($V105<=AH$1,$W105>=AH$1),INDEX(Reliability!M$23:M$50,MATCH($T105,Reliability!$C$23:$C$50,0)),0),0)*$H105*$X105*$Y105),$D105)*$R105","v":2.7720000000000002},{"$f":"MIN((IFERROR(IF(AND($V105<=AI$1,$W105>=AI$1),INDEX(Reliability!N$23:N$50,MATCH($S105,Reliability!$C$23:$C$50,0)),0),0)*IF($T105=\"n/a\",$D105*$Y105,$G105)+IFERROR(IF(AND($V105<=AI$1,$W105>=AI$1),INDEX(Reliability!N$23:N$50,MATCH($T105,Reliability!$C$23:$C$50,0)),0),0)*$H105*$X105*$Y105),$D105)*$R105","v":2.8080000000000003},{"$f":"MIN((IFERROR(IF(AND($V105<=AJ$1,$W105>=AJ$1),INDEX(Reliability!O$23:O$50,MATCH($S105,Reliability!$C$23:$C$50,0)),0),0)*IF($T105=\"n/a\",$D105*$Y105,$G105)+IFERROR(IF(AND($V105<=AJ$1,$W105>=AJ$1),INDEX(Reliability!O$23:O$50,MATCH($T105,Reliability!$C$23:$C$50,0)),0),0)*$H105*$X105*$Y105),$D105)*$R105","v":0},{"$f":"MIN((IFERROR(IF(AND($V105<=AK$1,$W105>=AK$1),INDEX(Reliability!P$23:P$50,MATCH($S105,Reliability!$C$23:$C$50,0)),0),0)*IF($T105=\"n/a\",$D105*$Y105,$G105)+IFERROR(IF(AND($V105<=AK$1,$W105>=AK$1),INDEX(Reliability!P$23:P$50,MATCH($T105,Reliability!$C$23:$C$50,0)),0),0)*$H105*$X105*$Y105),$D105)*$R105","v":0}]
[null,{"$f":"unique_contracts!B106","v":"_EXISTING_GENERIC_SOLAR_1AXIS"},{"$f":"unique_contracts!D106","v":"Online"},{"$f":"unique_contracts!J106","v":0},{"$f":"unique_contracts!M106","v":"NotHybrid"},{"$f":"unique_contracts!N106","v":"NA"},{"$f":"unique_contracts!P106","v":0},{"$f":"unique_contracts!R106","v":0},{"$f":"unique_contracts!V106","v":0},{"$f":"unique_contracts!AB106","v":"sell"},{"$f":"unique_contracts!AM106","v":2014},{"$f":"unique_contracts!AN106","v":8},{"$f":"unique_contracts!AO106","v":15},{"$f":"unique_contracts!AP106","v":2034},{"$f":"unique_contracts!AQ106","v":8},{"$f":"unique_contracts!AR106","v":15},{"$f":"unique_contracts!BP106","v":"EnergyOnly"},0,{"$f":"IFERROR(IF(AND(I106>0,E106=\"NotHybrid\"),_xlfn.CONCAT(MAX(MIN(ROUNDDOWN(I106/D106,0),8),4),INDEX(resources!$G:$G,MATCH(B106,resources!$A:$A,0))),INDEX(resources!$G:$G,MATCH(B106,resources!$A:$A,0))),\"n/a\")","v":"utility_pv"},"n/a","utility_pv",2015,2033,1,1,{"$f":"MIN((IFERROR(IF(AND($V106<=Z$1,$W106>=Z$1),INDEX(Reliability!E$23:E$50,MATCH($S106,Reliability!$C$23:$C$50,0)),0),0)*IF($T106=\"n/a\",$D106*$Y106,$G106)+IFERROR(IF(AND($V106<=Z$1,$W106>=Z$1),INDEX(Reliability!E$23:E$50,MATCH($T106,Reliability!$C$23:$C$50,0)),0),0)*$H106*$X106*$Y106),$D106)*$R106","v":0},{"$f":"MIN((IFERROR(IF(AND($V106<=AA$1,$W106>=AA$1),INDEX(Reliability!F$23:F$50,MATCH($S106,Reliability!$C$23:$C$50,0)),0),0)*IF($T106=\"n/a\",$D106*$Y106,$G106)+IFERROR(IF(AND($V106<=AA$1,$W106>=AA$1),INDEX(Reliability!F$23:F$50,MATCH($T106,Reliability!$C$23:$C$50,0)),0),0)*$H106*$X106*$Y106),$D106)*$R106","v":0},{"$f":"MIN((IFERROR(IF(AND($V106<=AB$1,$W106>=AB$1),INDEX(Reliability!G$23:G$50,MATCH($S106,Reliability!$C$23:$C$50,0)),0),0)*IF($T106=\"n/a\",$D106*$Y106,$G106)+IFERROR(IF(AND($V106<=AB$1,$W106>=AB$1),INDEX(Reliability!G$23:G$50,MATCH($T106,Reliability!$C$23:$C$50,0)),0),0)*$H106*$X106*$Y106),$D106)*$R106","v":0},{"$f":"MIN((IFERROR(IF(AND($V106<=AC$1,$W106>=AC$1),INDEX(Reliability!H$23:H$50,MATCH($S106,Reliability!$C$23:$C$50,0)),0),0)*IF($T106=\"n/a\",$D106*$Y106,$G106)+IFERROR(IF(AND($V106<=AC$1,$W106>=AC$1),INDEX(Reliability!H$23:H$50,MATCH($T106,Reliability!$C$23:$C$50,0)),0),0)*$H106*$X106*$Y106),$D106)*$R106","v":0},{"$f":"MIN((IFERROR(IF(AND($V106<=AD$1,$W106>=AD$1),INDEX(Reliability!I$23:I$50,MATCH($S106,Reliability!$C$23:$C$50,0)),0),0)*IF($T106=\"n/a\",$D106*$Y106,$G106)+IFERROR(IF(AND($V106<=AD$1,$W106>=AD$1),INDEX(Reliability!I$23:I$50,MATCH($T106,Reliability!$C$23:$C$50,0)),0),0)*$H106*$X106*$Y106),$D106)*$R106","v":0},{"$f":"MIN((IFERROR(IF(AND($V106<=AE$1,$W106>=AE$1),INDEX(Reliability!J$23:J$50,MATCH($S106,Reliability!$C$23:$C$50,0)),0),0)*IF($T106=\"n/a\",$D106*$Y106,$G106)+IFERROR(IF(AND($V106<=AE$1,$W106>=AE$1),INDEX(Reliability!J$23:J$50,MATCH($T106,Reliability!$C$23:$C$50,0)),0),0)*$H106*$X106*$Y106),$D106)*$R106","v":0},{"$f":"MIN((IFERROR(IF(AND($V106<=AF$1,$W106>=AF$1),INDEX(Reliability!K$23:K$50,MATCH($S106,Reliability!$C$23:$C$50,0)),0),0)*IF($T106=\"n/a\",$D106*$Y106,$G106)+IFERROR(IF(AND($V106<=AF$1,$W106>=AF$1),INDEX(Reliability!K$23:K$50,MATCH($T106,Reliability!$C$23:$C$50,0)),0),0)*$H106*$X106*$Y106),$D106)*$R106","v":0},{"$f":"MIN((IFERROR(IF(AND($V106<=AG$1,$W106>=AG$1),INDEX(Reliability!L$23:L$50,MATCH($S106,Reliability!$C$23:$C$50,0)),0),0)*IF($T106=\"n/a\",$D106*$Y106,$G106)+IFERROR(IF(AND($V106<=AG$1,$W106>=AG$1),INDEX(Reliability!L$23:L$50,MATCH($T106,Reliability!$C$23:$C$50,0)),0),0)*$H106*$X106*$Y106),$D106)*$R106","v":0},{"$f":"MIN((IFERROR(IF(AND($V106<=AH$1,$W106>=AH$1),INDEX(Reliability!M$23:M$50,MATCH($S106,Reliability!$C$23:$C$50,0)),0),0)*IF($T106=\"n/a\",$D106*$Y106,$G106)+IFERROR(IF(AND($V106<=AH$1,$W106>=AH$1),INDEX(Reliability!M$23:M$50,MATCH($T106,Reliability!$C$23:$C$50,0)),0),0)*$H106*$X106*$Y106),$D106)*$R106","v":0},{"$f":"MIN((IFERROR(IF(AND($V106<=AI$1,$W106>=AI$1),INDEX(Reliability!N$23:N$50,MATCH($S106,Reliability!$C$23:$C$50,0)),0),0)*IF($T106=\"n/a\",$D106*$Y106,$G106)+IFERROR(IF(AND($V106<=AI$1,$W106>=AI$1),INDEX(Reliability!N$23:N$50,MATCH($T106,Reliability!$C$23:$C$50,0)),0),0)*$H106*$X106*$Y106),$D106)*$R106","v":0},{"$f":"MIN((IFERROR(IF(AND($V106<=AJ$1,$W106>=AJ$1),INDEX(Reliability!O$23:O$50,MATCH($S106,Reliability!$C$23:$C$50,0)),0),0)*IF($T106=\"n/a\",$D106*$Y106,$G106)+IFERROR(IF(AND($V106<=AJ$1,$W106>=AJ$1),INDEX(Reliability!O$23:O$50,MATCH($T106,Reliability!$C$23:$C$50,0)),0),0)*$H106*$X106*$Y106),$D106)*$R106","v":0},{"$f":"MIN((IFERROR(IF(AND($V106<=AK$1,$W106>=AK$1),INDEX(Reliability!P$23:P$50,MATCH($S106,Reliability!$C$23:$C$50,0)),0),0)*IF($T106=\"n/a\",$D106*$Y106,$G106)+IFERROR(IF(AND($V106<=AK$1,$W106>=AK$1),INDEX(Reliability!P$23:P$50,MATCH($T106,Reliability!$C$23:$C$50,0)),0),0)*$H106*$X106*$Y106),$D106)*$R106","v":0}]
[null,{"$f":"unique_contracts!B107","v":"CSLR4S_2_SOLAR"},{"$f":"unique_contracts!D107","v":"Online"},{"$f":"unique_contracts!J107","v":130},{"$f":"unique_contracts!M107","v":"NotHybrid"},{"$f":"unique_contracts!N107","v":"NA"},{"$f":"unique_contracts!P107","v":0},{"$f":"unique_contracts!R107","v":0},{"$f":"unique_contracts!V107","v":0},{"$f":"unique_contracts!AB107","v":0},{"$f":"unique_contracts!AM107","v":2013},{"$f":"unique_contracts!AN107","v":11},{"$f":"unique_contracts!AO107","v":1},{"$f":"unique_contracts!AP107","v":2038},{"$f":"unique_contracts!AQ107","v":10},{"$f":"unique_contracts!AR107","v":31},{"$f":"unique_contracts!BP107","v":"EnergyCapacity"},1,{"$f":"IFERROR(IF(AND(I107>0,E107=\"NotHybrid\"),_xlfn.CONCAT(MAX(MIN(ROUNDDOWN(I107/D107,0),8),4),INDEX(resources!$G:$G,MATCH(B107,resources!$A:$A,0))),INDEX(resources!$G:$G,MATCH(B107,resources!$A:$A,0))),\"n/a\")","v":"utility_pv"},"n/a","utility_pv",2014,2038,1,1,{"$f":"MIN((IFERROR(IF(AND($V107<=Z$1,$W107>=Z$1),INDEX(Reliability!E$23:E$50,MATCH($S107,Reliability!$C$23:$C$50,0)),0),0)*IF($T107=\"n/a\",$D107*$Y107,$G107)+IFERROR(IF(AND($V107<=Z$1,$W107>=Z$1),INDEX(Reliability!E$23:E$50,MATCH($T107,Reliability!$C$23:$C$50,0)),0),0)*$H107*$X107*$Y107),$D107)*$R107","v":12.48},{"$f":"MIN((IFERROR(IF(AND($V107<=AA$1,$W107>=AA$1),INDEX(Reliability!F$23:F$50,MATCH($S107,Reliability!$C$23:$C$50,0)),0),0)*IF($T107=\"n/a\",$D107*$Y107,$G107)+IFERROR(IF(AND($V107<=AA$1,$W107>=AA$1),INDEX(Reliability!F$23:F$50,MATCH($T107,Reliability!$C$23:$C$50,0)),0),0)*$H107*$X107*$Y107),$D107)*$R107","v":13.286083658366776},{"$f":"MIN((IFERROR(IF(AND($V107<=AB$1,$W107>=AB$1),INDEX(Reliability!G$23:G$50,MATCH($S107,Reliability!$C$23:$C$50,0)),0),0)*IF($T107=\"n/a\",$D107*$Y107,$G107)+IFERROR(IF(AND($V107<=AB$1,$W107>=AB$1),INDEX(Reliability!G$23:G$50,MATCH($T107,Reliability!$C$23:$C$50,0)),0),0)*$H107*$X107*$Y107),$D107)*$R107","v":14.092167316733553},{"$f":"MIN((IFERROR(IF(AND($V107<=AC$1,$W107>=AC$1),INDEX(Reliability!H$23:H$50,MATCH($S107,Reliability!$C$23:$C$50,0)),0),0)*IF($T107=\"n/a\",$D107*$Y107,$G107)+IFERROR(IF(AND($V107<=AC$1,$W107>=AC$1),INDEX(Reliability!H$23:H$50,MATCH($T107,Reliability!$C$23:$C$50,0)),0),0)*$H107*$X107*$Y107),$D107)*$R107","v":13.218441865594576},{"$f":"MIN((IFERROR(IF(AND($V107<=AD$1,$W107>=AD$1),INDEX(Reliability!I$23:I$50,MATCH($S107,Reliability!$C$23:$C$50,0)),0),0)*IF($T107=\"n/a\",$D107*$Y107,$G107)+IFERROR(IF(AND($V107<=AD$1,$W107>=AD$1),INDEX(Reliability!I$23:I$50,MATCH($T107,Reliability!$C$23:$C$50,0)),0),0)*$H107*$X107*$Y107),$D107)*$R107","v":12.344716414455597},{"$f":"MIN((IFERROR(IF(AND($V107<=AE$1,$W107>=AE$1),INDEX(Reliability!J$23:J$50,MATCH($S107,Reliability!$C$23:$C$50,0)),0),0)*IF($T107=\"n/a\",$D107*$Y107,$G107)+IFERROR(IF(AND($V107<=AE$1,$W107>=AE$1),INDEX(Reliability!J$23:J$50,MATCH($T107,Reliability!$C$23:$C$50,0)),0),0)*$H107*$X107*$Y107),$D107)*$R107","v":10.072358207227799},{"$f":"MIN((IFERROR(IF(AND($V107<=AF$1,$W107>=AF$1),INDEX(Reliability!K$23:K$50,MATCH($S107,Reliability!$C$23:$C$50,0)),0),0)*IF($T107=\"n/a\",$D107*$Y107,$G107)+IFERROR(IF(AND($V107<=AF$1,$W107>=AF$1),INDEX(Reliability!K$23:K$50,MATCH($T107,Reliability!$C$23:$C$50,0)),0),0)*$H107*$X107*$Y107),$D107)*$R107","v":7.8},{"$f":"MIN((IFERROR(IF(AND($V107<=AG$1,$W107>=AG$1),INDEX(Reliability!L$23:L$50,MATCH($S107,Reliability!$C$23:$C$50,0)),0),0)*IF($T107=\"n/a\",$D107*$Y107,$G107)+IFERROR(IF(AND($V107<=AG$1,$W107>=AG$1),INDEX(Reliability!L$23:L$50,MATCH($T107,Reliability!$C$23:$C$50,0)),0),0)*$H107*$X107*$Y107),$D107)*$R107","v":7.9039999999999999},{"$f":"MIN((IFERROR(IF(AND($V107<=AH$1,$W107>=AH$1),INDEX(Reliability!M$23:M$50,MATCH($S107,Reliability!$C$23:$C$50,0)),0),0)*IF($T107=\"n/a\",$D107*$Y107,$G107)+IFERROR(IF(AND($V107<=AH$1,$W107>=AH$1),INDEX(Reliability!M$23:M$50,MATCH($T107,Reliability!$C$23:$C$50,0)),0),0)*$H107*$X107*$Y107),$D107)*$R107","v":8.0080000000000009},{"$f":"MIN((IFERROR(IF(AND($V107<=AI$1,$W107>=AI$1),INDEX(Reliability!N$23:N$50,MATCH($S107,Reliability!$C$23:$C$50,0)),0),0)*IF($T107=\"n/a\",$D107*$Y107,$G107)+IFERROR(IF(AND($V107<=AI$1,$W107>=AI$1),INDEX(Reliability!N$23:N$50,MATCH($T107,Reliability!$C$23:$C$50,0)),0),0)*$H107*$X107*$Y107),$D107)*$R107","v":8.1120000000000001},{"$f":"MIN((IFERROR(IF(AND($V107<=AJ$1,$W107>=AJ$1),INDEX(Reliability!O$23:O$50,MATCH($S107,Reliability!$C$23:$C$50,0)),0),0)*IF($T107=\"n/a\",$D107*$Y107,$G107)+IFERROR(IF(AND($V107<=AJ$1,$W107>=AJ$1),INDEX(Reliability!O$23:O$50,MATCH($T107,Reliability!$C$23:$C$50,0)),0),0)*$H107*$X107*$Y107),$D107)*$R107","v":8.2160000000000011},{"$f":"MIN((IFERROR(IF(AND($V107<=AK$1,$W107>=AK$1),INDEX(Reliability!P$23:P$50,MATCH($S107,Reliability!$C$23:$C$50,0)),0),0)*IF($T107=\"n/a\",$D107*$Y107,$G107)+IFERROR(IF(AND($V107<=AK$1,$W107>=AK$1),INDEX(Reliability!P$23:P$50,MATCH($T107,Reliability!$C$23:$C$50,0)),0),0)*$H107*$X107*$Y107),$D107)*$R107","v":8.32}]
[null,{"$f":"unique_contracts!B108","v":"_EXISTING_GENERIC_SOLAR_1AXIS"},{"$f":"unique_contracts!D108","v":"Online"},{"$f":"unique_contracts!J108","v":0},{"$f":"unique_contracts!M108","v":"NotHybrid"},{"$f":"unique_contracts!N108","v":"NA"},{"$f":"unique_contracts!P108","v":0},{"$f":"unique_contracts!R108","v":0},{"$f":"unique_contracts!V108","v":0},{"$f":"unique_contracts!AB108","v":"sell"},{"$f":"unique_contracts!AM108","v":2013},{"$f":"unique_contracts!AN108","v":11},{"$f":"unique_contracts!AO108","v":1},{"$f":"unique_contracts!AP108","v":2038},{"$f":"unique_contracts!AQ108","v":10},{"$f":"unique_contracts!AR108","v":31},{"$f":"unique_contracts!BP108","v":"EnergyOnly"},0,{"$f":"IFERROR(IF(AND(I108>0,E108=\"NotHybrid\"),_xlfn.CONCAT(MAX(MIN(ROUNDDOWN(I108/D108,0),8),4),INDEX(resources!$G:$G,MATCH(B108,resources!$A:$A,0))),INDEX(resources!$G:$G,MATCH(B108,resources!$A:$A,0))),\"n/a\")","v":"utility_pv"},"n/a","utility_pv",2014,2038,1,1,{"$f":"MIN((IFERROR(IF(AND($V108<=Z$1,$W108>=Z$1),INDEX(Reliability!E$23:E$50,MATCH($S108,Reliability!$C$23:$C$50,0)),0),0)*IF($T108=\"n/a\",$D108*$Y108,$G108)+IFERROR(IF(AND($V108<=Z$1,$W108>=Z$1),INDEX(Reliability!E$23:E$50,MATCH($T108,Reliability!$C$23:$C$50,0)),0),0)*$H108*$X108*$Y108),$D108)*$R108","v":0},{"$f":"MIN((IFERROR(IF(AND($V108<=AA$1,$W108>=AA$1),INDEX(Reliability!F$23:F$50,MATCH($S108,Reliability!$C$23:$C$50,0)),0),0)*IF($T108=\"n/a\",$D108*$Y108,$G108)+IFERROR(IF(AND($V108<=AA$1,$W108>=AA$1),INDEX(Reliability!F$23:F$50,MATCH($T108,Reliability!$C$23:$C$50,0)),0),0)*$H108*$X108*$Y108),$D108)*$R108","v":0},{"$f":"MIN((IFERROR(IF(AND($V108<=AB$1,$W108>=AB$1),INDEX(Reliability!G$23:G$50,MATCH($S108,Reliability!$C$23:$C$50,0)),0),0)*IF($T108=\"n/a\",$D108*$Y108,$G108)+IFERROR(IF(AND($V108<=AB$1,$W108>=AB$1),INDEX(Reliability!G$23:G$50,MATCH($T108,Reliability!$C$23:$C$50,0)),0),0)*$H108*$X108*$Y108),$D108)*$R108","v":0},{"$f":"MIN((IFERROR(IF(AND($V108<=AC$1,$W108>=AC$1),INDEX(Reliability!H$23:H$50,MATCH($S108,Reliability!$C$23:$C$50,0)),0),0)*IF($T108=\"n/a\",$D108*$Y108,$G108)+IFERROR(IF(AND($V108<=AC$1,$W108>=AC$1),INDEX(Reliability!H$23:H$50,MATCH($T108,Reliability!$C$23:$C$50,0)),0),0)*$H108*$X108*$Y108),$D108)*$R108","v":0},{"$f":"MIN((IFERROR(IF(AND($V108<=AD$1,$W108>=AD$1),INDEX(Reliability!I$23:I$50,MATCH($S108,Reliability!$C$23:$C$50,0)),0),0)*IF($T108=\"n/a\",$D108*$Y108,$G108)+IFERROR(IF(AND($V108<=AD$1,$W108>=AD$1),INDEX(Reliability!I$23:I$50,MATCH($T108,Reliability!$C$23:$C$50,0)),0),0)*$H108*$X108*$Y108),$D108)*$R108","v":0},{"$f":"MIN((IFERROR(IF(AND($V108<=AE$1,$W108>=AE$1),INDEX(Reliability!J$23:J$50,MATCH($S108,Reliability!$C$23:$C$50,0)),0),0)*IF($T108=\"n/a\",$D108*$Y108,$G108)+IFERROR(IF(AND($V108<=AE$1,$W108>=AE$1),INDEX(Reliability!J$23:J$50,MATCH($T108,Reliability!$C$23:$C$50,0)),0),0)*$H108*$X108*$Y108),$D108)*$R108","v":0},{"$f":"MIN((IFERROR(IF(AND($V108<=AF$1,$W108>=AF$1),INDEX(Reliability!K$23:K$50,MATCH($S108,Reliability!$C$23:$C$50,0)),0),0)*IF($T108=\"n/a\",$D108*$Y108,$G108)+IFERROR(IF(AND($V108<=AF$1,$W108>=AF$1),INDEX(Reliability!K$23:K$50,MATCH($T108,Reliability!$C$23:$C$50,0)),0),0)*$H108*$X108*$Y108),$D108)*$R108","v":0},{"$f":"MIN((IFERROR(IF(AND($V108<=AG$1,$W108>=AG$1),INDEX(Reliability!L$23:L$50,MATCH($S108,Reliability!$C$23:$C$50,0)),0),0)*IF($T108=\"n/a\",$D108*$Y108,$G108)+IFERROR(IF(AND($V108<=AG$1,$W108>=AG$1),INDEX(Reliability!L$23:L$50,MATCH($T108,Reliability!$C$23:$C$50,0)),0),0)*$H108*$X108*$Y108),$D108)*$R108","v":0},{"$f":"MIN((IFERROR(IF(AND($V108<=AH$1,$W108>=AH$1),INDEX(Reliability!M$23:M$50,MATCH($S108,Reliability!$C$23:$C$50,0)),0),0)*IF($T108=\"n/a\",$D108*$Y108,$G108)+IFERROR(IF(AND($V108<=AH$1,$W108>=AH$1),INDEX(Reliability!M$23:M$50,MATCH($T108,Reliability!$C$23:$C$50,0)),0),0)*$H108*$X108*$Y108),$D108)*$R108","v":0},{"$f":"MIN((IFERROR(IF(AND($V108<=AI$1,$W108>=AI$1),INDEX(Reliability!N$23:N$50,MATCH($S108,Reliability!$C$23:$C$50,0)),0),0)*IF($T108=\"n/a\",$D108*$Y108,$G108)+IFERROR(IF(AND($V108<=AI$1,$W108>=AI$1),INDEX(Reliability!N$23:N$50,MATCH($T108,Reliability!$C$23:$C$50,0)),0),0)*$H108*$X108*$Y108),$D108)*$R108","v":0},{"$f":"MIN((IFERROR(IF(AND($V108<=AJ$1,$W108>=AJ$1),INDEX(Reliability!O$23:O$50,MATCH($S108,Reliability!$C$23:$C$50,0)),0),0)*IF($T108=\"n/a\",$D108*$Y108,$G108)+IFERROR(IF(AND($V108<=AJ$1,$W108>=AJ$1),INDEX(Reliability!O$23:O$50,MATCH($T108,Reliability!$C$23:$C$50,0)),0),0)*$H108*$X108*$Y108),$D108)*$R108","v":0},{"$f":"MIN((IFERROR(IF(AND($V108<=AK$1,$W108>=AK$1),INDEX(Reliability!P$23:P$50,MATCH($S108,Reliability!$C$23:$C$50,0)),0),0)*IF($T108=\"n/a\",$D108*$Y108,$G108)+IFERROR(IF(AND($V108<=AK$1,$W108>=AK$1),INDEX(Reliability!P$23:P$50,MATCH($T108,Reliability!$C$23:$C$50,0)),0),0)*$H108*$X108*$Y108),$D108)*$R108","v":0}]
[null,{"$f":"unique_contracts!B109","v":"IVWEST_2_SOLAR1"},{"$f":"unique_contracts!D109","v":"Online"},{"$f":"unique_contracts!J109","v":150},{"$f":"unique_contracts!M109","v":"NotHybrid"},{"$f":"unique_contracts!N109","v":"NA"},{"$f":"unique_contracts!P109","v":0},{"$f":"unique_contracts!R109","v":0},{"$f":"unique_contracts!V109","v":0},{"$f":"unique_contracts!AB109","v":0},{"$f":"unique_contracts!AM109","v":2016},{"$f":"unique_contracts!AN109","v":4},{"$f":"unique_contracts!AO109","v":12},{"$f":"unique_contracts!AP109","v":2041},{"$f":"unique_contracts!AQ109","v":4},{"$f":"unique_contracts!AR109","v":12},{"$f":"unique_contracts!BP109","v":"EnergyCapacity"},1,{"$f":"IFERROR(IF(AND(I109>0,E109=\"NotHybrid\"),_xlfn.CONCAT(MAX(MIN(ROUNDDOWN(I109/D109,0),8),4),INDEX(resources!$G:$G,MATCH(B109,resources!$A:$A,0))),INDEX(resources!$G:$G,MATCH(B109,resources!$A:$A,0))),\"n/a\")","v":"utility_pv"},"n/a","utility_pv",2016,2040,1,1,{"$f":"MIN((IFERROR(IF(AND($V109<=Z$1,$W109>=Z$1),INDEX(Reliability!E$23:E$50,MATCH($S109,Reliability!$C$23:$C$50,0)),0),0)*IF($T109=\"n/a\",$D109*$Y109,$G109)+IFERROR(IF(AND($V109<=Z$1,$W109>=Z$1),INDEX(Reliability!E$23:E$50,MATCH($T109,Reliability!$C$23:$C$50,0)),0),0)*$H109*$X109*$Y109),$D109)*$R109","v":14.4},{"$f":"MIN((IFERROR(IF(AND($V109<=AA$1,$W109>=AA$1),INDEX(Reliability!F$23:F$50,MATCH($S109,Reliability!$C$23:$C$50,0)),0),0)*IF($T109=\"n/a\",$D109*$Y109,$G109)+IFERROR(IF(AND($V109<=AA$1,$W109>=AA$1),INDEX(Reliability!F$23:F$50,MATCH($T109,Reliability!$C$23:$C$50,0)),0),0)*$H109*$X109*$Y109),$D109)*$R109","v":15.330096528884742},{"$f":"MIN((IFERROR(IF(AND($V109<=AB$1,$W109>=AB$1),INDEX(Reliability!G$23:G$50,MATCH($S109,Reliability!$C$23:$C$50,0)),0),0)*IF($T109=\"n/a\",$D109*$Y109,$G109)+IFERROR(IF(AND($V109<=AB$1,$W109>=AB$1),INDEX(Reliability!G$23:G$50,MATCH($T109,Reliability!$C$23:$C$50,0)),0),0)*$H109*$X109*$Y109),$D109)*$R109","v":16.260193057769484},{"$f":"MIN((IFERROR(IF(AND($V109<=AC$1,$W109>=AC$1),INDEX(Reliability!H$23:H$50,MATCH($S109,Reliability!$C$23:$C$50,0)),0),0)*IF($T109=\"n/a\",$D109*$Y109,$G109)+IFERROR(IF(AND($V109<=AC$1,$W109>=AC$1),INDEX(Reliability!H$23:H$50,MATCH($T109,Reliability!$C$23:$C$50,0)),0),0)*$H109*$X109*$Y109),$D109)*$R109","v":15.252048306455281},{"$f":"MIN((IFERROR(IF(AND($V109<=AD$1,$W109>=AD$1),INDEX(Reliability!I$23:I$50,MATCH($S109,Reliability!$C$23:$C$50,0)),0),0)*IF($T109=\"n/a\",$D109*$Y109,$G109)+IFERROR(IF(AND($V109<=AD$1,$W109>=AD$1),INDEX(Reliability!I$23:I$50,MATCH($T109,Reliability!$C$23:$C$50,0)),0),0)*$H109*$X109*$Y109),$D109)*$R109","v":14.243903555141074},{"$f":"MIN((IFERROR(IF(AND($V109<=AE$1,$W109>=AE$1),INDEX(Reliability!J$23:J$50,MATCH($S109,Reliability!$C$23:$C$50,0)),0),0)*IF($T109=\"n/a\",$D109*$Y109,$G109)+IFERROR(IF(AND($V109<=AE$1,$W109>=AE$1),INDEX(Reliability!J$23:J$50,MATCH($T109,Reliability!$C$23:$C$50,0)),0),0)*$H109*$X109*$Y109),$D109)*$R109","v":11.621951777570537},{"$f":"MIN((IFERROR(IF(AND($V109<=AF$1,$W109>=AF$1),INDEX(Reliability!K$23:K$50,MATCH($S109,Reliability!$C$23:$C$50,0)),0),0)*IF($T109=\"n/a\",$D109*$Y109,$G109)+IFERROR(IF(AND($V109<=AF$1,$W109>=AF$1),INDEX(Reliability!K$23:K$50,MATCH($T109,Reliability!$C$23:$C$50,0)),0),0)*$H109*$X109*$Y109),$D109)*$R109","v":9},{"$f":"MIN((IFERROR(IF(AND($V109<=AG$1,$W109>=AG$1),INDEX(Reliability!L$23:L$50,MATCH($S109,Reliability!$C$23:$C$50,0)),0),0)*IF($T109=\"n/a\",$D109*$Y109,$G109)+IFERROR(IF(AND($V109<=AG$1,$W109>=AG$1),INDEX(Reliability!L$23:L$50,MATCH($T109,Reliability!$C$23:$C$50,0)),0),0)*$H109*$X109*$Y109),$D109)*$R109","v":9.1199999999999992},{"$f":"MIN((IFERROR(IF(AND($V109<=AH$1,$W109>=AH$1),INDEX(Reliability!M$23:M$50,MATCH($S109,Reliability!$C$23:$C$50,0)),0),0)*IF($T109=\"n/a\",$D109*$Y109,$G109)+IFERROR(IF(AND($V109<=AH$1,$W109>=AH$1),INDEX(Reliability!M$23:M$50,MATCH($T109,Reliability!$C$23:$C$50,0)),0),0)*$H109*$X109*$Y109),$D109)*$R109","v":9.24},{"$f":"MIN((IFERROR(IF(AND($V109<=AI$1,$W109>=AI$1),INDEX(Reliability!N$23:N$50,MATCH($S109,Reliability!$C$23:$C$50,0)),0),0)*IF($T109=\"n/a\",$D109*$Y109,$G109)+IFERROR(IF(AND($V109<=AI$1,$W109>=AI$1),INDEX(Reliability!N$23:N$50,MATCH($T109,Reliability!$C$23:$C$50,0)),0),0)*$H109*$X109*$Y109),$D109)*$R109","v":9.3600000000000012},{"$f":"MIN((IFERROR(IF(AND($V109<=AJ$1,$W109>=AJ$1),INDEX(Reliability!O$23:O$50,MATCH($S109,Reliability!$C$23:$C$50,0)),0),0)*IF($T109=\"n/a\",$D109*$Y109,$G109)+IFERROR(IF(AND($V109<=AJ$1,$W109>=AJ$1),INDEX(Reliability!O$23:O$50,MATCH($T109,Reliability!$C$23:$C$50,0)),0),0)*$H109*$X109*$Y109),$D109)*$R109","v":9.48},{"$f":"MIN((IFERROR(IF(AND($V109<=AK$1,$W109>=AK$1),INDEX(Reliability!P$23:P$50,MATCH($S109,Reliability!$C$23:$C$50,0)),0),0)*IF($T109=\"n/a\",$D109*$Y109,$G109)+IFERROR(IF(AND($V109<=AK$1,$W109>=AK$1),INDEX(Reliability!P$23:P$50,MATCH($T109,Reliability!$C$23:$C$50,0)),0),0)*$H109*$X109*$Y109),$D109)*$R109","v":9.6}]
[null,{"$f":"unique_contracts!B110","v":"_EXISTING_GENERIC_SOLAR_1AXIS"},{"$f":"unique_contracts!D110","v":"Online"},{"$f":"unique_contracts!J110","v":0},{"$f":"unique_contracts!M110","v":"NotHybrid"},{"$f":"unique_contracts!N110","v":"NA"},{"$f":"unique_contracts!P110","v":0},{"$f":"unique_contracts!R110","v":0},{"$f":"unique_contracts!V110","v":0},{"$f":"unique_contracts!AB110","v":"sell"},{"$f":"unique_contracts!AM110","v":2016},{"$f":"unique_contracts!AN110","v":4},{"$f":"unique_contracts!AO110","v":12},{"$f":"unique_contracts!AP110","v":2041},{"$f":"unique_contracts!AQ110","v":4},{"$f":"unique_contracts!AR110","v":12},{"$f":"unique_contracts!BP110","v":"EnergyOnly"},0,{"$f":"IFERROR(IF(AND(I110>0,E110=\"NotHybrid\"),_xlfn.CONCAT(MAX(MIN(ROUNDDOWN(I110/D110,0),8),4),INDEX(resources!$G:$G,MATCH(B110,resources!$A:$A,0))),INDEX(resources!$G:$G,MATCH(B110,resources!$A:$A,0))),\"n/a\")","v":"utility_pv"},"n/a","utility_pv",2016,2040,1,1,{"$f":"MIN((IFERROR(IF(AND($V110<=Z$1,$W110>=Z$1),INDEX(Reliability!E$23:E$50,MATCH($S110,Reliability!$C$23:$C$50,0)),0),0)*IF($T110=\"n/a\",$D110*$Y110,$G110)+IFERROR(IF(AND($V110<=Z$1,$W110>=Z$1),INDEX(Reliability!E$23:E$50,MATCH($T110,Reliability!$C$23:$C$50,0)),0),0)*$H110*$X110*$Y110),$D110)*$R110","v":0},{"$f":"MIN((IFERROR(IF(AND($V110<=AA$1,$W110>=AA$1),INDEX(Reliability!F$23:F$50,MATCH($S110,Reliability!$C$23:$C$50,0)),0),0)*IF($T110=\"n/a\",$D110*$Y110,$G110)+IFERROR(IF(AND($V110<=AA$1,$W110>=AA$1),INDEX(Reliability!F$23:F$50,MATCH($T110,Reliability!$C$23:$C$50,0)),0),0)*$H110*$X110*$Y110),$D110)*$R110","v":0},{"$f":"MIN((IFERROR(IF(AND($V110<=AB$1,$W110>=AB$1),INDEX(Reliability!G$23:G$50,MATCH($S110,Reliability!$C$23:$C$50,0)),0),0)*IF($T110=\"n/a\",$D110*$Y110,$G110)+IFERROR(IF(AND($V110<=AB$1,$W110>=AB$1),INDEX(Reliability!G$23:G$50,MATCH($T110,Reliability!$C$23:$C$50,0)),0),0)*$H110*$X110*$Y110),$D110)*$R110","v":0},{"$f":"MIN((IFERROR(IF(AND($V110<=AC$1,$W110>=AC$1),INDEX(Reliability!H$23:H$50,MATCH($S110,Reliability!$C$23:$C$50,0)),0),0)*IF($T110=\"n/a\",$D110*$Y110,$G110)+IFERROR(IF(AND($V110<=AC$1,$W110>=AC$1),INDEX(Reliability!H$23:H$50,MATCH($T110,Reliability!$C$23:$C$50,0)),0),0)*$H110*$X110*$Y110),$D110)*$R110","v":0},{"$f":"MIN((IFERROR(IF(AND($V110<=AD$1,$W110>=AD$1),INDEX(Reliability!I$23:I$50,MATCH($S110,Reliability!$C$23:$C$50,0)),0),0)*IF($T110=\"n/a\",$D110*$Y110,$G110)+IFERROR(IF(AND($V110<=AD$1,$W110>=AD$1),INDEX(Reliability!I$23:I$50,MATCH($T110,Reliability!$C$23:$C$50,0)),0),0)*$H110*$X110*$Y110),$D110)*$R110","v":0},{"$f":"MIN((IFERROR(IF(AND($V110<=AE$1,$W110>=AE$1),INDEX(Reliability!J$23:J$50,MATCH($S110,Reliability!$C$23:$C$50,0)),0),0)*IF($T110=\"n/a\",$D110*$Y110,$G110)+IFERROR(IF(AND($V110<=AE$1,$W110>=AE$1),INDEX(Reliability!J$23:J$50,MATCH($T110,Reliability!$C$23:$C$50,0)),0),0)*$H110*$X110*$Y110),$D110)*$R110","v":0},{"$f":"MIN((IFERROR(IF(AND($V110<=AF$1,$W110>=AF$1),INDEX(Reliability!K$23:K$50,MATCH($S110,Reliability!$C$23:$C$50,0)),0),0)*IF($T110=\"n/a\",$D110*$Y110,$G110)+IFERROR(IF(AND($V110<=AF$1,$W110>=AF$1),INDEX(Reliability!K$23:K$50,MATCH($T110,Reliability!$C$23:$C$50,0)),0),0)*$H110*$X110*$Y110),$D110)*$R110","v":0},{"$f":"MIN((IFERROR(IF(AND($V110<=AG$1,$W110>=AG$1),INDEX(Reliability!L$23:L$50,MATCH($S110,Reliability!$C$23:$C$50,0)),0),0)*IF($T110=\"n/a\",$D110*$Y110,$G110)+IFERROR(IF(AND($V110<=AG$1,$W110>=AG$1),INDEX(Reliability!L$23:L$50,MATCH($T110,Reliability!$C$23:$C$50,0)),0),0)*$H110*$X110*$Y110),$D110)*$R110","v":0},{"$f":"MIN((IFERROR(IF(AND($V110<=AH$1,$W110>=AH$1),INDEX(Reliability!M$23:M$50,MATCH($S110,Reliability!$C$23:$C$50,0)),0),0)*IF($T110=\"n/a\",$D110*$Y110,$G110)+IFERROR(IF(AND($V110<=AH$1,$W110>=AH$1),INDEX(Reliability!M$23:M$50,MATCH($T110,Reliability!$C$23:$C$50,0)),0),0)*$H110*$X110*$Y110),$D110)*$R110","v":0},{"$f":"MIN((IFERROR(IF(AND($V110<=AI$1,$W110>=AI$1),INDEX(Reliability!N$23:N$50,MATCH($S110,Reliability!$C$23:$C$50,0)),0),0)*IF($T110=\"n/a\",$D110*$Y110,$G110)+IFERROR(IF(AND($V110<=AI$1,$W110>=AI$1),INDEX(Reliability!N$23:N$50,MATCH($T110,Reliability!$C$23:$C$50,0)),0),0)*$H110*$X110*$Y110),$D110)*$R110","v":0},{"$f":"MIN((IFERROR(IF(AND($V110<=AJ$1,$W110>=AJ$1),INDEX(Reliability!O$23:O$50,MATCH($S110,Reliability!$C$23:$C$50,0)),0),0)*IF($T110=\"n/a\",$D110*$Y110,$G110)+IFERROR(IF(AND($V110<=AJ$1,$W110>=AJ$1),INDEX(Reliability!O$23:O$50,MATCH($T110,Reliability!$C$23:$C$50,0)),0),0)*$H110*$X110*$Y110),$D110)*$R110","v":0},{"$f":"MIN((IFERROR(IF(AND($V110<=AK$1,$W110>=AK$1),INDEX(Reliability!P$23:P$50,MATCH($S110,Reliability!$C$23:$C$50,0)),0),0)*IF($T110=\"n/a\",$D110*$Y110,$G110)+IFERROR(IF(AND($V110<=AK$1,$W110>=AK$1),INDEX(Reliability!P$23:P$50,MATCH($T110,Reliability!$C$23:$C$50,0)),0),0)*$H110*$X110*$Y110),$D110)*$R110","v":0}]
[null,{"$f":"unique_contracts!B111","v":"BREGGO_6_SOLAR"},{"$f":"unique_contracts!D111","v":"Online"},{"$f":"unique_contracts!J111","v":26},{"$f":"unique_contracts!M111","v":"NotHybrid"},{"$f":"unique_contracts!N111","v":"NA"},{"$f":"unique_contracts!P111","v":0},{"$f":"unique_contracts!R111","v":0},{"$f":"unique_contracts!V111","v":0},{"$f":"unique_contracts!AB111","v":0},{"$f":"unique_contracts!AM111","v":2013},{"$f":"unique_contracts!AN111","v":2},{"$f":"unique_contracts!AO111","v":12},{"$f":"unique_contracts!AP111","v":2038},{"$f":"unique_contracts!AQ111","v":2},{"$f":"unique_contracts!AR111","v":11},{"$f":"unique_contracts!BP111","v":"EnergyCapacity"},1,{"$f":"IFERROR(IF(AND(I111>0,E111=\"NotHybrid\"),_xlfn.CONCAT(MAX(MIN(ROUNDDOWN(I111/D111,0),8),4),INDEX(resources!$G:$G,MATCH(B111,resources!$A:$A,0))),INDEX(resources!$G:$G,MATCH(B111,resources!$A:$A,0))),\"n/a\")","v":"utility_pv"},"n/a","utility_pv",2013,2037,1,1,{"$f":"MIN((IFERROR(IF(AND($V111<=Z$1,$W111>=Z$1),INDEX(Reliability!E$23:E$50,MATCH($S111,Reliability!$C$23:$C$50,0)),0),0)*IF($T111=\"n/a\",$D111*$Y111,$G111)+IFERROR(IF(AND($V111<=Z$1,$W111>=Z$1),INDEX(Reliability!E$23:E$50,MATCH($T111,Reliability!$C$23:$C$50,0)),0),0)*$H111*$X111*$Y111),$D111)*$R111","v":2.496},{"$f":"MIN((IFERROR(IF(AND($V111<=AA$1,$W111>=AA$1),INDEX(Reliability!F$23:F$50,MATCH($S111,Reliability!$C$23:$C$50,0)),0),0)*IF($T111=\"n/a\",$D111*$Y111,$G111)+IFERROR(IF(AND($V111<=AA$1,$W111>=AA$1),INDEX(Reliability!F$23:F$50,MATCH($T111,Reliability!$C$23:$C$50,0)),0),0)*$H111*$X111*$Y111),$D111)*$R111","v":2.6572167316733553},{"$f":"MIN((IFERROR(IF(AND($V111<=AB$1,$W111>=AB$1),INDEX(Reliability!G$23:G$50,MATCH($S111,Reliability!$C$23:$C$50,0)),0),0)*IF($T111=\"n/a\",$D111*$Y111,$G111)+IFERROR(IF(AND($V111<=AB$1,$W111>=AB$1),INDEX(Reliability!G$23:G$50,MATCH($T111,Reliability!$C$23:$C$50,0)),0),0)*$H111*$X111*$Y111),$D111)*$R111","v":2.8184334633467105},{"$f":"MIN((IFERROR(IF(AND($V111<=AC$1,$W111>=AC$1),INDEX(Reliability!H$23:H$50,MATCH($S111,Reliability!$C$23:$C$50,0)),0),0)*IF($T111=\"n/a\",$D111*$Y111,$G111)+IFERROR(IF(AND($V111<=AC$1,$W111>=AC$1),INDEX(Reliability!H$23:H$50,MATCH($T111,Reliability!$C$23:$C$50,0)),0),0)*$H111*$X111*$Y111),$D111)*$R111","v":2.6436883731189154},{"$f":"MIN((IFERROR(IF(AND($V111<=AD$1,$W111>=AD$1),INDEX(Reliability!I$23:I$50,MATCH($S111,Reliability!$C$23:$C$50,0)),0),0)*IF($T111=\"n/a\",$D111*$Y111,$G111)+IFERROR(IF(AND($V111<=AD$1,$W111>=AD$1),INDEX(Reliability!I$23:I$50,MATCH($T111,Reliability!$C$23:$C$50,0)),0),0)*$H111*$X111*$Y111),$D111)*$R111","v":2.4689432828911198},{"$f":"MIN((IFERROR(IF(AND($V111<=AE$1,$W111>=AE$1),INDEX(Reliability!J$23:J$50,MATCH($S111,Reliability!$C$23:$C$50,0)),0),0)*IF($T111=\"n/a\",$D111*$Y111,$G111)+IFERROR(IF(AND($V111<=AE$1,$W111>=AE$1),INDEX(Reliability!J$23:J$50,MATCH($T111,Reliability!$C$23:$C$50,0)),0),0)*$H111*$X111*$Y111),$D111)*$R111","v":2.0144716414455597},{"$f":"MIN((IFERROR(IF(AND($V111<=AF$1,$W111>=AF$1),INDEX(Reliability!K$23:K$50,MATCH($S111,Reliability!$C$23:$C$50,0)),0),0)*IF($T111=\"n/a\",$D111*$Y111,$G111)+IFERROR(IF(AND($V111<=AF$1,$W111>=AF$1),INDEX(Reliability!K$23:K$50,MATCH($T111,Reliability!$C$23:$C$50,0)),0),0)*$H111*$X111*$Y111),$D111)*$R111","v":1.56},{"$f":"MIN((IFERROR(IF(AND($V111<=AG$1,$W111>=AG$1),INDEX(Reliability!L$23:L$50,MATCH($S111,Reliability!$C$23:$C$50,0)),0),0)*IF($T111=\"n/a\",$D111*$Y111,$G111)+IFERROR(IF(AND($V111<=AG$1,$W111>=AG$1),INDEX(Reliability!L$23:L$50,MATCH($T111,Reliability!$C$23:$C$50,0)),0),0)*$H111*$X111*$Y111),$D111)*$R111","v":1.5808},{"$f":"MIN((IFERROR(IF(AND($V111<=AH$1,$W111>=AH$1),INDEX(Reliability!M$23:M$50,MATCH($S111,Reliability!$C$23:$C$50,0)),0),0)*IF($T111=\"n/a\",$D111*$Y111,$G111)+IFERROR(IF(AND($V111<=AH$1,$W111>=AH$1),INDEX(Reliability!M$23:M$50,MATCH($T111,Reliability!$C$23:$C$50,0)),0),0)*$H111*$X111*$Y111),$D111)*$R111","v":1.6016000000000001},{"$f":"MIN((IFERROR(IF(AND($V111<=AI$1,$W111>=AI$1),INDEX(Reliability!N$23:N$50,MATCH($S111,Reliability!$C$23:$C$50,0)),0),0)*IF($T111=\"n/a\",$D111*$Y111,$G111)+IFERROR(IF(AND($V111<=AI$1,$W111>=AI$1),INDEX(Reliability!N$23:N$50,MATCH($T111,Reliability!$C$23:$C$50,0)),0),0)*$H111*$X111*$Y111),$D111)*$R111","v":1.6224000000000001},{"$f":"MIN((IFERROR(IF(AND($V111<=AJ$1,$W111>=AJ$1),INDEX(Reliability!O$23:O$50,MATCH($S111,Reliability!$C$23:$C$50,0)),0),0)*IF($T111=\"n/a\",$D111*$Y111,$G111)+IFERROR(IF(AND($V111<=AJ$1,$W111>=AJ$1),INDEX(Reliability!O$23:O$50,MATCH($T111,Reliability!$C$23:$C$50,0)),0),0)*$H111*$X111*$Y111),$D111)*$R111","v":1.6432000000000002},{"$f":"MIN((IFERROR(IF(AND($V111<=AK$1,$W111>=AK$1),INDEX(Reliability!P$23:P$50,MATCH($S111,Reliability!$C$23:$C$50,0)),0),0)*IF($T111=\"n/a\",$D111*$Y111,$G111)+IFERROR(IF(AND($V111<=AK$1,$W111>=AK$1),INDEX(Reliability!P$23:P$50,MATCH($T111,Reliability!$C$23:$C$50,0)),0),0)*$H111*$X111*$Y111),$D111)*$R111","v":1.6640000000000001}]
[null,{"$f":"unique_contracts!B112","v":"_EXISTING_GENERIC_SOLAR_1AXIS"},{"$f":"unique_contracts!D112","v":"Online"},{"$f":"unique_contracts!J112","v":0},{"$f":"unique_contracts!M112","v":"NotHybrid"},{"$f":"unique_contracts!N112","v":"NA"},{"$f":"unique_contracts!P112","v":0},{"$f":"unique_contracts!R112","v":0},{"$f":"unique_contracts!V112","v":0},{"$f":"unique_contracts!AB112","v":"sell"},{"$f":"unique_contracts!AM112","v":2013},{"$f":"unique_contracts!AN112","v":2},{"$f":"unique_contracts!AO112","v":12},{"$f":"unique_contracts!AP112","v":2038},{"$f":"unique_contracts!AQ112","v":2},{"$f":"unique_contracts!AR112","v":11},{"$f":"unique_contracts!BP112","v":"EnergyOnly"},0,{"$f":"IFERROR(IF(AND(I112>0,E112=\"NotHybrid\"),_xlfn.CONCAT(MAX(MIN(ROUNDDOWN(I112/D112,0),8),4),INDEX(resources!$G:$G,MATCH(B112,resources!$A:$A,0))),INDEX(resources!$G:$G,MATCH(B112,resources!$A:$A,0))),\"n/a\")","v":"utility_pv"},"n/a","utility_pv",2013,2037,1,1,{"$f":"MIN((IFERROR(IF(AND($V112<=Z$1,$W112>=Z$1),INDEX(Reliability!E$23:E$50,MATCH($S112,Reliability!$C$23:$C$50,0)),0),0)*IF($T112=\"n/a\",$D112*$Y112,$G112)+IFERROR(IF(AND($V112<=Z$1,$W112>=Z$1),INDEX(Reliability!E$23:E$50,MATCH($T112,Reliability!$C$23:$C$50,0)),0),0)*$H112*$X112*$Y112),$D112)*$R112","v":0},{"$f":"MIN((IFERROR(IF(AND($V112<=AA$1,$W112>=AA$1),INDEX(Reliability!F$23:F$50,MATCH($S112,Reliability!$C$23:$C$50,0)),0),0)*IF($T112=\"n/a\",$D112*$Y112,$G112)+IFERROR(IF(AND($V112<=AA$1,$W112>=AA$1),INDEX(Reliability!F$23:F$50,MATCH($T112,Reliability!$C$23:$C$50,0)),0),0)*$H112*$X112*$Y112),$D112)*$R112","v":0},{"$f":"MIN((IFERROR(IF(AND($V112<=AB$1,$W112>=AB$1),INDEX(Reliability!G$23:G$50,MATCH($S112,Reliability!$C$23:$C$50,0)),0),0)*IF($T112=\"n/a\",$D112*$Y112,$G112)+IFERROR(IF(AND($V112<=AB$1,$W112>=AB$1),INDEX(Reliability!G$23:G$50,MATCH($T112,Reliability!$C$23:$C$50,0)),0),0)*$H112*$X112*$Y112),$D112)*$R112","v":0},{"$f":"MIN((IFERROR(IF(AND($V112<=AC$1,$W112>=AC$1),INDEX(Reliability!H$23:H$50,MATCH($S112,Reliability!$C$23:$C$50,0)),0),0)*IF($T112=\"n/a\",$D112*$Y112,$G112)+IFERROR(IF(AND($V112<=AC$1,$W112>=AC$1),INDEX(Reliability!H$23:H$50,MATCH($T112,Reliability!$C$23:$C$50,0)),0),0)*$H112*$X112*$Y112),$D112)*$R112","v":0},{"$f":"MIN((IFERROR(IF(AND($V112<=AD$1,$W112>=AD$1),INDEX(Reliability!I$23:I$50,MATCH($S112,Reliability!$C$23:$C$50,0)),0),0)*IF($T112=\"n/a\",$D112*$Y112,$G112)+IFERROR(IF(AND($V112<=AD$1,$W112>=AD$1),INDEX(Reliability!I$23:I$50,MATCH($T112,Reliability!$C$23:$C$50,0)),0),0)*$H112*$X112*$Y112),$D112)*$R112","v":0},{"$f":"MIN((IFERROR(IF(AND($V112<=AE$1,$W112>=AE$1),INDEX(Reliability!J$23:J$50,MATCH($S112,Reliability!$C$23:$C$50,0)),0),0)*IF($T112=\"n/a\",$D112*$Y112,$G112)+IFERROR(IF(AND($V112<=AE$1,$W112>=AE$1),INDEX(Reliability!J$23:J$50,MATCH($T112,Reliability!$C$23:$C$50,0)),0),0)*$H112*$X112*$Y112),$D112)*$R112","v":0},{"$f":"MIN((IFERROR(IF(AND($V112<=AF$1,$W112>=AF$1),INDEX(Reliability!K$23:K$50,MATCH($S112,Reliability!$C$23:$C$50,0)),0),0)*IF($T112=\"n/a\",$D112*$Y112,$G112)+IFERROR(IF(AND($V112<=AF$1,$W112>=AF$1),INDEX(Reliability!K$23:K$50,MATCH($T112,Reliability!$C$23:$C$50,0)),0),0)*$H112*$X112*$Y112),$D112)*$R112","v":0},{"$f":"MIN((IFERROR(IF(AND($V112<=AG$1,$W112>=AG$1),INDEX(Reliability!L$23:L$50,MATCH($S112,Reliability!$C$23:$C$50,0)),0),0)*IF($T112=\"n/a\",$D112*$Y112,$G112)+IFERROR(IF(AND($V112<=AG$1,$W112>=AG$1),INDEX(Reliability!L$23:L$50,MATCH($T112,Reliability!$C$23:$C$50,0)),0),0)*$H112*$X112*$Y112),$D112)*$R112","v":0},{"$f":"MIN((IFERROR(IF(AND($V112<=AH$1,$W112>=AH$1),INDEX(Reliability!M$23:M$50,MATCH($S112,Reliability!$C$23:$C$50,0)),0),0)*IF($T112=\"n/a\",$D112*$Y112,$G112)+IFERROR(IF(AND($V112<=AH$1,$W112>=AH$1),INDEX(Reliability!M$23:M$50,MATCH($T112,Reliability!$C$23:$C$50,0)),0),0)*$H112*$X112*$Y112),$D112)*$R112","v":0},{"$f":"MIN((IFERROR(IF(AND($V112<=AI$1,$W112>=AI$1),INDEX(Reliability!N$23:N$50,MATCH($S112,Reliability!$C$23:$C$50,0)),0),0)*IF($T112=\"n/a\",$D112*$Y112,$G112)+IFERROR(IF(AND($V112<=AI$1,$W112>=AI$1),INDEX(Reliability!N$23:N$50,MATCH($T112,Reliability!$C$23:$C$50,0)),0),0)*$H112*$X112*$Y112),$D112)*$R112","v":0},{"$f":"MIN((IFERROR(IF(AND($V112<=AJ$1,$W112>=AJ$1),INDEX(Reliability!O$23:O$50,MATCH($S112,Reliability!$C$23:$C$50,0)),0),0)*IF($T112=\"n/a\",$D112*$Y112,$G112)+IFERROR(IF(AND($V112<=AJ$1,$W112>=AJ$1),INDEX(Reliability!O$23:O$50,MATCH($T112,Reliability!$C$23:$C$50,0)),0),0)*$H112*$X112*$Y112),$D112)*$R112","v":0},{"$f":"MIN((IFERROR(IF(AND($V112<=AK$1,$W112>=AK$1),INDEX(Reliability!P$23:P$50,MATCH($S112,Reliability!$C$23:$C$50,0)),0),0)*IF($T112=\"n/a\",$D112*$Y112,$G112)+IFERROR(IF(AND($V112<=AK$1,$W112>=AK$1),INDEX(Reliability!P$23:P$50,MATCH($T112,Reliability!$C$23:$C$50,0)),0),0)*$H112*$X112*$Y112),$D112)*$R112","v":0}]
[null,{"$f":"unique_contracts!B113","v":"BREGGO_6_DEGRSL"},{"$f":"unique_contracts!D113","v":"Online"},{"$f":"unique_contracts!J113","v":6.3},{"$f":"unique_contracts!M113","v":"NotHybrid"},{"$f":"unique_contracts!N113","v":"NA"},{"$f":"unique_contracts!P113","v":0},{"$f":"unique_contracts!R113","v":0},{"$f":"unique_contracts!V113","v":0},{"$f":"unique_contracts!AB113","v":0},{"$f":"unique_contracts!AM113","v":2014},{"$f":"unique_contracts!AN113","v":11},{"$f":"unique_contracts!AO113","v":26},{"$f":"unique_contracts!AP113","v":2039},{"$f":"unique_contracts!AQ113","v":11},{"$f":"unique_contracts!AR113","v":26},{"$f":"unique_contracts!BP113","v":"EnergyCapacity"},1,{"$f":"IFERROR(IF(AND(I113>0,E113=\"NotHybrid\"),_xlfn.CONCAT(MAX(MIN(ROUNDDOWN(I113/D113,0),8),4),INDEX(resources!$G:$G,MATCH(B113,resources!$A:$A,0))),INDEX(resources!$G:$G,MATCH(B113,resources!$A:$A,0))),\"n/a\")","v":"utility_pv"},"n/a","utility_pv",2015,2039,1,1,{"$f":"MIN((IFERROR(IF(AND($V113<=Z$1,$W113>=Z$1),INDEX(Reliability!E$23:E$50,MATCH($S113,Reliability!$C$23:$C$50,0)),0),0)*IF($T113=\"n/a\",$D113*$Y113,$G113)+IFERROR(IF(AND($V113<=Z$1,$W113>=Z$1),INDEX(Reliability!E$23:E$50,MATCH($T113,Reliability!$C$23:$C$50,0)),0),0)*$H113*$X113*$Y113),$D113)*$R113","v":0.6048},{"$f":"MIN((IFERROR(IF(AND($V113<=AA$1,$W113>=AA$1),INDEX(Reliability!F$23:F$50,MATCH($S113,Reliability!$C$23:$C$50,0)),0),0)*IF($T113=\"n/a\",$D113*$Y113,$G113)+IFERROR(IF(AND($V113<=AA$1,$W113>=AA$1),INDEX(Reliability!F$23:F$50,MATCH($T113,Reliability!$C$23:$C$50,0)),0),0)*$H113*$X113*$Y113),$D113)*$R113","v":0.64386405421315918},{"$f":"MIN((IFERROR(IF(AND($V113<=AB$1,$W113>=AB$1),INDEX(Reliability!G$23:G$50,MATCH($S113,Reliability!$C$23:$C$50,0)),0),0)*IF($T113=\"n/a\",$D113*$Y113,$G113)+IFERROR(IF(AND($V113<=AB$1,$W113>=AB$1),INDEX(Reliability!G$23:G$50,MATCH($T113,Reliability!$C$23:$C$50,0)),0),0)*$H113*$X113*$Y113),$D113)*$R113","v":0.68292810842631835},{"$f":"MIN((IFERROR(IF(AND($V113<=AC$1,$W113>=AC$1),INDEX(Reliability!H$23:H$50,MATCH($S113,Reliability!$C$23:$C$50,0)),0),0)*IF($T113=\"n/a\",$D113*$Y113,$G113)+IFERROR(IF(AND($V113<=AC$1,$W113>=AC$1),INDEX(Reliability!H$23:H$50,MATCH($T113,Reliability!$C$23:$C$50,0)),0),0)*$H113*$X113*$Y113),$D113)*$R113","v":0.64058602887112182},{"$f":"MIN((IFERROR(IF(AND($V113<=AD$1,$W113>=AD$1),INDEX(Reliability!I$23:I$50,MATCH($S113,Reliability!$C$23:$C$50,0)),0),0)*IF($T113=\"n/a\",$D113*$Y113,$G113)+IFERROR(IF(AND($V113<=AD$1,$W113>=AD$1),INDEX(Reliability!I$23:I$50,MATCH($T113,Reliability!$C$23:$C$50,0)),0),0)*$H113*$X113*$Y113),$D113)*$R113","v":0.59824394931592506},{"$f":"MIN((IFERROR(IF(AND($V113<=AE$1,$W113>=AE$1),INDEX(Reliability!J$23:J$50,MATCH($S113,Reliability!$C$23:$C$50,0)),0),0)*IF($T113=\"n/a\",$D113*$Y113,$G113)+IFERROR(IF(AND($V113<=AE$1,$W113>=AE$1),INDEX(Reliability!J$23:J$50,MATCH($T113,Reliability!$C$23:$C$50,0)),0),0)*$H113*$X113*$Y113),$D113)*$R113","v":0.48812197465796253},{"$f":"MIN((IFERROR(IF(AND($V113<=AF$1,$W113>=AF$1),INDEX(Reliability!K$23:K$50,MATCH($S113,Reliability!$C$23:$C$50,0)),0),0)*IF($T113=\"n/a\",$D113*$Y113,$G113)+IFERROR(IF(AND($V113<=AF$1,$W113>=AF$1),INDEX(Reliability!K$23:K$50,MATCH($T113,Reliability!$C$23:$C$50,0)),0),0)*$H113*$X113*$Y113),$D113)*$R113","v":0.378},{"$f":"MIN((IFERROR(IF(AND($V113<=AG$1,$W113>=AG$1),INDEX(Reliability!L$23:L$50,MATCH($S113,Reliability!$C$23:$C$50,0)),0),0)*IF($T113=\"n/a\",$D113*$Y113,$G113)+IFERROR(IF(AND($V113<=AG$1,$W113>=AG$1),INDEX(Reliability!L$23:L$50,MATCH($T113,Reliability!$C$23:$C$50,0)),0),0)*$H113*$X113*$Y113),$D113)*$R113","v":0.38303999999999999},{"$f":"MIN((IFERROR(IF(AND($V113<=AH$1,$W113>=AH$1),INDEX(Reliability!M$23:M$50,MATCH($S113,Reliability!$C$23:$C$50,0)),0),0)*IF($T113=\"n/a\",$D113*$Y113,$G113)+IFERROR(IF(AND($V113<=AH$1,$W113>=AH$1),INDEX(Reliability!M$23:M$50,MATCH($T113,Reliability!$C$23:$C$50,0)),0),0)*$H113*$X113*$Y113),$D113)*$R113","v":0.38807999999999998},{"$f":"MIN((IFERROR(IF(AND($V113<=AI$1,$W113>=AI$1),INDEX(Reliability!N$23:N$50,MATCH($S113,Reliability!$C$23:$C$50,0)),0),0)*IF($T113=\"n/a\",$D113*$Y113,$G113)+IFERROR(IF(AND($V113<=AI$1,$W113>=AI$1),INDEX(Reliability!N$23:N$50,MATCH($T113,Reliability!$C$23:$C$50,0)),0),0)*$H113*$X113*$Y113),$D113)*$R113","v":0.39312000000000002},{"$f":"MIN((IFERROR(IF(AND($V113<=AJ$1,$W113>=AJ$1),INDEX(Reliability!O$23:O$50,MATCH($S113,Reliability!$C$23:$C$50,0)),0),0)*IF($T113=\"n/a\",$D113*$Y113,$G113)+IFERROR(IF(AND($V113<=AJ$1,$W113>=AJ$1),INDEX(Reliability!O$23:O$50,MATCH($T113,Reliability!$C$23:$C$50,0)),0),0)*$H113*$X113*$Y113),$D113)*$R113","v":0.39816000000000001},{"$f":"MIN((IFERROR(IF(AND($V113<=AK$1,$W113>=AK$1),INDEX(Reliability!P$23:P$50,MATCH($S113,Reliability!$C$23:$C$50,0)),0),0)*IF($T113=\"n/a\",$D113*$Y113,$G113)+IFERROR(IF(AND($V113<=AK$1,$W113>=AK$1),INDEX(Reliability!P$23:P$50,MATCH($T113,Reliability!$C$23:$C$50,0)),0),0)*$H113*$X113*$Y113),$D113)*$R113","v":0.4032}]
[null,{"$f":"unique_contracts!B114","v":"_EXISTING_GENERIC_WIND"},{"$f":"unique_contracts!D114","v":"Online"},{"$f":"unique_contracts!J114","v":0},{"$f":"unique_contracts!M114","v":"NotHybrid"},{"$f":"unique_contracts!N114","v":"NA"},{"$f":"unique_contracts!P114","v":0},{"$f":"unique_contracts!R114","v":0},{"$f":"unique_contracts!V114","v":0},{"$f":"unique_contracts!AB114","v":"sell"},{"$f":"unique_contracts!AM114","v":2014},{"$f":"unique_contracts!AN114","v":11},{"$f":"unique_contracts!AO114","v":26},{"$f":"unique_contracts!AP114","v":2039},{"$f":"unique_contracts!AQ114","v":11},{"$f":"unique_contracts!AR114","v":26},{"$f":"unique_contracts!BP114","v":"EnergyOnly"},0,{"$f":"IFERROR(IF(AND(I114>0,E114=\"NotHybrid\"),_xlfn.CONCAT(MAX(MIN(ROUNDDOWN(I114/D114,0),8),4),INDEX(resources!$G:$G,MATCH(B114,resources!$A:$A,0))),INDEX(resources!$G:$G,MATCH(B114,resources!$A:$A,0))),\"n/a\")","v":"in_state_wind_south"},"n/a","in_state_wind_south",2015,2039,1,1,{"$f":"MIN((IFERROR(IF(AND($V114<=Z$1,$W114>=Z$1),INDEX(Reliability!E$23:E$50,MATCH($S114,Reliability!$C$23:$C$50,0)),0),0)*IF($T114=\"n/a\",$D114*$Y114,$G114)+IFERROR(IF(AND($V114<=Z$1,$W114>=Z$1),INDEX(Reliability!E$23:E$50,MATCH($T114,Reliability!$C$23:$C$50,0)),0),0)*$H114*$X114*$Y114),$D114)*$R114","v":0},{"$f":"MIN((IFERROR(IF(AND($V114<=AA$1,$W114>=AA$1),INDEX(Reliability!F$23:F$50,MATCH($S114,Reliability!$C$23:$C$50,0)),0),0)*IF($T114=\"n/a\",$D114*$Y114,$G114)+IFERROR(IF(AND($V114<=AA$1,$W114>=AA$1),INDEX(Reliability!F$23:F$50,MATCH($T114,Reliability!$C$23:$C$50,0)),0),0)*$H114*$X114*$Y114),$D114)*$R114","v":0},{"$f":"MIN((IFERROR(IF(AND($V114<=AB$1,$W114>=AB$1),INDEX(Reliability!G$23:G$50,MATCH($S114,Reliability!$C$23:$C$50,0)),0),0)*IF($T114=\"n/a\",$D114*$Y114,$G114)+IFERROR(IF(AND($V114<=AB$1,$W114>=AB$1),INDEX(Reliability!G$23:G$50,MATCH($T114,Reliability!$C$23:$C$50,0)),0),0)*$H114*$X114*$Y114),$D114)*$R114","v":0},{"$f":"MIN((IFERROR(IF(AND($V114<=AC$1,$W114>=AC$1),INDEX(Reliability!H$23:H$50,MATCH($S114,Reliability!$C$23:$C$50,0)),0),0)*IF($T114=\"n/a\",$D114*$Y114,$G114)+IFERROR(IF(AND($V114<=AC$1,$W114>=AC$1),INDEX(Reliability!H$23:H$50,MATCH($T114,Reliability!$C$23:$C$50,0)),0),0)*$H114*$X114*$Y114),$D114)*$R114","v":0},{"$f":"MIN((IFERROR(IF(AND($V114<=AD$1,$W114>=AD$1),INDEX(Reliability!I$23:I$50,MATCH($S114,Reliability!$C$23:$C$50,0)),0),0)*IF($T114=\"n/a\",$D114*$Y114,$G114)+IFERROR(IF(AND($V114<=AD$1,$W114>=AD$1),INDEX(Reliability!I$23:I$50,MATCH($T114,Reliability!$C$23:$C$50,0)),0),0)*$H114*$X114*$Y114),$D114)*$R114","v":0},{"$f":"MIN((IFERROR(IF(AND($V114<=AE$1,$W114>=AE$1),INDEX(Reliability!J$23:J$50,MATCH($S114,Reliability!$C$23:$C$50,0)),0),0)*IF($T114=\"n/a\",$D114*$Y114,$G114)+IFERROR(IF(AND($V114<=AE$1,$W114>=AE$1),INDEX(Reliability!J$23:J$50,MATCH($T114,Reliability!$C$23:$C$50,0)),0),0)*$H114*$X114*$Y114),$D114)*$R114","v":0},{"$f":"MIN((IFERROR(IF(AND($V114<=AF$1,$W114>=AF$1),INDEX(Reliability!K$23:K$50,MATCH($S114,Reliability!$C$23:$C$50,0)),0),0)*IF($T114=\"n/a\",$D114*$Y114,$G114)+IFERROR(IF(AND($V114<=AF$1,$W114>=AF$1),INDEX(Reliability!K$23:K$50,MATCH($T114,Reliability!$C$23:$C$50,0)),0),0)*$H114*$X114*$Y114),$D114)*$R114","v":0},{"$f":"MIN((IFERROR(IF(AND($V114<=AG$1,$W114>=AG$1),INDEX(Reliability!L$23:L$50,MATCH($S114,Reliability!$C$23:$C$50,0)),0),0)*IF($T114=\"n/a\",$D114*$Y114,$G114)+IFERROR(IF(AND($V114<=AG$1,$W114>=AG$1),INDEX(Reliability!L$23:L$50,MATCH($T114,Reliability!$C$23:$C$50,0)),0),0)*$H114*$X114*$Y114),$D114)*$R114","v":0},{"$f":"MIN((IFERROR(IF(AND($V114<=AH$1,$W114>=AH$1),INDEX(Reliability!M$23:M$50,MATCH($S114,Reliability!$C$23:$C$50,0)),0),0)*IF($T114=\"n/a\",$D114*$Y114,$G114)+IFERROR(IF(AND($V114<=AH$1,$W114>=AH$1),INDEX(Reliability!M$23:M$50,MATCH($T114,Reliability!$C$23:$C$50,0)),0),0)*$H114*$X114*$Y114),$D114)*$R114","v":0},{"$f":"MIN((IFERROR(IF(AND($V114<=AI$1,$W114>=AI$1),INDEX(Reliability!N$23:N$50,MATCH($S114,Reliability!$C$23:$C$50,0)),0),0)*IF($T114=\"n/a\",$D114*$Y114,$G114)+IFERROR(IF(AND($V114<=AI$1,$W114>=AI$1),INDEX(Reliability!N$23:N$50,MATCH($T114,Reliability!$C$23:$C$50,0)),0),0)*$H114*$X114*$Y114),$D114)*$R114","v":0},{"$f":"MIN((IFERROR(IF(AND($V114<=AJ$1,$W114>=AJ$1),INDEX(Reliability!O$23:O$50,MATCH($S114,Reliability!$C$23:$C$50,0)),0),0)*IF($T114=\"n/a\",$D114*$Y114,$G114)+IFERROR(IF(AND($V114<=AJ$1,$W114>=AJ$1),INDEX(Reliability!O$23:O$50,MATCH($T114,Reliability!$C$23:$C$50,0)),0),0)*$H114*$X114*$Y114),$D114)*$R114","v":0},{"$f":"MIN((IFERROR(IF(AND($V114<=AK$1,$W114>=AK$1),INDEX(Reliability!P$23:P$50,MATCH($S114,Reliability!$C$23:$C$50,0)),0),0)*IF($T114=\"n/a\",$D114*$Y114,$G114)+IFERROR(IF(AND($V114<=AK$1,$W114>=AK$1),INDEX(Reliability!P$23:P$50,MATCH($T114,Reliability!$C$23:$C$50,0)),0),0)*$H114*$X114*$Y114),$D114)*$R114","v":0}]
[null,{"$f":"unique_contracts!B115","v":"CPVERD_2_SOLAR"},{"$f":"unique_contracts!D115","v":"Online"},{"$f":"unique_contracts!J115","v":139},{"$f":"unique_contracts!M115","v":"NotHybrid"},{"$f":"unique_contracts!N115","v":"NA"},{"$f":"unique_contracts!P115","v":0},{"$f":"unique_contracts!R115","v":0},{"$f":"unique_contracts!V115","v":0},{"$f":"unique_contracts!AB115","v":0},{"$f":"unique_contracts!AM115","v":2013},{"$f":"unique_contracts!AN115","v":10},{"$f":"unique_contracts!AO115","v":25},{"$f":"unique_contracts!AP115","v":2033},{"$f":"unique_contracts!AQ115","v":10},{"$f":"unique_contracts!AR115","v":24},{"$f":"unique_contracts!BP115","v":"EnergyCapacity"},1,{"$f":"IFERROR(IF(AND(I115>0,E115=\"NotHybrid\"),_xlfn.CONCAT(MAX(MIN(ROUNDDOWN(I115/D115,0),8),4),INDEX(resources!$G:$G,MATCH(B115,resources!$A:$A,0))),INDEX(resources!$G:$G,MATCH(B115,resources!$A:$A,0))),\"n/a\")","v":"utility_pv"},"n/a","utility_pv",2014,2033,1,1,{"$f":"MIN((IFERROR(IF(AND($V115<=Z$1,$W115>=Z$1),INDEX(Reliability!E$23:E$50,MATCH($S115,Reliability!$C$23:$C$50,0)),0),0)*IF($T115=\"n/a\",$D115*$Y115,$G115)+IFERROR(IF(AND($V115<=Z$1,$W115>=Z$1),INDEX(Reliability!E$23:E$50,MATCH($T115,Reliability!$C$23:$C$50,0)),0),0)*$H115*$X115*$Y115),$D115)*$R115","v":13.343999999999999},{"$f":"MIN((IFERROR(IF(AND($V115<=AA$1,$W115>=AA$1),INDEX(Reliability!F$23:F$50,MATCH($S115,Reliability!$C$23:$C$50,0)),0),0)*IF($T115=\"n/a\",$D115*$Y115,$G115)+IFERROR(IF(AND($V115<=AA$1,$W115>=AA$1),INDEX(Reliability!F$23:F$50,MATCH($T115,Reliability!$C$23:$C$50,0)),0),0)*$H115*$X115*$Y115),$D115)*$R115","v":14.20588945009986},{"$f":"MIN((IFERROR(IF(AND($V115<=AB$1,$W115>=AB$1),INDEX(Reliability!G$23:G$50,MATCH($S115,Reliability!$C$23:$C$50,0)),0),0)*IF($T115=\"n/a\",$D115*$Y115,$G115)+IFERROR(IF(AND($V115<=AB$1,$W115>=AB$1),INDEX(Reliability!G$23:G$50,MATCH($T115,Reliability!$C$23:$C$50,0)),0),0)*$H115*$X115*$Y115),$D115)*$R115","v":15.067778900199723},{"$f":"MIN((IFERROR(IF(AND($V115<=AC$1,$W115>=AC$1),INDEX(Reliability!H$23:H$50,MATCH($S115,Reliability!$C$23:$C$50,0)),0),0)*IF($T115=\"n/a\",$D115*$Y115,$G115)+IFERROR(IF(AND($V115<=AC$1,$W115>=AC$1),INDEX(Reliability!H$23:H$50,MATCH($T115,Reliability!$C$23:$C$50,0)),0),0)*$H115*$X115*$Y115),$D115)*$R115","v":14.133564763981893},{"$f":"MIN((IFERROR(IF(AND($V115<=AD$1,$W115>=AD$1),INDEX(Reliability!I$23:I$50,MATCH($S115,Reliability!$C$23:$C$50,0)),0),0)*IF($T115=\"n/a\",$D115*$Y115,$G115)+IFERROR(IF(AND($V115<=AD$1,$W115>=AD$1),INDEX(Reliability!I$23:I$50,MATCH($T115,Reliability!$C$23:$C$50,0)),0),0)*$H115*$X115*$Y115),$D115)*$R115","v":13.199350627764062},{"$f":"MIN((IFERROR(IF(AND($V115<=AE$1,$W115>=AE$1),INDEX(Reliability!J$23:J$50,MATCH($S115,Reliability!$C$23:$C$50,0)),0),0)*IF($T115=\"n/a\",$D115*$Y115,$G115)+IFERROR(IF(AND($V115<=AE$1,$W115>=AE$1),INDEX(Reliability!J$23:J$50,MATCH($T115,Reliability!$C$23:$C$50,0)),0),0)*$H115*$X115*$Y115),$D115)*$R115","v":10.769675313882031},{"$f":"MIN((IFERROR(IF(AND($V115<=AF$1,$W115>=AF$1),INDEX(Reliability!K$23:K$50,MATCH($S115,Reliability!$C$23:$C$50,0)),0),0)*IF($T115=\"n/a\",$D115*$Y115,$G115)+IFERROR(IF(AND($V115<=AF$1,$W115>=AF$1),INDEX(Reliability!K$23:K$50,MATCH($T115,Reliability!$C$23:$C$50,0)),0),0)*$H115*$X115*$Y115),$D115)*$R115","v":8.34},{"$f":"MIN((IFERROR(IF(AND($V115<=AG$1,$W115>=AG$1),INDEX(Reliability!L$23:L$50,MATCH($S115,Reliability!$C$23:$C$50,0)),0),0)*IF($T115=\"n/a\",$D115*$Y115,$G115)+IFERROR(IF(AND($V115<=AG$1,$W115>=AG$1),INDEX(Reliability!L$23:L$50,MATCH($T115,Reliability!$C$23:$C$50,0)),0),0)*$H115*$X115*$Y115),$D115)*$R115","v":8.4512},{"$f":"MIN((IFERROR(IF(AND($V115<=AH$1,$W115>=AH$1),INDEX(Reliability!M$23:M$50,MATCH($S115,Reliability!$C$23:$C$50,0)),0),0)*IF($T115=\"n/a\",$D115*$Y115,$G115)+IFERROR(IF(AND($V115<=AH$1,$W115>=AH$1),INDEX(Reliability!M$23:M$50,MATCH($T115,Reliability!$C$23:$C$50,0)),0),0)*$H115*$X115*$Y115),$D115)*$R115","v":8.5624000000000002},{"$f":"MIN((IFERROR(IF(AND($V115<=AI$1,$W115>=AI$1),INDEX(Reliability!N$23:N$50,MATCH($S115,Reliability!$C$23:$C$50,0)),0),0)*IF($T115=\"n/a\",$D115*$Y115,$G115)+IFERROR(IF(AND($V115<=AI$1,$W115>=AI$1),INDEX(Reliability!N$23:N$50,MATCH($T115,Reliability!$C$23:$C$50,0)),0),0)*$H115*$X115*$Y115),$D115)*$R115","v":8.6736000000000004},{"$f":"MIN((IFERROR(IF(AND($V115<=AJ$1,$W115>=AJ$1),INDEX(Reliability!O$23:O$50,MATCH($S115,Reliability!$C$23:$C$50,0)),0),0)*IF($T115=\"n/a\",$D115*$Y115,$G115)+IFERROR(IF(AND($V115<=AJ$1,$W115>=AJ$1),INDEX(Reliability!O$23:O$50,MATCH($T115,Reliability!$C$23:$C$50,0)),0),0)*$H115*$X115*$Y115),$D115)*$R115","v":0},{"$f":"MIN((IFERROR(IF(AND($V115<=AK$1,$W115>=AK$1),INDEX(Reliability!P$23:P$50,MATCH($S115,Reliability!$C$23:$C$50,0)),0),0)*IF($T115=\"n/a\",$D115*$Y115,$G115)+IFERROR(IF(AND($V115<=AK$1,$W115>=AK$1),INDEX(Reliability!P$23:P$50,MATCH($T115,Reliability!$C$23:$C$50,0)),0),0)*$H115*$X115*$Y115),$D115)*$R115","v":0}]
[null,{"$f":"unique_contracts!B116","v":"_EXISTING_GENERIC_SOLAR_1AXIS"},{"$f":"unique_contracts!D116","v":"Online"},{"$f":"unique_contracts!J116","v":0},{"$f":"unique_contracts!M116","v":"NotHybrid"},{"$f":"unique_contracts!N116","v":"NA"},{"$f":"unique_contracts!P116","v":0},{"$f":"unique_contracts!R116","v":0},{"$f":"unique_contracts!V116","v":0},{"$f":"unique_contracts!AB116","v":"sell"},{"$f":"unique_contracts!AM116","v":2013},{"$f":"unique_contracts!AN116","v":10},{"$f":"unique_contracts!AO116","v":25},{"$f":"unique_contracts!AP116","v":2033},{"$f":"unique_contracts!AQ116","v":10},{"$f":"unique_contracts!AR116","v":24},{"$f":"unique_contracts!BP116","v":"EnergyOnly"},0,{"$f":"IFERROR(IF(AND(I116>0,E116=\"NotHybrid\"),_xlfn.CONCAT(MAX(MIN(ROUNDDOWN(I116/D116,0),8),4),INDEX(resources!$G:$G,MATCH(B116,resources!$A:$A,0))),INDEX(resources!$G:$G,MATCH(B116,resources!$A:$A,0))),\"n/a\")","v":"utility_pv"},"n/a","utility_pv",2014,2033,1,1,{"$f":"MIN((IFERROR(IF(AND($V116<=Z$1,$W116>=Z$1),INDEX(Reliability!E$23:E$50,MATCH($S116,Reliability!$C$23:$C$50,0)),0),0)*IF($T116=\"n/a\",$D116*$Y116,$G116)+IFERROR(IF(AND($V116<=Z$1,$W116>=Z$1),INDEX(Reliability!E$23:E$50,MATCH($T116,Reliability!$C$23:$C$50,0)),0),0)*$H116*$X116*$Y116),$D116)*$R116","v":0},{"$f":"MIN((IFERROR(IF(AND($V116<=AA$1,$W116>=AA$1),INDEX(Reliability!F$23:F$50,MATCH($S116,Reliability!$C$23:$C$50,0)),0),0)*IF($T116=\"n/a\",$D116*$Y116,$G116)+IFERROR(IF(AND($V116<=AA$1,$W116>=AA$1),INDEX(Reliability!F$23:F$50,MATCH($T116,Reliability!$C$23:$C$50,0)),0),0)*$H116*$X116*$Y116),$D116)*$R116","v":0},{"$f":"MIN((IFERROR(IF(AND($V116<=AB$1,$W116>=AB$1),INDEX(Reliability!G$23:G$50,MATCH($S116,Reliability!$C$23:$C$50,0)),0),0)*IF($T116=\"n/a\",$D116*$Y116,$G116)+IFERROR(IF(AND($V116<=AB$1,$W116>=AB$1),INDEX(Reliability!G$23:G$50,MATCH($T116,Reliability!$C$23:$C$50,0)),0),0)*$H116*$X116*$Y116),$D116)*$R116","v":0},{"$f":"MIN((IFERROR(IF(AND($V116<=AC$1,$W116>=AC$1),INDEX(Reliability!H$23:H$50,MATCH($S116,Reliability!$C$23:$C$50,0)),0),0)*IF($T116=\"n/a\",$D116*$Y116,$G116)+IFERROR(IF(AND($V116<=AC$1,$W116>=AC$1),INDEX(Reliability!H$23:H$50,MATCH($T116,Reliability!$C$23:$C$50,0)),0),0)*$H116*$X116*$Y116),$D116)*$R116","v":0},{"$f":"MIN((IFERROR(IF(AND($V116<=AD$1,$W116>=AD$1),INDEX(Reliability!I$23:I$50,MATCH($S116,Reliability!$C$23:$C$50,0)),0),0)*IF($T116=\"n/a\",$D116*$Y116,$G116)+IFERROR(IF(AND($V116<=AD$1,$W116>=AD$1),INDEX(Reliability!I$23:I$50,MATCH($T116,Reliability!$C$23:$C$50,0)),0),0)*$H116*$X116*$Y116),$D116)*$R116","v":0},{"$f":"MIN((IFERROR(IF(AND($V116<=AE$1,$W116>=AE$1),INDEX(Reliability!J$23:J$50,MATCH($S116,Reliability!$C$23:$C$50,0)),0),0)*IF($T116=\"n/a\",$D116*$Y116,$G116)+IFERROR(IF(AND($V116<=AE$1,$W116>=AE$1),INDEX(Reliability!J$23:J$50,MATCH($T116,Reliability!$C$23:$C$50,0)),0),0)*$H116*$X116*$Y116),$D116)*$R116","v":0},{"$f":"MIN((IFERROR(IF(AND($V116<=AF$1,$W116>=AF$1),INDEX(Reliability!K$23:K$50,MATCH($S116,Reliability!$C$23:$C$50,0)),0),0)*IF($T116=\"n/a\",$D116*$Y116,$G116)+IFERROR(IF(AND($V116<=AF$1,$W116>=AF$1),INDEX(Reliability!K$23:K$50,MATCH($T116,Reliability!$C$23:$C$50,0)),0),0)*$H116*$X116*$Y116),$D116)*$R116","v":0},{"$f":"MIN((IFERROR(IF(AND($V116<=AG$1,$W116>=AG$1),INDEX(Reliability!L$23:L$50,MATCH($S116,Reliability!$C$23:$C$50,0)),0),0)*IF($T116=\"n/a\",$D116*$Y116,$G116)+IFERROR(IF(AND($V116<=AG$1,$W116>=AG$1),INDEX(Reliability!L$23:L$50,MATCH($T116,Reliability!$C$23:$C$50,0)),0),0)*$H116*$X116*$Y116),$D116)*$R116","v":0},{"$f":"MIN((IFERROR(IF(AND($V116<=AH$1,$W116>=AH$1),INDEX(Reliability!M$23:M$50,MATCH($S116,Reliability!$C$23:$C$50,0)),0),0)*IF($T116=\"n/a\",$D116*$Y116,$G116)+IFERROR(IF(AND($V116<=AH$1,$W116>=AH$1),INDEX(Reliability!M$23:M$50,MATCH($T116,Reliability!$C$23:$C$50,0)),0),0)*$H116*$X116*$Y116),$D116)*$R116","v":0},{"$f":"MIN((IFERROR(IF(AND($V116<=AI$1,$W116>=AI$1),INDEX(Reliability!N$23:N$50,MATCH($S116,Reliability!$C$23:$C$50,0)),0),0)*IF($T116=\"n/a\",$D116*$Y116,$G116)+IFERROR(IF(AND($V116<=AI$1,$W116>=AI$1),INDEX(Reliability!N$23:N$50,MATCH($T116,Reliability!$C$23:$C$50,0)),0),0)*$H116*$X116*$Y116),$D116)*$R116","v":0},{"$f":"MIN((IFERROR(IF(AND($V116<=AJ$1,$W116>=AJ$1),INDEX(Reliability!O$23:O$50,MATCH($S116,Reliability!$C$23:$C$50,0)),0),0)*IF($T116=\"n/a\",$D116*$Y116,$G116)+IFERROR(IF(AND($V116<=AJ$1,$W116>=AJ$1),INDEX(Reliability!O$23:O$50,MATCH($T116,Reliability!$C$23:$C$50,0)),0),0)*$H116*$X116*$Y116),$D116)*$R116","v":0},{"$f":"MIN((IFERROR(IF(AND($V116<=AK$1,$W116>=AK$1),INDEX(Reliability!P$23:P$50,MATCH($S116,Reliability!$C$23:$C$50,0)),0),0)*IF($T116=\"n/a\",$D116*$Y116,$G116)+IFERROR(IF(AND($V116<=AK$1,$W116>=AK$1),INDEX(Reliability!P$23:P$50,MATCH($T116,Reliability!$C$23:$C$50,0)),0),0)*$H116*$X116*$Y116),$D116)*$R116","v":0}]
[null,{"$f":"unique_contracts!B117","v":"CRELMN_6_RAMON1"},{"$f":"unique_contracts!D117","v":"Online"},{"$f":"unique_contracts!J117","v":2},{"$f":"unique_contracts!M117","v":"NotHybrid"},{"$f":"unique_contracts!N117","v":"NA"},{"$f":"unique_contracts!P117","v":0},{"$f":"unique_contracts!R117","v":0},{"$f":"unique_contracts!V117","v":0},{"$f":"unique_contracts!AB117","v":0},{"$f":"unique_contracts!AM117","v":2013},{"$f":"unique_contracts!AN117","v":12},{"$f":"unique_contracts!AO117","v":31},{"$f":"unique_contracts!AP117","v":2038},{"$f":"unique_contracts!AQ117","v":12},{"$f":"unique_contracts!AR117","v":30},{"$f":"unique_contracts!BP117","v":"EnergyCapacity"},1,{"$f":"IFERROR(IF(AND(I117>0,E117=\"NotHybrid\"),_xlfn.CONCAT(MAX(MIN(ROUNDDOWN(I117/D117,0),8),4),INDEX(resources!$G:$G,MATCH(B117,resources!$A:$A,0))),INDEX(resources!$G:$G,MATCH(B117,resources!$A:$A,0))),\"n/a\")","v":"utility_pv"},"n/a","utility_pv",2014,2038,1,1,{"$f":"MIN((IFERROR(IF(AND($V117<=Z$1,$W117>=Z$1),INDEX(Reliability!E$23:E$50,MATCH($S117,Reliability!$C$23:$C$50,0)),0),0)*IF($T117=\"n/a\",$D117*$Y117,$G117)+IFERROR(IF(AND($V117<=Z$1,$W117>=Z$1),INDEX(Reliability!E$23:E$50,MATCH($T117,Reliability!$C$23:$C$50,0)),0),0)*$H117*$X117*$Y117),$D117)*$R117","v":0.192},{"$f":"MIN((IFERROR(IF(AND($V117<=AA$1,$W117>=AA$1),INDEX(Reliability!F$23:F$50,MATCH($S117,Reliability!$C$23:$C$50,0)),0),0)*IF($T117=\"n/a\",$D117*$Y117,$G117)+IFERROR(IF(AND($V117<=AA$1,$W117>=AA$1),INDEX(Reliability!F$23:F$50,MATCH($T117,Reliability!$C$23:$C$50,0)),0),0)*$H117*$X117*$Y117),$D117)*$R117","v":0.20440128705179655},{"$f":"MIN((IFERROR(IF(AND($V117<=AB$1,$W117>=AB$1),INDEX(Reliability!G$23:G$50,MATCH($S117,Reliability!$C$23:$C$50,0)),0),0)*IF($T117=\"n/a\",$D117*$Y117,$G117)+IFERROR(IF(AND($V117<=AB$1,$W117>=AB$1),INDEX(Reliability!G$23:G$50,MATCH($T117,Reliability!$C$23:$C$50,0)),0),0)*$H117*$X117*$Y117),$D117)*$R117","v":0.21680257410359313},{"$f":"MIN((IFERROR(IF(AND($V117<=AC$1,$W117>=AC$1),INDEX(Reliability!H$23:H$50,MATCH($S117,Reliability!$C$23:$C$50,0)),0),0)*IF($T117=\"n/a\",$D117*$Y117,$G117)+IFERROR(IF(AND($V117<=AC$1,$W117>=AC$1),INDEX(Reliability!H$23:H$50,MATCH($T117,Reliability!$C$23:$C$50,0)),0),0)*$H117*$X117*$Y117),$D117)*$R117","v":0.20336064408607041},{"$f":"MIN((IFERROR(IF(AND($V117<=AD$1,$W117>=AD$1),INDEX(Reliability!I$23:I$50,MATCH($S117,Reliability!$C$23:$C$50,0)),0),0)*IF($T117=\"n/a\",$D117*$Y117,$G117)+IFERROR(IF(AND($V117<=AD$1,$W117>=AD$1),INDEX(Reliability!I$23:I$50,MATCH($T117,Reliability!$C$23:$C$50,0)),0),0)*$H117*$X117*$Y117),$D117)*$R117","v":0.18991871406854766},{"$f":"MIN((IFERROR(IF(AND($V117<=AE$1,$W117>=AE$1),INDEX(Reliability!J$23:J$50,MATCH($S117,Reliability!$C$23:$C$50,0)),0),0)*IF($T117=\"n/a\",$D117*$Y117,$G117)+IFERROR(IF(AND($V117<=AE$1,$W117>=AE$1),INDEX(Reliability!J$23:J$50,MATCH($T117,Reliability!$C$23:$C$50,0)),0),0)*$H117*$X117*$Y117),$D117)*$R117","v":0.15495935703427383},{"$f":"MIN((IFERROR(IF(AND($V117<=AF$1,$W117>=AF$1),INDEX(Reliability!K$23:K$50,MATCH($S117,Reliability!$C$23:$C$50,0)),0),0)*IF($T117=\"n/a\",$D117*$Y117,$G117)+IFERROR(IF(AND($V117<=AF$1,$W117>=AF$1),INDEX(Reliability!K$23:K$50,MATCH($T117,Reliability!$C$23:$C$50,0)),0),0)*$H117*$X117*$Y117),$D117)*$R117","v":0.12},{"$f":"MIN((IFERROR(IF(AND($V117<=AG$1,$W117>=AG$1),INDEX(Reliability!L$23:L$50,MATCH($S117,Reliability!$C$23:$C$50,0)),0),0)*IF($T117=\"n/a\",$D117*$Y117,$G117)+IFERROR(IF(AND($V117<=AG$1,$W117>=AG$1),INDEX(Reliability!L$23:L$50,MATCH($T117,Reliability!$C$23:$C$50,0)),0),0)*$H117*$X117*$Y117),$D117)*$R117","v":0.1216},{"$f":"MIN((IFERROR(IF(AND($V117<=AH$1,$W117>=AH$1),INDEX(Reliability!M$23:M$50,MATCH($S117,Reliability!$C$23:$C$50,0)),0),0)*IF($T117=\"n/a\",$D117*$Y117,$G117)+IFERROR(IF(AND($V117<=AH$1,$W117>=AH$1),INDEX(Reliability!M$23:M$50,MATCH($T117,Reliability!$C$23:$C$50,0)),0),0)*$H117*$X117*$Y117),$D117)*$R117","v":0.1232},{"$f":"MIN((IFERROR(IF(AND($V117<=AI$1,$W117>=AI$1),INDEX(Reliability!N$23:N$50,MATCH($S117,Reliability!$C$23:$C$50,0)),0),0)*IF($T117=\"n/a\",$D117*$Y117,$G117)+IFERROR(IF(AND($V117<=AI$1,$W117>=AI$1),INDEX(Reliability!N$23:N$50,MATCH($T117,Reliability!$C$23:$C$50,0)),0),0)*$H117*$X117*$Y117),$D117)*$R117","v":0.12480000000000001},{"$f":"MIN((IFERROR(IF(AND($V117<=AJ$1,$W117>=AJ$1),INDEX(Reliability!O$23:O$50,MATCH($S117,Reliability!$C$23:$C$50,0)),0),0)*IF($T117=\"n/a\",$D117*$Y117,$G117)+IFERROR(IF(AND($V117<=AJ$1,$W117>=AJ$1),INDEX(Reliability!O$23:O$50,MATCH($T117,Reliability!$C$23:$C$50,0)),0),0)*$H117*$X117*$Y117),$D117)*$R117","v":0.12640000000000001},{"$f":"MIN((IFERROR(IF(AND($V117<=AK$1,$W117>=AK$1),INDEX(Reliability!P$23:P$50,MATCH($S117,Reliability!$C$23:$C$50,0)),0),0)*IF($T117=\"n/a\",$D117*$Y117,$G117)+IFERROR(IF(AND($V117<=AK$1,$W117>=AK$1),INDEX(Reliability!P$23:P$50,MATCH($T117,Reliability!$C$23:$C$50,0)),0),0)*$H117*$X117*$Y117),$D117)*$R117","v":0.128}]
[null,{"$f":"unique_contracts!B118","v":"_EXISTING_GENERIC_SOLAR_1AXIS"},{"$f":"unique_contracts!D118","v":"Online"},{"$f":"unique_contracts!J118","v":0},{"$f":"unique_contracts!M118","v":"NotHybrid"},{"$f":"unique_contracts!N118","v":"NA"},{"$f":"unique_contracts!P118","v":0},{"$f":"unique_contracts!R118","v":0},{"$f":"unique_contracts!V118","v":0},{"$f":"unique_contracts!AB118","v":"sell"},{"$f":"unique_contracts!AM118","v":2013},{"$f":"unique_contracts!AN118","v":12},{"$f":"unique_contracts!AO118","v":31},{"$f":"unique_contracts!AP118","v":2038},{"$f":"unique_contracts!AQ118","v":12},{"$f":"unique_contracts!AR118","v":30},{"$f":"unique_contracts!BP118","v":"EnergyOnly"},0,{"$f":"IFERROR(IF(AND(I118>0,E118=\"NotHybrid\"),_xlfn.CONCAT(MAX(MIN(ROUNDDOWN(I118/D118,0),8),4),INDEX(resources!$G:$G,MATCH(B118,resources!$A:$A,0))),INDEX(resources!$G:$G,MATCH(B118,resources!$A:$A,0))),\"n/a\")","v":"utility_pv"},"n/a","utility_pv",2014,2038,1,1,{"$f":"MIN((IFERROR(IF(AND($V118<=Z$1,$W118>=Z$1),INDEX(Reliability!E$23:E$50,MATCH($S118,Reliability!$C$23:$C$50,0)),0),0)*IF($T118=\"n/a\",$D118*$Y118,$G118)+IFERROR(IF(AND($V118<=Z$1,$W118>=Z$1),INDEX(Reliability!E$23:E$50,MATCH($T118,Reliability!$C$23:$C$50,0)),0),0)*$H118*$X118*$Y118),$D118)*$R118","v":0},{"$f":"MIN((IFERROR(IF(AND($V118<=AA$1,$W118>=AA$1),INDEX(Reliability!F$23:F$50,MATCH($S118,Reliability!$C$23:$C$50,0)),0),0)*IF($T118=\"n/a\",$D118*$Y118,$G118)+IFERROR(IF(AND($V118<=AA$1,$W118>=AA$1),INDEX(Reliability!F$23:F$50,MATCH($T118,Reliability!$C$23:$C$50,0)),0),0)*$H118*$X118*$Y118),$D118)*$R118","v":0},{"$f":"MIN((IFERROR(IF(AND($V118<=AB$1,$W118>=AB$1),INDEX(Reliability!G$23:G$50,MATCH($S118,Reliability!$C$23:$C$50,0)),0),0)*IF($T118=\"n/a\",$D118*$Y118,$G118)+IFERROR(IF(AND($V118<=AB$1,$W118>=AB$1),INDEX(Reliability!G$23:G$50,MATCH($T118,Reliability!$C$23:$C$50,0)),0),0)*$H118*$X118*$Y118),$D118)*$R118","v":0},{"$f":"MIN((IFERROR(IF(AND($V118<=AC$1,$W118>=AC$1),INDEX(Reliability!H$23:H$50,MATCH($S118,Reliability!$C$23:$C$50,0)),0),0)*IF($T118=\"n/a\",$D118*$Y118,$G118)+IFERROR(IF(AND($V118<=AC$1,$W118>=AC$1),INDEX(Reliability!H$23:H$50,MATCH($T118,Reliability!$C$23:$C$50,0)),0),0)*$H118*$X118*$Y118),$D118)*$R118","v":0},{"$f":"MIN((IFERROR(IF(AND($V118<=AD$1,$W118>=AD$1),INDEX(Reliability!I$23:I$50,MATCH($S118,Reliability!$C$23:$C$50,0)),0),0)*IF($T118=\"n/a\",$D118*$Y118,$G118)+IFERROR(IF(AND($V118<=AD$1,$W118>=AD$1),INDEX(Reliability!I$23:I$50,MATCH($T118,Reliability!$C$23:$C$50,0)),0),0)*$H118*$X118*$Y118),$D118)*$R118","v":0},{"$f":"MIN((IFERROR(IF(AND($V118<=AE$1,$W118>=AE$1),INDEX(Reliability!J$23:J$50,MATCH($S118,Reliability!$C$23:$C$50,0)),0),0)*IF($T118=\"n/a\",$D118*$Y118,$G118)+IFERROR(IF(AND($V118<=AE$1,$W118>=AE$1),INDEX(Reliability!J$23:J$50,MATCH($T118,Reliability!$C$23:$C$50,0)),0),0)*$H118*$X118*$Y118),$D118)*$R118","v":0},{"$f":"MIN((IFERROR(IF(AND($V118<=AF$1,$W118>=AF$1),INDEX(Reliability!K$23:K$50,MATCH($S118,Reliability!$C$23:$C$50,0)),0),0)*IF($T118=\"n/a\",$D118*$Y118,$G118)+IFERROR(IF(AND($V118<=AF$1,$W118>=AF$1),INDEX(Reliability!K$23:K$50,MATCH($T118,Reliability!$C$23:$C$50,0)),0),0)*$H118*$X118*$Y118),$D118)*$R118","v":0},{"$f":"MIN((IFERROR(IF(AND($V118<=AG$1,$W118>=AG$1),INDEX(Reliability!L$23:L$50,MATCH($S118,Reliability!$C$23:$C$50,0)),0),0)*IF($T118=\"n/a\",$D118*$Y118,$G118)+IFERROR(IF(AND($V118<=AG$1,$W118>=AG$1),INDEX(Reliability!L$23:L$50,MATCH($T118,Reliability!$C$23:$C$50,0)),0),0)*$H118*$X118*$Y118),$D118)*$R118","v":0},{"$f":"MIN((IFERROR(IF(AND($V118<=AH$1,$W118>=AH$1),INDEX(Reliability!M$23:M$50,MATCH($S118,Reliability!$C$23:$C$50,0)),0),0)*IF($T118=\"n/a\",$D118*$Y118,$G118)+IFERROR(IF(AND($V118<=AH$1,$W118>=AH$1),INDEX(Reliability!M$23:M$50,MATCH($T118,Reliability!$C$23:$C$50,0)),0),0)*$H118*$X118*$Y118),$D118)*$R118","v":0},{"$f":"MIN((IFERROR(IF(AND($V118<=AI$1,$W118>=AI$1),INDEX(Reliability!N$23:N$50,MATCH($S118,Reliability!$C$23:$C$50,0)),0),0)*IF($T118=\"n/a\",$D118*$Y118,$G118)+IFERROR(IF(AND($V118<=AI$1,$W118>=AI$1),INDEX(Reliability!N$23:N$50,MATCH($T118,Reliability!$C$23:$C$50,0)),0),0)*$H118*$X118*$Y118),$D118)*$R118","v":0},{"$f":"MIN((IFERROR(IF(AND($V118<=AJ$1,$W118>=AJ$1),INDEX(Reliability!O$23:O$50,MATCH($S118,Reliability!$C$23:$C$50,0)),0),0)*IF($T118=\"n/a\",$D118*$Y118,$G118)+IFERROR(IF(AND($V118<=AJ$1,$W118>=AJ$1),INDEX(Reliability!O$23:O$50,MATCH($T118,Reliability!$C$23:$C$50,0)),0),0)*$H118*$X118*$Y118),$D118)*$R118","v":0},{"$f":"MIN((IFERROR(IF(AND($V118<=AK$1,$W118>=AK$1),INDEX(Reliability!P$23:P$50,MATCH($S118,Reliability!$C$23:$C$50,0)),0),0)*IF($T118=\"n/a\",$D118*$Y118,$G118)+IFERROR(IF(AND($V118<=AK$1,$W118>=AK$1),INDEX(Reliability!P$23:P$50,MATCH($T118,Reliability!$C$23:$C$50,0)),0),0)*$H118*$X118*$Y118),$D118)*$R118","v":0}]
[null,{"$f":"unique_contracts!B119","v":"CRELMN_6_RAMON2"},{"$f":"unique_contracts!D119","v":"Online"},{"$f":"unique_contracts!J119","v":5},{"$f":"unique_contracts!M119","v":"NotHybrid"},{"$f":"unique_contracts!N119","v":"NA"},{"$f":"unique_contracts!P119","v":0},{"$f":"unique_contracts!R119","v":0},{"$f":"unique_contracts!V119","v":0},{"$f":"unique_contracts!AB119","v":0},{"$f":"unique_contracts!AM119","v":2013},{"$f":"unique_contracts!AN119","v":12},{"$f":"unique_contracts!AO119","v":31},{"$f":"unique_contracts!AP119","v":2038},{"$f":"unique_contracts!AQ119","v":12},{"$f":"unique_contracts!AR119","v":30},{"$f":"unique_contracts!BP119","v":"EnergyCapacity"},1,{"$f":"IFERROR(IF(AND(I119>0,E119=\"NotHybrid\"),_xlfn.CONCAT(MAX(MIN(ROUNDDOWN(I119/D119,0),8),4),INDEX(resources!$G:$G,MATCH(B119,resources!$A:$A,0))),INDEX(resources!$G:$G,MATCH(B119,resources!$A:$A,0))),\"n/a\")","v":"utility_pv"},"n/a","utility_pv",2014,2038,1,1,{"$f":"MIN((IFERROR(IF(AND($V119<=Z$1,$W119>=Z$1),INDEX(Reliability!E$23:E$50,MATCH($S119,Reliability!$C$23:$C$50,0)),0),0)*IF($T119=\"n/a\",$D119*$Y119,$G119)+IFERROR(IF(AND($V119<=Z$1,$W119>=Z$1),INDEX(Reliability!E$23:E$50,MATCH($T119,Reliability!$C$23:$C$50,0)),0),0)*$H119*$X119*$Y119),$D119)*$R119","v":0.48},{"$f":"MIN((IFERROR(IF(AND($V119<=AA$1,$W119>=AA$1),INDEX(Reliability!F$23:F$50,MATCH($S119,Reliability!$C$23:$C$50,0)),0),0)*IF($T119=\"n/a\",$D119*$Y119,$G119)+IFERROR(IF(AND($V119<=AA$1,$W119>=AA$1),INDEX(Reliability!F$23:F$50,MATCH($T119,Reliability!$C$23:$C$50,0)),0),0)*$H119*$X119*$Y119),$D119)*$R119","v":0.51100321762949141},{"$f":"MIN((IFERROR(IF(AND($V119<=AB$1,$W119>=AB$1),INDEX(Reliability!G$23:G$50,MATCH($S119,Reliability!$C$23:$C$50,0)),0),0)*IF($T119=\"n/a\",$D119*$Y119,$G119)+IFERROR(IF(AND($V119<=AB$1,$W119>=AB$1),INDEX(Reliability!G$23:G$50,MATCH($T119,Reliability!$C$23:$C$50,0)),0),0)*$H119*$X119*$Y119),$D119)*$R119","v":0.54200643525898284},{"$f":"MIN((IFERROR(IF(AND($V119<=AC$1,$W119>=AC$1),INDEX(Reliability!H$23:H$50,MATCH($S119,Reliability!$C$23:$C$50,0)),0),0)*IF($T119=\"n/a\",$D119*$Y119,$G119)+IFERROR(IF(AND($V119<=AC$1,$W119>=AC$1),INDEX(Reliability!H$23:H$50,MATCH($T119,Reliability!$C$23:$C$50,0)),0),0)*$H119*$X119*$Y119),$D119)*$R119","v":0.50840161021517605},{"$f":"MIN((IFERROR(IF(AND($V119<=AD$1,$W119>=AD$1),INDEX(Reliability!I$23:I$50,MATCH($S119,Reliability!$C$23:$C$50,0)),0),0)*IF($T119=\"n/a\",$D119*$Y119,$G119)+IFERROR(IF(AND($V119<=AD$1,$W119>=AD$1),INDEX(Reliability!I$23:I$50,MATCH($T119,Reliability!$C$23:$C$50,0)),0),0)*$H119*$X119*$Y119),$D119)*$R119","v":0.47479678517136914},{"$f":"MIN((IFERROR(IF(AND($V119<=AE$1,$W119>=AE$1),INDEX(Reliability!J$23:J$50,MATCH($S119,Reliability!$C$23:$C$50,0)),0),0)*IF($T119=\"n/a\",$D119*$Y119,$G119)+IFERROR(IF(AND($V119<=AE$1,$W119>=AE$1),INDEX(Reliability!J$23:J$50,MATCH($T119,Reliability!$C$23:$C$50,0)),0),0)*$H119*$X119*$Y119),$D119)*$R119","v":0.38739839258568454},{"$f":"MIN((IFERROR(IF(AND($V119<=AF$1,$W119>=AF$1),INDEX(Reliability!K$23:K$50,MATCH($S119,Reliability!$C$23:$C$50,0)),0),0)*IF($T119=\"n/a\",$D119*$Y119,$G119)+IFERROR(IF(AND($V119<=AF$1,$W119>=AF$1),INDEX(Reliability!K$23:K$50,MATCH($T119,Reliability!$C$23:$C$50,0)),0),0)*$H119*$X119*$Y119),$D119)*$R119","v":0.3},{"$f":"MIN((IFERROR(IF(AND($V119<=AG$1,$W119>=AG$1),INDEX(Reliability!L$23:L$50,MATCH($S119,Reliability!$C$23:$C$50,0)),0),0)*IF($T119=\"n/a\",$D119*$Y119,$G119)+IFERROR(IF(AND($V119<=AG$1,$W119>=AG$1),INDEX(Reliability!L$23:L$50,MATCH($T119,Reliability!$C$23:$C$50,0)),0),0)*$H119*$X119*$Y119),$D119)*$R119","v":0.30399999999999999},{"$f":"MIN((IFERROR(IF(AND($V119<=AH$1,$W119>=AH$1),INDEX(Reliability!M$23:M$50,MATCH($S119,Reliability!$C$23:$C$50,0)),0),0)*IF($T119=\"n/a\",$D119*$Y119,$G119)+IFERROR(IF(AND($V119<=AH$1,$W119>=AH$1),INDEX(Reliability!M$23:M$50,MATCH($T119,Reliability!$C$23:$C$50,0)),0),0)*$H119*$X119*$Y119),$D119)*$R119","v":0.308},{"$f":"MIN((IFERROR(IF(AND($V119<=AI$1,$W119>=AI$1),INDEX(Reliability!N$23:N$50,MATCH($S119,Reliability!$C$23:$C$50,0)),0),0)*IF($T119=\"n/a\",$D119*$Y119,$G119)+IFERROR(IF(AND($V119<=AI$1,$W119>=AI$1),INDEX(Reliability!N$23:N$50,MATCH($T119,Reliability!$C$23:$C$50,0)),0),0)*$H119*$X119*$Y119),$D119)*$R119","v":0.312},{"$f":"MIN((IFERROR(IF(AND($V119<=AJ$1,$W119>=AJ$1),INDEX(Reliability!O$23:O$50,MATCH($S119,Reliability!$C$23:$C$50,0)),0),0)*IF($T119=\"n/a\",$D119*$Y119,$G119)+IFERROR(IF(AND($V119<=AJ$1,$W119>=AJ$1),INDEX(Reliability!O$23:O$50,MATCH($T119,Reliability!$C$23:$C$50,0)),0),0)*$H119*$X119*$Y119),$D119)*$R119","v":0.31600000000000006},{"$f":"MIN((IFERROR(IF(AND($V119<=AK$1,$W119>=AK$1),INDEX(Reliability!P$23:P$50,MATCH($S119,Reliability!$C$23:$C$50,0)),0),0)*IF($T119=\"n/a\",$D119*$Y119,$G119)+IFERROR(IF(AND($V119<=AK$1,$W119>=AK$1),INDEX(Reliability!P$23:P$50,MATCH($T119,Reliability!$C$23:$C$50,0)),0),0)*$H119*$X119*$Y119),$D119)*$R119","v":0.32}]
[null,{"$f":"unique_contracts!B120","v":"_EXISTING_GENERIC_SOLAR_1AXIS"},{"$f":"unique_contracts!D120","v":"Online"},{"$f":"unique_contracts!J120","v":0},{"$f":"unique_contracts!M120","v":"NotHybrid"},{"$f":"unique_contracts!N120","v":"NA"},{"$f":"unique_contracts!P120","v":0},{"$f":"unique_contracts!R120","v":0},{"$f":"unique_contracts!V120","v":0},{"$f":"unique_contracts!AB120","v":"sell"},{"$f":"unique_contracts!AM120","v":2013},{"$f":"unique_contracts!AN120","v":12},{"$f":"unique_contracts!AO120","v":31},{"$f":"unique_contracts!AP120","v":2038},{"$f":"unique_contracts!AQ120","v":12},{"$f":"unique_contracts!AR120","v":30},{"$f":"unique_contracts!BP120","v":"EnergyOnly"},0,{"$f":"IFERROR(IF(AND(I120>0,E120=\"NotHybrid\"),_xlfn.CONCAT(MAX(MIN(ROUNDDOWN(I120/D120,0),8),4),INDEX(resources!$G:$G,MATCH(B120,resources!$A:$A,0))),INDEX(resources!$G:$G,MATCH(B120,resources!$A:$A,0))),\"n/a\")","v":"utility_pv"},"n/a","utility_pv",2014,2038,1,1,{"$f":"MIN((IFERROR(IF(AND($V120<=Z$1,$W120>=Z$1),INDEX(Reliability!E$23:E$50,MATCH($S120,Reliability!$C$23:$C$50,0)),0),0)*IF($T120=\"n/a\",$D120*$Y120,$G120)+IFERROR(IF(AND($V120<=Z$1,$W120>=Z$1),INDEX(Reliability!E$23:E$50,MATCH($T120,Reliability!$C$23:$C$50,0)),0),0)*$H120*$X120*$Y120),$D120)*$R120","v":0},{"$f":"MIN((IFERROR(IF(AND($V120<=AA$1,$W120>=AA$1),INDEX(Reliability!F$23:F$50,MATCH($S120,Reliability!$C$23:$C$50,0)),0),0)*IF($T120=\"n/a\",$D120*$Y120,$G120)+IFERROR(IF(AND($V120<=AA$1,$W120>=AA$1),INDEX(Reliability!F$23:F$50,MATCH($T120,Reliability!$C$23:$C$50,0)),0),0)*$H120*$X120*$Y120),$D120)*$R120","v":0},{"$f":"MIN((IFERROR(IF(AND($V120<=AB$1,$W120>=AB$1),INDEX(Reliability!G$23:G$50,MATCH($S120,Reliability!$C$23:$C$50,0)),0),0)*IF($T120=\"n/a\",$D120*$Y120,$G120)+IFERROR(IF(AND($V120<=AB$1,$W120>=AB$1),INDEX(Reliability!G$23:G$50,MATCH($T120,Reliability!$C$23:$C$50,0)),0),0)*$H120*$X120*$Y120),$D120)*$R120","v":0},{"$f":"MIN((IFERROR(IF(AND($V120<=AC$1,$W120>=AC$1),INDEX(Reliability!H$23:H$50,MATCH($S120,Reliability!$C$23:$C$50,0)),0),0)*IF($T120=\"n/a\",$D120*$Y120,$G120)+IFERROR(IF(AND($V120<=AC$1,$W120>=AC$1),INDEX(Reliability!H$23:H$50,MATCH($T120,Reliability!$C$23:$C$50,0)),0),0)*$H120*$X120*$Y120),$D120)*$R120","v":0},{"$f":"MIN((IFERROR(IF(AND($V120<=AD$1,$W120>=AD$1),INDEX(Reliability!I$23:I$50,MATCH($S120,Reliability!$C$23:$C$50,0)),0),0)*IF($T120=\"n/a\",$D120*$Y120,$G120)+IFERROR(IF(AND($V120<=AD$1,$W120>=AD$1),INDEX(Reliability!I$23:I$50,MATCH($T120,Reliability!$C$23:$C$50,0)),0),0)*$H120*$X120*$Y120),$D120)*$R120","v":0},{"$f":"MIN((IFERROR(IF(AND($V120<=AE$1,$W120>=AE$1),INDEX(Reliability!J$23:J$50,MATCH($S120,Reliability!$C$23:$C$50,0)),0),0)*IF($T120=\"n/a\",$D120*$Y120,$G120)+IFERROR(IF(AND($V120<=AE$1,$W120>=AE$1),INDEX(Reliability!J$23:J$50,MATCH($T120,Reliability!$C$23:$C$50,0)),0),0)*$H120*$X120*$Y120),$D120)*$R120","v":0},{"$f":"MIN((IFERROR(IF(AND($V120<=AF$1,$W120>=AF$1),INDEX(Reliability!K$23:K$50,MATCH($S120,Reliability!$C$23:$C$50,0)),0),0)*IF($T120=\"n/a\",$D120*$Y120,$G120)+IFERROR(IF(AND($V120<=AF$1,$W120>=AF$1),INDEX(Reliability!K$23:K$50,MATCH($T120,Reliability!$C$23:$C$50,0)),0),0)*$H120*$X120*$Y120),$D120)*$R120","v":0},{"$f":"MIN((IFERROR(IF(AND($V120<=AG$1,$W120>=AG$1),INDEX(Reliability!L$23:L$50,MATCH($S120,Reliability!$C$23:$C$50,0)),0),0)*IF($T120=\"n/a\",$D120*$Y120,$G120)+IFERROR(IF(AND($V120<=AG$1,$W120>=AG$1),INDEX(Reliability!L$23:L$50,MATCH($T120,Reliability!$C$23:$C$50,0)),0),0)*$H120*$X120*$Y120),$D120)*$R120","v":0},{"$f":"MIN((IFERROR(IF(AND($V120<=AH$1,$W120>=AH$1),INDEX(Reliability!M$23:M$50,MATCH($S120,Reliability!$C$23:$C$50,0)),0),0)*IF($T120=\"n/a\",$D120*$Y120,$G120)+IFERROR(IF(AND($V120<=AH$1,$W120>=AH$1),INDEX(Reliability!M$23:M$50,MATCH($T120,Reliability!$C$23:$C$50,0)),0),0)*$H120*$X120*$Y120),$D120)*$R120","v":0},{"$f":"MIN((IFERROR(IF(AND($V120<=AI$1,$W120>=AI$1),INDEX(Reliability!N$23:N$50,MATCH($S120,Reliability!$C$23:$C$50,0)),0),0)*IF($T120=\"n/a\",$D120*$Y120,$G120)+IFERROR(IF(AND($V120<=AI$1,$W120>=AI$1),INDEX(Reliability!N$23:N$50,MATCH($T120,Reliability!$C$23:$C$50,0)),0),0)*$H120*$X120*$Y120),$D120)*$R120","v":0},{"$f":"MIN((IFERROR(IF(AND($V120<=AJ$1,$W120>=AJ$1),INDEX(Reliability!O$23:O$50,MATCH($S120,Reliability!$C$23:$C$50,0)),0),0)*IF($T120=\"n/a\",$D120*$Y120,$G120)+IFERROR(IF(AND($V120<=AJ$1,$W120>=AJ$1),INDEX(Reliability!O$23:O$50,MATCH($T120,Reliability!$C$23:$C$50,0)),0),0)*$H120*$X120*$Y120),$D120)*$R120","v":0},{"$f":"MIN((IFERROR(IF(AND($V120<=AK$1,$W120>=AK$1),INDEX(Reliability!P$23:P$50,MATCH($S120,Reliability!$C$23:$C$50,0)),0),0)*IF($T120=\"n/a\",$D120*$Y120,$G120)+IFERROR(IF(AND($V120<=AK$1,$W120>=AK$1),INDEX(Reliability!P$23:P$50,MATCH($T120,Reliability!$C$23:$C$50,0)),0),0)*$H120*$X120*$Y120),$D120)*$R120","v":0}]
[null,{"$f":"unique_contracts!B121","v":"VLCNTR_6_VCSLR1"},{"$f":"unique_contracts!D121","v":"Online"},{"$f":"unique_contracts!J121","v":2.5},{"$f":"unique_contracts!M121","v":"NotHybrid"},{"$f":"unique_contracts!N121","v":"NA"},{"$f":"unique_contracts!P121","v":0},{"$f":"unique_contracts!R121","v":0},{"$f":"unique_contracts!V121","v":0},{"$f":"unique_contracts!AB121","v":0},{"$f":"unique_contracts!AM121","v":2013},{"$f":"unique_contracts!AN121","v":12},{"$f":"unique_contracts!AO121","v":31},{"$f":"unique_contracts!AP121","v":2038},{"$f":"unique_contracts!AQ121","v":12},{"$f":"unique_contracts!AR121","v":30},{"$f":"unique_contracts!BP121","v":"EnergyCapacity"},1,{"$f":"IFERROR(IF(AND(I121>0,E121=\"NotHybrid\"),_xlfn.CONCAT(MAX(MIN(ROUNDDOWN(I121/D121,0),8),4),INDEX(resources!$G:$G,MATCH(B121,resources!$A:$A,0))),INDEX(resources!$G:$G,MATCH(B121,resources!$A:$A,0))),\"n/a\")","v":"utility_pv"},"n/a","utility_pv",2014,2038,1,1,{"$f":"MIN((IFERROR(IF(AND($V121<=Z$1,$W121>=Z$1),INDEX(Reliability!E$23:E$50,MATCH($S121,Reliability!$C$23:$C$50,0)),0),0)*IF($T121=\"n/a\",$D121*$Y121,$G121)+IFERROR(IF(AND($V121<=Z$1,$W121>=Z$1),INDEX(Reliability!E$23:E$50,MATCH($T121,Reliability!$C$23:$C$50,0)),0),0)*$H121*$X121*$Y121),$D121)*$R121","v":0.24},{"$f":"MIN((IFERROR(IF(AND($V121<=AA$1,$W121>=AA$1),INDEX(Reliability!F$23:F$50,MATCH($S121,Reliability!$C$23:$C$50,0)),0),0)*IF($T121=\"n/a\",$D121*$Y121,$G121)+IFERROR(IF(AND($V121<=AA$1,$W121>=AA$1),INDEX(Reliability!F$23:F$50,MATCH($T121,Reliability!$C$23:$C$50,0)),0),0)*$H121*$X121*$Y121),$D121)*$R121","v":0.25550160881474571},{"$f":"MIN((IFERROR(IF(AND($V121<=AB$1,$W121>=AB$1),INDEX(Reliability!G$23:G$50,MATCH($S121,Reliability!$C$23:$C$50,0)),0),0)*IF($T121=\"n/a\",$D121*$Y121,$G121)+IFERROR(IF(AND($V121<=AB$1,$W121>=AB$1),INDEX(Reliability!G$23:G$50,MATCH($T121,Reliability!$C$23:$C$50,0)),0),0)*$H121*$X121*$Y121),$D121)*$R121","v":0.27100321762949142},{"$f":"MIN((IFERROR(IF(AND($V121<=AC$1,$W121>=AC$1),INDEX(Reliability!H$23:H$50,MATCH($S121,Reliability!$C$23:$C$50,0)),0),0)*IF($T121=\"n/a\",$D121*$Y121,$G121)+IFERROR(IF(AND($V121<=AC$1,$W121>=AC$1),INDEX(Reliability!H$23:H$50,MATCH($T121,Reliability!$C$23:$C$50,0)),0),0)*$H121*$X121*$Y121),$D121)*$R121","v":0.25420080510758802},{"$f":"MIN((IFERROR(IF(AND($V121<=AD$1,$W121>=AD$1),INDEX(Reliability!I$23:I$50,MATCH($S121,Reliability!$C$23:$C$50,0)),0),0)*IF($T121=\"n/a\",$D121*$Y121,$G121)+IFERROR(IF(AND($V121<=AD$1,$W121>=AD$1),INDEX(Reliability!I$23:I$50,MATCH($T121,Reliability!$C$23:$C$50,0)),0),0)*$H121*$X121*$Y121),$D121)*$R121","v":0.23739839258568457},{"$f":"MIN((IFERROR(IF(AND($V121<=AE$1,$W121>=AE$1),INDEX(Reliability!J$23:J$50,MATCH($S121,Reliability!$C$23:$C$50,0)),0),0)*IF($T121=\"n/a\",$D121*$Y121,$G121)+IFERROR(IF(AND($V121<=AE$1,$W121>=AE$1),INDEX(Reliability!J$23:J$50,MATCH($T121,Reliability!$C$23:$C$50,0)),0),0)*$H121*$X121*$Y121),$D121)*$R121","v":0.19369919629284227},{"$f":"MIN((IFERROR(IF(AND($V121<=AF$1,$W121>=AF$1),INDEX(Reliability!K$23:K$50,MATCH($S121,Reliability!$C$23:$C$50,0)),0),0)*IF($T121=\"n/a\",$D121*$Y121,$G121)+IFERROR(IF(AND($V121<=AF$1,$W121>=AF$1),INDEX(Reliability!K$23:K$50,MATCH($T121,Reliability!$C$23:$C$50,0)),0),0)*$H121*$X121*$Y121),$D121)*$R121","v":0.15},{"$f":"MIN((IFERROR(IF(AND($V121<=AG$1,$W121>=AG$1),INDEX(Reliability!L$23:L$50,MATCH($S121,Reliability!$C$23:$C$50,0)),0),0)*IF($T121=\"n/a\",$D121*$Y121,$G121)+IFERROR(IF(AND($V121<=AG$1,$W121>=AG$1),INDEX(Reliability!L$23:L$50,MATCH($T121,Reliability!$C$23:$C$50,0)),0),0)*$H121*$X121*$Y121),$D121)*$R121","v":0.152},{"$f":"MIN((IFERROR(IF(AND($V121<=AH$1,$W121>=AH$1),INDEX(Reliability!M$23:M$50,MATCH($S121,Reliability!$C$23:$C$50,0)),0),0)*IF($T121=\"n/a\",$D121*$Y121,$G121)+IFERROR(IF(AND($V121<=AH$1,$W121>=AH$1),INDEX(Reliability!M$23:M$50,MATCH($T121,Reliability!$C$23:$C$50,0)),0),0)*$H121*$X121*$Y121),$D121)*$R121","v":0.154},{"$f":"MIN((IFERROR(IF(AND($V121<=AI$1,$W121>=AI$1),INDEX(Reliability!N$23:N$50,MATCH($S121,Reliability!$C$23:$C$50,0)),0),0)*IF($T121=\"n/a\",$D121*$Y121,$G121)+IFERROR(IF(AND($V121<=AI$1,$W121>=AI$1),INDEX(Reliability!N$23:N$50,MATCH($T121,Reliability!$C$23:$C$50,0)),0),0)*$H121*$X121*$Y121),$D121)*$R121","v":0.156},{"$f":"MIN((IFERROR(IF(AND($V121<=AJ$1,$W121>=AJ$1),INDEX(Reliability!O$23:O$50,MATCH($S121,Reliability!$C$23:$C$50,0)),0),0)*IF($T121=\"n/a\",$D121*$Y121,$G121)+IFERROR(IF(AND($V121<=AJ$1,$W121>=AJ$1),INDEX(Reliability!O$23:O$50,MATCH($T121,Reliability!$C$23:$C$50,0)),0),0)*$H121*$X121*$Y121),$D121)*$R121","v":0.15800000000000003},{"$f":"MIN((IFERROR(IF(AND($V121<=AK$1,$W121>=AK$1),INDEX(Reliability!P$23:P$50,MATCH($S121,Reliability!$C$23:$C$50,0)),0),0)*IF($T121=\"n/a\",$D121*$Y121,$G121)+IFERROR(IF(AND($V121<=AK$1,$W121>=AK$1),INDEX(Reliability!P$23:P$50,MATCH($T121,Reliability!$C$23:$C$50,0)),0),0)*$H121*$X121*$Y121),$D121)*$R121","v":0.16}]
[null,{"$f":"unique_contracts!B122","v":"_EXISTING_GENERIC_WIND"},{"$f":"unique_contracts!D122","v":"Online"},{"$f":"unique_contracts!J122","v":0},{"$f":"unique_contracts!M122","v":"NotHybrid"},{"$f":"unique_contracts!N122","v":"NA"},{"$f":"unique_contracts!P122","v":0},{"$f":"unique_contracts!R122","v":0},{"$f":"unique_contracts!V122","v":0},{"$f":"unique_contracts!AB122","v":"sell"},{"$f":"unique_contracts!AM122","v":2013},{"$f":"unique_contracts!AN122","v":12},{"$f":"unique_contracts!AO122","v":31},{"$f":"unique_contracts!AP122","v":2038},{"$f":"unique_contracts!AQ122","v":12},{"$f":"unique_contracts!AR122","v":30},{"$f":"unique_contracts!BP122","v":"EnergyOnly"},0,{"$f":"IFERROR(IF(AND(I122>0,E122=\"NotHybrid\"),_xlfn.CONCAT(MAX(MIN(ROUNDDOWN(I122/D122,0),8),4),INDEX(resources!$G:$G,MATCH(B122,resources!$A:$A,0))),INDEX(resources!$G:$G,MATCH(B122,resources!$A:$A,0))),\"n/a\")","v":"in_state_wind_south"},"n/a","in_state_wind_south",2014,2038,1,1,{"$f":"MIN((IFERROR(IF(AND($V122<=Z$1,$W122>=Z$1),INDEX(Reliability!E$23:E$50,MATCH($S122,Reliability!$C$23:$C$50,0)),0),0)*IF($T122=\"n/a\",$D122*$Y122,$G122)+IFERROR(IF(AND($V122<=Z$1,$W122>=Z$1),INDEX(Reliability!E$23:E$50,MATCH($T122,Reliability!$C$23:$C$50,0)),0),0)*$H122*$X122*$Y122),$D122)*$R122","v":0},{"$f":"MIN((IFERROR(IF(AND($V122<=AA$1,$W122>=AA$1),INDEX(Reliability!F$23:F$50,MATCH($S122,Reliability!$C$23:$C$50,0)),0),0)*IF($T122=\"n/a\",$D122*$Y122,$G122)+IFERROR(IF(AND($V122<=AA$1,$W122>=AA$1),INDEX(Reliability!F$23:F$50,MATCH($T122,Reliability!$C$23:$C$50,0)),0),0)*$H122*$X122*$Y122),$D122)*$R122","v":0},{"$f":"MIN((IFERROR(IF(AND($V122<=AB$1,$W122>=AB$1),INDEX(Reliability!G$23:G$50,MATCH($S122,Reliability!$C$23:$C$50,0)),0),0)*IF($T122=\"n/a\",$D122*$Y122,$G122)+IFERROR(IF(AND($V122<=AB$1,$W122>=AB$1),INDEX(Reliability!G$23:G$50,MATCH($T122,Reliability!$C$23:$C$50,0)),0),0)*$H122*$X122*$Y122),$D122)*$R122","v":0},{"$f":"MIN((IFERROR(IF(AND($V122<=AC$1,$W122>=AC$1),INDEX(Reliability!H$23:H$50,MATCH($S122,Reliability!$C$23:$C$50,0)),0),0)*IF($T122=\"n/a\",$D122*$Y122,$G122)+IFERROR(IF(AND($V122<=AC$1,$W122>=AC$1),INDEX(Reliability!H$23:H$50,MATCH($T122,Reliability!$C$23:$C$50,0)),0),0)*$H122*$X122*$Y122),$D122)*$R122","v":0},{"$f":"MIN((IFERROR(IF(AND($V122<=AD$1,$W122>=AD$1),INDEX(Reliability!I$23:I$50,MATCH($S122,Reliability!$C$23:$C$50,0)),0),0)*IF($T122=\"n/a\",$D122*$Y122,$G122)+IFERROR(IF(AND($V122<=AD$1,$W122>=AD$1),INDEX(Reliability!I$23:I$50,MATCH($T122,Reliability!$C$23:$C$50,0)),0),0)*$H122*$X122*$Y122),$D122)*$R122","v":0},{"$f":"MIN((IFERROR(IF(AND($V122<=AE$1,$W122>=AE$1),INDEX(Reliability!J$23:J$50,MATCH($S122,Reliability!$C$23:$C$50,0)),0),0)*IF($T122=\"n/a\",$D122*$Y122,$G122)+IFERROR(IF(AND($V122<=AE$1,$W122>=AE$1),INDEX(Reliability!J$23:J$50,MATCH($T122,Reliability!$C$23:$C$50,0)),0),0)*$H122*$X122*$Y122),$D122)*$R122","v":0},{"$f":"MIN((IFERROR(IF(AND($V122<=AF$1,$W122>=AF$1),INDEX(Reliability!K$23:K$50,MATCH($S122,Reliability!$C$23:$C$50,0)),0),0)*IF($T122=\"n/a\",$D122*$Y122,$G122)+IFERROR(IF(AND($V122<=AF$1,$W122>=AF$1),INDEX(Reliability!K$23:K$50,MATCH($T122,Reliability!$C$23:$C$50,0)),0),0)*$H122*$X122*$Y122),$D122)*$R122","v":0},{"$f":"MIN((IFERROR(IF(AND($V122<=AG$1,$W122>=AG$1),INDEX(Reliability!L$23:L$50,MATCH($S122,Reliability!$C$23:$C$50,0)),0),0)*IF($T122=\"n/a\",$D122*$Y122,$G122)+IFERROR(IF(AND($V122<=AG$1,$W122>=AG$1),INDEX(Reliability!L$23:L$50,MATCH($T122,Reliability!$C$23:$C$50,0)),0),0)*$H122*$X122*$Y122),$D122)*$R122","v":0},{"$f":"MIN((IFERROR(IF(AND($V122<=AH$1,$W122>=AH$1),INDEX(Reliability!M$23:M$50,MATCH($S122,Reliability!$C$23:$C$50,0)),0),0)*IF($T122=\"n/a\",$D122*$Y122,$G122)+IFERROR(IF(AND($V122<=AH$1,$W122>=AH$1),INDEX(Reliability!M$23:M$50,MATCH($T122,Reliability!$C$23:$C$50,0)),0),0)*$H122*$X122*$Y122),$D122)*$R122","v":0},{"$f":"MIN((IFERROR(IF(AND($V122<=AI$1,$W122>=AI$1),INDEX(Reliability!N$23:N$50,MATCH($S122,Reliability!$C$23:$C$50,0)),0),0)*IF($T122=\"n/a\",$D122*$Y122,$G122)+IFERROR(IF(AND($V122<=AI$1,$W122>=AI$1),INDEX(Reliability!N$23:N$50,MATCH($T122,Reliability!$C$23:$C$50,0)),0),0)*$H122*$X122*$Y122),$D122)*$R122","v":0},{"$f":"MIN((IFERROR(IF(AND($V122<=AJ$1,$W122>=AJ$1),INDEX(Reliability!O$23:O$50,MATCH($S122,Reliability!$C$23:$C$50,0)),0),0)*IF($T122=\"n/a\",$D122*$Y122,$G122)+IFERROR(IF(AND($V122<=AJ$1,$W122>=AJ$1),INDEX(Reliability!O$23:O$50,MATCH($T122,Reliability!$C$23:$C$50,0)),0),0)*$H122*$X122*$Y122),$D122)*$R122","v":0},{"$f":"MIN((IFERROR(IF(AND($V122<=AK$1,$W122>=AK$1),INDEX(Reliability!P$23:P$50,MATCH($S122,Reliability!$C$23:$C$50,0)),0),0)*IF($T122=\"n/a\",$D122*$Y122,$G122)+IFERROR(IF(AND($V122<=AK$1,$W122>=AK$1),INDEX(Reliability!P$23:P$50,MATCH($T122,Reliability!$C$23:$C$50,0)),0),0)*$H122*$X122*$Y122),$D122)*$R122","v":0}]
[null,{"$f":"unique_contracts!B123","v":"VLCNTR_6_VCSLR2"},{"$f":"unique_contracts!D123","v":"Online"},{"$f":"unique_contracts!J123","v":5},{"$f":"unique_contracts!M123","v":"NotHybrid"},{"$f":"unique_contracts!N123","v":"NA"},{"$f":"unique_contracts!P123","v":0},{"$f":"unique_contracts!R123","v":0},{"$f":"unique_contracts!V123","v":0},{"$f":"unique_contracts!AB123","v":0},{"$f":"unique_contracts!AM123","v":2013},{"$f":"unique_contracts!AN123","v":12},{"$f":"unique_contracts!AO123","v":31},{"$f":"unique_contracts!AP123","v":2038},{"$f":"unique_contracts!AQ123","v":12},{"$f":"unique_contracts!AR123","v":30},{"$f":"unique_contracts!BP123","v":"EnergyCapacity"},1,{"$f":"IFERROR(IF(AND(I123>0,E123=\"NotHybrid\"),_xlfn.CONCAT(MAX(MIN(ROUNDDOWN(I123/D123,0),8),4),INDEX(resources!$G:$G,MATCH(B123,resources!$A:$A,0))),INDEX(resources!$G:$G,MATCH(B123,resources!$A:$A,0))),\"n/a\")","v":"utility_pv"},"n/a","utility_pv",2014,2038,1,1,{"$f":"MIN((IFERROR(IF(AND($V123<=Z$1,$W123>=Z$1),INDEX(Reliability!E$23:E$50,MATCH($S123,Reliability!$C$23:$C$50,0)),0),0)*IF($T123=\"n/a\",$D123*$Y123,$G123)+IFERROR(IF(AND($V123<=Z$1,$W123>=Z$1),INDEX(Reliability!E$23:E$50,MATCH($T123,Reliability!$C$23:$C$50,0)),0),0)*$H123*$X123*$Y123),$D123)*$R123","v":0.48},{"$f":"MIN((IFERROR(IF(AND($V123<=AA$1,$W123>=AA$1),INDEX(Reliability!F$23:F$50,MATCH($S123,Reliability!$C$23:$C$50,0)),0),0)*IF($T123=\"n/a\",$D123*$Y123,$G123)+IFERROR(IF(AND($V123<=AA$1,$W123>=AA$1),INDEX(Reliability!F$23:F$50,MATCH($T123,Reliability!$C$23:$C$50,0)),0),0)*$H123*$X123*$Y123),$D123)*$R123","v":0.51100321762949141},{"$f":"MIN((IFERROR(IF(AND($V123<=AB$1,$W123>=AB$1),INDEX(Reliability!G$23:G$50,MATCH($S123,Reliability!$C$23:$C$50,0)),0),0)*IF($T123=\"n/a\",$D123*$Y123,$G123)+IFERROR(IF(AND($V123<=AB$1,$W123>=AB$1),INDEX(Reliability!G$23:G$50,MATCH($T123,Reliability!$C$23:$C$50,0)),0),0)*$H123*$X123*$Y123),$D123)*$R123","v":0.54200643525898284},{"$f":"MIN((IFERROR(IF(AND($V123<=AC$1,$W123>=AC$1),INDEX(Reliability!H$23:H$50,MATCH($S123,Reliability!$C$23:$C$50,0)),0),0)*IF($T123=\"n/a\",$D123*$Y123,$G123)+IFERROR(IF(AND($V123<=AC$1,$W123>=AC$1),INDEX(Reliability!H$23:H$50,MATCH($T123,Reliability!$C$23:$C$50,0)),0),0)*$H123*$X123*$Y123),$D123)*$R123","v":0.50840161021517605},{"$f":"MIN((IFERROR(IF(AND($V123<=AD$1,$W123>=AD$1),INDEX(Reliability!I$23:I$50,MATCH($S123,Reliability!$C$23:$C$50,0)),0),0)*IF($T123=\"n/a\",$D123*$Y123,$G123)+IFERROR(IF(AND($V123<=AD$1,$W123>=AD$1),INDEX(Reliability!I$23:I$50,MATCH($T123,Reliability!$C$23:$C$50,0)),0),0)*$H123*$X123*$Y123),$D123)*$R123","v":0.47479678517136914},{"$f":"MIN((IFERROR(IF(AND($V123<=AE$1,$W123>=AE$1),INDEX(Reliability!J$23:J$50,MATCH($S123,Reliability!$C$23:$C$50,0)),0),0)*IF($T123=\"n/a\",$D123*$Y123,$G123)+IFERROR(IF(AND($V123<=AE$1,$W123>=AE$1),INDEX(Reliability!J$23:J$50,MATCH($T123,Reliability!$C$23:$C$50,0)),0),0)*$H123*$X123*$Y123),$D123)*$R123","v":0.38739839258568454},{"$f":"MIN((IFERROR(IF(AND($V123<=AF$1,$W123>=AF$1),INDEX(Reliability!K$23:K$50,MATCH($S123,Reliability!$C$23:$C$50,0)),0),0)*IF($T123=\"n/a\",$D123*$Y123,$G123)+IFERROR(IF(AND($V123<=AF$1,$W123>=AF$1),INDEX(Reliability!K$23:K$50,MATCH($T123,Reliability!$C$23:$C$50,0)),0),0)*$H123*$X123*$Y123),$D123)*$R123","v":0.3},{"$f":"MIN((IFERROR(IF(AND($V123<=AG$1,$W123>=AG$1),INDEX(Reliability!L$23:L$50,MATCH($S123,Reliability!$C$23:$C$50,0)),0),0)*IF($T123=\"n/a\",$D123*$Y123,$G123)+IFERROR(IF(AND($V123<=AG$1,$W123>=AG$1),INDEX(Reliability!L$23:L$50,MATCH($T123,Reliability!$C$23:$C$50,0)),0),0)*$H123*$X123*$Y123),$D123)*$R123","v":0.30399999999999999},{"$f":"MIN((IFERROR(IF(AND($V123<=AH$1,$W123>=AH$1),INDEX(Reliability!M$23:M$50,MATCH($S123,Reliability!$C$23:$C$50,0)),0),0)*IF($T123=\"n/a\",$D123*$Y123,$G123)+IFERROR(IF(AND($V123<=AH$1,$W123>=AH$1),INDEX(Reliability!M$23:M$50,MATCH($T123,Reliability!$C$23:$C$50,0)),0),0)*$H123*$X123*$Y123),$D123)*$R123","v":0.308},{"$f":"MIN((IFERROR(IF(AND($V123<=AI$1,$W123>=AI$1),INDEX(Reliability!N$23:N$50,MATCH($S123,Reliability!$C$23:$C$50,0)),0),0)*IF($T123=\"n/a\",$D123*$Y123,$G123)+IFERROR(IF(AND($V123<=AI$1,$W123>=AI$1),INDEX(Reliability!N$23:N$50,MATCH($T123,Reliability!$C$23:$C$50,0)),0),0)*$H123*$X123*$Y123),$D123)*$R123","v":0.312},{"$f":"MIN((IFERROR(IF(AND($V123<=AJ$1,$W123>=AJ$1),INDEX(Reliability!O$23:O$50,MATCH($S123,Reliability!$C$23:$C$50,0)),0),0)*IF($T123=\"n/a\",$D123*$Y123,$G123)+IFERROR(IF(AND($V123<=AJ$1,$W123>=AJ$1),INDEX(Reliability!O$23:O$50,MATCH($T123,Reliability!$C$23:$C$50,0)),0),0)*$H123*$X123*$Y123),$D123)*$R123","v":0.31600000000000006},{"$f":"MIN((IFERROR(IF(AND($V123<=AK$1,$W123>=AK$1),INDEX(Reliability!P$23:P$50,MATCH($S123,Reliability!$C$23:$C$50,0)),0),0)*IF($T123=\"n/a\",$D123*$Y123,$G123)+IFERROR(IF(AND($V123<=AK$1,$W123>=AK$1),INDEX(Reliability!P$23:P$50,MATCH($T123,Reliability!$C$23:$C$50,0)),0),0)*$H123*$X123*$Y123),$D123)*$R123","v":0.32}]
[null,{"$f":"unique_contracts!B124","v":"_EXISTING_GENERIC_WIND"},{"$f":"unique_contracts!D124","v":"Online"},{"$f":"unique_contracts!J124","v":0},{"$f":"unique_contracts!M124","v":"NotHybrid"},{"$f":"unique_contracts!N124","v":"NA"},{"$f":"unique_contracts!P124","v":0},{"$f":"unique_contracts!R124","v":0},{"$f":"unique_contracts!V124","v":0},{"$f":"unique_contracts!AB124","v":"sell"},{"$f":"unique_contracts!AM124","v":2013},{"$f":"unique_contracts!AN124","v":12},{"$f":"unique_contracts!AO124","v":31},{"$f":"unique_contracts!AP124","v":2038},{"$f":"unique_contracts!AQ124","v":12},{"$f":"unique_contracts!AR124","v":30},{"$f":"unique_contracts!BP124","v":"EnergyOnly"},0,{"$f":"IFERROR(IF(AND(I124>0,E124=\"NotHybrid\"),_xlfn.CONCAT(MAX(MIN(ROUNDDOWN(I124/D124,0),8),4),INDEX(resources!$G:$G,MATCH(B124,resources!$A:$A,0))),INDEX(resources!$G:$G,MATCH(B124,resources!$A:$A,0))),\"n/a\")","v":"in_state_wind_south"},"n/a","in_state_wind_south",2014,2038,1,1,{"$f":"MIN((IFERROR(IF(AND($V124<=Z$1,$W124>=Z$1),INDEX(Reliability!E$23:E$50,MATCH($S124,Reliability!$C$23:$C$50,0)),0),0)*IF($T124=\"n/a\",$D124*$Y124,$G124)+IFERROR(IF(AND($V124<=Z$1,$W124>=Z$1),INDEX(Reliability!E$23:E$50,MATCH($T124,Reliability!$C$23:$C$50,0)),0),0)*$H124*$X124*$Y124),$D124)*$R124","v":0},{"$f":"MIN((IFERROR(IF(AND($V124<=AA$1,$W124>=AA$1),INDEX(Reliability!F$23:F$50,MATCH($S124,Reliability!$C$23:$C$50,0)),0),0)*IF($T124=\"n/a\",$D124*$Y124,$G124)+IFERROR(IF(AND($V124<=AA$1,$W124>=AA$1),INDEX(Reliability!F$23:F$50,MATCH($T124,Reliability!$C$23:$C$50,0)),0),0)*$H124*$X124*$Y124),$D124)*$R124","v":0},{"$f":"MIN((IFERROR(IF(AND($V124<=AB$1,$W124>=AB$1),INDEX(Reliability!G$23:G$50,MATCH($S124,Reliability!$C$23:$C$50,0)),0),0)*IF($T124=\"n/a\",$D124*$Y124,$G124)+IFERROR(IF(AND($V124<=AB$1,$W124>=AB$1),INDEX(Reliability!G$23:G$50,MATCH($T124,Reliability!$C$23:$C$50,0)),0),0)*$H124*$X124*$Y124),$D124)*$R124","v":0},{"$f":"MIN((IFERROR(IF(AND($V124<=AC$1,$W124>=AC$1),INDEX(Reliability!H$23:H$50,MATCH($S124,Reliability!$C$23:$C$50,0)),0),0)*IF($T124=\"n/a\",$D124*$Y124,$G124)+IFERROR(IF(AND($V124<=AC$1,$W124>=AC$1),INDEX(Reliability!H$23:H$50,MATCH($T124,Reliability!$C$23:$C$50,0)),0),0)*$H124*$X124*$Y124),$D124)*$R124","v":0},{"$f":"MIN((IFERROR(IF(AND($V124<=AD$1,$W124>=AD$1),INDEX(Reliability!I$23:I$50,MATCH($S124,Reliability!$C$23:$C$50,0)),0),0)*IF($T124=\"n/a\",$D124*$Y124,$G124)+IFERROR(IF(AND($V124<=AD$1,$W124>=AD$1),INDEX(Reliability!I$23:I$50,MATCH($T124,Reliability!$C$23:$C$50,0)),0),0)*$H124*$X124*$Y124),$D124)*$R124","v":0},{"$f":"MIN((IFERROR(IF(AND($V124<=AE$1,$W124>=AE$1),INDEX(Reliability!J$23:J$50,MATCH($S124,Reliability!$C$23:$C$50,0)),0),0)*IF($T124=\"n/a\",$D124*$Y124,$G124)+IFERROR(IF(AND($V124<=AE$1,$W124>=AE$1),INDEX(Reliability!J$23:J$50,MATCH($T124,Reliability!$C$23:$C$50,0)),0),0)*$H124*$X124*$Y124),$D124)*$R124","v":0},{"$f":"MIN((IFERROR(IF(AND($V124<=AF$1,$W124>=AF$1),INDEX(Reliability!K$23:K$50,MATCH($S124,Reliability!$C$23:$C$50,0)),0),0)*IF($T124=\"n/a\",$D124*$Y124,$G124)+IFERROR(IF(AND($V124<=AF$1,$W124>=AF$1),INDEX(Reliability!K$23:K$50,MATCH($T124,Reliability!$C$23:$C$50,0)),0),0)*$H124*$X124*$Y124),$D124)*$R124","v":0},{"$f":"MIN((IFERROR(IF(AND($V124<=AG$1,$W124>=AG$1),INDEX(Reliability!L$23:L$50,MATCH($S124,Reliability!$C$23:$C$50,0)),0),0)*IF($T124=\"n/a\",$D124*$Y124,$G124)+IFERROR(IF(AND($V124<=AG$1,$W124>=AG$1),INDEX(Reliability!L$23:L$50,MATCH($T124,Reliability!$C$23:$C$50,0)),0),0)*$H124*$X124*$Y124),$D124)*$R124","v":0},{"$f":"MIN((IFERROR(IF(AND($V124<=AH$1,$W124>=AH$1),INDEX(Reliability!M$23:M$50,MATCH($S124,Reliability!$C$23:$C$50,0)),0),0)*IF($T124=\"n/a\",$D124*$Y124,$G124)+IFERROR(IF(AND($V124<=AH$1,$W124>=AH$1),INDEX(Reliability!M$23:M$50,MATCH($T124,Reliability!$C$23:$C$50,0)),0),0)*$H124*$X124*$Y124),$D124)*$R124","v":0},{"$f":"MIN((IFERROR(IF(AND($V124<=AI$1,$W124>=AI$1),INDEX(Reliability!N$23:N$50,MATCH($S124,Reliability!$C$23:$C$50,0)),0),0)*IF($T124=\"n/a\",$D124*$Y124,$G124)+IFERROR(IF(AND($V124<=AI$1,$W124>=AI$1),INDEX(Reliability!N$23:N$50,MATCH($T124,Reliability!$C$23:$C$50,0)),0),0)*$H124*$X124*$Y124),$D124)*$R124","v":0},{"$f":"MIN((IFERROR(IF(AND($V124<=AJ$1,$W124>=AJ$1),INDEX(Reliability!O$23:O$50,MATCH($S124,Reliability!$C$23:$C$50,0)),0),0)*IF($T124=\"n/a\",$D124*$Y124,$G124)+IFERROR(IF(AND($V124<=AJ$1,$W124>=AJ$1),INDEX(Reliability!O$23:O$50,MATCH($T124,Reliability!$C$23:$C$50,0)),0),0)*$H124*$X124*$Y124),$D124)*$R124","v":0},{"$f":"MIN((IFERROR(IF(AND($V124<=AK$1,$W124>=AK$1),INDEX(Reliability!P$23:P$50,MATCH($S124,Reliability!$C$23:$C$50,0)),0),0)*IF($T124=\"n/a\",$D124*$Y124,$G124)+IFERROR(IF(AND($V124<=AK$1,$W124>=AK$1),INDEX(Reliability!P$23:P$50,MATCH($T124,Reliability!$C$23:$C$50,0)),0),0)*$H124*$X124*$Y124),$D124)*$R124","v":0}]
[null,{"$f":"unique_contracts!B125","v":"ARLVAL_5_SOLAR"},{"$f":"unique_contracts!D125","v":"Online"},{"$f":"unique_contracts!J125","v":127},{"$f":"unique_contracts!M125","v":"NotHybrid"},{"$f":"unique_contracts!N125","v":"NA"},{"$f":"unique_contracts!P125","v":0},{"$f":"unique_contracts!R125","v":0},{"$f":"unique_contracts!V125","v":0},{"$f":"unique_contracts!AB125","v":0},{"$f":"unique_contracts!AM125","v":2013},{"$f":"unique_contracts!AN125","v":11},{"$f":"unique_contracts!AO125","v":5},{"$f":"unique_contracts!AP125","v":2038},{"$f":"unique_contracts!AQ125","v":11},{"$f":"unique_contracts!AR125","v":5},{"$f":"unique_contracts!BP125","v":"EnergyCapacity"},1,{"$f":"IFERROR(IF(AND(I125>0,E125=\"NotHybrid\"),_xlfn.CONCAT(MAX(MIN(ROUNDDOWN(I125/D125,0),8),4),INDEX(resources!$G:$G,MATCH(B125,resources!$A:$A,0))),INDEX(resources!$G:$G,MATCH(B125,resources!$A:$A,0))),\"n/a\")","v":"utility_pv"},"n/a","utility_pv",2014,2038,1,1,{"$f":"MIN((IFERROR(IF(AND($V125<=Z$1,$W125>=Z$1),INDEX(Reliability!E$23:E$50,MATCH($S125,Reliability!$C$23:$C$50,0)),0),0)*IF($T125=\"n/a\",$D125*$Y125,$G125)+IFERROR(IF(AND($V125<=Z$1,$W125>=Z$1),INDEX(Reliability!E$23:E$50,MATCH($T125,Reliability!$C$23:$C$50,0)),0),0)*$H125*$X125*$Y125),$D125)*$R125","v":12.192},{"$f":"MIN((IFERROR(IF(AND($V125<=AA$1,$W125>=AA$1),INDEX(Reliability!F$23:F$50,MATCH($S125,Reliability!$C$23:$C$50,0)),0),0)*IF($T125=\"n/a\",$D125*$Y125,$G125)+IFERROR(IF(AND($V125<=AA$1,$W125>=AA$1),INDEX(Reliability!F$23:F$50,MATCH($T125,Reliability!$C$23:$C$50,0)),0),0)*$H125*$X125*$Y125),$D125)*$R125","v":12.97948172778908},{"$f":"MIN((IFERROR(IF(AND($V125<=AB$1,$W125>=AB$1),INDEX(Reliability!G$23:G$50,MATCH($S125,Reliability!$C$23:$C$50,0)),0),0)*IF($T125=\"n/a\",$D125*$Y125,$G125)+IFERROR(IF(AND($V125<=AB$1,$W125>=AB$1),INDEX(Reliability!G$23:G$50,MATCH($T125,Reliability!$C$23:$C$50,0)),0),0)*$H125*$X125*$Y125),$D125)*$R125","v":13.766963455578164},{"$f":"MIN((IFERROR(IF(AND($V125<=AC$1,$W125>=AC$1),INDEX(Reliability!H$23:H$50,MATCH($S125,Reliability!$C$23:$C$50,0)),0),0)*IF($T125=\"n/a\",$D125*$Y125,$G125)+IFERROR(IF(AND($V125<=AC$1,$W125>=AC$1),INDEX(Reliability!H$23:H$50,MATCH($T125,Reliability!$C$23:$C$50,0)),0),0)*$H125*$X125*$Y125),$D125)*$R125","v":12.91340089946547},{"$f":"MIN((IFERROR(IF(AND($V125<=AD$1,$W125>=AD$1),INDEX(Reliability!I$23:I$50,MATCH($S125,Reliability!$C$23:$C$50,0)),0),0)*IF($T125=\"n/a\",$D125*$Y125,$G125)+IFERROR(IF(AND($V125<=AD$1,$W125>=AD$1),INDEX(Reliability!I$23:I$50,MATCH($T125,Reliability!$C$23:$C$50,0)),0),0)*$H125*$X125*$Y125),$D125)*$R125","v":12.059838343352776},{"$f":"MIN((IFERROR(IF(AND($V125<=AE$1,$W125>=AE$1),INDEX(Reliability!J$23:J$50,MATCH($S125,Reliability!$C$23:$C$50,0)),0),0)*IF($T125=\"n/a\",$D125*$Y125,$G125)+IFERROR(IF(AND($V125<=AE$1,$W125>=AE$1),INDEX(Reliability!J$23:J$50,MATCH($T125,Reliability!$C$23:$C$50,0)),0),0)*$H125*$X125*$Y125),$D125)*$R125","v":9.8399191716763887},{"$f":"MIN((IFERROR(IF(AND($V125<=AF$1,$W125>=AF$1),INDEX(Reliability!K$23:K$50,MATCH($S125,Reliability!$C$23:$C$50,0)),0),0)*IF($T125=\"n/a\",$D125*$Y125,$G125)+IFERROR(IF(AND($V125<=AF$1,$W125>=AF$1),INDEX(Reliability!K$23:K$50,MATCH($T125,Reliability!$C$23:$C$50,0)),0),0)*$H125*$X125*$Y125),$D125)*$R125","v":7.62},{"$f":"MIN((IFERROR(IF(AND($V125<=AG$1,$W125>=AG$1),INDEX(Reliability!L$23:L$50,MATCH($S125,Reliability!$C$23:$C$50,0)),0),0)*IF($T125=\"n/a\",$D125*$Y125,$G125)+IFERROR(IF(AND($V125<=AG$1,$W125>=AG$1),INDEX(Reliability!L$23:L$50,MATCH($T125,Reliability!$C$23:$C$50,0)),0),0)*$H125*$X125*$Y125),$D125)*$R125","v":7.7215999999999996},{"$f":"MIN((IFERROR(IF(AND($V125<=AH$1,$W125>=AH$1),INDEX(Reliability!M$23:M$50,MATCH($S125,Reliability!$C$23:$C$50,0)),0),0)*IF($T125=\"n/a\",$D125*$Y125,$G125)+IFERROR(IF(AND($V125<=AH$1,$W125>=AH$1),INDEX(Reliability!M$23:M$50,MATCH($T125,Reliability!$C$23:$C$50,0)),0),0)*$H125*$X125*$Y125),$D125)*$R125","v":7.8231999999999999},{"$f":"MIN((IFERROR(IF(AND($V125<=AI$1,$W125>=AI$1),INDEX(Reliability!N$23:N$50,MATCH($S125,Reliability!$C$23:$C$50,0)),0),0)*IF($T125=\"n/a\",$D125*$Y125,$G125)+IFERROR(IF(AND($V125<=AI$1,$W125>=AI$1),INDEX(Reliability!N$23:N$50,MATCH($T125,Reliability!$C$23:$C$50,0)),0),0)*$H125*$X125*$Y125),$D125)*$R125","v":7.9248000000000003},{"$f":"MIN((IFERROR(IF(AND($V125<=AJ$1,$W125>=AJ$1),INDEX(Reliability!O$23:O$50,MATCH($S125,Reliability!$C$23:$C$50,0)),0),0)*IF($T125=\"n/a\",$D125*$Y125,$G125)+IFERROR(IF(AND($V125<=AJ$1,$W125>=AJ$1),INDEX(Reliability!O$23:O$50,MATCH($T125,Reliability!$C$23:$C$50,0)),0),0)*$H125*$X125*$Y125),$D125)*$R125","v":8.0264000000000006},{"$f":"MIN((IFERROR(IF(AND($V125<=AK$1,$W125>=AK$1),INDEX(Reliability!P$23:P$50,MATCH($S125,Reliability!$C$23:$C$50,0)),0),0)*IF($T125=\"n/a\",$D125*$Y125,$G125)+IFERROR(IF(AND($V125<=AK$1,$W125>=AK$1),INDEX(Reliability!P$23:P$50,MATCH($T125,Reliability!$C$23:$C$50,0)),0),0)*$H125*$X125*$Y125),$D125)*$R125","v":8.1280000000000001}]
[null,{"$f":"unique_contracts!B126","v":"_EXISTING_GENERIC_SOLAR_1AXIS"},{"$f":"unique_contracts!D126","v":"Online"},{"$f":"unique_contracts!J126","v":0},{"$f":"unique_contracts!M126","v":"NotHybrid"},{"$f":"unique_contracts!N126","v":"NA"},{"$f":"unique_contracts!P126","v":0},{"$f":"unique_contracts!R126","v":0},{"$f":"unique_contracts!V126","v":0},{"$f":"unique_contracts!AB126","v":"sell"},{"$f":"unique_contracts!AM126","v":2013},{"$f":"unique_contracts!AN126","v":11},{"$f":"unique_contracts!AO126","v":5},{"$f":"unique_contracts!AP126","v":2038},{"$f":"unique_contracts!AQ126","v":11},{"$f":"unique_contracts!AR126","v":5},{"$f":"unique_contracts!BP126","v":"EnergyOnly"},0,{"$f":"IFERROR(IF(AND(I126>0,E126=\"NotHybrid\"),_xlfn.CONCAT(MAX(MIN(ROUNDDOWN(I126/D126,0),8),4),INDEX(resources!$G:$G,MATCH(B126,resources!$A:$A,0))),INDEX(resources!$G:$G,MATCH(B126,resources!$A:$A,0))),\"n/a\")","v":"utility_pv"},"n/a","utility_pv",2014,2038,1,1,{"$f":"MIN((IFERROR(IF(AND($V126<=Z$1,$W126>=Z$1),INDEX(Reliability!E$23:E$50,MATCH($S126,Reliability!$C$23:$C$50,0)),0),0)*IF($T126=\"n/a\",$D126*$Y126,$G126)+IFERROR(IF(AND($V126<=Z$1,$W126>=Z$1),INDEX(Reliability!E$23:E$50,MATCH($T126,Reliability!$C$23:$C$50,0)),0),0)*$H126*$X126*$Y126),$D126)*$R126","v":0},{"$f":"MIN((IFERROR(IF(AND($V126<=AA$1,$W126>=AA$1),INDEX(Reliability!F$23:F$50,MATCH($S126,Reliability!$C$23:$C$50,0)),0),0)*IF($T126=\"n/a\",$D126*$Y126,$G126)+IFERROR(IF(AND($V126<=AA$1,$W126>=AA$1),INDEX(Reliability!F$23:F$50,MATCH($T126,Reliability!$C$23:$C$50,0)),0),0)*$H126*$X126*$Y126),$D126)*$R126","v":0},{"$f":"MIN((IFERROR(IF(AND($V126<=AB$1,$W126>=AB$1),INDEX(Reliability!G$23:G$50,MATCH($S126,Reliability!$C$23:$C$50,0)),0),0)*IF($T126=\"n/a\",$D126*$Y126,$G126)+IFERROR(IF(AND($V126<=AB$1,$W126>=AB$1),INDEX(Reliability!G$23:G$50,MATCH($T126,Reliability!$C$23:$C$50,0)),0),0)*$H126*$X126*$Y126),$D126)*$R126","v":0},{"$f":"MIN((IFERROR(IF(AND($V126<=AC$1,$W126>=AC$1),INDEX(Reliability!H$23:H$50,MATCH($S126,Reliability!$C$23:$C$50,0)),0),0)*IF($T126=\"n/a\",$D126*$Y126,$G126)+IFERROR(IF(AND($V126<=AC$1,$W126>=AC$1),INDEX(Reliability!H$23:H$50,MATCH($T126,Reliability!$C$23:$C$50,0)),0),0)*$H126*$X126*$Y126),$D126)*$R126","v":0},{"$f":"MIN((IFERROR(IF(AND($V126<=AD$1,$W126>=AD$1),INDEX(Reliability!I$23:I$50,MATCH($S126,Reliability!$C$23:$C$50,0)),0),0)*IF($T126=\"n/a\",$D126*$Y126,$G126)+IFERROR(IF(AND($V126<=AD$1,$W126>=AD$1),INDEX(Reliability!I$23:I$50,MATCH($T126,Reliability!$C$23:$C$50,0)),0),0)*$H126*$X126*$Y126),$D126)*$R126","v":0},{"$f":"MIN((IFERROR(IF(AND($V126<=AE$1,$W126>=AE$1),INDEX(Reliability!J$23:J$50,MATCH($S126,Reliability!$C$23:$C$50,0)),0),0)*IF($T126=\"n/a\",$D126*$Y126,$G126)+IFERROR(IF(AND($V126<=AE$1,$W126>=AE$1),INDEX(Reliability!J$23:J$50,MATCH($T126,Reliability!$C$23:$C$50,0)),0),0)*$H126*$X126*$Y126),$D126)*$R126","v":0},{"$f":"MIN((IFERROR(IF(AND($V126<=AF$1,$W126>=AF$1),INDEX(Reliability!K$23:K$50,MATCH($S126,Reliability!$C$23:$C$50,0)),0),0)*IF($T126=\"n/a\",$D126*$Y126,$G126)+IFERROR(IF(AND($V126<=AF$1,$W126>=AF$1),INDEX(Reliability!K$23:K$50,MATCH($T126,Reliability!$C$23:$C$50,0)),0),0)*$H126*$X126*$Y126),$D126)*$R126","v":0},{"$f":"MIN((IFERROR(IF(AND($V126<=AG$1,$W126>=AG$1),INDEX(Reliability!L$23:L$50,MATCH($S126,Reliability!$C$23:$C$50,0)),0),0)*IF($T126=\"n/a\",$D126*$Y126,$G126)+IFERROR(IF(AND($V126<=AG$1,$W126>=AG$1),INDEX(Reliability!L$23:L$50,MATCH($T126,Reliability!$C$23:$C$50,0)),0),0)*$H126*$X126*$Y126),$D126)*$R126","v":0},{"$f":"MIN((IFERROR(IF(AND($V126<=AH$1,$W126>=AH$1),INDEX(Reliability!M$23:M$50,MATCH($S126,Reliability!$C$23:$C$50,0)),0),0)*IF($T126=\"n/a\",$D126*$Y126,$G126)+IFERROR(IF(AND($V126<=AH$1,$W126>=AH$1),INDEX(Reliability!M$23:M$50,MATCH($T126,Reliability!$C$23:$C$50,0)),0),0)*$H126*$X126*$Y126),$D126)*$R126","v":0},{"$f":"MIN((IFERROR(IF(AND($V126<=AI$1,$W126>=AI$1),INDEX(Reliability!N$23:N$50,MATCH($S126,Reliability!$C$23:$C$50,0)),0),0)*IF($T126=\"n/a\",$D126*$Y126,$G126)+IFERROR(IF(AND($V126<=AI$1,$W126>=AI$1),INDEX(Reliability!N$23:N$50,MATCH($T126,Reliability!$C$23:$C$50,0)),0),0)*$H126*$X126*$Y126),$D126)*$R126","v":0},{"$f":"MIN((IFERROR(IF(AND($V126<=AJ$1,$W126>=AJ$1),INDEX(Reliability!O$23:O$50,MATCH($S126,Reliability!$C$23:$C$50,0)),0),0)*IF($T126=\"n/a\",$D126*$Y126,$G126)+IFERROR(IF(AND($V126<=AJ$1,$W126>=AJ$1),INDEX(Reliability!O$23:O$50,MATCH($T126,Reliability!$C$23:$C$50,0)),0),0)*$H126*$X126*$Y126),$D126)*$R126","v":0},{"$f":"MIN((IFERROR(IF(AND($V126<=AK$1,$W126>=AK$1),INDEX(Reliability!P$23:P$50,MATCH($S126,Reliability!$C$23:$C$50,0)),0),0)*IF($T126=\"n/a\",$D126*$Y126,$G126)+IFERROR(IF(AND($V126<=AK$1,$W126>=AK$1),INDEX(Reliability!P$23:P$50,MATCH($T126,Reliability!$C$23:$C$50,0)),0),0)*$H126*$X126*$Y126),$D126)*$R126","v":0}]
[null,{"$f":"unique_contracts!B127","v":"CATLNA_2_SOLAR"},{"$f":"unique_contracts!D127","v":"Online"},{"$f":"unique_contracts!J127","v":109.4},{"$f":"unique_contracts!M127","v":"NotHybrid"},{"$f":"unique_contracts!N127","v":"NA"},{"$f":"unique_contracts!P127","v":0},{"$f":"unique_contracts!R127","v":0},{"$f":"unique_contracts!V127","v":0},{"$f":"unique_contracts!AB127","v":0},{"$f":"unique_contracts!AM127","v":2013},{"$f":"unique_contracts!AN127","v":11},{"$f":"unique_contracts!AO127","v":27},{"$f":"unique_contracts!AP127","v":2038},{"$f":"unique_contracts!AQ127","v":11},{"$f":"unique_contracts!AR127","v":27},{"$f":"unique_contracts!BP127","v":"EnergyCapacity"},1,{"$f":"IFERROR(IF(AND(I127>0,E127=\"NotHybrid\"),_xlfn.CONCAT(MAX(MIN(ROUNDDOWN(I127/D127,0),8),4),INDEX(resources!$G:$G,MATCH(B127,resources!$A:$A,0))),INDEX(resources!$G:$G,MATCH(B127,resources!$A:$A,0))),\"n/a\")","v":"utility_pv"},"n/a","utility_pv",2014,2038,1,1,{"$f":"MIN((IFERROR(IF(AND($V127<=Z$1,$W127>=Z$1),INDEX(Reliability!E$23:E$50,MATCH($S127,Reliability!$C$23:$C$50,0)),0),0)*IF($T127=\"n/a\",$D127*$Y127,$G127)+IFERROR(IF(AND($V127<=Z$1,$W127>=Z$1),INDEX(Reliability!E$23:E$50,MATCH($T127,Reliability!$C$23:$C$50,0)),0),0)*$H127*$X127*$Y127),$D127)*$R127","v":10.502400000000002},{"$f":"MIN((IFERROR(IF(AND($V127<=AA$1,$W127>=AA$1),INDEX(Reliability!F$23:F$50,MATCH($S127,Reliability!$C$23:$C$50,0)),0),0)*IF($T127=\"n/a\",$D127*$Y127,$G127)+IFERROR(IF(AND($V127<=AA$1,$W127>=AA$1),INDEX(Reliability!F$23:F$50,MATCH($T127,Reliability!$C$23:$C$50,0)),0),0)*$H127*$X127*$Y127),$D127)*$R127","v":11.180750401733272},{"$f":"MIN((IFERROR(IF(AND($V127<=AB$1,$W127>=AB$1),INDEX(Reliability!G$23:G$50,MATCH($S127,Reliability!$C$23:$C$50,0)),0),0)*IF($T127=\"n/a\",$D127*$Y127,$G127)+IFERROR(IF(AND($V127<=AB$1,$W127>=AB$1),INDEX(Reliability!G$23:G$50,MATCH($T127,Reliability!$C$23:$C$50,0)),0),0)*$H127*$X127*$Y127),$D127)*$R127","v":11.859100803466545},{"$f":"MIN((IFERROR(IF(AND($V127<=AC$1,$W127>=AC$1),INDEX(Reliability!H$23:H$50,MATCH($S127,Reliability!$C$23:$C$50,0)),0),0)*IF($T127=\"n/a\",$D127*$Y127,$G127)+IFERROR(IF(AND($V127<=AC$1,$W127>=AC$1),INDEX(Reliability!H$23:H$50,MATCH($T127,Reliability!$C$23:$C$50,0)),0),0)*$H127*$X127*$Y127),$D127)*$R127","v":11.123827231508052},{"$f":"MIN((IFERROR(IF(AND($V127<=AD$1,$W127>=AD$1),INDEX(Reliability!I$23:I$50,MATCH($S127,Reliability!$C$23:$C$50,0)),0),0)*IF($T127=\"n/a\",$D127*$Y127,$G127)+IFERROR(IF(AND($V127<=AD$1,$W127>=AD$1),INDEX(Reliability!I$23:I$50,MATCH($T127,Reliability!$C$23:$C$50,0)),0),0)*$H127*$X127*$Y127),$D127)*$R127","v":10.388553659549558},{"$f":"MIN((IFERROR(IF(AND($V127<=AE$1,$W127>=AE$1),INDEX(Reliability!J$23:J$50,MATCH($S127,Reliability!$C$23:$C$50,0)),0),0)*IF($T127=\"n/a\",$D127*$Y127,$G127)+IFERROR(IF(AND($V127<=AE$1,$W127>=AE$1),INDEX(Reliability!J$23:J$50,MATCH($T127,Reliability!$C$23:$C$50,0)),0),0)*$H127*$X127*$Y127),$D127)*$R127","v":8.476276829774779},{"$f":"MIN((IFERROR(IF(AND($V127<=AF$1,$W127>=AF$1),INDEX(Reliability!K$23:K$50,MATCH($S127,Reliability!$C$23:$C$50,0)),0),0)*IF($T127=\"n/a\",$D127*$Y127,$G127)+IFERROR(IF(AND($V127<=AF$1,$W127>=AF$1),INDEX(Reliability!K$23:K$50,MATCH($T127,Reliability!$C$23:$C$50,0)),0),0)*$H127*$X127*$Y127),$D127)*$R127","v":6.5640000000000001},{"$f":"MIN((IFERROR(IF(AND($V127<=AG$1,$W127>=AG$1),INDEX(Reliability!L$23:L$50,MATCH($S127,Reliability!$C$23:$C$50,0)),0),0)*IF($T127=\"n/a\",$D127*$Y127,$G127)+IFERROR(IF(AND($V127<=AG$1,$W127>=AG$1),INDEX(Reliability!L$23:L$50,MATCH($T127,Reliability!$C$23:$C$50,0)),0),0)*$H127*$X127*$Y127),$D127)*$R127","v":6.6515200000000005},{"$f":"MIN((IFERROR(IF(AND($V127<=AH$1,$W127>=AH$1),INDEX(Reliability!M$23:M$50,MATCH($S127,Reliability!$C$23:$C$50,0)),0),0)*IF($T127=\"n/a\",$D127*$Y127,$G127)+IFERROR(IF(AND($V127<=AH$1,$W127>=AH$1),INDEX(Reliability!M$23:M$50,MATCH($T127,Reliability!$C$23:$C$50,0)),0),0)*$H127*$X127*$Y127),$D127)*$R127","v":6.7390400000000001},{"$f":"MIN((IFERROR(IF(AND($V127<=AI$1,$W127>=AI$1),INDEX(Reliability!N$23:N$50,MATCH($S127,Reliability!$C$23:$C$50,0)),0),0)*IF($T127=\"n/a\",$D127*$Y127,$G127)+IFERROR(IF(AND($V127<=AI$1,$W127>=AI$1),INDEX(Reliability!N$23:N$50,MATCH($T127,Reliability!$C$23:$C$50,0)),0),0)*$H127*$X127*$Y127),$D127)*$R127","v":6.8265600000000006},{"$f":"MIN((IFERROR(IF(AND($V127<=AJ$1,$W127>=AJ$1),INDEX(Reliability!O$23:O$50,MATCH($S127,Reliability!$C$23:$C$50,0)),0),0)*IF($T127=\"n/a\",$D127*$Y127,$G127)+IFERROR(IF(AND($V127<=AJ$1,$W127>=AJ$1),INDEX(Reliability!O$23:O$50,MATCH($T127,Reliability!$C$23:$C$50,0)),0),0)*$H127*$X127*$Y127),$D127)*$R127","v":6.9140800000000011},{"$f":"MIN((IFERROR(IF(AND($V127<=AK$1,$W127>=AK$1),INDEX(Reliability!P$23:P$50,MATCH($S127,Reliability!$C$23:$C$50,0)),0),0)*IF($T127=\"n/a\",$D127*$Y127,$G127)+IFERROR(IF(AND($V127<=AK$1,$W127>=AK$1),INDEX(Reliability!P$23:P$50,MATCH($T127,Reliability!$C$23:$C$50,0)),0),0)*$H127*$X127*$Y127),$D127)*$R127","v":7.0016000000000007}]
[null,{"$f":"unique_contracts!B128","v":"_EXISTING_GENERIC_SOLAR_1AXIS"},{"$f":"unique_contracts!D128","v":"Online"},{"$f":"unique_contracts!J128","v":0},{"$f":"unique_contracts!M128","v":"NotHybrid"},{"$f":"unique_contracts!N128","v":"NA"},{"$f":"unique_contracts!P128","v":0},{"$f":"unique_contracts!R128","v":0},{"$f":"unique_contracts!V128","v":0},{"$f":"unique_contracts!AB128","v":"sell"},{"$f":"unique_contracts!AM128","v":2013},{"$f":"unique_contracts!AN128","v":11},{"$f":"unique_contracts!AO128","v":27},{"$f":"unique_contracts!AP128","v":2038},{"$f":"unique_contracts!AQ128","v":11},{"$f":"unique_contracts!AR128","v":27},{"$f":"unique_contracts!BP128","v":"EnergyOnly"},0,{"$f":"IFERROR(IF(AND(I128>0,E128=\"NotHybrid\"),_xlfn.CONCAT(MAX(MIN(ROUNDDOWN(I128/D128,0),8),4),INDEX(resources!$G:$G,MATCH(B128,resources!$A:$A,0))),INDEX(resources!$G:$G,MATCH(B128,resources!$A:$A,0))),\"n/a\")","v":"utility_pv"},"n/a","utility_pv",2014,2038,1,1,{"$f":"MIN((IFERROR(IF(AND($V128<=Z$1,$W128>=Z$1),INDEX(Reliability!E$23:E$50,MATCH($S128,Reliability!$C$23:$C$50,0)),0),0)*IF($T128=\"n/a\",$D128*$Y128,$G128)+IFERROR(IF(AND($V128<=Z$1,$W128>=Z$1),INDEX(Reliability!E$23:E$50,MATCH($T128,Reliability!$C$23:$C$50,0)),0),0)*$H128*$X128*$Y128),$D128)*$R128","v":0},{"$f":"MIN((IFERROR(IF(AND($V128<=AA$1,$W128>=AA$1),INDEX(Reliability!F$23:F$50,MATCH($S128,Reliability!$C$23:$C$50,0)),0),0)*IF($T128=\"n/a\",$D128*$Y128,$G128)+IFERROR(IF(AND($V128<=AA$1,$W128>=AA$1),INDEX(Reliability!F$23:F$50,MATCH($T128,Reliability!$C$23:$C$50,0)),0),0)*$H128*$X128*$Y128),$D128)*$R128","v":0},{"$f":"MIN((IFERROR(IF(AND($V128<=AB$1,$W128>=AB$1),INDEX(Reliability!G$23:G$50,MATCH($S128,Reliability!$C$23:$C$50,0)),0),0)*IF($T128=\"n/a\",$D128*$Y128,$G128)+IFERROR(IF(AND($V128<=AB$1,$W128>=AB$1),INDEX(Reliability!G$23:G$50,MATCH($T128,Reliability!$C$23:$C$50,0)),0),0)*$H128*$X128*$Y128),$D128)*$R128","v":0},{"$f":"MIN((IFERROR(IF(AND($V128<=AC$1,$W128>=AC$1),INDEX(Reliability!H$23:H$50,MATCH($S128,Reliability!$C$23:$C$50,0)),0),0)*IF($T128=\"n/a\",$D128*$Y128,$G128)+IFERROR(IF(AND($V128<=AC$1,$W128>=AC$1),INDEX(Reliability!H$23:H$50,MATCH($T128,Reliability!$C$23:$C$50,0)),0),0)*$H128*$X128*$Y128),$D128)*$R128","v":0},{"$f":"MIN((IFERROR(IF(AND($V128<=AD$1,$W128>=AD$1),INDEX(Reliability!I$23:I$50,MATCH($S128,Reliability!$C$23:$C$50,0)),0),0)*IF($T128=\"n/a\",$D128*$Y128,$G128)+IFERROR(IF(AND($V128<=AD$1,$W128>=AD$1),INDEX(Reliability!I$23:I$50,MATCH($T128,Reliability!$C$23:$C$50,0)),0),0)*$H128*$X128*$Y128),$D128)*$R128","v":0},{"$f":"MIN((IFERROR(IF(AND($V128<=AE$1,$W128>=AE$1),INDEX(Reliability!J$23:J$50,MATCH($S128,Reliability!$C$23:$C$50,0)),0),0)*IF($T128=\"n/a\",$D128*$Y128,$G128)+IFERROR(IF(AND($V128<=AE$1,$W128>=AE$1),INDEX(Reliability!J$23:J$50,MATCH($T128,Reliability!$C$23:$C$50,0)),0),0)*$H128*$X128*$Y128),$D128)*$R128","v":0},{"$f":"MIN((IFERROR(IF(AND($V128<=AF$1,$W128>=AF$1),INDEX(Reliability!K$23:K$50,MATCH($S128,Reliability!$C$23:$C$50,0)),0),0)*IF($T128=\"n/a\",$D128*$Y128,$G128)+IFERROR(IF(AND($V128<=AF$1,$W128>=AF$1),INDEX(Reliability!K$23:K$50,MATCH($T128,Reliability!$C$23:$C$50,0)),0),0)*$H128*$X128*$Y128),$D128)*$R128","v":0},{"$f":"MIN((IFERROR(IF(AND($V128<=AG$1,$W128>=AG$1),INDEX(Reliability!L$23:L$50,MATCH($S128,Reliability!$C$23:$C$50,0)),0),0)*IF($T128=\"n/a\",$D128*$Y128,$G128)+IFERROR(IF(AND($V128<=AG$1,$W128>=AG$1),INDEX(Reliability!L$23:L$50,MATCH($T128,Reliability!$C$23:$C$50,0)),0),0)*$H128*$X128*$Y128),$D128)*$R128","v":0},{"$f":"MIN((IFERROR(IF(AND($V128<=AH$1,$W128>=AH$1),INDEX(Reliability!M$23:M$50,MATCH($S128,Reliability!$C$23:$C$50,0)),0),0)*IF($T128=\"n/a\",$D128*$Y128,$G128)+IFERROR(IF(AND($V128<=AH$1,$W128>=AH$1),INDEX(Reliability!M$23:M$50,MATCH($T128,Reliability!$C$23:$C$50,0)),0),0)*$H128*$X128*$Y128),$D128)*$R128","v":0},{"$f":"MIN((IFERROR(IF(AND($V128<=AI$1,$W128>=AI$1),INDEX(Reliability!N$23:N$50,MATCH($S128,Reliability!$C$23:$C$50,0)),0),0)*IF($T128=\"n/a\",$D128*$Y128,$G128)+IFERROR(IF(AND($V128<=AI$1,$W128>=AI$1),INDEX(Reliability!N$23:N$50,MATCH($T128,Reliability!$C$23:$C$50,0)),0),0)*$H128*$X128*$Y128),$D128)*$R128","v":0},{"$f":"MIN((IFERROR(IF(AND($V128<=AJ$1,$W128>=AJ$1),INDEX(Reliability!O$23:O$50,MATCH($S128,Reliability!$C$23:$C$50,0)),0),0)*IF($T128=\"n/a\",$D128*$Y128,$G128)+IFERROR(IF(AND($V128<=AJ$1,$W128>=AJ$1),INDEX(Reliability!O$23:O$50,MATCH($T128,Reliability!$C$23:$C$50,0)),0),0)*$H128*$X128*$Y128),$D128)*$R128","v":0},{"$f":"MIN((IFERROR(IF(AND($V128<=AK$1,$W128>=AK$1),INDEX(Reliability!P$23:P$50,MATCH($S128,Reliability!$C$23:$C$50,0)),0),0)*IF($T128=\"n/a\",$D128*$Y128,$G128)+IFERROR(IF(AND($V128<=AK$1,$W128>=AK$1),INDEX(Reliability!P$23:P$50,MATCH($T128,Reliability!$C$23:$C$50,0)),0),0)*$H128*$X128*$Y128),$D128)*$R128","v":0}]
[null,{"$f":"unique_contracts!B129","v":"ALHMBR_1_ALHSLR"},{"$f":"unique_contracts!D129","v":"Online"},{"$f":"unique_contracts!J129","v":50},{"$f":"unique_contracts!M129","v":"NotHybrid"},{"$f":"unique_contracts!N129","v":"NA"},{"$f":"unique_contracts!P129","v":0},{"$f":"unique_contracts!R129","v":0},{"$f":"unique_contracts!V129","v":0},{"$f":"unique_contracts!AB129","v":0},{"$f":"unique_contracts!AM129","v":2014},{"$f":"unique_contracts!AN129","v":11},{"$f":"unique_contracts!AO129","v":25},{"$f":"unique_contracts!AP129","v":2039},{"$f":"unique_contracts!AQ129","v":11},{"$f":"unique_contracts!AR129","v":24},{"$f":"unique_contracts!BP129","v":"EnergyCapacity"},1,{"$f":"IFERROR(IF(AND(I129>0,E129=\"NotHybrid\"),_xlfn.CONCAT(MAX(MIN(ROUNDDOWN(I129/D129,0),8),4),INDEX(resources!$G:$G,MATCH(B129,resources!$A:$A,0))),INDEX(resources!$G:$G,MATCH(B129,resources!$A:$A,0))),\"n/a\")","v":"utility_pv"},"n/a","utility_pv",2015,2039,1,1,{"$f":"MIN((IFERROR(IF(AND($V129<=Z$1,$W129>=Z$1),INDEX(Reliability!E$23:E$50,MATCH($S129,Reliability!$C$23:$C$50,0)),0),0)*IF($T129=\"n/a\",$D129*$Y129,$G129)+IFERROR(IF(AND($V129<=Z$1,$W129>=Z$1),INDEX(Reliability!E$23:E$50,MATCH($T129,Reliability!$C$23:$C$50,0)),0),0)*$H129*$X129*$Y129),$D129)*$R129","v":4.8},{"$f":"MIN((IFERROR(IF(AND($V129<=AA$1,$W129>=AA$1),INDEX(Reliability!F$23:F$50,MATCH($S129,Reliability!$C$23:$C$50,0)),0),0)*IF($T129=\"n/a\",$D129*$Y129,$G129)+IFERROR(IF(AND($V129<=AA$1,$W129>=AA$1),INDEX(Reliability!F$23:F$50,MATCH($T129,Reliability!$C$23:$C$50,0)),0),0)*$H129*$X129*$Y129),$D129)*$R129","v":5.1100321762949141},{"$f":"MIN((IFERROR(IF(AND($V129<=AB$1,$W129>=AB$1),INDEX(Reliability!G$23:G$50,MATCH($S129,Reliability!$C$23:$C$50,0)),0),0)*IF($T129=\"n/a\",$D129*$Y129,$G129)+IFERROR(IF(AND($V129<=AB$1,$W129>=AB$1),INDEX(Reliability!G$23:G$50,MATCH($T129,Reliability!$C$23:$C$50,0)),0),0)*$H129*$X129*$Y129),$D129)*$R129","v":5.4200643525898284},{"$f":"MIN((IFERROR(IF(AND($V129<=AC$1,$W129>=AC$1),INDEX(Reliability!H$23:H$50,MATCH($S129,Reliability!$C$23:$C$50,0)),0),0)*IF($T129=\"n/a\",$D129*$Y129,$G129)+IFERROR(IF(AND($V129<=AC$1,$W129>=AC$1),INDEX(Reliability!H$23:H$50,MATCH($T129,Reliability!$C$23:$C$50,0)),0),0)*$H129*$X129*$Y129),$D129)*$R129","v":5.08401610215176},{"$f":"MIN((IFERROR(IF(AND($V129<=AD$1,$W129>=AD$1),INDEX(Reliability!I$23:I$50,MATCH($S129,Reliability!$C$23:$C$50,0)),0),0)*IF($T129=\"n/a\",$D129*$Y129,$G129)+IFERROR(IF(AND($V129<=AD$1,$W129>=AD$1),INDEX(Reliability!I$23:I$50,MATCH($T129,Reliability!$C$23:$C$50,0)),0),0)*$H129*$X129*$Y129),$D129)*$R129","v":4.7479678517136916},{"$f":"MIN((IFERROR(IF(AND($V129<=AE$1,$W129>=AE$1),INDEX(Reliability!J$23:J$50,MATCH($S129,Reliability!$C$23:$C$50,0)),0),0)*IF($T129=\"n/a\",$D129*$Y129,$G129)+IFERROR(IF(AND($V129<=AE$1,$W129>=AE$1),INDEX(Reliability!J$23:J$50,MATCH($T129,Reliability!$C$23:$C$50,0)),0),0)*$H129*$X129*$Y129),$D129)*$R129","v":3.8739839258568458},{"$f":"MIN((IFERROR(IF(AND($V129<=AF$1,$W129>=AF$1),INDEX(Reliability!K$23:K$50,MATCH($S129,Reliability!$C$23:$C$50,0)),0),0)*IF($T129=\"n/a\",$D129*$Y129,$G129)+IFERROR(IF(AND($V129<=AF$1,$W129>=AF$1),INDEX(Reliability!K$23:K$50,MATCH($T129,Reliability!$C$23:$C$50,0)),0),0)*$H129*$X129*$Y129),$D129)*$R129","v":3},{"$f":"MIN((IFERROR(IF(AND($V129<=AG$1,$W129>=AG$1),INDEX(Reliability!L$23:L$50,MATCH($S129,Reliability!$C$23:$C$50,0)),0),0)*IF($T129=\"n/a\",$D129*$Y129,$G129)+IFERROR(IF(AND($V129<=AG$1,$W129>=AG$1),INDEX(Reliability!L$23:L$50,MATCH($T129,Reliability!$C$23:$C$50,0)),0),0)*$H129*$X129*$Y129),$D129)*$R129","v":3.04},{"$f":"MIN((IFERROR(IF(AND($V129<=AH$1,$W129>=AH$1),INDEX(Reliability!M$23:M$50,MATCH($S129,Reliability!$C$23:$C$50,0)),0),0)*IF($T129=\"n/a\",$D129*$Y129,$G129)+IFERROR(IF(AND($V129<=AH$1,$W129>=AH$1),INDEX(Reliability!M$23:M$50,MATCH($T129,Reliability!$C$23:$C$50,0)),0),0)*$H129*$X129*$Y129),$D129)*$R129","v":3.08},{"$f":"MIN((IFERROR(IF(AND($V129<=AI$1,$W129>=AI$1),INDEX(Reliability!N$23:N$50,MATCH($S129,Reliability!$C$23:$C$50,0)),0),0)*IF($T129=\"n/a\",$D129*$Y129,$G129)+IFERROR(IF(AND($V129<=AI$1,$W129>=AI$1),INDEX(Reliability!N$23:N$50,MATCH($T129,Reliability!$C$23:$C$50,0)),0),0)*$H129*$X129*$Y129),$D129)*$R129","v":3.12},{"$f":"MIN((IFERROR(IF(AND($V129<=AJ$1,$W129>=AJ$1),INDEX(Reliability!O$23:O$50,MATCH($S129,Reliability!$C$23:$C$50,0)),0),0)*IF($T129=\"n/a\",$D129*$Y129,$G129)+IFERROR(IF(AND($V129<=AJ$1,$W129>=AJ$1),INDEX(Reliability!O$23:O$50,MATCH($T129,Reliability!$C$23:$C$50,0)),0),0)*$H129*$X129*$Y129),$D129)*$R129","v":3.16},{"$f":"MIN((IFERROR(IF(AND($V129<=AK$1,$W129>=AK$1),INDEX(Reliability!P$23:P$50,MATCH($S129,Reliability!$C$23:$C$50,0)),0),0)*IF($T129=\"n/a\",$D129*$Y129,$G129)+IFERROR(IF(AND($V129<=AK$1,$W129>=AK$1),INDEX(Reliability!P$23:P$50,MATCH($T129,Reliability!$C$23:$C$50,0)),0),0)*$H129*$X129*$Y129),$D129)*$R129","v":3.2}]
[null,{"$f":"unique_contracts!B130","v":"_EXISTING_GENERIC_SOLAR_1AXIS"},{"$f":"unique_contracts!D130","v":"Online"},{"$f":"unique_contracts!J130","v":0},{"$f":"unique_contracts!M130","v":"NotHybrid"},{"$f":"unique_contracts!N130","v":"NA"},{"$f":"unique_contracts!P130","v":0},{"$f":"unique_contracts!R130","v":0},{"$f":"unique_contracts!V130","v":0},{"$f":"unique_contracts!AB130","v":"sell"},{"$f":"unique_contracts!AM130","v":2014},{"$f":"unique_contracts!AN130","v":11},{"$f":"unique_contracts!AO130","v":25},{"$f":"unique_contracts!AP130","v":2039},{"$f":"unique_contracts!AQ130","v":11},{"$f":"unique_contracts!AR130","v":24},{"$f":"unique_contracts!BP130","v":"EnergyOnly"},0,{"$f":"IFERROR(IF(AND(I130>0,E130=\"NotHybrid\"),_xlfn.CONCAT(MAX(MIN(ROUNDDOWN(I130/D130,0),8),4),INDEX(resources!$G:$G,MATCH(B130,resources!$A:$A,0))),INDEX(resources!$G:$G,MATCH(B130,resources!$A:$A,0))),\"n/a\")","v":"utility_pv"},"n/a","utility_pv",2015,2039,1,1,{"$f":"MIN((IFERROR(IF(AND($V130<=Z$1,$W130>=Z$1),INDEX(Reliability!E$23:E$50,MATCH($S130,Reliability!$C$23:$C$50,0)),0),0)*IF($T130=\"n/a\",$D130*$Y130,$G130)+IFERROR(IF(AND($V130<=Z$1,$W130>=Z$1),INDEX(Reliability!E$23:E$50,MATCH($T130,Reliability!$C$23:$C$50,0)),0),0)*$H130*$X130*$Y130),$D130)*$R130","v":0},{"$f":"MIN((IFERROR(IF(AND($V130<=AA$1,$W130>=AA$1),INDEX(Reliability!F$23:F$50,MATCH($S130,Reliability!$C$23:$C$50,0)),0),0)*IF($T130=\"n/a\",$D130*$Y130,$G130)+IFERROR(IF(AND($V130<=AA$1,$W130>=AA$1),INDEX(Reliability!F$23:F$50,MATCH($T130,Reliability!$C$23:$C$50,0)),0),0)*$H130*$X130*$Y130),$D130)*$R130","v":0},{"$f":"MIN((IFERROR(IF(AND($V130<=AB$1,$W130>=AB$1),INDEX(Reliability!G$23:G$50,MATCH($S130,Reliability!$C$23:$C$50,0)),0),0)*IF($T130=\"n/a\",$D130*$Y130,$G130)+IFERROR(IF(AND($V130<=AB$1,$W130>=AB$1),INDEX(Reliability!G$23:G$50,MATCH($T130,Reliability!$C$23:$C$50,0)),0),0)*$H130*$X130*$Y130),$D130)*$R130","v":0},{"$f":"MIN((IFERROR(IF(AND($V130<=AC$1,$W130>=AC$1),INDEX(Reliability!H$23:H$50,MATCH($S130,Reliability!$C$23:$C$50,0)),0),0)*IF($T130=\"n/a\",$D130*$Y130,$G130)+IFERROR(IF(AND($V130<=AC$1,$W130>=AC$1),INDEX(Reliability!H$23:H$50,MATCH($T130,Reliability!$C$23:$C$50,0)),0),0)*$H130*$X130*$Y130),$D130)*$R130","v":0},{"$f":"MIN((IFERROR(IF(AND($V130<=AD$1,$W130>=AD$1),INDEX(Reliability!I$23:I$50,MATCH($S130,Reliability!$C$23:$C$50,0)),0),0)*IF($T130=\"n/a\",$D130*$Y130,$G130)+IFERROR(IF(AND($V130<=AD$1,$W130>=AD$1),INDEX(Reliability!I$23:I$50,MATCH($T130,Reliability!$C$23:$C$50,0)),0),0)*$H130*$X130*$Y130),$D130)*$R130","v":0},{"$f":"MIN((IFERROR(IF(AND($V130<=AE$1,$W130>=AE$1),INDEX(Reliability!J$23:J$50,MATCH($S130,Reliability!$C$23:$C$50,0)),0),0)*IF($T130=\"n/a\",$D130*$Y130,$G130)+IFERROR(IF(AND($V130<=AE$1,$W130>=AE$1),INDEX(Reliability!J$23:J$50,MATCH($T130,Reliability!$C$23:$C$50,0)),0),0)*$H130*$X130*$Y130),$D130)*$R130","v":0},{"$f":"MIN((IFERROR(IF(AND($V130<=AF$1,$W130>=AF$1),INDEX(Reliability!K$23:K$50,MATCH($S130,Reliability!$C$23:$C$50,0)),0),0)*IF($T130=\"n/a\",$D130*$Y130,$G130)+IFERROR(IF(AND($V130<=AF$1,$W130>=AF$1),INDEX(Reliability!K$23:K$50,MATCH($T130,Reliability!$C$23:$C$50,0)),0),0)*$H130*$X130*$Y130),$D130)*$R130","v":0},{"$f":"MIN((IFERROR(IF(AND($V130<=AG$1,$W130>=AG$1),INDEX(Reliability!L$23:L$50,MATCH($S130,Reliability!$C$23:$C$50,0)),0),0)*IF($T130=\"n/a\",$D130*$Y130,$G130)+IFERROR(IF(AND($V130<=AG$1,$W130>=AG$1),INDEX(Reliability!L$23:L$50,MATCH($T130,Reliability!$C$23:$C$50,0)),0),0)*$H130*$X130*$Y130),$D130)*$R130","v":0},{"$f":"MIN((IFERROR(IF(AND($V130<=AH$1,$W130>=AH$1),INDEX(Reliability!M$23:M$50,MATCH($S130,Reliability!$C$23:$C$50,0)),0),0)*IF($T130=\"n/a\",$D130*$Y130,$G130)+IFERROR(IF(AND($V130<=AH$1,$W130>=AH$1),INDEX(Reliability!M$23:M$50,MATCH($T130,Reliability!$C$23:$C$50,0)),0),0)*$H130*$X130*$Y130),$D130)*$R130","v":0},{"$f":"MIN((IFERROR(IF(AND($V130<=AI$1,$W130>=AI$1),INDEX(Reliability!N$23:N$50,MATCH($S130,Reliability!$C$23:$C$50,0)),0),0)*IF($T130=\"n/a\",$D130*$Y130,$G130)+IFERROR(IF(AND($V130<=AI$1,$W130>=AI$1),INDEX(Reliability!N$23:N$50,MATCH($T130,Reliability!$C$23:$C$50,0)),0),0)*$H130*$X130*$Y130),$D130)*$R130","v":0},{"$f":"MIN((IFERROR(IF(AND($V130<=AJ$1,$W130>=AJ$1),INDEX(Reliability!O$23:O$50,MATCH($S130,Reliability!$C$23:$C$50,0)),0),0)*IF($T130=\"n/a\",$D130*$Y130,$G130)+IFERROR(IF(AND($V130<=AJ$1,$W130>=AJ$1),INDEX(Reliability!O$23:O$50,MATCH($T130,Reliability!$C$23:$C$50,0)),0),0)*$H130*$X130*$Y130),$D130)*$R130","v":0},{"$f":"MIN((IFERROR(IF(AND($V130<=AK$1,$W130>=AK$1),INDEX(Reliability!P$23:P$50,MATCH($S130,Reliability!$C$23:$C$50,0)),0),0)*IF($T130=\"n/a\",$D130*$Y130,$G130)+IFERROR(IF(AND($V130<=AK$1,$W130>=AK$1),INDEX(Reliability!P$23:P$50,MATCH($T130,Reliability!$C$23:$C$50,0)),0),0)*$H130*$X130*$Y130),$D130)*$R130","v":0}]
[null,{"$f":"unique_contracts!B131","v":"ARKANS_1_ARKSLR"},{"$f":"unique_contracts!D131","v":"Online"},{"$f":"unique_contracts!J131","v":50},{"$f":"unique_contracts!M131","v":"NotHybrid"},{"$f":"unique_contracts!N131","v":"NA"},{"$f":"unique_contracts!P131","v":0},{"$f":"unique_contracts!R131","v":0},{"$f":"unique_contracts!V131","v":0},{"$f":"unique_contracts!AB131","v":0},{"$f":"unique_contracts!AM131","v":2014},{"$f":"unique_contracts!AN131","v":11},{"$f":"unique_contracts!AO131","v":25},{"$f":"unique_contracts!AP131","v":2039},{"$f":"unique_contracts!AQ131","v":11},{"$f":"unique_contracts!AR131","v":24},{"$f":"unique_contracts!BP131","v":"EnergyCapacity"},{"$f":"IF(AND(J131=\"Sell\",ISNUMBER(SEARCH(\"Capacity\",Q131))),-1,IF(AND(NOT(J131=\"Sell\"),ISNUMBER(SEARCH(\"Capacity\",Q131))),1,0))","v":1},{"$f":"IFERROR(IF(AND(I131>0,E131=\"NotHybrid\"),_xlfn.CONCAT(MAX(MIN(ROUNDDOWN(I131/D131,0),8),4),INDEX(resources!$G:$G,MATCH(B131,resources!$A:$A,0))),INDEX(resources!$G:$G,MATCH(B131,resources!$A:$A,0))),\"n/a\")","v":"utility_pv"},{"$f":"IFERROR(IF(NOT(E131=\"NotHybrid\"),_xlfn.CONCAT(MAX(MIN(ROUNDDOWN(I131/H131,0),8),4),\"hr_batteries\"),\"n/a\"),\"n/a\")","v":"n/a"},{"$f":"IF(T131=\"n/a\",S131,\"hybrid\")","v":"utility_pv"},{"$f":"IFERROR(IF(DATE(K131,L131,M131)<=DATE(K131,6,1),K131,K131+1),0)","v":2015},{"$f":"IFERROR(IF(DATE(N131,O131,P131)>=DATE(N131,10,1),N131,N131-1),0)","v":2039},{"$f":"IF(OR(T131=\"n/a\",NOT(F131=\"NO\")),100%,IF(ISNUMBER(SEARCH(\"pv\",S131)),MIN(G131/(1*(ROUNDDOWN(I131/H131,0)/4)),H131)/H131,IF(ISNUMBER(SEARCH(\"wind\",S131)),MIN(G131/(2*(ROUNDDOWN(I131/H131,0)/4)),H131)/H131,1)))","v":1},{"$f":"IF(ISNUMBER(SEARCH(\"batteries\",S131)),MIN(ROUNDDOWN(I131/D131,0)/4,1), IF(ISNUMBER(SEARCH(\"batteries\",T131)),MIN(ROUNDDOWN(I131/H131,0)/4,1),1))","v":1},{"$f":"MIN((IFERROR(IF(AND($V131<=Z$1,$W131>=Z$1),INDEX(Reliability!E$23:E$50,MATCH($S131,Reliability!$C$23:$C$50,0)),0),0)*IF($T131=\"n/a\",$D131*$Y131,$G131)+IFERROR(IF(AND($V131<=Z$1,$W131>=Z$1),INDEX(Reliability!E$23:E$50,MATCH($T131,Reliability!$C$23:$C$50,0)),0),0)*$H131*$X131*$Y131),$D131)*$R131","v":4.8},{"$f":"MIN((IFERROR(IF(AND($V131<=AA$1,$W131>=AA$1),INDEX(Reliability!F$23:F$50,MATCH($S131,Reliability!$C$23:$C$50,0)),0),0)*IF($T131=\"n/a\",$D131*$Y131,$G131)+IFERROR(IF(AND($V131<=AA$1,$W131>=AA$1),INDEX(Reliability!F$23:F$50,MATCH($T131,Reliability!$C$23:$C$50,0)),0),0)*$H131*$X131*$Y131),$D131)*$R131","v":5.1100321762949141},{"$f":"MIN((IFERROR(IF(AND($V131<=AB$1,$W131>=AB$1),INDEX(Reliability!G$23:G$50,MATCH($S131,Reliability!$C$23:$C$50,0)),0),0)*IF($T131=\"n/a\",$D131*$Y131,$G131)+IFERROR(IF(AND($V131<=AB$1,$W131>=AB$1),INDEX(Reliability!G$23:G$50,MATCH($T131,Reliability!$C$23:$C$50,0)),0),0)*$H131*$X131*$Y131),$D131)*$R131","v":5.4200643525898284},{"$f":"MIN((IFERROR(IF(AND($V131<=AC$1,$W131>=AC$1),INDEX(Reliability!H$23:H$50,MATCH($S131,Reliability!$C$23:$C$50,0)),0),0)*IF($T131=\"n/a\",$D131*$Y131,$G131)+IFERROR(IF(AND($V131<=AC$1,$W131>=AC$1),INDEX(Reliability!H$23:H$50,MATCH($T131,Reliability!$C$23:$C$50,0)),0),0)*$H131*$X131*$Y131),$D131)*$R131","v":5.08401610215176},{"$f":"MIN((IFERROR(IF(AND($V131<=AD$1,$W131>=AD$1),INDEX(Reliability!I$23:I$50,MATCH($S131,Reliability!$C$23:$C$50,0)),0),0)*IF($T131=\"n/a\",$D131*$Y131,$G131)+IFERROR(IF(AND($V131<=AD$1,$W131>=AD$1),INDEX(Reliability!I$23:I$50,MATCH($T131,Reliability!$C$23:$C$50,0)),0),0)*$H131*$X131*$Y131),$D131)*$R131","v":4.7479678517136916},{"$f":"MIN((IFERROR(IF(AND($V131<=AE$1,$W131>=AE$1),INDEX(Reliability!J$23:J$50,MATCH($S131,Reliability!$C$23:$C$50,0)),0),0)*IF($T131=\"n/a\",$D131*$Y131,$G131)+IFERROR(IF(AND($V131<=AE$1,$W131>=AE$1),INDEX(Reliability!J$23:J$50,MATCH($T131,Reliability!$C$23:$C$50,0)),0),0)*$H131*$X131*$Y131),$D131)*$R131","v":3.8739839258568458},{"$f":"MIN((IFERROR(IF(AND($V131<=AF$1,$W131>=AF$1),INDEX(Reliability!K$23:K$50,MATCH($S131,Reliability!$C$23:$C$50,0)),0),0)*IF($T131=\"n/a\",$D131*$Y131,$G131)+IFERROR(IF(AND($V131<=AF$1,$W131>=AF$1),INDEX(Reliability!K$23:K$50,MATCH($T131,Reliability!$C$23:$C$50,0)),0),0)*$H131*$X131*$Y131),$D131)*$R131","v":3},{"$f":"MIN((IFERROR(IF(AND($V131<=AG$1,$W131>=AG$1),INDEX(Reliability!L$23:L$50,MATCH($S131,Reliability!$C$23:$C$50,0)),0),0)*IF($T131=\"n/a\",$D131*$Y131,$G131)+IFERROR(IF(AND($V131<=AG$1,$W131>=AG$1),INDEX(Reliability!L$23:L$50,MATCH($T131,Reliability!$C$23:$C$50,0)),0),0)*$H131*$X131*$Y131),$D131)*$R131","v":3.04},{"$f":"MIN((IFERROR(IF(AND($V131<=AH$1,$W131>=AH$1),INDEX(Reliability!M$23:M$50,MATCH($S131,Reliability!$C$23:$C$50,0)),0),0)*IF($T131=\"n/a\",$D131*$Y131,$G131)+IFERROR(IF(AND($V131<=AH$1,$W131>=AH$1),INDEX(Reliability!M$23:M$50,MATCH($T131,Reliability!$C$23:$C$50,0)),0),0)*$H131*$X131*$Y131),$D131)*$R131","v":3.08},{"$f":"MIN((IFERROR(IF(AND($V131<=AI$1,$W131>=AI$1),INDEX(Reliability!N$23:N$50,MATCH($S131,Reliability!$C$23:$C$50,0)),0),0)*IF($T131=\"n/a\",$D131*$Y131,$G131)+IFERROR(IF(AND($V131<=AI$1,$W131>=AI$1),INDEX(Reliability!N$23:N$50,MATCH($T131,Reliability!$C$23:$C$50,0)),0),0)*$H131*$X131*$Y131),$D131)*$R131","v":3.12},{"$f":"MIN((IFERROR(IF(AND($V131<=AJ$1,$W131>=AJ$1),INDEX(Reliability!O$23:O$50,MATCH($S131,Reliability!$C$23:$C$50,0)),0),0)*IF($T131=\"n/a\",$D131*$Y131,$G131)+IFERROR(IF(AND($V131<=AJ$1,$W131>=AJ$1),INDEX(Reliability!O$23:O$50,MATCH($T131,Reliability!$C$23:$C$50,0)),0),0)*$H131*$X131*$Y131),$D131)*$R131","v":3.16},{"$f":"MIN((IFERROR(IF(AND($V131<=AK$1,$W131>=AK$1),INDEX(Reliability!P$23:P$50,MATCH($S131,Reliability!$C$23:$C$50,0)),0),0)*IF($T131=\"n/a\",$D131*$Y131,$G131)+IFERROR(IF(AND($V131<=AK$1,$W131>=AK$1),INDEX(Reliability!P$23:P$50,MATCH($T131,Reliability!$C$23:$C$50,0)),0),0)*$H131*$X131*$Y131),$D131)*$R131","v":3.2}]
[null,{"$f":"unique_contracts!B132","v":"_EXISTING_GENERIC_SOLAR_1AXIS"},{"$f":"unique_contracts!D132","v":"Online"},{"$f":"unique_contracts!J132","v":0},{"$f":"unique_contracts!M132","v":"NotHybrid"},{"$f":"unique_contracts!N132","v":"NA"},{"$f":"unique_contracts!P132","v":0},{"$f":"unique_contracts!R132","v":0},{"$f":"unique_contracts!V132","v":0},{"$f":"unique_contracts!AB132","v":"sell"},{"$f":"unique_contracts!AM132","v":2014},{"$f":"unique_contracts!AN132","v":11},{"$f":"unique_contracts!AO132","v":25},{"$f":"unique_contracts!AP132","v":2039},{"$f":"unique_contracts!AQ132","v":11},{"$f":"unique_contracts!AR132","v":24},{"$f":"unique_contracts!BP132","v":"EnergyOnly"},0,{"$f":"IFERROR(IF(AND(I132>0,E132=\"NotHybrid\"),_xlfn.CONCAT(MAX(MIN(ROUNDDOWN(I132/D132,0),8),4),INDEX(resources!$G:$G,MATCH(B132,resources!$A:$A,0))),INDEX(resources!$G:$G,MATCH(B132,resources!$A:$A,0))),\"n/a\")","v":"utility_pv"},"n/a","utility_pv",2015,2039,1,1,{"$f":"MIN((IFERROR(IF(AND($V132<=Z$1,$W132>=Z$1),INDEX(Reliability!E$23:E$50,MATCH($S132,Reliability!$C$23:$C$50,0)),0),0)*IF($T132=\"n/a\",$D132*$Y132,$G132)+IFERROR(IF(AND($V132<=Z$1,$W132>=Z$1),INDEX(Reliability!E$23:E$50,MATCH($T132,Reliability!$C$23:$C$50,0)),0),0)*$H132*$X132*$Y132),$D132)*$R132","v":0},{"$f":"MIN((IFERROR(IF(AND($V132<=AA$1,$W132>=AA$1),INDEX(Reliability!F$23:F$50,MATCH($S132,Reliability!$C$23:$C$50,0)),0),0)*IF($T132=\"n/a\",$D132*$Y132,$G132)+IFERROR(IF(AND($V132<=AA$1,$W132>=AA$1),INDEX(Reliability!F$23:F$50,MATCH($T132,Reliability!$C$23:$C$50,0)),0),0)*$H132*$X132*$Y132),$D132)*$R132","v":0},{"$f":"MIN((IFERROR(IF(AND($V132<=AB$1,$W132>=AB$1),INDEX(Reliability!G$23:G$50,MATCH($S132,Reliability!$C$23:$C$50,0)),0),0)*IF($T132=\"n/a\",$D132*$Y132,$G132)+IFERROR(IF(AND($V132<=AB$1,$W132>=AB$1),INDEX(Reliability!G$23:G$50,MATCH($T132,Reliability!$C$23:$C$50,0)),0),0)*$H132*$X132*$Y132),$D132)*$R132","v":0},{"$f":"MIN((IFERROR(IF(AND($V132<=AC$1,$W132>=AC$1),INDEX(Reliability!H$23:H$50,MATCH($S132,Reliability!$C$23:$C$50,0)),0),0)*IF($T132=\"n/a\",$D132*$Y132,$G132)+IFERROR(IF(AND($V132<=AC$1,$W132>=AC$1),INDEX(Reliability!H$23:H$50,MATCH($T132,Reliability!$C$23:$C$50,0)),0),0)*$H132*$X132*$Y132),$D132)*$R132","v":0},{"$f":"MIN((IFERROR(IF(AND($V132<=AD$1,$W132>=AD$1),INDEX(Reliability!I$23:I$50,MATCH($S132,Reliability!$C$23:$C$50,0)),0),0)*IF($T132=\"n/a\",$D132*$Y132,$G132)+IFERROR(IF(AND($V132<=AD$1,$W132>=AD$1),INDEX(Reliability!I$23:I$50,MATCH($T132,Reliability!$C$23:$C$50,0)),0),0)*$H132*$X132*$Y132),$D132)*$R132","v":0},{"$f":"MIN((IFERROR(IF(AND($V132<=AE$1,$W132>=AE$1),INDEX(Reliability!J$23:J$50,MATCH($S132,Reliability!$C$23:$C$50,0)),0),0)*IF($T132=\"n/a\",$D132*$Y132,$G132)+IFERROR(IF(AND($V132<=AE$1,$W132>=AE$1),INDEX(Reliability!J$23:J$50,MATCH($T132,Reliability!$C$23:$C$50,0)),0),0)*$H132*$X132*$Y132),$D132)*$R132","v":0},{"$f":"MIN((IFERROR(IF(AND($V132<=AF$1,$W132>=AF$1),INDEX(Reliability!K$23:K$50,MATCH($S132,Reliability!$C$23:$C$50,0)),0),0)*IF($T132=\"n/a\",$D132*$Y132,$G132)+IFERROR(IF(AND($V132<=AF$1,$W132>=AF$1),INDEX(Reliability!K$23:K$50,MATCH($T132,Reliability!$C$23:$C$50,0)),0),0)*$H132*$X132*$Y132),$D132)*$R132","v":0},{"$f":"MIN((IFERROR(IF(AND($V132<=AG$1,$W132>=AG$1),INDEX(Reliability!L$23:L$50,MATCH($S132,Reliability!$C$23:$C$50,0)),0),0)*IF($T132=\"n/a\",$D132*$Y132,$G132)+IFERROR(IF(AND($V132<=AG$1,$W132>=AG$1),INDEX(Reliability!L$23:L$50,MATCH($T132,Reliability!$C$23:$C$50,0)),0),0)*$H132*$X132*$Y132),$D132)*$R132","v":0},{"$f":"MIN((IFERROR(IF(AND($V132<=AH$1,$W132>=AH$1),INDEX(Reliability!M$23:M$50,MATCH($S132,Reliability!$C$23:$C$50,0)),0),0)*IF($T132=\"n/a\",$D132*$Y132,$G132)+IFERROR(IF(AND($V132<=AH$1,$W132>=AH$1),INDEX(Reliability!M$23:M$50,MATCH($T132,Reliability!$C$23:$C$50,0)),0),0)*$H132*$X132*$Y132),$D132)*$R132","v":0},{"$f":"MIN((IFERROR(IF(AND($V132<=AI$1,$W132>=AI$1),INDEX(Reliability!N$23:N$50,MATCH($S132,Reliability!$C$23:$C$50,0)),0),0)*IF($T132=\"n/a\",$D132*$Y132,$G132)+IFERROR(IF(AND($V132<=AI$1,$W132>=AI$1),INDEX(Reliability!N$23:N$50,MATCH($T132,Reliability!$C$23:$C$50,0)),0),0)*$H132*$X132*$Y132),$D132)*$R132","v":0},{"$f":"MIN((IFERROR(IF(AND($V132<=AJ$1,$W132>=AJ$1),INDEX(Reliability!O$23:O$50,MATCH($S132,Reliability!$C$23:$C$50,0)),0),0)*IF($T132=\"n/a\",$D132*$Y132,$G132)+IFERROR(IF(AND($V132<=AJ$1,$W132>=AJ$1),INDEX(Reliability!O$23:O$50,MATCH($T132,Reliability!$C$23:$C$50,0)),0),0)*$H132*$X132*$Y132),$D132)*$R132","v":0},{"$f":"MIN((IFERROR(IF(AND($V132<=AK$1,$W132>=AK$1),INDEX(Reliability!P$23:P$50,MATCH($S132,Reliability!$C$23:$C$50,0)),0),0)*IF($T132=\"n/a\",$D132*$Y132,$G132)+IFERROR(IF(AND($V132<=AK$1,$W132>=AK$1),INDEX(Reliability!P$23:P$50,MATCH($T132,Reliability!$C$23:$C$50,0)),0),0)*$H132*$X132*$Y132),$D132)*$R132","v":0}]
[null,{"$f":"unique_contracts!B133","v":"SNORA_2_SNRSLR"},{"$f":"unique_contracts!D133","v":"Online"},{"$f":"unique_contracts!J133","v":50},{"$f":"unique_contracts!M133","v":"NotHybrid"},{"$f":"unique_contracts!N133","v":"NA"},{"$f":"unique_contracts!P133","v":0},{"$f":"unique_contracts!R133","v":0},{"$f":"unique_contracts!V133","v":0},{"$f":"unique_contracts!AB133","v":0},{"$f":"unique_contracts!AM133","v":2014},{"$f":"unique_contracts!AN133","v":11},{"$f":"unique_contracts!AO133","v":25},{"$f":"unique_contracts!AP133","v":2039},{"$f":"unique_contracts!AQ133","v":11},{"$f":"unique_contracts!AR133","v":24},{"$f":"unique_contracts!BP133","v":"EnergyCapacity"},1,{"$f":"IFERROR(IF(AND(I133>0,E133=\"NotHybrid\"),_xlfn.CONCAT(MAX(MIN(ROUNDDOWN(I133/D133,0),8),4),INDEX(resources!$G:$G,MATCH(B133,resources!$A:$A,0))),INDEX(resources!$G:$G,MATCH(B133,resources!$A:$A,0))),\"n/a\")","v":"utility_pv"},"n/a","utility_pv",2015,2039,1,1,{"$f":"MIN((IFERROR(IF(AND($V133<=Z$1,$W133>=Z$1),INDEX(Reliability!E$23:E$50,MATCH($S133,Reliability!$C$23:$C$50,0)),0),0)*IF($T133=\"n/a\",$D133*$Y133,$G133)+IFERROR(IF(AND($V133<=Z$1,$W133>=Z$1),INDEX(Reliability!E$23:E$50,MATCH($T133,Reliability!$C$23:$C$50,0)),0),0)*$H133*$X133*$Y133),$D133)*$R133","v":4.8},{"$f":"MIN((IFERROR(IF(AND($V133<=AA$1,$W133>=AA$1),INDEX(Reliability!F$23:F$50,MATCH($S133,Reliability!$C$23:$C$50,0)),0),0)*IF($T133=\"n/a\",$D133*$Y133,$G133)+IFERROR(IF(AND($V133<=AA$1,$W133>=AA$1),INDEX(Reliability!F$23:F$50,MATCH($T133,Reliability!$C$23:$C$50,0)),0),0)*$H133*$X133*$Y133),$D133)*$R133","v":5.1100321762949141},{"$f":"MIN((IFERROR(IF(AND($V133<=AB$1,$W133>=AB$1),INDEX(Reliability!G$23:G$50,MATCH($S133,Reliability!$C$23:$C$50,0)),0),0)*IF($T133=\"n/a\",$D133*$Y133,$G133)+IFERROR(IF(AND($V133<=AB$1,$W133>=AB$1),INDEX(Reliability!G$23:G$50,MATCH($T133,Reliability!$C$23:$C$50,0)),0),0)*$H133*$X133*$Y133),$D133)*$R133","v":5.4200643525898284},{"$f":"MIN((IFERROR(IF(AND($V133<=AC$1,$W133>=AC$1),INDEX(Reliability!H$23:H$50,MATCH($S133,Reliability!$C$23:$C$50,0)),0),0)*IF($T133=\"n/a\",$D133*$Y133,$G133)+IFERROR(IF(AND($V133<=AC$1,$W133>=AC$1),INDEX(Reliability!H$23:H$50,MATCH($T133,Reliability!$C$23:$C$50,0)),0),0)*$H133*$X133*$Y133),$D133)*$R133","v":5.08401610215176},{"$f":"MIN((IFERROR(IF(AND($V133<=AD$1,$W133>=AD$1),INDEX(Reliability!I$23:I$50,MATCH($S133,Reliability!$C$23:$C$50,0)),0),0)*IF($T133=\"n/a\",$D133*$Y133,$G133)+IFERROR(IF(AND($V133<=AD$1,$W133>=AD$1),INDEX(Reliability!I$23:I$50,MATCH($T133,Reliability!$C$23:$C$50,0)),0),0)*$H133*$X133*$Y133),$D133)*$R133","v":4.7479678517136916},{"$f":"MIN((IFERROR(IF(AND($V133<=AE$1,$W133>=AE$1),INDEX(Reliability!J$23:J$50,MATCH($S133,Reliability!$C$23:$C$50,0)),0),0)*IF($T133=\"n/a\",$D133*$Y133,$G133)+IFERROR(IF(AND($V133<=AE$1,$W133>=AE$1),INDEX(Reliability!J$23:J$50,MATCH($T133,Reliability!$C$23:$C$50,0)),0),0)*$H133*$X133*$Y133),$D133)*$R133","v":3.8739839258568458},{"$f":"MIN((IFERROR(IF(AND($V133<=AF$1,$W133>=AF$1),INDEX(Reliability!K$23:K$50,MATCH($S133,Reliability!$C$23:$C$50,0)),0),0)*IF($T133=\"n/a\",$D133*$Y133,$G133)+IFERROR(IF(AND($V133<=AF$1,$W133>=AF$1),INDEX(Reliability!K$23:K$50,MATCH($T133,Reliability!$C$23:$C$50,0)),0),0)*$H133*$X133*$Y133),$D133)*$R133","v":3},{"$f":"MIN((IFERROR(IF(AND($V133<=AG$1,$W133>=AG$1),INDEX(Reliability!L$23:L$50,MATCH($S133,Reliability!$C$23:$C$50,0)),0),0)*IF($T133=\"n/a\",$D133*$Y133,$G133)+IFERROR(IF(AND($V133<=AG$1,$W133>=AG$1),INDEX(Reliability!L$23:L$50,MATCH($T133,Reliability!$C$23:$C$50,0)),0),0)*$H133*$X133*$Y133),$D133)*$R133","v":3.04},{"$f":"MIN((IFERROR(IF(AND($V133<=AH$1,$W133>=AH$1),INDEX(Reliability!M$23:M$50,MATCH($S133,Reliability!$C$23:$C$50,0)),0),0)*IF($T133=\"n/a\",$D133*$Y133,$G133)+IFERROR(IF(AND($V133<=AH$1,$W133>=AH$1),INDEX(Reliability!M$23:M$50,MATCH($T133,Reliability!$C$23:$C$50,0)),0),0)*$H133*$X133*$Y133),$D133)*$R133","v":3.08},{"$f":"MIN((IFERROR(IF(AND($V133<=AI$1,$W133>=AI$1),INDEX(Reliability!N$23:N$50,MATCH($S133,Reliability!$C$23:$C$50,0)),0),0)*IF($T133=\"n/a\",$D133*$Y133,$G133)+IFERROR(IF(AND($V133<=AI$1,$W133>=AI$1),INDEX(Reliability!N$23:N$50,MATCH($T133,Reliability!$C$23:$C$50,0)),0),0)*$H133*$X133*$Y133),$D133)*$R133","v":3.12},{"$f":"MIN((IFERROR(IF(AND($V133<=AJ$1,$W133>=AJ$1),INDEX(Reliability!O$23:O$50,MATCH($S133,Reliability!$C$23:$C$50,0)),0),0)*IF($T133=\"n/a\",$D133*$Y133,$G133)+IFERROR(IF(AND($V133<=AJ$1,$W133>=AJ$1),INDEX(Reliability!O$23:O$50,MATCH($T133,Reliability!$C$23:$C$50,0)),0),0)*$H133*$X133*$Y133),$D133)*$R133","v":3.16},{"$f":"MIN((IFERROR(IF(AND($V133<=AK$1,$W133>=AK$1),INDEX(Reliability!P$23:P$50,MATCH($S133,Reliability!$C$23:$C$50,0)),0),0)*IF($T133=\"n/a\",$D133*$Y133,$G133)+IFERROR(IF(AND($V133<=AK$1,$W133>=AK$1),INDEX(Reliability!P$23:P$50,MATCH($T133,Reliability!$C$23:$C$50,0)),0),0)*$H133*$X133*$Y133),$D133)*$R133","v":3.2}]
[null,{"$f":"unique_contracts!B134","v":"_EXISTING_GENERIC_SOLAR_1AXIS"},{"$f":"unique_contracts!D134","v":"Online"},{"$f":"unique_contracts!J134","v":0},{"$f":"unique_contracts!M134","v":"NotHybrid"},{"$f":"unique_contracts!N134","v":"NA"},{"$f":"unique_contracts!P134","v":0},{"$f":"unique_contracts!R134","v":0},{"$f":"unique_contracts!V134","v":0},{"$f":"unique_contracts!AB134","v":"sell"},{"$f":"unique_contracts!AM134","v":2014},{"$f":"unique_contracts!AN134","v":11},{"$f":"unique_contracts!AO134","v":25},{"$f":"unique_contracts!AP134","v":2039},{"$f":"unique_contracts!AQ134","v":11},{"$f":"unique_contracts!AR134","v":24},{"$f":"unique_contracts!BP134","v":"EnergyOnly"},0,{"$f":"IFERROR(IF(AND(I134>0,E134=\"NotHybrid\"),_xlfn.CONCAT(MAX(MIN(ROUNDDOWN(I134/D134,0),8),4),INDEX(resources!$G:$G,MATCH(B134,resources!$A:$A,0))),INDEX(resources!$G:$G,MATCH(B134,resources!$A:$A,0))),\"n/a\")","v":"utility_pv"},"n/a","utility_pv",2015,2039,1,1,{"$f":"MIN((IFERROR(IF(AND($V134<=Z$1,$W134>=Z$1),INDEX(Reliability!E$23:E$50,MATCH($S134,Reliability!$C$23:$C$50,0)),0),0)*IF($T134=\"n/a\",$D134*$Y134,$G134)+IFERROR(IF(AND($V134<=Z$1,$W134>=Z$1),INDEX(Reliability!E$23:E$50,MATCH($T134,Reliability!$C$23:$C$50,0)),0),0)*$H134*$X134*$Y134),$D134)*$R134","v":0},{"$f":"MIN((IFERROR(IF(AND($V134<=AA$1,$W134>=AA$1),INDEX(Reliability!F$23:F$50,MATCH($S134,Reliability!$C$23:$C$50,0)),0),0)*IF($T134=\"n/a\",$D134*$Y134,$G134)+IFERROR(IF(AND($V134<=AA$1,$W134>=AA$1),INDEX(Reliability!F$23:F$50,MATCH($T134,Reliability!$C$23:$C$50,0)),0),0)*$H134*$X134*$Y134),$D134)*$R134","v":0},{"$f":"MIN((IFERROR(IF(AND($V134<=AB$1,$W134>=AB$1),INDEX(Reliability!G$23:G$50,MATCH($S134,Reliability!$C$23:$C$50,0)),0),0)*IF($T134=\"n/a\",$D134*$Y134,$G134)+IFERROR(IF(AND($V134<=AB$1,$W134>=AB$1),INDEX(Reliability!G$23:G$50,MATCH($T134,Reliability!$C$23:$C$50,0)),0),0)*$H134*$X134*$Y134),$D134)*$R134","v":0},{"$f":"MIN((IFERROR(IF(AND($V134<=AC$1,$W134>=AC$1),INDEX(Reliability!H$23:H$50,MATCH($S134,Reliability!$C$23:$C$50,0)),0),0)*IF($T134=\"n/a\",$D134*$Y134,$G134)+IFERROR(IF(AND($V134<=AC$1,$W134>=AC$1),INDEX(Reliability!H$23:H$50,MATCH($T134,Reliability!$C$23:$C$50,0)),0),0)*$H134*$X134*$Y134),$D134)*$R134","v":0},{"$f":"MIN((IFERROR(IF(AND($V134<=AD$1,$W134>=AD$1),INDEX(Reliability!I$23:I$50,MATCH($S134,Reliability!$C$23:$C$50,0)),0),0)*IF($T134=\"n/a\",$D134*$Y134,$G134)+IFERROR(IF(AND($V134<=AD$1,$W134>=AD$1),INDEX(Reliability!I$23:I$50,MATCH($T134,Reliability!$C$23:$C$50,0)),0),0)*$H134*$X134*$Y134),$D134)*$R134","v":0},{"$f":"MIN((IFERROR(IF(AND($V134<=AE$1,$W134>=AE$1),INDEX(Reliability!J$23:J$50,MATCH($S134,Reliability!$C$23:$C$50,0)),0),0)*IF($T134=\"n/a\",$D134*$Y134,$G134)+IFERROR(IF(AND($V134<=AE$1,$W134>=AE$1),INDEX(Reliability!J$23:J$50,MATCH($T134,Reliability!$C$23:$C$50,0)),0),0)*$H134*$X134*$Y134),$D134)*$R134","v":0},{"$f":"MIN((IFERROR(IF(AND($V134<=AF$1,$W134>=AF$1),INDEX(Reliability!K$23:K$50,MATCH($S134,Reliability!$C$23:$C$50,0)),0),0)*IF($T134=\"n/a\",$D134*$Y134,$G134)+IFERROR(IF(AND($V134<=AF$1,$W134>=AF$1),INDEX(Reliability!K$23:K$50,MATCH($T134,Reliability!$C$23:$C$50,0)),0),0)*$H134*$X134*$Y134),$D134)*$R134","v":0},{"$f":"MIN((IFERROR(IF(AND($V134<=AG$1,$W134>=AG$1),INDEX(Reliability!L$23:L$50,MATCH($S134,Reliability!$C$23:$C$50,0)),0),0)*IF($T134=\"n/a\",$D134*$Y134,$G134)+IFERROR(IF(AND($V134<=AG$1,$W134>=AG$1),INDEX(Reliability!L$23:L$50,MATCH($T134,Reliability!$C$23:$C$50,0)),0),0)*$H134*$X134*$Y134),$D134)*$R134","v":0},{"$f":"MIN((IFERROR(IF(AND($V134<=AH$1,$W134>=AH$1),INDEX(Reliability!M$23:M$50,MATCH($S134,Reliability!$C$23:$C$50,0)),0),0)*IF($T134=\"n/a\",$D134*$Y134,$G134)+IFERROR(IF(AND($V134<=AH$1,$W134>=AH$1),INDEX(Reliability!M$23:M$50,MATCH($T134,Reliability!$C$23:$C$50,0)),0),0)*$H134*$X134*$Y134),$D134)*$R134","v":0},{"$f":"MIN((IFERROR(IF(AND($V134<=AI$1,$W134>=AI$1),INDEX(Reliability!N$23:N$50,MATCH($S134,Reliability!$C$23:$C$50,0)),0),0)*IF($T134=\"n/a\",$D134*$Y134,$G134)+IFERROR(IF(AND($V134<=AI$1,$W134>=AI$1),INDEX(Reliability!N$23:N$50,MATCH($T134,Reliability!$C$23:$C$50,0)),0),0)*$H134*$X134*$Y134),$D134)*$R134","v":0},{"$f":"MIN((IFERROR(IF(AND($V134<=AJ$1,$W134>=AJ$1),INDEX(Reliability!O$23:O$50,MATCH($S134,Reliability!$C$23:$C$50,0)),0),0)*IF($T134=\"n/a\",$D134*$Y134,$G134)+IFERROR(IF(AND($V134<=AJ$1,$W134>=AJ$1),INDEX(Reliability!O$23:O$50,MATCH($T134,Reliability!$C$23:$C$50,0)),0),0)*$H134*$X134*$Y134),$D134)*$R134","v":0},{"$f":"MIN((IFERROR(IF(AND($V134<=AK$1,$W134>=AK$1),INDEX(Reliability!P$23:P$50,MATCH($S134,Reliability!$C$23:$C$50,0)),0),0)*IF($T134=\"n/a\",$D134*$Y134,$G134)+IFERROR(IF(AND($V134<=AK$1,$W134>=AK$1),INDEX(Reliability!P$23:P$50,MATCH($T134,Reliability!$C$23:$C$50,0)),0),0)*$H134*$X134*$Y134),$D134)*$R134","v":0}]
[null,{"$f":"unique_contracts!B135","v":"IVSLRP_2_SOLAR1"},{"$f":"unique_contracts!D135","v":"Online"},{"$f":"unique_contracts!J135","v":200},{"$f":"unique_contracts!M135","v":"NotHybrid"},{"$f":"unique_contracts!N135","v":"NA"},{"$f":"unique_contracts!P135","v":0},{"$f":"unique_contracts!R135","v":0},{"$f":"unique_contracts!V135","v":0},{"$f":"unique_contracts!AB135","v":0},{"$f":"unique_contracts!AM135","v":2013},{"$f":"unique_contracts!AN135","v":10},{"$f":"unique_contracts!AO135","v":10},{"$f":"unique_contracts!AP135","v":2038},{"$f":"unique_contracts!AQ135","v":10},{"$f":"unique_contracts!AR135","v":9},{"$f":"unique_contracts!BP135","v":"EnergyCapacity"},1,{"$f":"IFERROR(IF(AND(I135>0,E135=\"NotHybrid\"),_xlfn.CONCAT(MAX(MIN(ROUNDDOWN(I135/D135,0),8),4),INDEX(resources!$G:$G,MATCH(B135,resources!$A:$A,0))),INDEX(resources!$G:$G,MATCH(B135,resources!$A:$A,0))),\"n/a\")","v":"utility_pv"},"n/a","utility_pv",2014,2038,1,1,{"$f":"MIN((IFERROR(IF(AND($V135<=Z$1,$W135>=Z$1),INDEX(Reliability!E$23:E$50,MATCH($S135,Reliability!$C$23:$C$50,0)),0),0)*IF($T135=\"n/a\",$D135*$Y135,$G135)+IFERROR(IF(AND($V135<=Z$1,$W135>=Z$1),INDEX(Reliability!E$23:E$50,MATCH($T135,Reliability!$C$23:$C$50,0)),0),0)*$H135*$X135*$Y135),$D135)*$R135","v":19.2},{"$f":"MIN((IFERROR(IF(AND($V135<=AA$1,$W135>=AA$1),INDEX(Reliability!F$23:F$50,MATCH($S135,Reliability!$C$23:$C$50,0)),0),0)*IF($T135=\"n/a\",$D135*$Y135,$G135)+IFERROR(IF(AND($V135<=AA$1,$W135>=AA$1),INDEX(Reliability!F$23:F$50,MATCH($T135,Reliability!$C$23:$C$50,0)),0),0)*$H135*$X135*$Y135),$D135)*$R135","v":20.440128705179657},{"$f":"MIN((IFERROR(IF(AND($V135<=AB$1,$W135>=AB$1),INDEX(Reliability!G$23:G$50,MATCH($S135,Reliability!$C$23:$C$50,0)),0),0)*IF($T135=\"n/a\",$D135*$Y135,$G135)+IFERROR(IF(AND($V135<=AB$1,$W135>=AB$1),INDEX(Reliability!G$23:G$50,MATCH($T135,Reliability!$C$23:$C$50,0)),0),0)*$H135*$X135*$Y135),$D135)*$R135","v":21.680257410359314},{"$f":"MIN((IFERROR(IF(AND($V135<=AC$1,$W135>=AC$1),INDEX(Reliability!H$23:H$50,MATCH($S135,Reliability!$C$23:$C$50,0)),0),0)*IF($T135=\"n/a\",$D135*$Y135,$G135)+IFERROR(IF(AND($V135<=AC$1,$W135>=AC$1),INDEX(Reliability!H$23:H$50,MATCH($T135,Reliability!$C$23:$C$50,0)),0),0)*$H135*$X135*$Y135),$D135)*$R135","v":20.33606440860704},{"$f":"MIN((IFERROR(IF(AND($V135<=AD$1,$W135>=AD$1),INDEX(Reliability!I$23:I$50,MATCH($S135,Reliability!$C$23:$C$50,0)),0),0)*IF($T135=\"n/a\",$D135*$Y135,$G135)+IFERROR(IF(AND($V135<=AD$1,$W135>=AD$1),INDEX(Reliability!I$23:I$50,MATCH($T135,Reliability!$C$23:$C$50,0)),0),0)*$H135*$X135*$Y135),$D135)*$R135","v":18.991871406854766},{"$f":"MIN((IFERROR(IF(AND($V135<=AE$1,$W135>=AE$1),INDEX(Reliability!J$23:J$50,MATCH($S135,Reliability!$C$23:$C$50,0)),0),0)*IF($T135=\"n/a\",$D135*$Y135,$G135)+IFERROR(IF(AND($V135<=AE$1,$W135>=AE$1),INDEX(Reliability!J$23:J$50,MATCH($T135,Reliability!$C$23:$C$50,0)),0),0)*$H135*$X135*$Y135),$D135)*$R135","v":15.495935703427383},{"$f":"MIN((IFERROR(IF(AND($V135<=AF$1,$W135>=AF$1),INDEX(Reliability!K$23:K$50,MATCH($S135,Reliability!$C$23:$C$50,0)),0),0)*IF($T135=\"n/a\",$D135*$Y135,$G135)+IFERROR(IF(AND($V135<=AF$1,$W135>=AF$1),INDEX(Reliability!K$23:K$50,MATCH($T135,Reliability!$C$23:$C$50,0)),0),0)*$H135*$X135*$Y135),$D135)*$R135","v":12},{"$f":"MIN((IFERROR(IF(AND($V135<=AG$1,$W135>=AG$1),INDEX(Reliability!L$23:L$50,MATCH($S135,Reliability!$C$23:$C$50,0)),0),0)*IF($T135=\"n/a\",$D135*$Y135,$G135)+IFERROR(IF(AND($V135<=AG$1,$W135>=AG$1),INDEX(Reliability!L$23:L$50,MATCH($T135,Reliability!$C$23:$C$50,0)),0),0)*$H135*$X135*$Y135),$D135)*$R135","v":12.16},{"$f":"MIN((IFERROR(IF(AND($V135<=AH$1,$W135>=AH$1),INDEX(Reliability!M$23:M$50,MATCH($S135,Reliability!$C$23:$C$50,0)),0),0)*IF($T135=\"n/a\",$D135*$Y135,$G135)+IFERROR(IF(AND($V135<=AH$1,$W135>=AH$1),INDEX(Reliability!M$23:M$50,MATCH($T135,Reliability!$C$23:$C$50,0)),0),0)*$H135*$X135*$Y135),$D135)*$R135","v":12.32},{"$f":"MIN((IFERROR(IF(AND($V135<=AI$1,$W135>=AI$1),INDEX(Reliability!N$23:N$50,MATCH($S135,Reliability!$C$23:$C$50,0)),0),0)*IF($T135=\"n/a\",$D135*$Y135,$G135)+IFERROR(IF(AND($V135<=AI$1,$W135>=AI$1),INDEX(Reliability!N$23:N$50,MATCH($T135,Reliability!$C$23:$C$50,0)),0),0)*$H135*$X135*$Y135),$D135)*$R135","v":12.48},{"$f":"MIN((IFERROR(IF(AND($V135<=AJ$1,$W135>=AJ$1),INDEX(Reliability!O$23:O$50,MATCH($S135,Reliability!$C$23:$C$50,0)),0),0)*IF($T135=\"n/a\",$D135*$Y135,$G135)+IFERROR(IF(AND($V135<=AJ$1,$W135>=AJ$1),INDEX(Reliability!O$23:O$50,MATCH($T135,Reliability!$C$23:$C$50,0)),0),0)*$H135*$X135*$Y135),$D135)*$R135","v":12.64},{"$f":"MIN((IFERROR(IF(AND($V135<=AK$1,$W135>=AK$1),INDEX(Reliability!P$23:P$50,MATCH($S135,Reliability!$C$23:$C$50,0)),0),0)*IF($T135=\"n/a\",$D135*$Y135,$G135)+IFERROR(IF(AND($V135<=AK$1,$W135>=AK$1),INDEX(Reliability!P$23:P$50,MATCH($T135,Reliability!$C$23:$C$50,0)),0),0)*$H135*$X135*$Y135),$D135)*$R135","v":12.8}]
[null,{"$f":"unique_contracts!B136","v":"_EXISTING_GENERIC_BIOGAS_LANDFILLGAS"},{"$f":"unique_contracts!D136","v":"Online"},{"$f":"unique_contracts!J136","v":0},{"$f":"unique_contracts!M136","v":"NotHybrid"},{"$f":"unique_contracts!N136","v":"NA"},{"$f":"unique_contracts!P136","v":0},{"$f":"unique_contracts!R136","v":0},{"$f":"unique_contracts!V136","v":0},{"$f":"unique_contracts!AB136","v":"sell"},{"$f":"unique_contracts!AM136","v":2013},{"$f":"unique_contracts!AN136","v":10},{"$f":"unique_contracts!AO136","v":10},{"$f":"unique_contracts!AP136","v":2038},{"$f":"unique_contracts!AQ136","v":10},{"$f":"unique_contracts!AR136","v":9},{"$f":"unique_contracts!BP136","v":"EnergyOnly"},0,{"$f":"IFERROR(IF(AND(I136>0,E136=\"NotHybrid\"),_xlfn.CONCAT(MAX(MIN(ROUNDDOWN(I136/D136,0),8),4),INDEX(resources!$G:$G,MATCH(B136,resources!$A:$A,0))),INDEX(resources!$G:$G,MATCH(B136,resources!$A:$A,0))),\"n/a\")","v":"biomass_wood"},"n/a","biomass_wood",2014,2038,1,1,{"$f":"MIN((IFERROR(IF(AND($V136<=Z$1,$W136>=Z$1),INDEX(Reliability!E$23:E$50,MATCH($S136,Reliability!$C$23:$C$50,0)),0),0)*IF($T136=\"n/a\",$D136*$Y136,$G136)+IFERROR(IF(AND($V136<=Z$1,$W136>=Z$1),INDEX(Reliability!E$23:E$50,MATCH($T136,Reliability!$C$23:$C$50,0)),0),0)*$H136*$X136*$Y136),$D136)*$R136","v":0},{"$f":"MIN((IFERROR(IF(AND($V136<=AA$1,$W136>=AA$1),INDEX(Reliability!F$23:F$50,MATCH($S136,Reliability!$C$23:$C$50,0)),0),0)*IF($T136=\"n/a\",$D136*$Y136,$G136)+IFERROR(IF(AND($V136<=AA$1,$W136>=AA$1),INDEX(Reliability!F$23:F$50,MATCH($T136,Reliability!$C$23:$C$50,0)),0),0)*$H136*$X136*$Y136),$D136)*$R136","v":0},{"$f":"MIN((IFERROR(IF(AND($V136<=AB$1,$W136>=AB$1),INDEX(Reliability!G$23:G$50,MATCH($S136,Reliability!$C$23:$C$50,0)),0),0)*IF($T136=\"n/a\",$D136*$Y136,$G136)+IFERROR(IF(AND($V136<=AB$1,$W136>=AB$1),INDEX(Reliability!G$23:G$50,MATCH($T136,Reliability!$C$23:$C$50,0)),0),0)*$H136*$X136*$Y136),$D136)*$R136","v":0},{"$f":"MIN((IFERROR(IF(AND($V136<=AC$1,$W136>=AC$1),INDEX(Reliability!H$23:H$50,MATCH($S136,Reliability!$C$23:$C$50,0)),0),0)*IF($T136=\"n/a\",$D136*$Y136,$G136)+IFERROR(IF(AND($V136<=AC$1,$W136>=AC$1),INDEX(Reliability!H$23:H$50,MATCH($T136,Reliability!$C$23:$C$50,0)),0),0)*$H136*$X136*$Y136),$D136)*$R136","v":0},{"$f":"MIN((IFERROR(IF(AND($V136<=AD$1,$W136>=AD$1),INDEX(Reliability!I$23:I$50,MATCH($S136,Reliability!$C$23:$C$50,0)),0),0)*IF($T136=\"n/a\",$D136*$Y136,$G136)+IFERROR(IF(AND($V136<=AD$1,$W136>=AD$1),INDEX(Reliability!I$23:I$50,MATCH($T136,Reliability!$C$23:$C$50,0)),0),0)*$H136*$X136*$Y136),$D136)*$R136","v":0},{"$f":"MIN((IFERROR(IF(AND($V136<=AE$1,$W136>=AE$1),INDEX(Reliability!J$23:J$50,MATCH($S136,Reliability!$C$23:$C$50,0)),0),0)*IF($T136=\"n/a\",$D136*$Y136,$G136)+IFERROR(IF(AND($V136<=AE$1,$W136>=AE$1),INDEX(Reliability!J$23:J$50,MATCH($T136,Reliability!$C$23:$C$50,0)),0),0)*$H136*$X136*$Y136),$D136)*$R136","v":0},{"$f":"MIN((IFERROR(IF(AND($V136<=AF$1,$W136>=AF$1),INDEX(Reliability!K$23:K$50,MATCH($S136,Reliability!$C$23:$C$50,0)),0),0)*IF($T136=\"n/a\",$D136*$Y136,$G136)+IFERROR(IF(AND($V136<=AF$1,$W136>=AF$1),INDEX(Reliability!K$23:K$50,MATCH($T136,Reliability!$C$23:$C$50,0)),0),0)*$H136*$X136*$Y136),$D136)*$R136","v":0},{"$f":"MIN((IFERROR(IF(AND($V136<=AG$1,$W136>=AG$1),INDEX(Reliability!L$23:L$50,MATCH($S136,Reliability!$C$23:$C$50,0)),0),0)*IF($T136=\"n/a\",$D136*$Y136,$G136)+IFERROR(IF(AND($V136<=AG$1,$W136>=AG$1),INDEX(Reliability!L$23:L$50,MATCH($T136,Reliability!$C$23:$C$50,0)),0),0)*$H136*$X136*$Y136),$D136)*$R136","v":0},{"$f":"MIN((IFERROR(IF(AND($V136<=AH$1,$W136>=AH$1),INDEX(Reliability!M$23:M$50,MATCH($S136,Reliability!$C$23:$C$50,0)),0),0)*IF($T136=\"n/a\",$D136*$Y136,$G136)+IFERROR(IF(AND($V136<=AH$1,$W136>=AH$1),INDEX(Reliability!M$23:M$50,MATCH($T136,Reliability!$C$23:$C$50,0)),0),0)*$H136*$X136*$Y136),$D136)*$R136","v":0},{"$f":"MIN((IFERROR(IF(AND($V136<=AI$1,$W136>=AI$1),INDEX(Reliability!N$23:N$50,MATCH($S136,Reliability!$C$23:$C$50,0)),0),0)*IF($T136=\"n/a\",$D136*$Y136,$G136)+IFERROR(IF(AND($V136<=AI$1,$W136>=AI$1),INDEX(Reliability!N$23:N$50,MATCH($T136,Reliability!$C$23:$C$50,0)),0),0)*$H136*$X136*$Y136),$D136)*$R136","v":0},{"$f":"MIN((IFERROR(IF(AND($V136<=AJ$1,$W136>=AJ$1),INDEX(Reliability!O$23:O$50,MATCH($S136,Reliability!$C$23:$C$50,0)),0),0)*IF($T136=\"n/a\",$D136*$Y136,$G136)+IFERROR(IF(AND($V136<=AJ$1,$W136>=AJ$1),INDEX(Reliability!O$23:O$50,MATCH($T136,Reliability!$C$23:$C$50,0)),0),0)*$H136*$X136*$Y136),$D136)*$R136","v":0},{"$f":"MIN((IFERROR(IF(AND($V136<=AK$1,$W136>=AK$1),INDEX(Reliability!P$23:P$50,MATCH($S136,Reliability!$C$23:$C$50,0)),0),0)*IF($T136=\"n/a\",$D136*$Y136,$G136)+IFERROR(IF(AND($V136<=AK$1,$W136>=AK$1),INDEX(Reliability!P$23:P$50,MATCH($T136,Reliability!$C$23:$C$50,0)),0),0)*$H136*$X136*$Y136),$D136)*$R136","v":0}]
[null,{"$f":"unique_contracts!B137","v":"CRELMN_6_RAMSR3"},{"$f":"unique_contracts!D137","v":"Online"},{"$f":"unique_contracts!J137","v":4.32},{"$f":"unique_contracts!M137","v":"NotHybrid"},{"$f":"unique_contracts!N137","v":"NA"},{"$f":"unique_contracts!P137","v":0},{"$f":"unique_contracts!R137","v":0},{"$f":"unique_contracts!V137","v":0},{"$f":"unique_contracts!AB137","v":"Owned"},{"$f":"unique_contracts!AM137","v":2017},{"$f":"unique_contracts!AN137","v":4},{"$f":"unique_contracts!AO137","v":21},{"$f":"unique_contracts!AP137","v":2042},{"$f":"unique_contracts!AQ137","v":9},{"$f":"unique_contracts!AR137","v":30},{"$f":"unique_contracts!BP137","v":"EnergyCapacity"},1,{"$f":"IFERROR(IF(AND(I137>0,E137=\"NotHybrid\"),_xlfn.CONCAT(MAX(MIN(ROUNDDOWN(I137/D137,0),8),4),INDEX(resources!$G:$G,MATCH(B137,resources!$A:$A,0))),INDEX(resources!$G:$G,MATCH(B137,resources!$A:$A,0))),\"n/a\")","v":"utility_pv"},"n/a","utility_pv",2017,2041,1,1,{"$f":"MIN((IFERROR(IF(AND($V137<=Z$1,$W137>=Z$1),INDEX(Reliability!E$23:E$50,MATCH($S137,Reliability!$C$23:$C$50,0)),0),0)*IF($T137=\"n/a\",$D137*$Y137,$G137)+IFERROR(IF(AND($V137<=Z$1,$W137>=Z$1),INDEX(Reliability!E$23:E$50,MATCH($T137,Reliability!$C$23:$C$50,0)),0),0)*$H137*$X137*$Y137),$D137)*$R137","v":0.41472000000000003},{"$f":"MIN((IFERROR(IF(AND($V137<=AA$1,$W137>=AA$1),INDEX(Reliability!F$23:F$50,MATCH($S137,Reliability!$C$23:$C$50,0)),0),0)*IF($T137=\"n/a\",$D137*$Y137,$G137)+IFERROR(IF(AND($V137<=AA$1,$W137>=AA$1),INDEX(Reliability!F$23:F$50,MATCH($T137,Reliability!$C$23:$C$50,0)),0),0)*$H137*$X137*$Y137),$D137)*$R137","v":0.4415067800318806},{"$f":"MIN((IFERROR(IF(AND($V137<=AB$1,$W137>=AB$1),INDEX(Reliability!G$23:G$50,MATCH($S137,Reliability!$C$23:$C$50,0)),0),0)*IF($T137=\"n/a\",$D137*$Y137,$G137)+IFERROR(IF(AND($V137<=AB$1,$W137>=AB$1),INDEX(Reliability!G$23:G$50,MATCH($T137,Reliability!$C$23:$C$50,0)),0),0)*$H137*$X137*$Y137),$D137)*$R137","v":0.46829356006376122},{"$f":"MIN((IFERROR(IF(AND($V137<=AC$1,$W137>=AC$1),INDEX(Reliability!H$23:H$50,MATCH($S137,Reliability!$C$23:$C$50,0)),0),0)*IF($T137=\"n/a\",$D137*$Y137,$G137)+IFERROR(IF(AND($V137<=AC$1,$W137>=AC$1),INDEX(Reliability!H$23:H$50,MATCH($T137,Reliability!$C$23:$C$50,0)),0),0)*$H137*$X137*$Y137),$D137)*$R137","v":0.43925899122591211},{"$f":"MIN((IFERROR(IF(AND($V137<=AD$1,$W137>=AD$1),INDEX(Reliability!I$23:I$50,MATCH($S137,Reliability!$C$23:$C$50,0)),0),0)*IF($T137=\"n/a\",$D137*$Y137,$G137)+IFERROR(IF(AND($V137<=AD$1,$W137>=AD$1),INDEX(Reliability!I$23:I$50,MATCH($T137,Reliability!$C$23:$C$50,0)),0),0)*$H137*$X137*$Y137),$D137)*$R137","v":0.41022442238806295},{"$f":"MIN((IFERROR(IF(AND($V137<=AE$1,$W137>=AE$1),INDEX(Reliability!J$23:J$50,MATCH($S137,Reliability!$C$23:$C$50,0)),0),0)*IF($T137=\"n/a\",$D137*$Y137,$G137)+IFERROR(IF(AND($V137<=AE$1,$W137>=AE$1),INDEX(Reliability!J$23:J$50,MATCH($T137,Reliability!$C$23:$C$50,0)),0),0)*$H137*$X137*$Y137),$D137)*$R137","v":0.33471221119403149},{"$f":"MIN((IFERROR(IF(AND($V137<=AF$1,$W137>=AF$1),INDEX(Reliability!K$23:K$50,MATCH($S137,Reliability!$C$23:$C$50,0)),0),0)*IF($T137=\"n/a\",$D137*$Y137,$G137)+IFERROR(IF(AND($V137<=AF$1,$W137>=AF$1),INDEX(Reliability!K$23:K$50,MATCH($T137,Reliability!$C$23:$C$50,0)),0),0)*$H137*$X137*$Y137),$D137)*$R137","v":0.25919999999999999},{"$f":"MIN((IFERROR(IF(AND($V137<=AG$1,$W137>=AG$1),INDEX(Reliability!L$23:L$50,MATCH($S137,Reliability!$C$23:$C$50,0)),0),0)*IF($T137=\"n/a\",$D137*$Y137,$G137)+IFERROR(IF(AND($V137<=AG$1,$W137>=AG$1),INDEX(Reliability!L$23:L$50,MATCH($T137,Reliability!$C$23:$C$50,0)),0),0)*$H137*$X137*$Y137),$D137)*$R137","v":0.262656},{"$f":"MIN((IFERROR(IF(AND($V137<=AH$1,$W137>=AH$1),INDEX(Reliability!M$23:M$50,MATCH($S137,Reliability!$C$23:$C$50,0)),0),0)*IF($T137=\"n/a\",$D137*$Y137,$G137)+IFERROR(IF(AND($V137<=AH$1,$W137>=AH$1),INDEX(Reliability!M$23:M$50,MATCH($T137,Reliability!$C$23:$C$50,0)),0),0)*$H137*$X137*$Y137),$D137)*$R137","v":0.26611200000000002},{"$f":"MIN((IFERROR(IF(AND($V137<=AI$1,$W137>=AI$1),INDEX(Reliability!N$23:N$50,MATCH($S137,Reliability!$C$23:$C$50,0)),0),0)*IF($T137=\"n/a\",$D137*$Y137,$G137)+IFERROR(IF(AND($V137<=AI$1,$W137>=AI$1),INDEX(Reliability!N$23:N$50,MATCH($T137,Reliability!$C$23:$C$50,0)),0),0)*$H137*$X137*$Y137),$D137)*$R137","v":0.26956800000000003},{"$f":"MIN((IFERROR(IF(AND($V137<=AJ$1,$W137>=AJ$1),INDEX(Reliability!O$23:O$50,MATCH($S137,Reliability!$C$23:$C$50,0)),0),0)*IF($T137=\"n/a\",$D137*$Y137,$G137)+IFERROR(IF(AND($V137<=AJ$1,$W137>=AJ$1),INDEX(Reliability!O$23:O$50,MATCH($T137,Reliability!$C$23:$C$50,0)),0),0)*$H137*$X137*$Y137),$D137)*$R137","v":0.27302400000000004},{"$f":"MIN((IFERROR(IF(AND($V137<=AK$1,$W137>=AK$1),INDEX(Reliability!P$23:P$50,MATCH($S137,Reliability!$C$23:$C$50,0)),0),0)*IF($T137=\"n/a\",$D137*$Y137,$G137)+IFERROR(IF(AND($V137<=AK$1,$W137>=AK$1),INDEX(Reliability!P$23:P$50,MATCH($T137,Reliability!$C$23:$C$50,0)),0),0)*$H137*$X137*$Y137),$D137)*$R137","v":0.27648}]
[null,{"$f":"unique_contracts!B138","v":"_EXISTING_GENERIC_SOLAR_1AXIS"},{"$f":"unique_contracts!D138","v":"Online"},{"$f":"unique_contracts!J138","v":0},{"$f":"unique_contracts!M138","v":"NotHybrid"},{"$f":"unique_contracts!N138","v":"NA"},{"$f":"unique_contracts!P138","v":0},{"$f":"unique_contracts!R138","v":0},{"$f":"unique_contracts!V138","v":0},{"$f":"unique_contracts!AB138","v":"sell"},{"$f":"unique_contracts!AM138","v":2017},{"$f":"unique_contracts!AN138","v":4},{"$f":"unique_contracts!AO138","v":21},{"$f":"unique_contracts!AP138","v":2042},{"$f":"unique_contracts!AQ138","v":9},{"$f":"unique_contracts!AR138","v":30},{"$f":"unique_contracts!BP138","v":"EnergyOnly"},0,{"$f":"IFERROR(IF(AND(I138>0,E138=\"NotHybrid\"),_xlfn.CONCAT(MAX(MIN(ROUNDDOWN(I138/D138,0),8),4),INDEX(resources!$G:$G,MATCH(B138,resources!$A:$A,0))),INDEX(resources!$G:$G,MATCH(B138,resources!$A:$A,0))),\"n/a\")","v":"utility_pv"},"n/a","utility_pv",2017,2041,1,1,{"$f":"MIN((IFERROR(IF(AND($V138<=Z$1,$W138>=Z$1),INDEX(Reliability!E$23:E$50,MATCH($S138,Reliability!$C$23:$C$50,0)),0),0)*IF($T138=\"n/a\",$D138*$Y138,$G138)+IFERROR(IF(AND($V138<=Z$1,$W138>=Z$1),INDEX(Reliability!E$23:E$50,MATCH($T138,Reliability!$C$23:$C$50,0)),0),0)*$H138*$X138*$Y138),$D138)*$R138","v":0},{"$f":"MIN((IFERROR(IF(AND($V138<=AA$1,$W138>=AA$1),INDEX(Reliability!F$23:F$50,MATCH($S138,Reliability!$C$23:$C$50,0)),0),0)*IF($T138=\"n/a\",$D138*$Y138,$G138)+IFERROR(IF(AND($V138<=AA$1,$W138>=AA$1),INDEX(Reliability!F$23:F$50,MATCH($T138,Reliability!$C$23:$C$50,0)),0),0)*$H138*$X138*$Y138),$D138)*$R138","v":0},{"$f":"MIN((IFERROR(IF(AND($V138<=AB$1,$W138>=AB$1),INDEX(Reliability!G$23:G$50,MATCH($S138,Reliability!$C$23:$C$50,0)),0),0)*IF($T138=\"n/a\",$D138*$Y138,$G138)+IFERROR(IF(AND($V138<=AB$1,$W138>=AB$1),INDEX(Reliability!G$23:G$50,MATCH($T138,Reliability!$C$23:$C$50,0)),0),0)*$H138*$X138*$Y138),$D138)*$R138","v":0},{"$f":"MIN((IFERROR(IF(AND($V138<=AC$1,$W138>=AC$1),INDEX(Reliability!H$23:H$50,MATCH($S138,Reliability!$C$23:$C$50,0)),0),0)*IF($T138=\"n/a\",$D138*$Y138,$G138)+IFERROR(IF(AND($V138<=AC$1,$W138>=AC$1),INDEX(Reliability!H$23:H$50,MATCH($T138,Reliability!$C$23:$C$50,0)),0),0)*$H138*$X138*$Y138),$D138)*$R138","v":0},{"$f":"MIN((IFERROR(IF(AND($V138<=AD$1,$W138>=AD$1),INDEX(Reliability!I$23:I$50,MATCH($S138,Reliability!$C$23:$C$50,0)),0),0)*IF($T138=\"n/a\",$D138*$Y138,$G138)+IFERROR(IF(AND($V138<=AD$1,$W138>=AD$1),INDEX(Reliability!I$23:I$50,MATCH($T138,Reliability!$C$23:$C$50,0)),0),0)*$H138*$X138*$Y138),$D138)*$R138","v":0},{"$f":"MIN((IFERROR(IF(AND($V138<=AE$1,$W138>=AE$1),INDEX(Reliability!J$23:J$50,MATCH($S138,Reliability!$C$23:$C$50,0)),0),0)*IF($T138=\"n/a\",$D138*$Y138,$G138)+IFERROR(IF(AND($V138<=AE$1,$W138>=AE$1),INDEX(Reliability!J$23:J$50,MATCH($T138,Reliability!$C$23:$C$50,0)),0),0)*$H138*$X138*$Y138),$D138)*$R138","v":0},{"$f":"MIN((IFERROR(IF(AND($V138<=AF$1,$W138>=AF$1),INDEX(Reliability!K$23:K$50,MATCH($S138,Reliability!$C$23:$C$50,0)),0),0)*IF($T138=\"n/a\",$D138*$Y138,$G138)+IFERROR(IF(AND($V138<=AF$1,$W138>=AF$1),INDEX(Reliability!K$23:K$50,MATCH($T138,Reliability!$C$23:$C$50,0)),0),0)*$H138*$X138*$Y138),$D138)*$R138","v":0},{"$f":"MIN((IFERROR(IF(AND($V138<=AG$1,$W138>=AG$1),INDEX(Reliability!L$23:L$50,MATCH($S138,Reliability!$C$23:$C$50,0)),0),0)*IF($T138=\"n/a\",$D138*$Y138,$G138)+IFERROR(IF(AND($V138<=AG$1,$W138>=AG$1),INDEX(Reliability!L$23:L$50,MATCH($T138,Reliability!$C$23:$C$50,0)),0),0)*$H138*$X138*$Y138),$D138)*$R138","v":0},{"$f":"MIN((IFERROR(IF(AND($V138<=AH$1,$W138>=AH$1),INDEX(Reliability!M$23:M$50,MATCH($S138,Reliability!$C$23:$C$50,0)),0),0)*IF($T138=\"n/a\",$D138*$Y138,$G138)+IFERROR(IF(AND($V138<=AH$1,$W138>=AH$1),INDEX(Reliability!M$23:M$50,MATCH($T138,Reliability!$C$23:$C$50,0)),0),0)*$H138*$X138*$Y138),$D138)*$R138","v":0},{"$f":"MIN((IFERROR(IF(AND($V138<=AI$1,$W138>=AI$1),INDEX(Reliability!N$23:N$50,MATCH($S138,Reliability!$C$23:$C$50,0)),0),0)*IF($T138=\"n/a\",$D138*$Y138,$G138)+IFERROR(IF(AND($V138<=AI$1,$W138>=AI$1),INDEX(Reliability!N$23:N$50,MATCH($T138,Reliability!$C$23:$C$50,0)),0),0)*$H138*$X138*$Y138),$D138)*$R138","v":0},{"$f":"MIN((IFERROR(IF(AND($V138<=AJ$1,$W138>=AJ$1),INDEX(Reliability!O$23:O$50,MATCH($S138,Reliability!$C$23:$C$50,0)),0),0)*IF($T138=\"n/a\",$D138*$Y138,$G138)+IFERROR(IF(AND($V138<=AJ$1,$W138>=AJ$1),INDEX(Reliability!O$23:O$50,MATCH($T138,Reliability!$C$23:$C$50,0)),0),0)*$H138*$X138*$Y138),$D138)*$R138","v":0},{"$f":"MIN((IFERROR(IF(AND($V138<=AK$1,$W138>=AK$1),INDEX(Reliability!P$23:P$50,MATCH($S138,Reliability!$C$23:$C$50,0)),0),0)*IF($T138=\"n/a\",$D138*$Y138,$G138)+IFERROR(IF(AND($V138<=AK$1,$W138>=AK$1),INDEX(Reliability!P$23:P$50,MATCH($T138,Reliability!$C$23:$C$50,0)),0),0)*$H138*$X138*$Y138),$D138)*$R138","v":0}]
[null,{"$f":"unique_contracts!B139","v":"DEVERS_1_SOLAR"},{"$f":"unique_contracts!D139","v":"Online"},{"$f":"unique_contracts!J139","v":18.5},{"$f":"unique_contracts!M139","v":"NotHybrid"},{"$f":"unique_contracts!N139","v":"NA"},{"$f":"unique_contracts!P139","v":0},{"$f":"unique_contracts!R139","v":0},{"$f":"unique_contracts!V139","v":0},{"$f":"unique_contracts!AB139","v":0},{"$f":"unique_contracts!AM139","v":2013},{"$f":"unique_contracts!AN139","v":12},{"$f":"unique_contracts!AO139","v":24},{"$f":"unique_contracts!AP139","v":2033},{"$f":"unique_contracts!AQ139","v":12},{"$f":"unique_contracts!AR139","v":23},{"$f":"unique_contracts!BP139","v":"EnergyOnly"},0,{"$f":"IFERROR(IF(AND(I139>0,E139=\"NotHybrid\"),_xlfn.CONCAT(MAX(MIN(ROUNDDOWN(I139/D139,0),8),4),INDEX(resources!$G:$G,MATCH(B139,resources!$A:$A,0))),INDEX(resources!$G:$G,MATCH(B139,resources!$A:$A,0))),\"n/a\")","v":"utility_pv"},"n/a","utility_pv",2014,2033,1,1,{"$f":"MIN((IFERROR(IF(AND($V139<=Z$1,$W139>=Z$1),INDEX(Reliability!E$23:E$50,MATCH($S139,Reliability!$C$23:$C$50,0)),0),0)*IF($T139=\"n/a\",$D139*$Y139,$G139)+IFERROR(IF(AND($V139<=Z$1,$W139>=Z$1),INDEX(Reliability!E$23:E$50,MATCH($T139,Reliability!$C$23:$C$50,0)),0),0)*$H139*$X139*$Y139),$D139)*$R139","v":0},{"$f":"MIN((IFERROR(IF(AND($V139<=AA$1,$W139>=AA$1),INDEX(Reliability!F$23:F$50,MATCH($S139,Reliability!$C$23:$C$50,0)),0),0)*IF($T139=\"n/a\",$D139*$Y139,$G139)+IFERROR(IF(AND($V139<=AA$1,$W139>=AA$1),INDEX(Reliability!F$23:F$50,MATCH($T139,Reliability!$C$23:$C$50,0)),0),0)*$H139*$X139*$Y139),$D139)*$R139","v":0},{"$f":"MIN((IFERROR(IF(AND($V139<=AB$1,$W139>=AB$1),INDEX(Reliability!G$23:G$50,MATCH($S139,Reliability!$C$23:$C$50,0)),0),0)*IF($T139=\"n/a\",$D139*$Y139,$G139)+IFERROR(IF(AND($V139<=AB$1,$W139>=AB$1),INDEX(Reliability!G$23:G$50,MATCH($T139,Reliability!$C$23:$C$50,0)),0),0)*$H139*$X139*$Y139),$D139)*$R139","v":0},{"$f":"MIN((IFERROR(IF(AND($V139<=AC$1,$W139>=AC$1),INDEX(Reliability!H$23:H$50,MATCH($S139,Reliability!$C$23:$C$50,0)),0),0)*IF($T139=\"n/a\",$D139*$Y139,$G139)+IFERROR(IF(AND($V139<=AC$1,$W139>=AC$1),INDEX(Reliability!H$23:H$50,MATCH($T139,Reliability!$C$23:$C$50,0)),0),0)*$H139*$X139*$Y139),$D139)*$R139","v":0},{"$f":"MIN((IFERROR(IF(AND($V139<=AD$1,$W139>=AD$1),INDEX(Reliability!I$23:I$50,MATCH($S139,Reliability!$C$23:$C$50,0)),0),0)*IF($T139=\"n/a\",$D139*$Y139,$G139)+IFERROR(IF(AND($V139<=AD$1,$W139>=AD$1),INDEX(Reliability!I$23:I$50,MATCH($T139,Reliability!$C$23:$C$50,0)),0),0)*$H139*$X139*$Y139),$D139)*$R139","v":0},{"$f":"MIN((IFERROR(IF(AND($V139<=AE$1,$W139>=AE$1),INDEX(Reliability!J$23:J$50,MATCH($S139,Reliability!$C$23:$C$50,0)),0),0)*IF($T139=\"n/a\",$D139*$Y139,$G139)+IFERROR(IF(AND($V139<=AE$1,$W139>=AE$1),INDEX(Reliability!J$23:J$50,MATCH($T139,Reliability!$C$23:$C$50,0)),0),0)*$H139*$X139*$Y139),$D139)*$R139","v":0},{"$f":"MIN((IFERROR(IF(AND($V139<=AF$1,$W139>=AF$1),INDEX(Reliability!K$23:K$50,MATCH($S139,Reliability!$C$23:$C$50,0)),0),0)*IF($T139=\"n/a\",$D139*$Y139,$G139)+IFERROR(IF(AND($V139<=AF$1,$W139>=AF$1),INDEX(Reliability!K$23:K$50,MATCH($T139,Reliability!$C$23:$C$50,0)),0),0)*$H139*$X139*$Y139),$D139)*$R139","v":0},{"$f":"MIN((IFERROR(IF(AND($V139<=AG$1,$W139>=AG$1),INDEX(Reliability!L$23:L$50,MATCH($S139,Reliability!$C$23:$C$50,0)),0),0)*IF($T139=\"n/a\",$D139*$Y139,$G139)+IFERROR(IF(AND($V139<=AG$1,$W139>=AG$1),INDEX(Reliability!L$23:L$50,MATCH($T139,Reliability!$C$23:$C$50,0)),0),0)*$H139*$X139*$Y139),$D139)*$R139","v":0},{"$f":"MIN((IFERROR(IF(AND($V139<=AH$1,$W139>=AH$1),INDEX(Reliability!M$23:M$50,MATCH($S139,Reliability!$C$23:$C$50,0)),0),0)*IF($T139=\"n/a\",$D139*$Y139,$G139)+IFERROR(IF(AND($V139<=AH$1,$W139>=AH$1),INDEX(Reliability!M$23:M$50,MATCH($T139,Reliability!$C$23:$C$50,0)),0),0)*$H139*$X139*$Y139),$D139)*$R139","v":0},{"$f":"MIN((IFERROR(IF(AND($V139<=AI$1,$W139>=AI$1),INDEX(Reliability!N$23:N$50,MATCH($S139,Reliability!$C$23:$C$50,0)),0),0)*IF($T139=\"n/a\",$D139*$Y139,$G139)+IFERROR(IF(AND($V139<=AI$1,$W139>=AI$1),INDEX(Reliability!N$23:N$50,MATCH($T139,Reliability!$C$23:$C$50,0)),0),0)*$H139*$X139*$Y139),$D139)*$R139","v":0},{"$f":"MIN((IFERROR(IF(AND($V139<=AJ$1,$W139>=AJ$1),INDEX(Reliability!O$23:O$50,MATCH($S139,Reliability!$C$23:$C$50,0)),0),0)*IF($T139=\"n/a\",$D139*$Y139,$G139)+IFERROR(IF(AND($V139<=AJ$1,$W139>=AJ$1),INDEX(Reliability!O$23:O$50,MATCH($T139,Reliability!$C$23:$C$50,0)),0),0)*$H139*$X139*$Y139),$D139)*$R139","v":0},{"$f":"MIN((IFERROR(IF(AND($V139<=AK$1,$W139>=AK$1),INDEX(Reliability!P$23:P$50,MATCH($S139,Reliability!$C$23:$C$50,0)),0),0)*IF($T139=\"n/a\",$D139*$Y139,$G139)+IFERROR(IF(AND($V139<=AK$1,$W139>=AK$1),INDEX(Reliability!P$23:P$50,MATCH($T139,Reliability!$C$23:$C$50,0)),0),0)*$H139*$X139*$Y139),$D139)*$R139","v":0}]
[null,{"$f":"unique_contracts!B140","v":"_EXISTING_GENERIC_WIND"},{"$f":"unique_contracts!D140","v":"Online"},{"$f":"unique_contracts!J140","v":0},{"$f":"unique_contracts!M140","v":"NotHybrid"},{"$f":"unique_contracts!N140","v":"NA"},{"$f":"unique_contracts!P140","v":0},{"$f":"unique_contracts!R140","v":0},{"$f":"unique_contracts!V140","v":0},{"$f":"unique_contracts!AB140","v":"sell"},{"$f":"unique_contracts!AM140","v":2013},{"$f":"unique_contracts!AN140","v":12},{"$f":"unique_contracts!AO140","v":24},{"$f":"unique_contracts!AP140","v":2033},{"$f":"unique_contracts!AQ140","v":12},{"$f":"unique_contracts!AR140","v":23},{"$f":"unique_contracts!BP140","v":"EnergyOnly"},0,{"$f":"IFERROR(IF(AND(I140>0,E140=\"NotHybrid\"),_xlfn.CONCAT(MAX(MIN(ROUNDDOWN(I140/D140,0),8),4),INDEX(resources!$G:$G,MATCH(B140,resources!$A:$A,0))),INDEX(resources!$G:$G,MATCH(B140,resources!$A:$A,0))),\"n/a\")","v":"in_state_wind_south"},"n/a","in_state_wind_south",2014,2033,1,1,{"$f":"MIN((IFERROR(IF(AND($V140<=Z$1,$W140>=Z$1),INDEX(Reliability!E$23:E$50,MATCH($S140,Reliability!$C$23:$C$50,0)),0),0)*IF($T140=\"n/a\",$D140*$Y140,$G140)+IFERROR(IF(AND($V140<=Z$1,$W140>=Z$1),INDEX(Reliability!E$23:E$50,MATCH($T140,Reliability!$C$23:$C$50,0)),0),0)*$H140*$X140*$Y140),$D140)*$R140","v":0},{"$f":"MIN((IFERROR(IF(AND($V140<=AA$1,$W140>=AA$1),INDEX(Reliability!F$23:F$50,MATCH($S140,Reliability!$C$23:$C$50,0)),0),0)*IF($T140=\"n/a\",$D140*$Y140,$G140)+IFERROR(IF(AND($V140<=AA$1,$W140>=AA$1),INDEX(Reliability!F$23:F$50,MATCH($T140,Reliability!$C$23:$C$50,0)),0),0)*$H140*$X140*$Y140),$D140)*$R140","v":0},{"$f":"MIN((IFERROR(IF(AND($V140<=AB$1,$W140>=AB$1),INDEX(Reliability!G$23:G$50,MATCH($S140,Reliability!$C$23:$C$50,0)),0),0)*IF($T140=\"n/a\",$D140*$Y140,$G140)+IFERROR(IF(AND($V140<=AB$1,$W140>=AB$1),INDEX(Reliability!G$23:G$50,MATCH($T140,Reliability!$C$23:$C$50,0)),0),0)*$H140*$X140*$Y140),$D140)*$R140","v":0},{"$f":"MIN((IFERROR(IF(AND($V140<=AC$1,$W140>=AC$1),INDEX(Reliability!H$23:H$50,MATCH($S140,Reliability!$C$23:$C$50,0)),0),0)*IF($T140=\"n/a\",$D140*$Y140,$G140)+IFERROR(IF(AND($V140<=AC$1,$W140>=AC$1),INDEX(Reliability!H$23:H$50,MATCH($T140,Reliability!$C$23:$C$50,0)),0),0)*$H140*$X140*$Y140),$D140)*$R140","v":0},{"$f":"MIN((IFERROR(IF(AND($V140<=AD$1,$W140>=AD$1),INDEX(Reliability!I$23:I$50,MATCH($S140,Reliability!$C$23:$C$50,0)),0),0)*IF($T140=\"n/a\",$D140*$Y140,$G140)+IFERROR(IF(AND($V140<=AD$1,$W140>=AD$1),INDEX(Reliability!I$23:I$50,MATCH($T140,Reliability!$C$23:$C$50,0)),0),0)*$H140*$X140*$Y140),$D140)*$R140","v":0},{"$f":"MIN((IFERROR(IF(AND($V140<=AE$1,$W140>=AE$1),INDEX(Reliability!J$23:J$50,MATCH($S140,Reliability!$C$23:$C$50,0)),0),0)*IF($T140=\"n/a\",$D140*$Y140,$G140)+IFERROR(IF(AND($V140<=AE$1,$W140>=AE$1),INDEX(Reliability!J$23:J$50,MATCH($T140,Reliability!$C$23:$C$50,0)),0),0)*$H140*$X140*$Y140),$D140)*$R140","v":0},{"$f":"MIN((IFERROR(IF(AND($V140<=AF$1,$W140>=AF$1),INDEX(Reliability!K$23:K$50,MATCH($S140,Reliability!$C$23:$C$50,0)),0),0)*IF($T140=\"n/a\",$D140*$Y140,$G140)+IFERROR(IF(AND($V140<=AF$1,$W140>=AF$1),INDEX(Reliability!K$23:K$50,MATCH($T140,Reliability!$C$23:$C$50,0)),0),0)*$H140*$X140*$Y140),$D140)*$R140","v":0},{"$f":"MIN((IFERROR(IF(AND($V140<=AG$1,$W140>=AG$1),INDEX(Reliability!L$23:L$50,MATCH($S140,Reliability!$C$23:$C$50,0)),0),0)*IF($T140=\"n/a\",$D140*$Y140,$G140)+IFERROR(IF(AND($V140<=AG$1,$W140>=AG$1),INDEX(Reliability!L$23:L$50,MATCH($T140,Reliability!$C$23:$C$50,0)),0),0)*$H140*$X140*$Y140),$D140)*$R140","v":0},{"$f":"MIN((IFERROR(IF(AND($V140<=AH$1,$W140>=AH$1),INDEX(Reliability!M$23:M$50,MATCH($S140,Reliability!$C$23:$C$50,0)),0),0)*IF($T140=\"n/a\",$D140*$Y140,$G140)+IFERROR(IF(AND($V140<=AH$1,$W140>=AH$1),INDEX(Reliability!M$23:M$50,MATCH($T140,Reliability!$C$23:$C$50,0)),0),0)*$H140*$X140*$Y140),$D140)*$R140","v":0},{"$f":"MIN((IFERROR(IF(AND($V140<=AI$1,$W140>=AI$1),INDEX(Reliability!N$23:N$50,MATCH($S140,Reliability!$C$23:$C$50,0)),0),0)*IF($T140=\"n/a\",$D140*$Y140,$G140)+IFERROR(IF(AND($V140<=AI$1,$W140>=AI$1),INDEX(Reliability!N$23:N$50,MATCH($T140,Reliability!$C$23:$C$50,0)),0),0)*$H140*$X140*$Y140),$D140)*$R140","v":0},{"$f":"MIN((IFERROR(IF(AND($V140<=AJ$1,$W140>=AJ$1),INDEX(Reliability!O$23:O$50,MATCH($S140,Reliability!$C$23:$C$50,0)),0),0)*IF($T140=\"n/a\",$D140*$Y140,$G140)+IFERROR(IF(AND($V140<=AJ$1,$W140>=AJ$1),INDEX(Reliability!O$23:O$50,MATCH($T140,Reliability!$C$23:$C$50,0)),0),0)*$H140*$X140*$Y140),$D140)*$R140","v":0},{"$f":"MIN((IFERROR(IF(AND($V140<=AK$1,$W140>=AK$1),INDEX(Reliability!P$23:P$50,MATCH($S140,Reliability!$C$23:$C$50,0)),0),0)*IF($T140=\"n/a\",$D140*$Y140,$G140)+IFERROR(IF(AND($V140<=AK$1,$W140>=AK$1),INDEX(Reliability!P$23:P$50,MATCH($T140,Reliability!$C$23:$C$50,0)),0),0)*$H140*$X140*$Y140),$D140)*$R140","v":0}]
[null,{"$f":"unique_contracts!B141","v":"CALPSS_6_SOLAR1"},{"$f":"unique_contracts!D141","v":"Online"},{"$f":"unique_contracts!J141","v":20},{"$f":"unique_contracts!M141","v":"NotHybrid"},{"$f":"unique_contracts!N141","v":"NA"},{"$f":"unique_contracts!P141","v":0},{"$f":"unique_contracts!R141","v":0},{"$f":"unique_contracts!V141","v":0},{"$f":"unique_contracts!AB141","v":0},{"$f":"unique_contracts!AM141","v":2016},{"$f":"unique_contracts!AN141","v":2},{"$f":"unique_contracts!AO141","v":11},{"$f":"unique_contracts!AP141","v":2036},{"$f":"unique_contracts!AQ141","v":2},{"$f":"unique_contracts!AR141","v":28},{"$f":"unique_contracts!BP141","v":"EnergyCapacity"},1,{"$f":"IFERROR(IF(AND(I141>0,E141=\"NotHybrid\"),_xlfn.CONCAT(MAX(MIN(ROUNDDOWN(I141/D141,0),8),4),INDEX(resources!$G:$G,MATCH(B141,resources!$A:$A,0))),INDEX(resources!$G:$G,MATCH(B141,resources!$A:$A,0))),\"n/a\")","v":"utility_pv"},"n/a","utility_pv",2016,2035,1,1,{"$f":"MIN((IFERROR(IF(AND($V141<=Z$1,$W141>=Z$1),INDEX(Reliability!E$23:E$50,MATCH($S141,Reliability!$C$23:$C$50,0)),0),0)*IF($T141=\"n/a\",$D141*$Y141,$G141)+IFERROR(IF(AND($V141<=Z$1,$W141>=Z$1),INDEX(Reliability!E$23:E$50,MATCH($T141,Reliability!$C$23:$C$50,0)),0),0)*$H141*$X141*$Y141),$D141)*$R141","v":1.92},{"$f":"MIN((IFERROR(IF(AND($V141<=AA$1,$W141>=AA$1),INDEX(Reliability!F$23:F$50,MATCH($S141,Reliability!$C$23:$C$50,0)),0),0)*IF($T141=\"n/a\",$D141*$Y141,$G141)+IFERROR(IF(AND($V141<=AA$1,$W141>=AA$1),INDEX(Reliability!F$23:F$50,MATCH($T141,Reliability!$C$23:$C$50,0)),0),0)*$H141*$X141*$Y141),$D141)*$R141","v":2.0440128705179657},{"$f":"MIN((IFERROR(IF(AND($V141<=AB$1,$W141>=AB$1),INDEX(Reliability!G$23:G$50,MATCH($S141,Reliability!$C$23:$C$50,0)),0),0)*IF($T141=\"n/a\",$D141*$Y141,$G141)+IFERROR(IF(AND($V141<=AB$1,$W141>=AB$1),INDEX(Reliability!G$23:G$50,MATCH($T141,Reliability!$C$23:$C$50,0)),0),0)*$H141*$X141*$Y141),$D141)*$R141","v":2.1680257410359314},{"$f":"MIN((IFERROR(IF(AND($V141<=AC$1,$W141>=AC$1),INDEX(Reliability!H$23:H$50,MATCH($S141,Reliability!$C$23:$C$50,0)),0),0)*IF($T141=\"n/a\",$D141*$Y141,$G141)+IFERROR(IF(AND($V141<=AC$1,$W141>=AC$1),INDEX(Reliability!H$23:H$50,MATCH($T141,Reliability!$C$23:$C$50,0)),0),0)*$H141*$X141*$Y141),$D141)*$R141","v":2.0336064408607042},{"$f":"MIN((IFERROR(IF(AND($V141<=AD$1,$W141>=AD$1),INDEX(Reliability!I$23:I$50,MATCH($S141,Reliability!$C$23:$C$50,0)),0),0)*IF($T141=\"n/a\",$D141*$Y141,$G141)+IFERROR(IF(AND($V141<=AD$1,$W141>=AD$1),INDEX(Reliability!I$23:I$50,MATCH($T141,Reliability!$C$23:$C$50,0)),0),0)*$H141*$X141*$Y141),$D141)*$R141","v":1.8991871406854766},{"$f":"MIN((IFERROR(IF(AND($V141<=AE$1,$W141>=AE$1),INDEX(Reliability!J$23:J$50,MATCH($S141,Reliability!$C$23:$C$50,0)),0),0)*IF($T141=\"n/a\",$D141*$Y141,$G141)+IFERROR(IF(AND($V141<=AE$1,$W141>=AE$1),INDEX(Reliability!J$23:J$50,MATCH($T141,Reliability!$C$23:$C$50,0)),0),0)*$H141*$X141*$Y141),$D141)*$R141","v":1.5495935703427381},{"$f":"MIN((IFERROR(IF(AND($V141<=AF$1,$W141>=AF$1),INDEX(Reliability!K$23:K$50,MATCH($S141,Reliability!$C$23:$C$50,0)),0),0)*IF($T141=\"n/a\",$D141*$Y141,$G141)+IFERROR(IF(AND($V141<=AF$1,$W141>=AF$1),INDEX(Reliability!K$23:K$50,MATCH($T141,Reliability!$C$23:$C$50,0)),0),0)*$H141*$X141*$Y141),$D141)*$R141","v":1.2},{"$f":"MIN((IFERROR(IF(AND($V141<=AG$1,$W141>=AG$1),INDEX(Reliability!L$23:L$50,MATCH($S141,Reliability!$C$23:$C$50,0)),0),0)*IF($T141=\"n/a\",$D141*$Y141,$G141)+IFERROR(IF(AND($V141<=AG$1,$W141>=AG$1),INDEX(Reliability!L$23:L$50,MATCH($T141,Reliability!$C$23:$C$50,0)),0),0)*$H141*$X141*$Y141),$D141)*$R141","v":1.216},{"$f":"MIN((IFERROR(IF(AND($V141<=AH$1,$W141>=AH$1),INDEX(Reliability!M$23:M$50,MATCH($S141,Reliability!$C$23:$C$50,0)),0),0)*IF($T141=\"n/a\",$D141*$Y141,$G141)+IFERROR(IF(AND($V141<=AH$1,$W141>=AH$1),INDEX(Reliability!M$23:M$50,MATCH($T141,Reliability!$C$23:$C$50,0)),0),0)*$H141*$X141*$Y141),$D141)*$R141","v":1.232},{"$f":"MIN((IFERROR(IF(AND($V141<=AI$1,$W141>=AI$1),INDEX(Reliability!N$23:N$50,MATCH($S141,Reliability!$C$23:$C$50,0)),0),0)*IF($T141=\"n/a\",$D141*$Y141,$G141)+IFERROR(IF(AND($V141<=AI$1,$W141>=AI$1),INDEX(Reliability!N$23:N$50,MATCH($T141,Reliability!$C$23:$C$50,0)),0),0)*$H141*$X141*$Y141),$D141)*$R141","v":1.248},{"$f":"MIN((IFERROR(IF(AND($V141<=AJ$1,$W141>=AJ$1),INDEX(Reliability!O$23:O$50,MATCH($S141,Reliability!$C$23:$C$50,0)),0),0)*IF($T141=\"n/a\",$D141*$Y141,$G141)+IFERROR(IF(AND($V141<=AJ$1,$W141>=AJ$1),INDEX(Reliability!O$23:O$50,MATCH($T141,Reliability!$C$23:$C$50,0)),0),0)*$H141*$X141*$Y141),$D141)*$R141","v":1.2640000000000002},{"$f":"MIN((IFERROR(IF(AND($V141<=AK$1,$W141>=AK$1),INDEX(Reliability!P$23:P$50,MATCH($S141,Reliability!$C$23:$C$50,0)),0),0)*IF($T141=\"n/a\",$D141*$Y141,$G141)+IFERROR(IF(AND($V141<=AK$1,$W141>=AK$1),INDEX(Reliability!P$23:P$50,MATCH($T141,Reliability!$C$23:$C$50,0)),0),0)*$H141*$X141*$Y141),$D141)*$R141","v":1.28}]
[null,{"$f":"unique_contracts!B142","v":"_EXISTING_GENERIC_WIND"},{"$f":"unique_contracts!D142","v":"Online"},{"$f":"unique_contracts!J142","v":0},{"$f":"unique_contracts!M142","v":"NotHybrid"},{"$f":"unique_contracts!N142","v":"NA"},{"$f":"unique_contracts!P142","v":0},{"$f":"unique_contracts!R142","v":0},{"$f":"unique_contracts!V142","v":0},{"$f":"unique_contracts!AB142","v":"sell"},{"$f":"unique_contracts!AM142","v":2016},{"$f":"unique_contracts!AN142","v":2},{"$f":"unique_contracts!AO142","v":11},{"$f":"unique_contracts!AP142","v":2036},{"$f":"unique_contracts!AQ142","v":2},{"$f":"unique_contracts!AR142","v":28},{"$f":"unique_contracts!BP142","v":"EnergyOnly"},0,{"$f":"IFERROR(IF(AND(I142>0,E142=\"NotHybrid\"),_xlfn.CONCAT(MAX(MIN(ROUNDDOWN(I142/D142,0),8),4),INDEX(resources!$G:$G,MATCH(B142,resources!$A:$A,0))),INDEX(resources!$G:$G,MATCH(B142,resources!$A:$A,0))),\"n/a\")","v":"in_state_wind_south"},"n/a","in_state_wind_south",2016,2035,1,1,{"$f":"MIN((IFERROR(IF(AND($V142<=Z$1,$W142>=Z$1),INDEX(Reliability!E$23:E$50,MATCH($S142,Reliability!$C$23:$C$50,0)),0),0)*IF($T142=\"n/a\",$D142*$Y142,$G142)+IFERROR(IF(AND($V142<=Z$1,$W142>=Z$1),INDEX(Reliability!E$23:E$50,MATCH($T142,Reliability!$C$23:$C$50,0)),0),0)*$H142*$X142*$Y142),$D142)*$R142","v":0},{"$f":"MIN((IFERROR(IF(AND($V142<=AA$1,$W142>=AA$1),INDEX(Reliability!F$23:F$50,MATCH($S142,Reliability!$C$23:$C$50,0)),0),0)*IF($T142=\"n/a\",$D142*$Y142,$G142)+IFERROR(IF(AND($V142<=AA$1,$W142>=AA$1),INDEX(Reliability!F$23:F$50,MATCH($T142,Reliability!$C$23:$C$50,0)),0),0)*$H142*$X142*$Y142),$D142)*$R142","v":0},{"$f":"MIN((IFERROR(IF(AND($V142<=AB$1,$W142>=AB$1),INDEX(Reliability!G$23:G$50,MATCH($S142,Reliability!$C$23:$C$50,0)),0),0)*IF($T142=\"n/a\",$D142*$Y142,$G142)+IFERROR(IF(AND($V142<=AB$1,$W142>=AB$1),INDEX(Reliability!G$23:G$50,MATCH($T142,Reliability!$C$23:$C$50,0)),0),0)*$H142*$X142*$Y142),$D142)*$R142","v":0},{"$f":"MIN((IFERROR(IF(AND($V142<=AC$1,$W142>=AC$1),INDEX(Reliability!H$23:H$50,MATCH($S142,Reliability!$C$23:$C$50,0)),0),0)*IF($T142=\"n/a\",$D142*$Y142,$G142)+IFERROR(IF(AND($V142<=AC$1,$W142>=AC$1),INDEX(Reliability!H$23:H$50,MATCH($T142,Reliability!$C$23:$C$50,0)),0),0)*$H142*$X142*$Y142),$D142)*$R142","v":0},{"$f":"MIN((IFERROR(IF(AND($V142<=AD$1,$W142>=AD$1),INDEX(Reliability!I$23:I$50,MATCH($S142,Reliability!$C$23:$C$50,0)),0),0)*IF($T142=\"n/a\",$D142*$Y142,$G142)+IFERROR(IF(AND($V142<=AD$1,$W142>=AD$1),INDEX(Reliability!I$23:I$50,MATCH($T142,Reliability!$C$23:$C$50,0)),0),0)*$H142*$X142*$Y142),$D142)*$R142","v":0},{"$f":"MIN((IFERROR(IF(AND($V142<=AE$1,$W142>=AE$1),INDEX(Reliability!J$23:J$50,MATCH($S142,Reliability!$C$23:$C$50,0)),0),0)*IF($T142=\"n/a\",$D142*$Y142,$G142)+IFERROR(IF(AND($V142<=AE$1,$W142>=AE$1),INDEX(Reliability!J$23:J$50,MATCH($T142,Reliability!$C$23:$C$50,0)),0),0)*$H142*$X142*$Y142),$D142)*$R142","v":0},{"$f":"MIN((IFERROR(IF(AND($V142<=AF$1,$W142>=AF$1),INDEX(Reliability!K$23:K$50,MATCH($S142,Reliability!$C$23:$C$50,0)),0),0)*IF($T142=\"n/a\",$D142*$Y142,$G142)+IFERROR(IF(AND($V142<=AF$1,$W142>=AF$1),INDEX(Reliability!K$23:K$50,MATCH($T142,Reliability!$C$23:$C$50,0)),0),0)*$H142*$X142*$Y142),$D142)*$R142","v":0},{"$f":"MIN((IFERROR(IF(AND($V142<=AG$1,$W142>=AG$1),INDEX(Reliability!L$23:L$50,MATCH($S142,Reliability!$C$23:$C$50,0)),0),0)*IF($T142=\"n/a\",$D142*$Y142,$G142)+IFERROR(IF(AND($V142<=AG$1,$W142>=AG$1),INDEX(Reliability!L$23:L$50,MATCH($T142,Reliability!$C$23:$C$50,0)),0),0)*$H142*$X142*$Y142),$D142)*$R142","v":0},{"$f":"MIN((IFERROR(IF(AND($V142<=AH$1,$W142>=AH$1),INDEX(Reliability!M$23:M$50,MATCH($S142,Reliability!$C$23:$C$50,0)),0),0)*IF($T142=\"n/a\",$D142*$Y142,$G142)+IFERROR(IF(AND($V142<=AH$1,$W142>=AH$1),INDEX(Reliability!M$23:M$50,MATCH($T142,Reliability!$C$23:$C$50,0)),0),0)*$H142*$X142*$Y142),$D142)*$R142","v":0},{"$f":"MIN((IFERROR(IF(AND($V142<=AI$1,$W142>=AI$1),INDEX(Reliability!N$23:N$50,MATCH($S142,Reliability!$C$23:$C$50,0)),0),0)*IF($T142=\"n/a\",$D142*$Y142,$G142)+IFERROR(IF(AND($V142<=AI$1,$W142>=AI$1),INDEX(Reliability!N$23:N$50,MATCH($T142,Reliability!$C$23:$C$50,0)),0),0)*$H142*$X142*$Y142),$D142)*$R142","v":0},{"$f":"MIN((IFERROR(IF(AND($V142<=AJ$1,$W142>=AJ$1),INDEX(Reliability!O$23:O$50,MATCH($S142,Reliability!$C$23:$C$50,0)),0),0)*IF($T142=\"n/a\",$D142*$Y142,$G142)+IFERROR(IF(AND($V142<=AJ$1,$W142>=AJ$1),INDEX(Reliability!O$23:O$50,MATCH($T142,Reliability!$C$23:$C$50,0)),0),0)*$H142*$X142*$Y142),$D142)*$R142","v":0},{"$f":"MIN((IFERROR(IF(AND($V142<=AK$1,$W142>=AK$1),INDEX(Reliability!P$23:P$50,MATCH($S142,Reliability!$C$23:$C$50,0)),0),0)*IF($T142=\"n/a\",$D142*$Y142,$G142)+IFERROR(IF(AND($V142<=AK$1,$W142>=AK$1),INDEX(Reliability!P$23:P$50,MATCH($T142,Reliability!$C$23:$C$50,0)),0),0)*$H142*$X142*$Y142),$D142)*$R142","v":0}]
[null,{"$f":"unique_contracts!B143","v":"ANZA_6_SOLAR1"},{"$f":"unique_contracts!D143","v":"Online"},{"$f":"unique_contracts!J143","v":20},{"$f":"unique_contracts!M143","v":"NotHybrid"},{"$f":"unique_contracts!N143","v":"NA"},{"$f":"unique_contracts!P143","v":0},{"$f":"unique_contracts!R143","v":0},{"$f":"unique_contracts!V143","v":0},{"$f":"unique_contracts!AB143","v":0},{"$f":"unique_contracts!AM143","v":2015},{"$f":"unique_contracts!AN143","v":12},{"$f":"unique_contracts!AO143","v":30},{"$f":"unique_contracts!AP143","v":2035},{"$f":"unique_contracts!AQ143","v":12},{"$f":"unique_contracts!AR143","v":31},{"$f":"unique_contracts!BP143","v":"EnergyCapacity"},1,{"$f":"IFERROR(IF(AND(I143>0,E143=\"NotHybrid\"),_xlfn.CONCAT(MAX(MIN(ROUNDDOWN(I143/D143,0),8),4),INDEX(resources!$G:$G,MATCH(B143,resources!$A:$A,0))),INDEX(resources!$G:$G,MATCH(B143,resources!$A:$A,0))),\"n/a\")","v":"utility_pv"},"n/a","utility_pv",2016,2035,1,1,{"$f":"MIN((IFERROR(IF(AND($V143<=Z$1,$W143>=Z$1),INDEX(Reliability!E$23:E$50,MATCH($S143,Reliability!$C$23:$C$50,0)),0),0)*IF($T143=\"n/a\",$D143*$Y143,$G143)+IFERROR(IF(AND($V143<=Z$1,$W143>=Z$1),INDEX(Reliability!E$23:E$50,MATCH($T143,Reliability!$C$23:$C$50,0)),0),0)*$H143*$X143*$Y143),$D143)*$R143","v":1.92},{"$f":"MIN((IFERROR(IF(AND($V143<=AA$1,$W143>=AA$1),INDEX(Reliability!F$23:F$50,MATCH($S143,Reliability!$C$23:$C$50,0)),0),0)*IF($T143=\"n/a\",$D143*$Y143,$G143)+IFERROR(IF(AND($V143<=AA$1,$W143>=AA$1),INDEX(Reliability!F$23:F$50,MATCH($T143,Reliability!$C$23:$C$50,0)),0),0)*$H143*$X143*$Y143),$D143)*$R143","v":2.0440128705179657},{"$f":"MIN((IFERROR(IF(AND($V143<=AB$1,$W143>=AB$1),INDEX(Reliability!G$23:G$50,MATCH($S143,Reliability!$C$23:$C$50,0)),0),0)*IF($T143=\"n/a\",$D143*$Y143,$G143)+IFERROR(IF(AND($V143<=AB$1,$W143>=AB$1),INDEX(Reliability!G$23:G$50,MATCH($T143,Reliability!$C$23:$C$50,0)),0),0)*$H143*$X143*$Y143),$D143)*$R143","v":2.1680257410359314},{"$f":"MIN((IFERROR(IF(AND($V143<=AC$1,$W143>=AC$1),INDEX(Reliability!H$23:H$50,MATCH($S143,Reliability!$C$23:$C$50,0)),0),0)*IF($T143=\"n/a\",$D143*$Y143,$G143)+IFERROR(IF(AND($V143<=AC$1,$W143>=AC$1),INDEX(Reliability!H$23:H$50,MATCH($T143,Reliability!$C$23:$C$50,0)),0),0)*$H143*$X143*$Y143),$D143)*$R143","v":2.0336064408607042},{"$f":"MIN((IFERROR(IF(AND($V143<=AD$1,$W143>=AD$1),INDEX(Reliability!I$23:I$50,MATCH($S143,Reliability!$C$23:$C$50,0)),0),0)*IF($T143=\"n/a\",$D143*$Y143,$G143)+IFERROR(IF(AND($V143<=AD$1,$W143>=AD$1),INDEX(Reliability!I$23:I$50,MATCH($T143,Reliability!$C$23:$C$50,0)),0),0)*$H143*$X143*$Y143),$D143)*$R143","v":1.8991871406854766},{"$f":"MIN((IFERROR(IF(AND($V143<=AE$1,$W143>=AE$1),INDEX(Reliability!J$23:J$50,MATCH($S143,Reliability!$C$23:$C$50,0)),0),0)*IF($T143=\"n/a\",$D143*$Y143,$G143)+IFERROR(IF(AND($V143<=AE$1,$W143>=AE$1),INDEX(Reliability!J$23:J$50,MATCH($T143,Reliability!$C$23:$C$50,0)),0),0)*$H143*$X143*$Y143),$D143)*$R143","v":1.5495935703427381},{"$f":"MIN((IFERROR(IF(AND($V143<=AF$1,$W143>=AF$1),INDEX(Reliability!K$23:K$50,MATCH($S143,Reliability!$C$23:$C$50,0)),0),0)*IF($T143=\"n/a\",$D143*$Y143,$G143)+IFERROR(IF(AND($V143<=AF$1,$W143>=AF$1),INDEX(Reliability!K$23:K$50,MATCH($T143,Reliability!$C$23:$C$50,0)),0),0)*$H143*$X143*$Y143),$D143)*$R143","v":1.2},{"$f":"MIN((IFERROR(IF(AND($V143<=AG$1,$W143>=AG$1),INDEX(Reliability!L$23:L$50,MATCH($S143,Reliability!$C$23:$C$50,0)),0),0)*IF($T143=\"n/a\",$D143*$Y143,$G143)+IFERROR(IF(AND($V143<=AG$1,$W143>=AG$1),INDEX(Reliability!L$23:L$50,MATCH($T143,Reliability!$C$23:$C$50,0)),0),0)*$H143*$X143*$Y143),$D143)*$R143","v":1.216},{"$f":"MIN((IFERROR(IF(AND($V143<=AH$1,$W143>=AH$1),INDEX(Reliability!M$23:M$50,MATCH($S143,Reliability!$C$23:$C$50,0)),0),0)*IF($T143=\"n/a\",$D143*$Y143,$G143)+IFERROR(IF(AND($V143<=AH$1,$W143>=AH$1),INDEX(Reliability!M$23:M$50,MATCH($T143,Reliability!$C$23:$C$50,0)),0),0)*$H143*$X143*$Y143),$D143)*$R143","v":1.232},{"$f":"MIN((IFERROR(IF(AND($V143<=AI$1,$W143>=AI$1),INDEX(Reliability!N$23:N$50,MATCH($S143,Reliability!$C$23:$C$50,0)),0),0)*IF($T143=\"n/a\",$D143*$Y143,$G143)+IFERROR(IF(AND($V143<=AI$1,$W143>=AI$1),INDEX(Reliability!N$23:N$50,MATCH($T143,Reliability!$C$23:$C$50,0)),0),0)*$H143*$X143*$Y143),$D143)*$R143","v":1.248},{"$f":"MIN((IFERROR(IF(AND($V143<=AJ$1,$W143>=AJ$1),INDEX(Reliability!O$23:O$50,MATCH($S143,Reliability!$C$23:$C$50,0)),0),0)*IF($T143=\"n/a\",$D143*$Y143,$G143)+IFERROR(IF(AND($V143<=AJ$1,$W143>=AJ$1),INDEX(Reliability!O$23:O$50,MATCH($T143,Reliability!$C$23:$C$50,0)),0),0)*$H143*$X143*$Y143),$D143)*$R143","v":1.2640000000000002},{"$f":"MIN((IFERROR(IF(AND($V143<=AK$1,$W143>=AK$1),INDEX(Reliability!P$23:P$50,MATCH($S143,Reliability!$C$23:$C$50,0)),0),0)*IF($T143=\"n/a\",$D143*$Y143,$G143)+IFERROR(IF(AND($V143<=AK$1,$W143>=AK$1),INDEX(Reliability!P$23:P$50,MATCH($T143,Reliability!$C$23:$C$50,0)),0),0)*$H143*$X143*$Y143),$D143)*$R143","v":1.28}]
[null,{"$f":"unique_contracts!B144","v":"_EXISTING_GENERIC_WIND"},{"$f":"unique_contracts!D144","v":"Online"},{"$f":"unique_contracts!J144","v":0},{"$f":"unique_contracts!M144","v":"NotHybrid"},{"$f":"unique_contracts!N144","v":"NA"},{"$f":"unique_contracts!P144","v":0},{"$f":"unique_contracts!R144","v":0},{"$f":"unique_contracts!V144","v":0},{"$f":"unique_contracts!AB144","v":"sell"},{"$f":"unique_contracts!AM144","v":2015},{"$f":"unique_contracts!AN144","v":12},{"$f":"unique_contracts!AO144","v":30},{"$f":"unique_contracts!AP144","v":2035},{"$f":"unique_contracts!AQ144","v":12},{"$f":"unique_contracts!AR144","v":31},{"$f":"unique_contracts!BP144","v":"EnergyOnly"},0,{"$f":"IFERROR(IF(AND(I144>0,E144=\"NotHybrid\"),_xlfn.CONCAT(MAX(MIN(ROUNDDOWN(I144/D144,0),8),4),INDEX(resources!$G:$G,MATCH(B144,resources!$A:$A,0))),INDEX(resources!$G:$G,MATCH(B144,resources!$A:$A,0))),\"n/a\")","v":"in_state_wind_south"},"n/a","in_state_wind_south",2016,2035,1,1,{"$f":"MIN((IFERROR(IF(AND($V144<=Z$1,$W144>=Z$1),INDEX(Reliability!E$23:E$50,MATCH($S144,Reliability!$C$23:$C$50,0)),0),0)*IF($T144=\"n/a\",$D144*$Y144,$G144)+IFERROR(IF(AND($V144<=Z$1,$W144>=Z$1),INDEX(Reliability!E$23:E$50,MATCH($T144,Reliability!$C$23:$C$50,0)),0),0)*$H144*$X144*$Y144),$D144)*$R144","v":0},{"$f":"MIN((IFERROR(IF(AND($V144<=AA$1,$W144>=AA$1),INDEX(Reliability!F$23:F$50,MATCH($S144,Reliability!$C$23:$C$50,0)),0),0)*IF($T144=\"n/a\",$D144*$Y144,$G144)+IFERROR(IF(AND($V144<=AA$1,$W144>=AA$1),INDEX(Reliability!F$23:F$50,MATCH($T144,Reliability!$C$23:$C$50,0)),0),0)*$H144*$X144*$Y144),$D144)*$R144","v":0},{"$f":"MIN((IFERROR(IF(AND($V144<=AB$1,$W144>=AB$1),INDEX(Reliability!G$23:G$50,MATCH($S144,Reliability!$C$23:$C$50,0)),0),0)*IF($T144=\"n/a\",$D144*$Y144,$G144)+IFERROR(IF(AND($V144<=AB$1,$W144>=AB$1),INDEX(Reliability!G$23:G$50,MATCH($T144,Reliability!$C$23:$C$50,0)),0),0)*$H144*$X144*$Y144),$D144)*$R144","v":0},{"$f":"MIN((IFERROR(IF(AND($V144<=AC$1,$W144>=AC$1),INDEX(Reliability!H$23:H$50,MATCH($S144,Reliability!$C$23:$C$50,0)),0),0)*IF($T144=\"n/a\",$D144*$Y144,$G144)+IFERROR(IF(AND($V144<=AC$1,$W144>=AC$1),INDEX(Reliability!H$23:H$50,MATCH($T144,Reliability!$C$23:$C$50,0)),0),0)*$H144*$X144*$Y144),$D144)*$R144","v":0},{"$f":"MIN((IFERROR(IF(AND($V144<=AD$1,$W144>=AD$1),INDEX(Reliability!I$23:I$50,MATCH($S144,Reliability!$C$23:$C$50,0)),0),0)*IF($T144=\"n/a\",$D144*$Y144,$G144)+IFERROR(IF(AND($V144<=AD$1,$W144>=AD$1),INDEX(Reliability!I$23:I$50,MATCH($T144,Reliability!$C$23:$C$50,0)),0),0)*$H144*$X144*$Y144),$D144)*$R144","v":0},{"$f":"MIN((IFERROR(IF(AND($V144<=AE$1,$W144>=AE$1),INDEX(Reliability!J$23:J$50,MATCH($S144,Reliability!$C$23:$C$50,0)),0),0)*IF($T144=\"n/a\",$D144*$Y144,$G144)+IFERROR(IF(AND($V144<=AE$1,$W144>=AE$1),INDEX(Reliability!J$23:J$50,MATCH($T144,Reliability!$C$23:$C$50,0)),0),0)*$H144*$X144*$Y144),$D144)*$R144","v":0},{"$f":"MIN((IFERROR(IF(AND($V144<=AF$1,$W144>=AF$1),INDEX(Reliability!K$23:K$50,MATCH($S144,Reliability!$C$23:$C$50,0)),0),0)*IF($T144=\"n/a\",$D144*$Y144,$G144)+IFERROR(IF(AND($V144<=AF$1,$W144>=AF$1),INDEX(Reliability!K$23:K$50,MATCH($T144,Reliability!$C$23:$C$50,0)),0),0)*$H144*$X144*$Y144),$D144)*$R144","v":0},{"$f":"MIN((IFERROR(IF(AND($V144<=AG$1,$W144>=AG$1),INDEX(Reliability!L$23:L$50,MATCH($S144,Reliability!$C$23:$C$50,0)),0),0)*IF($T144=\"n/a\",$D144*$Y144,$G144)+IFERROR(IF(AND($V144<=AG$1,$W144>=AG$1),INDEX(Reliability!L$23:L$50,MATCH($T144,Reliability!$C$23:$C$50,0)),0),0)*$H144*$X144*$Y144),$D144)*$R144","v":0},{"$f":"MIN((IFERROR(IF(AND($V144<=AH$1,$W144>=AH$1),INDEX(Reliability!M$23:M$50,MATCH($S144,Reliability!$C$23:$C$50,0)),0),0)*IF($T144=\"n/a\",$D144*$Y144,$G144)+IFERROR(IF(AND($V144<=AH$1,$W144>=AH$1),INDEX(Reliability!M$23:M$50,MATCH($T144,Reliability!$C$23:$C$50,0)),0),0)*$H144*$X144*$Y144),$D144)*$R144","v":0},{"$f":"MIN((IFERROR(IF(AND($V144<=AI$1,$W144>=AI$1),INDEX(Reliability!N$23:N$50,MATCH($S144,Reliability!$C$23:$C$50,0)),0),0)*IF($T144=\"n/a\",$D144*$Y144,$G144)+IFERROR(IF(AND($V144<=AI$1,$W144>=AI$1),INDEX(Reliability!N$23:N$50,MATCH($T144,Reliability!$C$23:$C$50,0)),0),0)*$H144*$X144*$Y144),$D144)*$R144","v":0},{"$f":"MIN((IFERROR(IF(AND($V144<=AJ$1,$W144>=AJ$1),INDEX(Reliability!O$23:O$50,MATCH($S144,Reliability!$C$23:$C$50,0)),0),0)*IF($T144=\"n/a\",$D144*$Y144,$G144)+IFERROR(IF(AND($V144<=AJ$1,$W144>=AJ$1),INDEX(Reliability!O$23:O$50,MATCH($T144,Reliability!$C$23:$C$50,0)),0),0)*$H144*$X144*$Y144),$D144)*$R144","v":0},{"$f":"MIN((IFERROR(IF(AND($V144<=AK$1,$W144>=AK$1),INDEX(Reliability!P$23:P$50,MATCH($S144,Reliability!$C$23:$C$50,0)),0),0)*IF($T144=\"n/a\",$D144*$Y144,$G144)+IFERROR(IF(AND($V144<=AK$1,$W144>=AK$1),INDEX(Reliability!P$23:P$50,MATCH($T144,Reliability!$C$23:$C$50,0)),0),0)*$H144*$X144*$Y144),$D144)*$R144","v":0}]
[null,{"$f":"unique_contracts!B145","v":"MARCPW_6_SOLAR1"},{"$f":"unique_contracts!D145","v":"Online"},{"$f":"unique_contracts!J145","v":20},{"$f":"unique_contracts!M145","v":"NotHybrid"},{"$f":"unique_contracts!N145","v":"NA"},{"$f":"unique_contracts!P145","v":0},{"$f":"unique_contracts!R145","v":0},{"$f":"unique_contracts!V145","v":0},{"$f":"unique_contracts!AB145","v":0},{"$f":"unique_contracts!AM145","v":2015},{"$f":"unique_contracts!AN145","v":12},{"$f":"unique_contracts!AO145","v":15},{"$f":"unique_contracts!AP145","v":2030},{"$f":"unique_contracts!AQ145","v":12},{"$f":"unique_contracts!AR145","v":14},{"$f":"unique_contracts!BP145","v":"EnergyCapacity"},1,{"$f":"IFERROR(IF(AND(I145>0,E145=\"NotHybrid\"),_xlfn.CONCAT(MAX(MIN(ROUNDDOWN(I145/D145,0),8),4),INDEX(resources!$G:$G,MATCH(B145,resources!$A:$A,0))),INDEX(resources!$G:$G,MATCH(B145,resources!$A:$A,0))),\"n/a\")","v":"utility_pv"},"n/a","utility_pv",2016,2030,1,1,{"$f":"MIN((IFERROR(IF(AND($V145<=Z$1,$W145>=Z$1),INDEX(Reliability!E$23:E$50,MATCH($S145,Reliability!$C$23:$C$50,0)),0),0)*IF($T145=\"n/a\",$D145*$Y145,$G145)+IFERROR(IF(AND($V145<=Z$1,$W145>=Z$1),INDEX(Reliability!E$23:E$50,MATCH($T145,Reliability!$C$23:$C$50,0)),0),0)*$H145*$X145*$Y145),$D145)*$R145","v":1.92},{"$f":"MIN((IFERROR(IF(AND($V145<=AA$1,$W145>=AA$1),INDEX(Reliability!F$23:F$50,MATCH($S145,Reliability!$C$23:$C$50,0)),0),0)*IF($T145=\"n/a\",$D145*$Y145,$G145)+IFERROR(IF(AND($V145<=AA$1,$W145>=AA$1),INDEX(Reliability!F$23:F$50,MATCH($T145,Reliability!$C$23:$C$50,0)),0),0)*$H145*$X145*$Y145),$D145)*$R145","v":2.0440128705179657},{"$f":"MIN((IFERROR(IF(AND($V145<=AB$1,$W145>=AB$1),INDEX(Reliability!G$23:G$50,MATCH($S145,Reliability!$C$23:$C$50,0)),0),0)*IF($T145=\"n/a\",$D145*$Y145,$G145)+IFERROR(IF(AND($V145<=AB$1,$W145>=AB$1),INDEX(Reliability!G$23:G$50,MATCH($T145,Reliability!$C$23:$C$50,0)),0),0)*$H145*$X145*$Y145),$D145)*$R145","v":2.1680257410359314},{"$f":"MIN((IFERROR(IF(AND($V145<=AC$1,$W145>=AC$1),INDEX(Reliability!H$23:H$50,MATCH($S145,Reliability!$C$23:$C$50,0)),0),0)*IF($T145=\"n/a\",$D145*$Y145,$G145)+IFERROR(IF(AND($V145<=AC$1,$W145>=AC$1),INDEX(Reliability!H$23:H$50,MATCH($T145,Reliability!$C$23:$C$50,0)),0),0)*$H145*$X145*$Y145),$D145)*$R145","v":2.0336064408607042},{"$f":"MIN((IFERROR(IF(AND($V145<=AD$1,$W145>=AD$1),INDEX(Reliability!I$23:I$50,MATCH($S145,Reliability!$C$23:$C$50,0)),0),0)*IF($T145=\"n/a\",$D145*$Y145,$G145)+IFERROR(IF(AND($V145<=AD$1,$W145>=AD$1),INDEX(Reliability!I$23:I$50,MATCH($T145,Reliability!$C$23:$C$50,0)),0),0)*$H145*$X145*$Y145),$D145)*$R145","v":1.8991871406854766},{"$f":"MIN((IFERROR(IF(AND($V145<=AE$1,$W145>=AE$1),INDEX(Reliability!J$23:J$50,MATCH($S145,Reliability!$C$23:$C$50,0)),0),0)*IF($T145=\"n/a\",$D145*$Y145,$G145)+IFERROR(IF(AND($V145<=AE$1,$W145>=AE$1),INDEX(Reliability!J$23:J$50,MATCH($T145,Reliability!$C$23:$C$50,0)),0),0)*$H145*$X145*$Y145),$D145)*$R145","v":1.5495935703427381},{"$f":"MIN((IFERROR(IF(AND($V145<=AF$1,$W145>=AF$1),INDEX(Reliability!K$23:K$50,MATCH($S145,Reliability!$C$23:$C$50,0)),0),0)*IF($T145=\"n/a\",$D145*$Y145,$G145)+IFERROR(IF(AND($V145<=AF$1,$W145>=AF$1),INDEX(Reliability!K$23:K$50,MATCH($T145,Reliability!$C$23:$C$50,0)),0),0)*$H145*$X145*$Y145),$D145)*$R145","v":1.2},{"$f":"MIN((IFERROR(IF(AND($V145<=AG$1,$W145>=AG$1),INDEX(Reliability!L$23:L$50,MATCH($S145,Reliability!$C$23:$C$50,0)),0),0)*IF($T145=\"n/a\",$D145*$Y145,$G145)+IFERROR(IF(AND($V145<=AG$1,$W145>=AG$1),INDEX(Reliability!L$23:L$50,MATCH($T145,Reliability!$C$23:$C$50,0)),0),0)*$H145*$X145*$Y145),$D145)*$R145","v":0},{"$f":"MIN((IFERROR(IF(AND($V145<=AH$1,$W145>=AH$1),INDEX(Reliability!M$23:M$50,MATCH($S145,Reliability!$C$23:$C$50,0)),0),0)*IF($T145=\"n/a\",$D145*$Y145,$G145)+IFERROR(IF(AND($V145<=AH$1,$W145>=AH$1),INDEX(Reliability!M$23:M$50,MATCH($T145,Reliability!$C$23:$C$50,0)),0),0)*$H145*$X145*$Y145),$D145)*$R145","v":0},{"$f":"MIN((IFERROR(IF(AND($V145<=AI$1,$W145>=AI$1),INDEX(Reliability!N$23:N$50,MATCH($S145,Reliability!$C$23:$C$50,0)),0),0)*IF($T145=\"n/a\",$D145*$Y145,$G145)+IFERROR(IF(AND($V145<=AI$1,$W145>=AI$1),INDEX(Reliability!N$23:N$50,MATCH($T145,Reliability!$C$23:$C$50,0)),0),0)*$H145*$X145*$Y145),$D145)*$R145","v":0},{"$f":"MIN((IFERROR(IF(AND($V145<=AJ$1,$W145>=AJ$1),INDEX(Reliability!O$23:O$50,MATCH($S145,Reliability!$C$23:$C$50,0)),0),0)*IF($T145=\"n/a\",$D145*$Y145,$G145)+IFERROR(IF(AND($V145<=AJ$1,$W145>=AJ$1),INDEX(Reliability!O$23:O$50,MATCH($T145,Reliability!$C$23:$C$50,0)),0),0)*$H145*$X145*$Y145),$D145)*$R145","v":0},{"$f":"MIN((IFERROR(IF(AND($V145<=AK$1,$W145>=AK$1),INDEX(Reliability!P$23:P$50,MATCH($S145,Reliability!$C$23:$C$50,0)),0),0)*IF($T145=\"n/a\",$D145*$Y145,$G145)+IFERROR(IF(AND($V145<=AK$1,$W145>=AK$1),INDEX(Reliability!P$23:P$50,MATCH($T145,Reliability!$C$23:$C$50,0)),0),0)*$H145*$X145*$Y145),$D145)*$R145","v":0}]
[null,{"$f":"unique_contracts!B146","v":"_EXISTING_GENERIC_SOLAR_1AXIS"},{"$f":"unique_contracts!D146","v":"Online"},{"$f":"unique_contracts!J146","v":0},{"$f":"unique_contracts!M146","v":"NotHybrid"},{"$f":"unique_contracts!N146","v":"NA"},{"$f":"unique_contracts!P146","v":0},{"$f":"unique_contracts!R146","v":0},{"$f":"unique_contracts!V146","v":0},{"$f":"unique_contracts!AB146","v":"sell"},{"$f":"unique_contracts!AM146","v":2015},{"$f":"unique_contracts!AN146","v":12},{"$f":"unique_contracts!AO146","v":15},{"$f":"unique_contracts!AP146","v":2030},{"$f":"unique_contracts!AQ146","v":12},{"$f":"unique_contracts!AR146","v":14},{"$f":"unique_contracts!BP146","v":"EnergyOnly"},0,{"$f":"IFERROR(IF(AND(I146>0,E146=\"NotHybrid\"),_xlfn.CONCAT(MAX(MIN(ROUNDDOWN(I146/D146,0),8),4),INDEX(resources!$G:$G,MATCH(B146,resources!$A:$A,0))),INDEX(resources!$G:$G,MATCH(B146,resources!$A:$A,0))),\"n/a\")","v":"utility_pv"},"n/a","utility_pv",2016,2030,1,1,{"$f":"MIN((IFERROR(IF(AND($V146<=Z$1,$W146>=Z$1),INDEX(Reliability!E$23:E$50,MATCH($S146,Reliability!$C$23:$C$50,0)),0),0)*IF($T146=\"n/a\",$D146*$Y146,$G146)+IFERROR(IF(AND($V146<=Z$1,$W146>=Z$1),INDEX(Reliability!E$23:E$50,MATCH($T146,Reliability!$C$23:$C$50,0)),0),0)*$H146*$X146*$Y146),$D146)*$R146","v":0},{"$f":"MIN((IFERROR(IF(AND($V146<=AA$1,$W146>=AA$1),INDEX(Reliability!F$23:F$50,MATCH($S146,Reliability!$C$23:$C$50,0)),0),0)*IF($T146=\"n/a\",$D146*$Y146,$G146)+IFERROR(IF(AND($V146<=AA$1,$W146>=AA$1),INDEX(Reliability!F$23:F$50,MATCH($T146,Reliability!$C$23:$C$50,0)),0),0)*$H146*$X146*$Y146),$D146)*$R146","v":0},{"$f":"MIN((IFERROR(IF(AND($V146<=AB$1,$W146>=AB$1),INDEX(Reliability!G$23:G$50,MATCH($S146,Reliability!$C$23:$C$50,0)),0),0)*IF($T146=\"n/a\",$D146*$Y146,$G146)+IFERROR(IF(AND($V146<=AB$1,$W146>=AB$1),INDEX(Reliability!G$23:G$50,MATCH($T146,Reliability!$C$23:$C$50,0)),0),0)*$H146*$X146*$Y146),$D146)*$R146","v":0},{"$f":"MIN((IFERROR(IF(AND($V146<=AC$1,$W146>=AC$1),INDEX(Reliability!H$23:H$50,MATCH($S146,Reliability!$C$23:$C$50,0)),0),0)*IF($T146=\"n/a\",$D146*$Y146,$G146)+IFERROR(IF(AND($V146<=AC$1,$W146>=AC$1),INDEX(Reliability!H$23:H$50,MATCH($T146,Reliability!$C$23:$C$50,0)),0),0)*$H146*$X146*$Y146),$D146)*$R146","v":0},{"$f":"MIN((IFERROR(IF(AND($V146<=AD$1,$W146>=AD$1),INDEX(Reliability!I$23:I$50,MATCH($S146,Reliability!$C$23:$C$50,0)),0),0)*IF($T146=\"n/a\",$D146*$Y146,$G146)+IFERROR(IF(AND($V146<=AD$1,$W146>=AD$1),INDEX(Reliability!I$23:I$50,MATCH($T146,Reliability!$C$23:$C$50,0)),0),0)*$H146*$X146*$Y146),$D146)*$R146","v":0},{"$f":"MIN((IFERROR(IF(AND($V146<=AE$1,$W146>=AE$1),INDEX(Reliability!J$23:J$50,MATCH($S146,Reliability!$C$23:$C$50,0)),0),0)*IF($T146=\"n/a\",$D146*$Y146,$G146)+IFERROR(IF(AND($V146<=AE$1,$W146>=AE$1),INDEX(Reliability!J$23:J$50,MATCH($T146,Reliability!$C$23:$C$50,0)),0),0)*$H146*$X146*$Y146),$D146)*$R146","v":0},{"$f":"MIN((IFERROR(IF(AND($V146<=AF$1,$W146>=AF$1),INDEX(Reliability!K$23:K$50,MATCH($S146,Reliability!$C$23:$C$50,0)),0),0)*IF($T146=\"n/a\",$D146*$Y146,$G146)+IFERROR(IF(AND($V146<=AF$1,$W146>=AF$1),INDEX(Reliability!K$23:K$50,MATCH($T146,Reliability!$C$23:$C$50,0)),0),0)*$H146*$X146*$Y146),$D146)*$R146","v":0},{"$f":"MIN((IFERROR(IF(AND($V146<=AG$1,$W146>=AG$1),INDEX(Reliability!L$23:L$50,MATCH($S146,Reliability!$C$23:$C$50,0)),0),0)*IF($T146=\"n/a\",$D146*$Y146,$G146)+IFERROR(IF(AND($V146<=AG$1,$W146>=AG$1),INDEX(Reliability!L$23:L$50,MATCH($T146,Reliability!$C$23:$C$50,0)),0),0)*$H146*$X146*$Y146),$D146)*$R146","v":0},{"$f":"MIN((IFERROR(IF(AND($V146<=AH$1,$W146>=AH$1),INDEX(Reliability!M$23:M$50,MATCH($S146,Reliability!$C$23:$C$50,0)),0),0)*IF($T146=\"n/a\",$D146*$Y146,$G146)+IFERROR(IF(AND($V146<=AH$1,$W146>=AH$1),INDEX(Reliability!M$23:M$50,MATCH($T146,Reliability!$C$23:$C$50,0)),0),0)*$H146*$X146*$Y146),$D146)*$R146","v":0},{"$f":"MIN((IFERROR(IF(AND($V146<=AI$1,$W146>=AI$1),INDEX(Reliability!N$23:N$50,MATCH($S146,Reliability!$C$23:$C$50,0)),0),0)*IF($T146=\"n/a\",$D146*$Y146,$G146)+IFERROR(IF(AND($V146<=AI$1,$W146>=AI$1),INDEX(Reliability!N$23:N$50,MATCH($T146,Reliability!$C$23:$C$50,0)),0),0)*$H146*$X146*$Y146),$D146)*$R146","v":0},{"$f":"MIN((IFERROR(IF(AND($V146<=AJ$1,$W146>=AJ$1),INDEX(Reliability!O$23:O$50,MATCH($S146,Reliability!$C$23:$C$50,0)),0),0)*IF($T146=\"n/a\",$D146*$Y146,$G146)+IFERROR(IF(AND($V146<=AJ$1,$W146>=AJ$1),INDEX(Reliability!O$23:O$50,MATCH($T146,Reliability!$C$23:$C$50,0)),0),0)*$H146*$X146*$Y146),$D146)*$R146","v":0},{"$f":"MIN((IFERROR(IF(AND($V146<=AK$1,$W146>=AK$1),INDEX(Reliability!P$23:P$50,MATCH($S146,Reliability!$C$23:$C$50,0)),0),0)*IF($T146=\"n/a\",$D146*$Y146,$G146)+IFERROR(IF(AND($V146<=AK$1,$W146>=AK$1),INDEX(Reliability!P$23:P$50,MATCH($T146,Reliability!$C$23:$C$50,0)),0),0)*$H146*$X146*$Y146),$D146)*$R146","v":0}]
[null,{"$f":"unique_contracts!B147","v":"LILIAC_6_SOLAR"},{"$f":"unique_contracts!D147","v":"Online"},{"$f":"unique_contracts!J147","v":3},{"$f":"unique_contracts!M147","v":"NotHybrid"},{"$f":"unique_contracts!N147","v":"NA"},{"$f":"unique_contracts!P147","v":0},{"$f":"unique_contracts!R147","v":0},{"$f":"unique_contracts!V147","v":0},{"$f":"unique_contracts!AB147","v":0},{"$f":"unique_contracts!AM147","v":2016},{"$f":"unique_contracts!AN147","v":9},{"$f":"unique_contracts!AO147","v":17},{"$f":"unique_contracts!AP147","v":2036},{"$f":"unique_contracts!AQ147","v":9},{"$f":"unique_contracts!AR147","v":16},{"$f":"unique_contracts!BP147","v":"EnergyCapacity"},1,{"$f":"IFERROR(IF(AND(I147>0,E147=\"NotHybrid\"),_xlfn.CONCAT(MAX(MIN(ROUNDDOWN(I147/D147,0),8),4),INDEX(resources!$G:$G,MATCH(B147,resources!$A:$A,0))),INDEX(resources!$G:$G,MATCH(B147,resources!$A:$A,0))),\"n/a\")","v":"utility_pv"},"n/a","utility_pv",2017,2035,1,1,{"$f":"MIN((IFERROR(IF(AND($V147<=Z$1,$W147>=Z$1),INDEX(Reliability!E$23:E$50,MATCH($S147,Reliability!$C$23:$C$50,0)),0),0)*IF($T147=\"n/a\",$D147*$Y147,$G147)+IFERROR(IF(AND($V147<=Z$1,$W147>=Z$1),INDEX(Reliability!E$23:E$50,MATCH($T147,Reliability!$C$23:$C$50,0)),0),0)*$H147*$X147*$Y147),$D147)*$R147","v":0.28800000000000003},{"$f":"MIN((IFERROR(IF(AND($V147<=AA$1,$W147>=AA$1),INDEX(Reliability!F$23:F$50,MATCH($S147,Reliability!$C$23:$C$50,0)),0),0)*IF($T147=\"n/a\",$D147*$Y147,$G147)+IFERROR(IF(AND($V147<=AA$1,$W147>=AA$1),INDEX(Reliability!F$23:F$50,MATCH($T147,Reliability!$C$23:$C$50,0)),0),0)*$H147*$X147*$Y147),$D147)*$R147","v":0.3066019305776948},{"$f":"MIN((IFERROR(IF(AND($V147<=AB$1,$W147>=AB$1),INDEX(Reliability!G$23:G$50,MATCH($S147,Reliability!$C$23:$C$50,0)),0),0)*IF($T147=\"n/a\",$D147*$Y147,$G147)+IFERROR(IF(AND($V147<=AB$1,$W147>=AB$1),INDEX(Reliability!G$23:G$50,MATCH($T147,Reliability!$C$23:$C$50,0)),0),0)*$H147*$X147*$Y147),$D147)*$R147","v":0.32520386115538968},{"$f":"MIN((IFERROR(IF(AND($V147<=AC$1,$W147>=AC$1),INDEX(Reliability!H$23:H$50,MATCH($S147,Reliability!$C$23:$C$50,0)),0),0)*IF($T147=\"n/a\",$D147*$Y147,$G147)+IFERROR(IF(AND($V147<=AC$1,$W147>=AC$1),INDEX(Reliability!H$23:H$50,MATCH($T147,Reliability!$C$23:$C$50,0)),0),0)*$H147*$X147*$Y147),$D147)*$R147","v":0.30504096612910558},{"$f":"MIN((IFERROR(IF(AND($V147<=AD$1,$W147>=AD$1),INDEX(Reliability!I$23:I$50,MATCH($S147,Reliability!$C$23:$C$50,0)),0),0)*IF($T147=\"n/a\",$D147*$Y147,$G147)+IFERROR(IF(AND($V147<=AD$1,$W147>=AD$1),INDEX(Reliability!I$23:I$50,MATCH($T147,Reliability!$C$23:$C$50,0)),0),0)*$H147*$X147*$Y147),$D147)*$R147","v":0.28487807110282148},{"$f":"MIN((IFERROR(IF(AND($V147<=AE$1,$W147>=AE$1),INDEX(Reliability!J$23:J$50,MATCH($S147,Reliability!$C$23:$C$50,0)),0),0)*IF($T147=\"n/a\",$D147*$Y147,$G147)+IFERROR(IF(AND($V147<=AE$1,$W147>=AE$1),INDEX(Reliability!J$23:J$50,MATCH($T147,Reliability!$C$23:$C$50,0)),0),0)*$H147*$X147*$Y147),$D147)*$R147","v":0.23243903555141074},{"$f":"MIN((IFERROR(IF(AND($V147<=AF$1,$W147>=AF$1),INDEX(Reliability!K$23:K$50,MATCH($S147,Reliability!$C$23:$C$50,0)),0),0)*IF($T147=\"n/a\",$D147*$Y147,$G147)+IFERROR(IF(AND($V147<=AF$1,$W147>=AF$1),INDEX(Reliability!K$23:K$50,MATCH($T147,Reliability!$C$23:$C$50,0)),0),0)*$H147*$X147*$Y147),$D147)*$R147","v":0.18},{"$f":"MIN((IFERROR(IF(AND($V147<=AG$1,$W147>=AG$1),INDEX(Reliability!L$23:L$50,MATCH($S147,Reliability!$C$23:$C$50,0)),0),0)*IF($T147=\"n/a\",$D147*$Y147,$G147)+IFERROR(IF(AND($V147<=AG$1,$W147>=AG$1),INDEX(Reliability!L$23:L$50,MATCH($T147,Reliability!$C$23:$C$50,0)),0),0)*$H147*$X147*$Y147),$D147)*$R147","v":0.18240000000000001},{"$f":"MIN((IFERROR(IF(AND($V147<=AH$1,$W147>=AH$1),INDEX(Reliability!M$23:M$50,MATCH($S147,Reliability!$C$23:$C$50,0)),0),0)*IF($T147=\"n/a\",$D147*$Y147,$G147)+IFERROR(IF(AND($V147<=AH$1,$W147>=AH$1),INDEX(Reliability!M$23:M$50,MATCH($T147,Reliability!$C$23:$C$50,0)),0),0)*$H147*$X147*$Y147),$D147)*$R147","v":0.18480000000000002},{"$f":"MIN((IFERROR(IF(AND($V147<=AI$1,$W147>=AI$1),INDEX(Reliability!N$23:N$50,MATCH($S147,Reliability!$C$23:$C$50,0)),0),0)*IF($T147=\"n/a\",$D147*$Y147,$G147)+IFERROR(IF(AND($V147<=AI$1,$W147>=AI$1),INDEX(Reliability!N$23:N$50,MATCH($T147,Reliability!$C$23:$C$50,0)),0),0)*$H147*$X147*$Y147),$D147)*$R147","v":0.18720000000000001},{"$f":"MIN((IFERROR(IF(AND($V147<=AJ$1,$W147>=AJ$1),INDEX(Reliability!O$23:O$50,MATCH($S147,Reliability!$C$23:$C$50,0)),0),0)*IF($T147=\"n/a\",$D147*$Y147,$G147)+IFERROR(IF(AND($V147<=AJ$1,$W147>=AJ$1),INDEX(Reliability!O$23:O$50,MATCH($T147,Reliability!$C$23:$C$50,0)),0),0)*$H147*$X147*$Y147),$D147)*$R147","v":0.18960000000000002},{"$f":"MIN((IFERROR(IF(AND($V147<=AK$1,$W147>=AK$1),INDEX(Reliability!P$23:P$50,MATCH($S147,Reliability!$C$23:$C$50,0)),0),0)*IF($T147=\"n/a\",$D147*$Y147,$G147)+IFERROR(IF(AND($V147<=AK$1,$W147>=AK$1),INDEX(Reliability!P$23:P$50,MATCH($T147,Reliability!$C$23:$C$50,0)),0),0)*$H147*$X147*$Y147),$D147)*$R147","v":0.192}]
[null,{"$f":"unique_contracts!B148","v":"VLCNTR_6_VCSLR"},{"$f":"unique_contracts!D148","v":"Online"},{"$f":"unique_contracts!J148","v":2.33},{"$f":"unique_contracts!M148","v":"NotHybrid"},{"$f":"unique_contracts!N148","v":"NA"},{"$f":"unique_contracts!P148","v":0},{"$f":"unique_contracts!R148","v":0},{"$f":"unique_contracts!V148","v":0},{"$f":"unique_contracts!AB148","v":0},{"$f":"unique_contracts!AM148","v":2016},{"$f":"unique_contracts!AN148","v":12},{"$f":"unique_contracts!AO148","v":7},{"$f":"unique_contracts!AP148","v":2036},{"$f":"unique_contracts!AQ148","v":12},{"$f":"unique_contracts!AR148","v":6},{"$f":"unique_contracts!BP148","v":"EnergyCapacity"},1,{"$f":"IFERROR(IF(AND(I148>0,E148=\"NotHybrid\"),_xlfn.CONCAT(MAX(MIN(ROUNDDOWN(I148/D148,0),8),4),INDEX(resources!$G:$G,MATCH(B148,resources!$A:$A,0))),INDEX(resources!$G:$G,MATCH(B148,resources!$A:$A,0))),\"n/a\")","v":"utility_pv"},"n/a","utility_pv",2017,2036,1,1,{"$f":"MIN((IFERROR(IF(AND($V148<=Z$1,$W148>=Z$1),INDEX(Reliability!E$23:E$50,MATCH($S148,Reliability!$C$23:$C$50,0)),0),0)*IF($T148=\"n/a\",$D148*$Y148,$G148)+IFERROR(IF(AND($V148<=Z$1,$W148>=Z$1),INDEX(Reliability!E$23:E$50,MATCH($T148,Reliability!$C$23:$C$50,0)),0),0)*$H148*$X148*$Y148),$D148)*$R148","v":0.22368000000000002},{"$f":"MIN((IFERROR(IF(AND($V148<=AA$1,$W148>=AA$1),INDEX(Reliability!F$23:F$50,MATCH($S148,Reliability!$C$23:$C$50,0)),0),0)*IF($T148=\"n/a\",$D148*$Y148,$G148)+IFERROR(IF(AND($V148<=AA$1,$W148>=AA$1),INDEX(Reliability!F$23:F$50,MATCH($T148,Reliability!$C$23:$C$50,0)),0),0)*$H148*$X148*$Y148),$D148)*$R148","v":0.238127499415343},{"$f":"MIN((IFERROR(IF(AND($V148<=AB$1,$W148>=AB$1),INDEX(Reliability!G$23:G$50,MATCH($S148,Reliability!$C$23:$C$50,0)),0),0)*IF($T148=\"n/a\",$D148*$Y148,$G148)+IFERROR(IF(AND($V148<=AB$1,$W148>=AB$1),INDEX(Reliability!G$23:G$50,MATCH($T148,Reliability!$C$23:$C$50,0)),0),0)*$H148*$X148*$Y148),$D148)*$R148","v":0.25257499883068601},{"$f":"MIN((IFERROR(IF(AND($V148<=AC$1,$W148>=AC$1),INDEX(Reliability!H$23:H$50,MATCH($S148,Reliability!$C$23:$C$50,0)),0),0)*IF($T148=\"n/a\",$D148*$Y148,$G148)+IFERROR(IF(AND($V148<=AC$1,$W148>=AC$1),INDEX(Reliability!H$23:H$50,MATCH($T148,Reliability!$C$23:$C$50,0)),0),0)*$H148*$X148*$Y148),$D148)*$R148","v":0.23691515036027203},{"$f":"MIN((IFERROR(IF(AND($V148<=AD$1,$W148>=AD$1),INDEX(Reliability!I$23:I$50,MATCH($S148,Reliability!$C$23:$C$50,0)),0),0)*IF($T148=\"n/a\",$D148*$Y148,$G148)+IFERROR(IF(AND($V148<=AD$1,$W148>=AD$1),INDEX(Reliability!I$23:I$50,MATCH($T148,Reliability!$C$23:$C$50,0)),0),0)*$H148*$X148*$Y148),$D148)*$R148","v":0.22125530188985804},{"$f":"MIN((IFERROR(IF(AND($V148<=AE$1,$W148>=AE$1),INDEX(Reliability!J$23:J$50,MATCH($S148,Reliability!$C$23:$C$50,0)),0),0)*IF($T148=\"n/a\",$D148*$Y148,$G148)+IFERROR(IF(AND($V148<=AE$1,$W148>=AE$1),INDEX(Reliability!J$23:J$50,MATCH($T148,Reliability!$C$23:$C$50,0)),0),0)*$H148*$X148*$Y148),$D148)*$R148","v":0.18052765094492901},{"$f":"MIN((IFERROR(IF(AND($V148<=AF$1,$W148>=AF$1),INDEX(Reliability!K$23:K$50,MATCH($S148,Reliability!$C$23:$C$50,0)),0),0)*IF($T148=\"n/a\",$D148*$Y148,$G148)+IFERROR(IF(AND($V148<=AF$1,$W148>=AF$1),INDEX(Reliability!K$23:K$50,MATCH($T148,Reliability!$C$23:$C$50,0)),0),0)*$H148*$X148*$Y148),$D148)*$R148","v":0.13980000000000001},{"$f":"MIN((IFERROR(IF(AND($V148<=AG$1,$W148>=AG$1),INDEX(Reliability!L$23:L$50,MATCH($S148,Reliability!$C$23:$C$50,0)),0),0)*IF($T148=\"n/a\",$D148*$Y148,$G148)+IFERROR(IF(AND($V148<=AG$1,$W148>=AG$1),INDEX(Reliability!L$23:L$50,MATCH($T148,Reliability!$C$23:$C$50,0)),0),0)*$H148*$X148*$Y148),$D148)*$R148","v":0.14166400000000001},{"$f":"MIN((IFERROR(IF(AND($V148<=AH$1,$W148>=AH$1),INDEX(Reliability!M$23:M$50,MATCH($S148,Reliability!$C$23:$C$50,0)),0),0)*IF($T148=\"n/a\",$D148*$Y148,$G148)+IFERROR(IF(AND($V148<=AH$1,$W148>=AH$1),INDEX(Reliability!M$23:M$50,MATCH($T148,Reliability!$C$23:$C$50,0)),0),0)*$H148*$X148*$Y148),$D148)*$R148","v":0.14352800000000002},{"$f":"MIN((IFERROR(IF(AND($V148<=AI$1,$W148>=AI$1),INDEX(Reliability!N$23:N$50,MATCH($S148,Reliability!$C$23:$C$50,0)),0),0)*IF($T148=\"n/a\",$D148*$Y148,$G148)+IFERROR(IF(AND($V148<=AI$1,$W148>=AI$1),INDEX(Reliability!N$23:N$50,MATCH($T148,Reliability!$C$23:$C$50,0)),0),0)*$H148*$X148*$Y148),$D148)*$R148","v":0.14539200000000002},{"$f":"MIN((IFERROR(IF(AND($V148<=AJ$1,$W148>=AJ$1),INDEX(Reliability!O$23:O$50,MATCH($S148,Reliability!$C$23:$C$50,0)),0),0)*IF($T148=\"n/a\",$D148*$Y148,$G148)+IFERROR(IF(AND($V148<=AJ$1,$W148>=AJ$1),INDEX(Reliability!O$23:O$50,MATCH($T148,Reliability!$C$23:$C$50,0)),0),0)*$H148*$X148*$Y148),$D148)*$R148","v":0.14725600000000003},{"$f":"MIN((IFERROR(IF(AND($V148<=AK$1,$W148>=AK$1),INDEX(Reliability!P$23:P$50,MATCH($S148,Reliability!$C$23:$C$50,0)),0),0)*IF($T148=\"n/a\",$D148*$Y148,$G148)+IFERROR(IF(AND($V148<=AK$1,$W148>=AK$1),INDEX(Reliability!P$23:P$50,MATCH($T148,Reliability!$C$23:$C$50,0)),0),0)*$H148*$X148*$Y148),$D148)*$R148","v":0.14912}]
[null,{"$f":"unique_contracts!B149","v":"MIDWY3_2_MDSSR1"},{"$f":"unique_contracts!D149","v":"Online"},{"$f":"unique_contracts!J149","v":20},{"$f":"unique_contracts!M149","v":"NotHybrid"},{"$f":"unique_contracts!N149","v":"NA"},{"$f":"unique_contracts!P149","v":0},{"$f":"unique_contracts!R149","v":0},{"$f":"unique_contracts!V149","v":0},{"$f":"unique_contracts!AB149","v":0},{"$f":"unique_contracts!AM149","v":2018},{"$f":"unique_contracts!AN149","v":9},{"$f":"unique_contracts!AO149","v":6},{"$f":"unique_contracts!AP149","v":2038},{"$f":"unique_contracts!AQ149","v":9},{"$f":"unique_contracts!AR149","v":5},{"$f":"unique_contracts!BP149","v":"EnergyOnly"},0,{"$f":"IFERROR(IF(AND(I149>0,E149=\"NotHybrid\"),_xlfn.CONCAT(MAX(MIN(ROUNDDOWN(I149/D149,0),8),4),INDEX(resources!$G:$G,MATCH(B149,resources!$A:$A,0))),INDEX(resources!$G:$G,MATCH(B149,resources!$A:$A,0))),\"n/a\")","v":"utility_pv"},"n/a","utility_pv",2019,2037,1,1,{"$f":"MIN((IFERROR(IF(AND($V149<=Z$1,$W149>=Z$1),INDEX(Reliability!E$23:E$50,MATCH($S149,Reliability!$C$23:$C$50,0)),0),0)*IF($T149=\"n/a\",$D149*$Y149,$G149)+IFERROR(IF(AND($V149<=Z$1,$W149>=Z$1),INDEX(Reliability!E$23:E$50,MATCH($T149,Reliability!$C$23:$C$50,0)),0),0)*$H149*$X149*$Y149),$D149)*$R149","v":0},{"$f":"MIN((IFERROR(IF(AND($V149<=AA$1,$W149>=AA$1),INDEX(Reliability!F$23:F$50,MATCH($S149,Reliability!$C$23:$C$50,0)),0),0)*IF($T149=\"n/a\",$D149*$Y149,$G149)+IFERROR(IF(AND($V149<=AA$1,$W149>=AA$1),INDEX(Reliability!F$23:F$50,MATCH($T149,Reliability!$C$23:$C$50,0)),0),0)*$H149*$X149*$Y149),$D149)*$R149","v":0},{"$f":"MIN((IFERROR(IF(AND($V149<=AB$1,$W149>=AB$1),INDEX(Reliability!G$23:G$50,MATCH($S149,Reliability!$C$23:$C$50,0)),0),0)*IF($T149=\"n/a\",$D149*$Y149,$G149)+IFERROR(IF(AND($V149<=AB$1,$W149>=AB$1),INDEX(Reliability!G$23:G$50,MATCH($T149,Reliability!$C$23:$C$50,0)),0),0)*$H149*$X149*$Y149),$D149)*$R149","v":0},{"$f":"MIN((IFERROR(IF(AND($V149<=AC$1,$W149>=AC$1),INDEX(Reliability!H$23:H$50,MATCH($S149,Reliability!$C$23:$C$50,0)),0),0)*IF($T149=\"n/a\",$D149*$Y149,$G149)+IFERROR(IF(AND($V149<=AC$1,$W149>=AC$1),INDEX(Reliability!H$23:H$50,MATCH($T149,Reliability!$C$23:$C$50,0)),0),0)*$H149*$X149*$Y149),$D149)*$R149","v":0},{"$f":"MIN((IFERROR(IF(AND($V149<=AD$1,$W149>=AD$1),INDEX(Reliability!I$23:I$50,MATCH($S149,Reliability!$C$23:$C$50,0)),0),0)*IF($T149=\"n/a\",$D149*$Y149,$G149)+IFERROR(IF(AND($V149<=AD$1,$W149>=AD$1),INDEX(Reliability!I$23:I$50,MATCH($T149,Reliability!$C$23:$C$50,0)),0),0)*$H149*$X149*$Y149),$D149)*$R149","v":0},{"$f":"MIN((IFERROR(IF(AND($V149<=AE$1,$W149>=AE$1),INDEX(Reliability!J$23:J$50,MATCH($S149,Reliability!$C$23:$C$50,0)),0),0)*IF($T149=\"n/a\",$D149*$Y149,$G149)+IFERROR(IF(AND($V149<=AE$1,$W149>=AE$1),INDEX(Reliability!J$23:J$50,MATCH($T149,Reliability!$C$23:$C$50,0)),0),0)*$H149*$X149*$Y149),$D149)*$R149","v":0},{"$f":"MIN((IFERROR(IF(AND($V149<=AF$1,$W149>=AF$1),INDEX(Reliability!K$23:K$50,MATCH($S149,Reliability!$C$23:$C$50,0)),0),0)*IF($T149=\"n/a\",$D149*$Y149,$G149)+IFERROR(IF(AND($V149<=AF$1,$W149>=AF$1),INDEX(Reliability!K$23:K$50,MATCH($T149,Reliability!$C$23:$C$50,0)),0),0)*$H149*$X149*$Y149),$D149)*$R149","v":0},{"$f":"MIN((IFERROR(IF(AND($V149<=AG$1,$W149>=AG$1),INDEX(Reliability!L$23:L$50,MATCH($S149,Reliability!$C$23:$C$50,0)),0),0)*IF($T149=\"n/a\",$D149*$Y149,$G149)+IFERROR(IF(AND($V149<=AG$1,$W149>=AG$1),INDEX(Reliability!L$23:L$50,MATCH($T149,Reliability!$C$23:$C$50,0)),0),0)*$H149*$X149*$Y149),$D149)*$R149","v":0},{"$f":"MIN((IFERROR(IF(AND($V149<=AH$1,$W149>=AH$1),INDEX(Reliability!M$23:M$50,MATCH($S149,Reliability!$C$23:$C$50,0)),0),0)*IF($T149=\"n/a\",$D149*$Y149,$G149)+IFERROR(IF(AND($V149<=AH$1,$W149>=AH$1),INDEX(Reliability!M$23:M$50,MATCH($T149,Reliability!$C$23:$C$50,0)),0),0)*$H149*$X149*$Y149),$D149)*$R149","v":0},{"$f":"MIN((IFERROR(IF(AND($V149<=AI$1,$W149>=AI$1),INDEX(Reliability!N$23:N$50,MATCH($S149,Reliability!$C$23:$C$50,0)),0),0)*IF($T149=\"n/a\",$D149*$Y149,$G149)+IFERROR(IF(AND($V149<=AI$1,$W149>=AI$1),INDEX(Reliability!N$23:N$50,MATCH($T149,Reliability!$C$23:$C$50,0)),0),0)*$H149*$X149*$Y149),$D149)*$R149","v":0},{"$f":"MIN((IFERROR(IF(AND($V149<=AJ$1,$W149>=AJ$1),INDEX(Reliability!O$23:O$50,MATCH($S149,Reliability!$C$23:$C$50,0)),0),0)*IF($T149=\"n/a\",$D149*$Y149,$G149)+IFERROR(IF(AND($V149<=AJ$1,$W149>=AJ$1),INDEX(Reliability!O$23:O$50,MATCH($T149,Reliability!$C$23:$C$50,0)),0),0)*$H149*$X149*$Y149),$D149)*$R149","v":0},{"$f":"MIN((IFERROR(IF(AND($V149<=AK$1,$W149>=AK$1),INDEX(Reliability!P$23:P$50,MATCH($S149,Reliability!$C$23:$C$50,0)),0),0)*IF($T149=\"n/a\",$D149*$Y149,$G149)+IFERROR(IF(AND($V149<=AK$1,$W149>=AK$1),INDEX(Reliability!P$23:P$50,MATCH($T149,Reliability!$C$23:$C$50,0)),0),0)*$H149*$X149*$Y149),$D149)*$R149","v":0}]
[null,{"$f":"unique_contracts!B150","v":"_EXISTING_GENERIC_SOLAR_1AXIS"},{"$f":"unique_contracts!D150","v":"Online"},{"$f":"unique_contracts!J150","v":0},{"$f":"unique_contracts!M150","v":"NotHybrid"},{"$f":"unique_contracts!N150","v":"NA"},{"$f":"unique_contracts!P150","v":0},{"$f":"unique_contracts!R150","v":0},{"$f":"unique_contracts!V150","v":0},{"$f":"unique_contracts!AB150","v":"sell"},{"$f":"unique_contracts!AM150","v":2018},{"$f":"unique_contracts!AN150","v":9},{"$f":"unique_contracts!AO150","v":6},{"$f":"unique_contracts!AP150","v":2038},{"$f":"unique_contracts!AQ150","v":9},{"$f":"unique_contracts!AR150","v":5},{"$f":"unique_contracts!BP150","v":"EnergyOnly"},0,{"$f":"IFERROR(IF(AND(I150>0,E150=\"NotHybrid\"),_xlfn.CONCAT(MAX(MIN(ROUNDDOWN(I150/D150,0),8),4),INDEX(resources!$G:$G,MATCH(B150,resources!$A:$A,0))),INDEX(resources!$G:$G,MATCH(B150,resources!$A:$A,0))),\"n/a\")","v":"utility_pv"},"n/a","utility_pv",2019,2037,1,1,{"$f":"MIN((IFERROR(IF(AND($V150<=Z$1,$W150>=Z$1),INDEX(Reliability!E$23:E$50,MATCH($S150,Reliability!$C$23:$C$50,0)),0),0)*IF($T150=\"n/a\",$D150*$Y150,$G150)+IFERROR(IF(AND($V150<=Z$1,$W150>=Z$1),INDEX(Reliability!E$23:E$50,MATCH($T150,Reliability!$C$23:$C$50,0)),0),0)*$H150*$X150*$Y150),$D150)*$R150","v":0},{"$f":"MIN((IFERROR(IF(AND($V150<=AA$1,$W150>=AA$1),INDEX(Reliability!F$23:F$50,MATCH($S150,Reliability!$C$23:$C$50,0)),0),0)*IF($T150=\"n/a\",$D150*$Y150,$G150)+IFERROR(IF(AND($V150<=AA$1,$W150>=AA$1),INDEX(Reliability!F$23:F$50,MATCH($T150,Reliability!$C$23:$C$50,0)),0),0)*$H150*$X150*$Y150),$D150)*$R150","v":0},{"$f":"MIN((IFERROR(IF(AND($V150<=AB$1,$W150>=AB$1),INDEX(Reliability!G$23:G$50,MATCH($S150,Reliability!$C$23:$C$50,0)),0),0)*IF($T150=\"n/a\",$D150*$Y150,$G150)+IFERROR(IF(AND($V150<=AB$1,$W150>=AB$1),INDEX(Reliability!G$23:G$50,MATCH($T150,Reliability!$C$23:$C$50,0)),0),0)*$H150*$X150*$Y150),$D150)*$R150","v":0},{"$f":"MIN((IFERROR(IF(AND($V150<=AC$1,$W150>=AC$1),INDEX(Reliability!H$23:H$50,MATCH($S150,Reliability!$C$23:$C$50,0)),0),0)*IF($T150=\"n/a\",$D150*$Y150,$G150)+IFERROR(IF(AND($V150<=AC$1,$W150>=AC$1),INDEX(Reliability!H$23:H$50,MATCH($T150,Reliability!$C$23:$C$50,0)),0),0)*$H150*$X150*$Y150),$D150)*$R150","v":0},{"$f":"MIN((IFERROR(IF(AND($V150<=AD$1,$W150>=AD$1),INDEX(Reliability!I$23:I$50,MATCH($S150,Reliability!$C$23:$C$50,0)),0),0)*IF($T150=\"n/a\",$D150*$Y150,$G150)+IFERROR(IF(AND($V150<=AD$1,$W150>=AD$1),INDEX(Reliability!I$23:I$50,MATCH($T150,Reliability!$C$23:$C$50,0)),0),0)*$H150*$X150*$Y150),$D150)*$R150","v":0},{"$f":"MIN((IFERROR(IF(AND($V150<=AE$1,$W150>=AE$1),INDEX(Reliability!J$23:J$50,MATCH($S150,Reliability!$C$23:$C$50,0)),0),0)*IF($T150=\"n/a\",$D150*$Y150,$G150)+IFERROR(IF(AND($V150<=AE$1,$W150>=AE$1),INDEX(Reliability!J$23:J$50,MATCH($T150,Reliability!$C$23:$C$50,0)),0),0)*$H150*$X150*$Y150),$D150)*$R150","v":0},{"$f":"MIN((IFERROR(IF(AND($V150<=AF$1,$W150>=AF$1),INDEX(Reliability!K$23:K$50,MATCH($S150,Reliability!$C$23:$C$50,0)),0),0)*IF($T150=\"n/a\",$D150*$Y150,$G150)+IFERROR(IF(AND($V150<=AF$1,$W150>=AF$1),INDEX(Reliability!K$23:K$50,MATCH($T150,Reliability!$C$23:$C$50,0)),0),0)*$H150*$X150*$Y150),$D150)*$R150","v":0},{"$f":"MIN((IFERROR(IF(AND($V150<=AG$1,$W150>=AG$1),INDEX(Reliability!L$23:L$50,MATCH($S150,Reliability!$C$23:$C$50,0)),0),0)*IF($T150=\"n/a\",$D150*$Y150,$G150)+IFERROR(IF(AND($V150<=AG$1,$W150>=AG$1),INDEX(Reliability!L$23:L$50,MATCH($T150,Reliability!$C$23:$C$50,0)),0),0)*$H150*$X150*$Y150),$D150)*$R150","v":0},{"$f":"MIN((IFERROR(IF(AND($V150<=AH$1,$W150>=AH$1),INDEX(Reliability!M$23:M$50,MATCH($S150,Reliability!$C$23:$C$50,0)),0),0)*IF($T150=\"n/a\",$D150*$Y150,$G150)+IFERROR(IF(AND($V150<=AH$1,$W150>=AH$1),INDEX(Reliability!M$23:M$50,MATCH($T150,Reliability!$C$23:$C$50,0)),0),0)*$H150*$X150*$Y150),$D150)*$R150","v":0},{"$f":"MIN((IFERROR(IF(AND($V150<=AI$1,$W150>=AI$1),INDEX(Reliability!N$23:N$50,MATCH($S150,Reliability!$C$23:$C$50,0)),0),0)*IF($T150=\"n/a\",$D150*$Y150,$G150)+IFERROR(IF(AND($V150<=AI$1,$W150>=AI$1),INDEX(Reliability!N$23:N$50,MATCH($T150,Reliability!$C$23:$C$50,0)),0),0)*$H150*$X150*$Y150),$D150)*$R150","v":0},{"$f":"MIN((IFERROR(IF(AND($V150<=AJ$1,$W150>=AJ$1),INDEX(Reliability!O$23:O$50,MATCH($S150,Reliability!$C$23:$C$50,0)),0),0)*IF($T150=\"n/a\",$D150*$Y150,$G150)+IFERROR(IF(AND($V150<=AJ$1,$W150>=AJ$1),INDEX(Reliability!O$23:O$50,MATCH($T150,Reliability!$C$23:$C$50,0)),0),0)*$H150*$X150*$Y150),$D150)*$R150","v":0},{"$f":"MIN((IFERROR(IF(AND($V150<=AK$1,$W150>=AK$1),INDEX(Reliability!P$23:P$50,MATCH($S150,Reliability!$C$23:$C$50,0)),0),0)*IF($T150=\"n/a\",$D150*$Y150,$G150)+IFERROR(IF(AND($V150<=AK$1,$W150>=AK$1),INDEX(Reliability!P$23:P$50,MATCH($T150,Reliability!$C$23:$C$50,0)),0),0)*$H150*$X150*$Y150),$D150)*$R150","v":0}]
[null,{"$f":"unique_contracts!B151","v":"_EXISTING_GENERIC_SOLAR_1AXIS"},{"$f":"unique_contracts!D151","v":"Online"},{"$f":"unique_contracts!J151","v":20},{"$f":"unique_contracts!M151","v":"NotHybrid"},{"$f":"unique_contracts!N151","v":"NA"},{"$f":"unique_contracts!P151","v":0},{"$f":"unique_contracts!R151","v":0},{"$f":"unique_contracts!V151","v":0},{"$f":"unique_contracts!AB151","v":0},{"$f":"unique_contracts!AM151","v":2022},{"$f":"unique_contracts!AN151","v":7},{"$f":"unique_contracts!AO151","v":15},{"$f":"unique_contracts!AP151","v":2042},{"$f":"unique_contracts!AQ151","v":7},{"$f":"unique_contracts!AR151","v":14},{"$f":"unique_contracts!BP151","v":"EnergyCapacity"},1,{"$f":"IFERROR(IF(AND(I151>0,E151=\"NotHybrid\"),_xlfn.CONCAT(MAX(MIN(ROUNDDOWN(I151/D151,0),8),4),INDEX(resources!$G:$G,MATCH(B151,resources!$A:$A,0))),INDEX(resources!$G:$G,MATCH(B151,resources!$A:$A,0))),\"n/a\")","v":"utility_pv"},"n/a","utility_pv",2023,2041,1,1,{"$f":"MIN((IFERROR(IF(AND($V151<=Z$1,$W151>=Z$1),INDEX(Reliability!E$23:E$50,MATCH($S151,Reliability!$C$23:$C$50,0)),0),0)*IF($T151=\"n/a\",$D151*$Y151,$G151)+IFERROR(IF(AND($V151<=Z$1,$W151>=Z$1),INDEX(Reliability!E$23:E$50,MATCH($T151,Reliability!$C$23:$C$50,0)),0),0)*$H151*$X151*$Y151),$D151)*$R151","v":1.92},{"$f":"MIN((IFERROR(IF(AND($V151<=AA$1,$W151>=AA$1),INDEX(Reliability!F$23:F$50,MATCH($S151,Reliability!$C$23:$C$50,0)),0),0)*IF($T151=\"n/a\",$D151*$Y151,$G151)+IFERROR(IF(AND($V151<=AA$1,$W151>=AA$1),INDEX(Reliability!F$23:F$50,MATCH($T151,Reliability!$C$23:$C$50,0)),0),0)*$H151*$X151*$Y151),$D151)*$R151","v":2.0440128705179657},{"$f":"MIN((IFERROR(IF(AND($V151<=AB$1,$W151>=AB$1),INDEX(Reliability!G$23:G$50,MATCH($S151,Reliability!$C$23:$C$50,0)),0),0)*IF($T151=\"n/a\",$D151*$Y151,$G151)+IFERROR(IF(AND($V151<=AB$1,$W151>=AB$1),INDEX(Reliability!G$23:G$50,MATCH($T151,Reliability!$C$23:$C$50,0)),0),0)*$H151*$X151*$Y151),$D151)*$R151","v":2.1680257410359314},{"$f":"MIN((IFERROR(IF(AND($V151<=AC$1,$W151>=AC$1),INDEX(Reliability!H$23:H$50,MATCH($S151,Reliability!$C$23:$C$50,0)),0),0)*IF($T151=\"n/a\",$D151*$Y151,$G151)+IFERROR(IF(AND($V151<=AC$1,$W151>=AC$1),INDEX(Reliability!H$23:H$50,MATCH($T151,Reliability!$C$23:$C$50,0)),0),0)*$H151*$X151*$Y151),$D151)*$R151","v":2.0336064408607042},{"$f":"MIN((IFERROR(IF(AND($V151<=AD$1,$W151>=AD$1),INDEX(Reliability!I$23:I$50,MATCH($S151,Reliability!$C$23:$C$50,0)),0),0)*IF($T151=\"n/a\",$D151*$Y151,$G151)+IFERROR(IF(AND($V151<=AD$1,$W151>=AD$1),INDEX(Reliability!I$23:I$50,MATCH($T151,Reliability!$C$23:$C$50,0)),0),0)*$H151*$X151*$Y151),$D151)*$R151","v":1.8991871406854766},{"$f":"MIN((IFERROR(IF(AND($V151<=AE$1,$W151>=AE$1),INDEX(Reliability!J$23:J$50,MATCH($S151,Reliability!$C$23:$C$50,0)),0),0)*IF($T151=\"n/a\",$D151*$Y151,$G151)+IFERROR(IF(AND($V151<=AE$1,$W151>=AE$1),INDEX(Reliability!J$23:J$50,MATCH($T151,Reliability!$C$23:$C$50,0)),0),0)*$H151*$X151*$Y151),$D151)*$R151","v":1.5495935703427381},{"$f":"MIN((IFERROR(IF(AND($V151<=AF$1,$W151>=AF$1),INDEX(Reliability!K$23:K$50,MATCH($S151,Reliability!$C$23:$C$50,0)),0),0)*IF($T151=\"n/a\",$D151*$Y151,$G151)+IFERROR(IF(AND($V151<=AF$1,$W151>=AF$1),INDEX(Reliability!K$23:K$50,MATCH($T151,Reliability!$C$23:$C$50,0)),0),0)*$H151*$X151*$Y151),$D151)*$R151","v":1.2},{"$f":"MIN((IFERROR(IF(AND($V151<=AG$1,$W151>=AG$1),INDEX(Reliability!L$23:L$50,MATCH($S151,Reliability!$C$23:$C$50,0)),0),0)*IF($T151=\"n/a\",$D151*$Y151,$G151)+IFERROR(IF(AND($V151<=AG$1,$W151>=AG$1),INDEX(Reliability!L$23:L$50,MATCH($T151,Reliability!$C$23:$C$50,0)),0),0)*$H151*$X151*$Y151),$D151)*$R151","v":1.216},{"$f":"MIN((IFERROR(IF(AND($V151<=AH$1,$W151>=AH$1),INDEX(Reliability!M$23:M$50,MATCH($S151,Reliability!$C$23:$C$50,0)),0),0)*IF($T151=\"n/a\",$D151*$Y151,$G151)+IFERROR(IF(AND($V151<=AH$1,$W151>=AH$1),INDEX(Reliability!M$23:M$50,MATCH($T151,Reliability!$C$23:$C$50,0)),0),0)*$H151*$X151*$Y151),$D151)*$R151","v":1.232},{"$f":"MIN((IFERROR(IF(AND($V151<=AI$1,$W151>=AI$1),INDEX(Reliability!N$23:N$50,MATCH($S151,Reliability!$C$23:$C$50,0)),0),0)*IF($T151=\"n/a\",$D151*$Y151,$G151)+IFERROR(IF(AND($V151<=AI$1,$W151>=AI$1),INDEX(Reliability!N$23:N$50,MATCH($T151,Reliability!$C$23:$C$50,0)),0),0)*$H151*$X151*$Y151),$D151)*$R151","v":1.248},{"$f":"MIN((IFERROR(IF(AND($V151<=AJ$1,$W151>=AJ$1),INDEX(Reliability!O$23:O$50,MATCH($S151,Reliability!$C$23:$C$50,0)),0),0)*IF($T151=\"n/a\",$D151*$Y151,$G151)+IFERROR(IF(AND($V151<=AJ$1,$W151>=AJ$1),INDEX(Reliability!O$23:O$50,MATCH($T151,Reliability!$C$23:$C$50,0)),0),0)*$H151*$X151*$Y151),$D151)*$R151","v":1.2640000000000002},{"$f":"MIN((IFERROR(IF(AND($V151<=AK$1,$W151>=AK$1),INDEX(Reliability!P$23:P$50,MATCH($S151,Reliability!$C$23:$C$50,0)),0),0)*IF($T151=\"n/a\",$D151*$Y151,$G151)+IFERROR(IF(AND($V151<=AK$1,$W151>=AK$1),INDEX(Reliability!P$23:P$50,MATCH($T151,Reliability!$C$23:$C$50,0)),0),0)*$H151*$X151*$Y151),$D151)*$R151","v":1.28}]
[null,{"$f":"unique_contracts!B152","v":"_EXISTING_GENERIC_SOLAR_1AXIS"},{"$f":"unique_contracts!D152","v":"Online"},{"$f":"unique_contracts!J152","v":0},{"$f":"unique_contracts!M152","v":"NotHybrid"},{"$f":"unique_contracts!N152","v":"NA"},{"$f":"unique_contracts!P152","v":0},{"$f":"unique_contracts!R152","v":0},{"$f":"unique_contracts!V152","v":0},{"$f":"unique_contracts!AB152","v":"sell"},{"$f":"unique_contracts!AM152","v":2022},{"$f":"unique_contracts!AN152","v":7},{"$f":"unique_contracts!AO152","v":15},{"$f":"unique_contracts!AP152","v":2042},{"$f":"unique_contracts!AQ152","v":7},{"$f":"unique_contracts!AR152","v":14},{"$f":"unique_contracts!BP152","v":"EnergyOnly"},0,{"$f":"IFERROR(IF(AND(I152>0,E152=\"NotHybrid\"),_xlfn.CONCAT(MAX(MIN(ROUNDDOWN(I152/D152,0),8),4),INDEX(resources!$G:$G,MATCH(B152,resources!$A:$A,0))),INDEX(resources!$G:$G,MATCH(B152,resources!$A:$A,0))),\"n/a\")","v":"utility_pv"},"n/a","utility_pv",2023,2041,1,1,{"$f":"MIN((IFERROR(IF(AND($V152<=Z$1,$W152>=Z$1),INDEX(Reliability!E$23:E$50,MATCH($S152,Reliability!$C$23:$C$50,0)),0),0)*IF($T152=\"n/a\",$D152*$Y152,$G152)+IFERROR(IF(AND($V152<=Z$1,$W152>=Z$1),INDEX(Reliability!E$23:E$50,MATCH($T152,Reliability!$C$23:$C$50,0)),0),0)*$H152*$X152*$Y152),$D152)*$R152","v":0},{"$f":"MIN((IFERROR(IF(AND($V152<=AA$1,$W152>=AA$1),INDEX(Reliability!F$23:F$50,MATCH($S152,Reliability!$C$23:$C$50,0)),0),0)*IF($T152=\"n/a\",$D152*$Y152,$G152)+IFERROR(IF(AND($V152<=AA$1,$W152>=AA$1),INDEX(Reliability!F$23:F$50,MATCH($T152,Reliability!$C$23:$C$50,0)),0),0)*$H152*$X152*$Y152),$D152)*$R152","v":0},{"$f":"MIN((IFERROR(IF(AND($V152<=AB$1,$W152>=AB$1),INDEX(Reliability!G$23:G$50,MATCH($S152,Reliability!$C$23:$C$50,0)),0),0)*IF($T152=\"n/a\",$D152*$Y152,$G152)+IFERROR(IF(AND($V152<=AB$1,$W152>=AB$1),INDEX(Reliability!G$23:G$50,MATCH($T152,Reliability!$C$23:$C$50,0)),0),0)*$H152*$X152*$Y152),$D152)*$R152","v":0},{"$f":"MIN((IFERROR(IF(AND($V152<=AC$1,$W152>=AC$1),INDEX(Reliability!H$23:H$50,MATCH($S152,Reliability!$C$23:$C$50,0)),0),0)*IF($T152=\"n/a\",$D152*$Y152,$G152)+IFERROR(IF(AND($V152<=AC$1,$W152>=AC$1),INDEX(Reliability!H$23:H$50,MATCH($T152,Reliability!$C$23:$C$50,0)),0),0)*$H152*$X152*$Y152),$D152)*$R152","v":0},{"$f":"MIN((IFERROR(IF(AND($V152<=AD$1,$W152>=AD$1),INDEX(Reliability!I$23:I$50,MATCH($S152,Reliability!$C$23:$C$50,0)),0),0)*IF($T152=\"n/a\",$D152*$Y152,$G152)+IFERROR(IF(AND($V152<=AD$1,$W152>=AD$1),INDEX(Reliability!I$23:I$50,MATCH($T152,Reliability!$C$23:$C$50,0)),0),0)*$H152*$X152*$Y152),$D152)*$R152","v":0},{"$f":"MIN((IFERROR(IF(AND($V152<=AE$1,$W152>=AE$1),INDEX(Reliability!J$23:J$50,MATCH($S152,Reliability!$C$23:$C$50,0)),0),0)*IF($T152=\"n/a\",$D152*$Y152,$G152)+IFERROR(IF(AND($V152<=AE$1,$W152>=AE$1),INDEX(Reliability!J$23:J$50,MATCH($T152,Reliability!$C$23:$C$50,0)),0),0)*$H152*$X152*$Y152),$D152)*$R152","v":0},{"$f":"MIN((IFERROR(IF(AND($V152<=AF$1,$W152>=AF$1),INDEX(Reliability!K$23:K$50,MATCH($S152,Reliability!$C$23:$C$50,0)),0),0)*IF($T152=\"n/a\",$D152*$Y152,$G152)+IFERROR(IF(AND($V152<=AF$1,$W152>=AF$1),INDEX(Reliability!K$23:K$50,MATCH($T152,Reliability!$C$23:$C$50,0)),0),0)*$H152*$X152*$Y152),$D152)*$R152","v":0},{"$f":"MIN((IFERROR(IF(AND($V152<=AG$1,$W152>=AG$1),INDEX(Reliability!L$23:L$50,MATCH($S152,Reliability!$C$23:$C$50,0)),0),0)*IF($T152=\"n/a\",$D152*$Y152,$G152)+IFERROR(IF(AND($V152<=AG$1,$W152>=AG$1),INDEX(Reliability!L$23:L$50,MATCH($T152,Reliability!$C$23:$C$50,0)),0),0)*$H152*$X152*$Y152),$D152)*$R152","v":0},{"$f":"MIN((IFERROR(IF(AND($V152<=AH$1,$W152>=AH$1),INDEX(Reliability!M$23:M$50,MATCH($S152,Reliability!$C$23:$C$50,0)),0),0)*IF($T152=\"n/a\",$D152*$Y152,$G152)+IFERROR(IF(AND($V152<=AH$1,$W152>=AH$1),INDEX(Reliability!M$23:M$50,MATCH($T152,Reliability!$C$23:$C$50,0)),0),0)*$H152*$X152*$Y152),$D152)*$R152","v":0},{"$f":"MIN((IFERROR(IF(AND($V152<=AI$1,$W152>=AI$1),INDEX(Reliability!N$23:N$50,MATCH($S152,Reliability!$C$23:$C$50,0)),0),0)*IF($T152=\"n/a\",$D152*$Y152,$G152)+IFERROR(IF(AND($V152<=AI$1,$W152>=AI$1),INDEX(Reliability!N$23:N$50,MATCH($T152,Reliability!$C$23:$C$50,0)),0),0)*$H152*$X152*$Y152),$D152)*$R152","v":0},{"$f":"MIN((IFERROR(IF(AND($V152<=AJ$1,$W152>=AJ$1),INDEX(Reliability!O$23:O$50,MATCH($S152,Reliability!$C$23:$C$50,0)),0),0)*IF($T152=\"n/a\",$D152*$Y152,$G152)+IFERROR(IF(AND($V152<=AJ$1,$W152>=AJ$1),INDEX(Reliability!O$23:O$50,MATCH($T152,Reliability!$C$23:$C$50,0)),0),0)*$H152*$X152*$Y152),$D152)*$R152","v":0},{"$f":"MIN((IFERROR(IF(AND($V152<=AK$1,$W152>=AK$1),INDEX(Reliability!P$23:P$50,MATCH($S152,Reliability!$C$23:$C$50,0)),0),0)*IF($T152=\"n/a\",$D152*$Y152,$G152)+IFERROR(IF(AND($V152<=AK$1,$W152>=AK$1),INDEX(Reliability!P$23:P$50,MATCH($T152,Reliability!$C$23:$C$50,0)),0),0)*$H152*$X152*$Y152),$D152)*$R152","v":0}]
[null,{"$f":"unique_contracts!B153","v":"CRSTWD_6_KUMYAY"},{"$f":"unique_contracts!D153","v":"Online"},{"$f":"unique_contracts!J153","v":50},{"$f":"unique_contracts!M153","v":"NotHybrid"},{"$f":"unique_contracts!N153","v":"NA"},{"$f":"unique_contracts!P153","v":0},{"$f":"unique_contracts!R153","v":0},{"$f":"unique_contracts!V153","v":0},{"$f":"unique_contracts!AB153","v":0},{"$f":"unique_contracts!AM153","v":2006},{"$f":"unique_contracts!AN153","v":3},{"$f":"unique_contracts!AO153","v":21},{"$f":"unique_contracts!AP153","v":2025},{"$f":"unique_contracts!AQ153","v":12},{"$f":"unique_contracts!AR153","v":31},{"$f":"unique_contracts!BP153","v":"EnergyCapacity"},1,{"$f":"IFERROR(IF(AND(I153>0,E153=\"NotHybrid\"),_xlfn.CONCAT(MAX(MIN(ROUNDDOWN(I153/D153,0),8),4),INDEX(resources!$G:$G,MATCH(B153,resources!$A:$A,0))),INDEX(resources!$G:$G,MATCH(B153,resources!$A:$A,0))),\"n/a\")","v":"in_state_wind_south"},"n/a","in_state_wind_south",2006,2025,1,1,{"$f":"MIN((IFERROR(IF(AND($V153<=Z$1,$W153>=Z$1),INDEX(Reliability!E$23:E$50,MATCH($S153,Reliability!$C$23:$C$50,0)),0),0)*IF($T153=\"n/a\",$D153*$Y153,$G153)+IFERROR(IF(AND($V153<=Z$1,$W153>=Z$1),INDEX(Reliability!E$23:E$50,MATCH($T153,Reliability!$C$23:$C$50,0)),0),0)*$H153*$X153*$Y153),$D153)*$R153","v":7.5514707017647256},{"$f":"MIN((IFERROR(IF(AND($V153<=AA$1,$W153>=AA$1),INDEX(Reliability!F$23:F$50,MATCH($S153,Reliability!$C$23:$C$50,0)),0),0)*IF($T153=\"n/a\",$D153*$Y153,$G153)+IFERROR(IF(AND($V153<=AA$1,$W153>=AA$1),INDEX(Reliability!F$23:F$50,MATCH($T153,Reliability!$C$23:$C$50,0)),0),0)*$H153*$X153*$Y153),$D153)*$R153","v":7.5894234514049712},{"$f":"MIN((IFERROR(IF(AND($V153<=AB$1,$W153>=AB$1),INDEX(Reliability!G$23:G$50,MATCH($S153,Reliability!$C$23:$C$50,0)),0),0)*IF($T153=\"n/a\",$D153*$Y153,$G153)+IFERROR(IF(AND($V153<=AB$1,$W153>=AB$1),INDEX(Reliability!G$23:G$50,MATCH($T153,Reliability!$C$23:$C$50,0)),0),0)*$H153*$X153*$Y153),$D153)*$R153","v":0},{"$f":"MIN((IFERROR(IF(AND($V153<=AC$1,$W153>=AC$1),INDEX(Reliability!H$23:H$50,MATCH($S153,Reliability!$C$23:$C$50,0)),0),0)*IF($T153=\"n/a\",$D153*$Y153,$G153)+IFERROR(IF(AND($V153<=AC$1,$W153>=AC$1),INDEX(Reliability!H$23:H$50,MATCH($T153,Reliability!$C$23:$C$50,0)),0),0)*$H153*$X153*$Y153),$D153)*$R153","v":0},{"$f":"MIN((IFERROR(IF(AND($V153<=AD$1,$W153>=AD$1),INDEX(Reliability!I$23:I$50,MATCH($S153,Reliability!$C$23:$C$50,0)),0),0)*IF($T153=\"n/a\",$D153*$Y153,$G153)+IFERROR(IF(AND($V153<=AD$1,$W153>=AD$1),INDEX(Reliability!I$23:I$50,MATCH($T153,Reliability!$C$23:$C$50,0)),0),0)*$H153*$X153*$Y153),$D153)*$R153","v":0},{"$f":"MIN((IFERROR(IF(AND($V153<=AE$1,$W153>=AE$1),INDEX(Reliability!J$23:J$50,MATCH($S153,Reliability!$C$23:$C$50,0)),0),0)*IF($T153=\"n/a\",$D153*$Y153,$G153)+IFERROR(IF(AND($V153<=AE$1,$W153>=AE$1),INDEX(Reliability!J$23:J$50,MATCH($T153,Reliability!$C$23:$C$50,0)),0),0)*$H153*$X153*$Y153),$D153)*$R153","v":0},{"$f":"MIN((IFERROR(IF(AND($V153<=AF$1,$W153>=AF$1),INDEX(Reliability!K$23:K$50,MATCH($S153,Reliability!$C$23:$C$50,0)),0),0)*IF($T153=\"n/a\",$D153*$Y153,$G153)+IFERROR(IF(AND($V153<=AF$1,$W153>=AF$1),INDEX(Reliability!K$23:K$50,MATCH($T153,Reliability!$C$23:$C$50,0)),0),0)*$H153*$X153*$Y153),$D153)*$R153","v":0},{"$f":"MIN((IFERROR(IF(AND($V153<=AG$1,$W153>=AG$1),INDEX(Reliability!L$23:L$50,MATCH($S153,Reliability!$C$23:$C$50,0)),0),0)*IF($T153=\"n/a\",$D153*$Y153,$G153)+IFERROR(IF(AND($V153<=AG$1,$W153>=AG$1),INDEX(Reliability!L$23:L$50,MATCH($T153,Reliability!$C$23:$C$50,0)),0),0)*$H153*$X153*$Y153),$D153)*$R153","v":0},{"$f":"MIN((IFERROR(IF(AND($V153<=AH$1,$W153>=AH$1),INDEX(Reliability!M$23:M$50,MATCH($S153,Reliability!$C$23:$C$50,0)),0),0)*IF($T153=\"n/a\",$D153*$Y153,$G153)+IFERROR(IF(AND($V153<=AH$1,$W153>=AH$1),INDEX(Reliability!M$23:M$50,MATCH($T153,Reliability!$C$23:$C$50,0)),0),0)*$H153*$X153*$Y153),$D153)*$R153","v":0},{"$f":"MIN((IFERROR(IF(AND($V153<=AI$1,$W153>=AI$1),INDEX(Reliability!N$23:N$50,MATCH($S153,Reliability!$C$23:$C$50,0)),0),0)*IF($T153=\"n/a\",$D153*$Y153,$G153)+IFERROR(IF(AND($V153<=AI$1,$W153>=AI$1),INDEX(Reliability!N$23:N$50,MATCH($T153,Reliability!$C$23:$C$50,0)),0),0)*$H153*$X153*$Y153),$D153)*$R153","v":0},{"$f":"MIN((IFERROR(IF(AND($V153<=AJ$1,$W153>=AJ$1),INDEX(Reliability!O$23:O$50,MATCH($S153,Reliability!$C$23:$C$50,0)),0),0)*IF($T153=\"n/a\",$D153*$Y153,$G153)+IFERROR(IF(AND($V153<=AJ$1,$W153>=AJ$1),INDEX(Reliability!O$23:O$50,MATCH($T153,Reliability!$C$23:$C$50,0)),0),0)*$H153*$X153*$Y153),$D153)*$R153","v":0},{"$f":"MIN((IFERROR(IF(AND($V153<=AK$1,$W153>=AK$1),INDEX(Reliability!P$23:P$50,MATCH($S153,Reliability!$C$23:$C$50,0)),0),0)*IF($T153=\"n/a\",$D153*$Y153,$G153)+IFERROR(IF(AND($V153<=AK$1,$W153>=AK$1),INDEX(Reliability!P$23:P$50,MATCH($T153,Reliability!$C$23:$C$50,0)),0),0)*$H153*$X153*$Y153),$D153)*$R153","v":0}]
[null,{"$f":"unique_contracts!B154","v":"_EXISTING_GENERIC_WIND"},{"$f":"unique_contracts!D154","v":"Online"},{"$f":"unique_contracts!J154","v":0},{"$f":"unique_contracts!M154","v":"NotHybrid"},{"$f":"unique_contracts!N154","v":"NA"},{"$f":"unique_contracts!P154","v":0},{"$f":"unique_contracts!R154","v":0},{"$f":"unique_contracts!V154","v":0},{"$f":"unique_contracts!AB154","v":"sell"},{"$f":"unique_contracts!AM154","v":2006},{"$f":"unique_contracts!AN154","v":3},{"$f":"unique_contracts!AO154","v":21},{"$f":"unique_contracts!AP154","v":2025},{"$f":"unique_contracts!AQ154","v":12},{"$f":"unique_contracts!AR154","v":31},{"$f":"unique_contracts!BP154","v":"EnergyOnly"},0,{"$f":"IFERROR(IF(AND(I154>0,E154=\"NotHybrid\"),_xlfn.CONCAT(MAX(MIN(ROUNDDOWN(I154/D154,0),8),4),INDEX(resources!$G:$G,MATCH(B154,resources!$A:$A,0))),INDEX(resources!$G:$G,MATCH(B154,resources!$A:$A,0))),\"n/a\")","v":"in_state_wind_south"},"n/a","in_state_wind_south",2006,2025,1,1,{"$f":"MIN((IFERROR(IF(AND($V154<=Z$1,$W154>=Z$1),INDEX(Reliability!E$23:E$50,MATCH($S154,Reliability!$C$23:$C$50,0)),0),0)*IF($T154=\"n/a\",$D154*$Y154,$G154)+IFERROR(IF(AND($V154<=Z$1,$W154>=Z$1),INDEX(Reliability!E$23:E$50,MATCH($T154,Reliability!$C$23:$C$50,0)),0),0)*$H154*$X154*$Y154),$D154)*$R154","v":0},{"$f":"MIN((IFERROR(IF(AND($V154<=AA$1,$W154>=AA$1),INDEX(Reliability!F$23:F$50,MATCH($S154,Reliability!$C$23:$C$50,0)),0),0)*IF($T154=\"n/a\",$D154*$Y154,$G154)+IFERROR(IF(AND($V154<=AA$1,$W154>=AA$1),INDEX(Reliability!F$23:F$50,MATCH($T154,Reliability!$C$23:$C$50,0)),0),0)*$H154*$X154*$Y154),$D154)*$R154","v":0},{"$f":"MIN((IFERROR(IF(AND($V154<=AB$1,$W154>=AB$1),INDEX(Reliability!G$23:G$50,MATCH($S154,Reliability!$C$23:$C$50,0)),0),0)*IF($T154=\"n/a\",$D154*$Y154,$G154)+IFERROR(IF(AND($V154<=AB$1,$W154>=AB$1),INDEX(Reliability!G$23:G$50,MATCH($T154,Reliability!$C$23:$C$50,0)),0),0)*$H154*$X154*$Y154),$D154)*$R154","v":0},{"$f":"MIN((IFERROR(IF(AND($V154<=AC$1,$W154>=AC$1),INDEX(Reliability!H$23:H$50,MATCH($S154,Reliability!$C$23:$C$50,0)),0),0)*IF($T154=\"n/a\",$D154*$Y154,$G154)+IFERROR(IF(AND($V154<=AC$1,$W154>=AC$1),INDEX(Reliability!H$23:H$50,MATCH($T154,Reliability!$C$23:$C$50,0)),0),0)*$H154*$X154*$Y154),$D154)*$R154","v":0},{"$f":"MIN((IFERROR(IF(AND($V154<=AD$1,$W154>=AD$1),INDEX(Reliability!I$23:I$50,MATCH($S154,Reliability!$C$23:$C$50,0)),0),0)*IF($T154=\"n/a\",$D154*$Y154,$G154)+IFERROR(IF(AND($V154<=AD$1,$W154>=AD$1),INDEX(Reliability!I$23:I$50,MATCH($T154,Reliability!$C$23:$C$50,0)),0),0)*$H154*$X154*$Y154),$D154)*$R154","v":0},{"$f":"MIN((IFERROR(IF(AND($V154<=AE$1,$W154>=AE$1),INDEX(Reliability!J$23:J$50,MATCH($S154,Reliability!$C$23:$C$50,0)),0),0)*IF($T154=\"n/a\",$D154*$Y154,$G154)+IFERROR(IF(AND($V154<=AE$1,$W154>=AE$1),INDEX(Reliability!J$23:J$50,MATCH($T154,Reliability!$C$23:$C$50,0)),0),0)*$H154*$X154*$Y154),$D154)*$R154","v":0},{"$f":"MIN((IFERROR(IF(AND($V154<=AF$1,$W154>=AF$1),INDEX(Reliability!K$23:K$50,MATCH($S154,Reliability!$C$23:$C$50,0)),0),0)*IF($T154=\"n/a\",$D154*$Y154,$G154)+IFERROR(IF(AND($V154<=AF$1,$W154>=AF$1),INDEX(Reliability!K$23:K$50,MATCH($T154,Reliability!$C$23:$C$50,0)),0),0)*$H154*$X154*$Y154),$D154)*$R154","v":0},{"$f":"MIN((IFERROR(IF(AND($V154<=AG$1,$W154>=AG$1),INDEX(Reliability!L$23:L$50,MATCH($S154,Reliability!$C$23:$C$50,0)),0),0)*IF($T154=\"n/a\",$D154*$Y154,$G154)+IFERROR(IF(AND($V154<=AG$1,$W154>=AG$1),INDEX(Reliability!L$23:L$50,MATCH($T154,Reliability!$C$23:$C$50,0)),0),0)*$H154*$X154*$Y154),$D154)*$R154","v":0},{"$f":"MIN((IFERROR(IF(AND($V154<=AH$1,$W154>=AH$1),INDEX(Reliability!M$23:M$50,MATCH($S154,Reliability!$C$23:$C$50,0)),0),0)*IF($T154=\"n/a\",$D154*$Y154,$G154)+IFERROR(IF(AND($V154<=AH$1,$W154>=AH$1),INDEX(Reliability!M$23:M$50,MATCH($T154,Reliability!$C$23:$C$50,0)),0),0)*$H154*$X154*$Y154),$D154)*$R154","v":0},{"$f":"MIN((IFERROR(IF(AND($V154<=AI$1,$W154>=AI$1),INDEX(Reliability!N$23:N$50,MATCH($S154,Reliability!$C$23:$C$50,0)),0),0)*IF($T154=\"n/a\",$D154*$Y154,$G154)+IFERROR(IF(AND($V154<=AI$1,$W154>=AI$1),INDEX(Reliability!N$23:N$50,MATCH($T154,Reliability!$C$23:$C$50,0)),0),0)*$H154*$X154*$Y154),$D154)*$R154","v":0},{"$f":"MIN((IFERROR(IF(AND($V154<=AJ$1,$W154>=AJ$1),INDEX(Reliability!O$23:O$50,MATCH($S154,Reliability!$C$23:$C$50,0)),0),0)*IF($T154=\"n/a\",$D154*$Y154,$G154)+IFERROR(IF(AND($V154<=AJ$1,$W154>=AJ$1),INDEX(Reliability!O$23:O$50,MATCH($T154,Reliability!$C$23:$C$50,0)),0),0)*$H154*$X154*$Y154),$D154)*$R154","v":0},{"$f":"MIN((IFERROR(IF(AND($V154<=AK$1,$W154>=AK$1),INDEX(Reliability!P$23:P$50,MATCH($S154,Reliability!$C$23:$C$50,0)),0),0)*IF($T154=\"n/a\",$D154*$Y154,$G154)+IFERROR(IF(AND($V154<=AK$1,$W154>=AK$1),INDEX(Reliability!P$23:P$50,MATCH($T154,Reliability!$C$23:$C$50,0)),0),0)*$H154*$X154*$Y154),$D154)*$R154","v":0}]
[null,{"$f":"unique_contracts!B155","v":"_CREZ_UNBUNDLEDREC_NW_EXT_TX_WIND"},{"$f":"unique_contracts!D155","v":"Online"},{"$f":"unique_contracts!J155","v":0},{"$f":"unique_contracts!M155","v":"NotHybrid"},{"$f":"unique_contracts!N155","v":"NA"},{"$f":"unique_contracts!P155","v":0},{"$f":"unique_contracts!R155","v":0},{"$f":"unique_contracts!V155","v":0},{"$f":"unique_contracts!AB155","v":0},{"$f":"unique_contracts!AM155","v":2008},{"$f":"unique_contracts!AN155","v":12},{"$f":"unique_contracts!AO155","v":29},{"$f":"unique_contracts!AP155","v":2023},{"$f":"unique_contracts!AQ155","v":12},{"$f":"unique_contracts!AR155","v":28},{"$f":"unique_contracts!BP155","v":"EnergyOnly"},0,{"$f":"IFERROR(IF(AND(I155>0,E155=\"NotHybrid\"),_xlfn.CONCAT(MAX(MIN(ROUNDDOWN(I155/D155,0),8),4),INDEX(resources!$G:$G,MATCH(B155,resources!$A:$A,0))),INDEX(resources!$G:$G,MATCH(B155,resources!$A:$A,0))),\"n/a\")","v":"n/a"},"n/a","n/a",2009,2023,1,1,{"$f":"MIN((IFERROR(IF(AND($V155<=Z$1,$W155>=Z$1),INDEX(Reliability!E$23:E$50,MATCH($S155,Reliability!$C$23:$C$50,0)),0),0)*IF($T155=\"n/a\",$D155*$Y155,$G155)+IFERROR(IF(AND($V155<=Z$1,$W155>=Z$1),INDEX(Reliability!E$23:E$50,MATCH($T155,Reliability!$C$23:$C$50,0)),0),0)*$H155*$X155*$Y155),$D155)*$R155","v":0},{"$f":"MIN((IFERROR(IF(AND($V155<=AA$1,$W155>=AA$1),INDEX(Reliability!F$23:F$50,MATCH($S155,Reliability!$C$23:$C$50,0)),0),0)*IF($T155=\"n/a\",$D155*$Y155,$G155)+IFERROR(IF(AND($V155<=AA$1,$W155>=AA$1),INDEX(Reliability!F$23:F$50,MATCH($T155,Reliability!$C$23:$C$50,0)),0),0)*$H155*$X155*$Y155),$D155)*$R155","v":0},{"$f":"MIN((IFERROR(IF(AND($V155<=AB$1,$W155>=AB$1),INDEX(Reliability!G$23:G$50,MATCH($S155,Reliability!$C$23:$C$50,0)),0),0)*IF($T155=\"n/a\",$D155*$Y155,$G155)+IFERROR(IF(AND($V155<=AB$1,$W155>=AB$1),INDEX(Reliability!G$23:G$50,MATCH($T155,Reliability!$C$23:$C$50,0)),0),0)*$H155*$X155*$Y155),$D155)*$R155","v":0},{"$f":"MIN((IFERROR(IF(AND($V155<=AC$1,$W155>=AC$1),INDEX(Reliability!H$23:H$50,MATCH($S155,Reliability!$C$23:$C$50,0)),0),0)*IF($T155=\"n/a\",$D155*$Y155,$G155)+IFERROR(IF(AND($V155<=AC$1,$W155>=AC$1),INDEX(Reliability!H$23:H$50,MATCH($T155,Reliability!$C$23:$C$50,0)),0),0)*$H155*$X155*$Y155),$D155)*$R155","v":0},{"$f":"MIN((IFERROR(IF(AND($V155<=AD$1,$W155>=AD$1),INDEX(Reliability!I$23:I$50,MATCH($S155,Reliability!$C$23:$C$50,0)),0),0)*IF($T155=\"n/a\",$D155*$Y155,$G155)+IFERROR(IF(AND($V155<=AD$1,$W155>=AD$1),INDEX(Reliability!I$23:I$50,MATCH($T155,Reliability!$C$23:$C$50,0)),0),0)*$H155*$X155*$Y155),$D155)*$R155","v":0},{"$f":"MIN((IFERROR(IF(AND($V155<=AE$1,$W155>=AE$1),INDEX(Reliability!J$23:J$50,MATCH($S155,Reliability!$C$23:$C$50,0)),0),0)*IF($T155=\"n/a\",$D155*$Y155,$G155)+IFERROR(IF(AND($V155<=AE$1,$W155>=AE$1),INDEX(Reliability!J$23:J$50,MATCH($T155,Reliability!$C$23:$C$50,0)),0),0)*$H155*$X155*$Y155),$D155)*$R155","v":0},{"$f":"MIN((IFERROR(IF(AND($V155<=AF$1,$W155>=AF$1),INDEX(Reliability!K$23:K$50,MATCH($S155,Reliability!$C$23:$C$50,0)),0),0)*IF($T155=\"n/a\",$D155*$Y155,$G155)+IFERROR(IF(AND($V155<=AF$1,$W155>=AF$1),INDEX(Reliability!K$23:K$50,MATCH($T155,Reliability!$C$23:$C$50,0)),0),0)*$H155*$X155*$Y155),$D155)*$R155","v":0},{"$f":"MIN((IFERROR(IF(AND($V155<=AG$1,$W155>=AG$1),INDEX(Reliability!L$23:L$50,MATCH($S155,Reliability!$C$23:$C$50,0)),0),0)*IF($T155=\"n/a\",$D155*$Y155,$G155)+IFERROR(IF(AND($V155<=AG$1,$W155>=AG$1),INDEX(Reliability!L$23:L$50,MATCH($T155,Reliability!$C$23:$C$50,0)),0),0)*$H155*$X155*$Y155),$D155)*$R155","v":0},{"$f":"MIN((IFERROR(IF(AND($V155<=AH$1,$W155>=AH$1),INDEX(Reliability!M$23:M$50,MATCH($S155,Reliability!$C$23:$C$50,0)),0),0)*IF($T155=\"n/a\",$D155*$Y155,$G155)+IFERROR(IF(AND($V155<=AH$1,$W155>=AH$1),INDEX(Reliability!M$23:M$50,MATCH($T155,Reliability!$C$23:$C$50,0)),0),0)*$H155*$X155*$Y155),$D155)*$R155","v":0},{"$f":"MIN((IFERROR(IF(AND($V155<=AI$1,$W155>=AI$1),INDEX(Reliability!N$23:N$50,MATCH($S155,Reliability!$C$23:$C$50,0)),0),0)*IF($T155=\"n/a\",$D155*$Y155,$G155)+IFERROR(IF(AND($V155<=AI$1,$W155>=AI$1),INDEX(Reliability!N$23:N$50,MATCH($T155,Reliability!$C$23:$C$50,0)),0),0)*$H155*$X155*$Y155),$D155)*$R155","v":0},{"$f":"MIN((IFERROR(IF(AND($V155<=AJ$1,$W155>=AJ$1),INDEX(Reliability!O$23:O$50,MATCH($S155,Reliability!$C$23:$C$50,0)),0),0)*IF($T155=\"n/a\",$D155*$Y155,$G155)+IFERROR(IF(AND($V155<=AJ$1,$W155>=AJ$1),INDEX(Reliability!O$23:O$50,MATCH($T155,Reliability!$C$23:$C$50,0)),0),0)*$H155*$X155*$Y155),$D155)*$R155","v":0},{"$f":"MIN((IFERROR(IF(AND($V155<=AK$1,$W155>=AK$1),INDEX(Reliability!P$23:P$50,MATCH($S155,Reliability!$C$23:$C$50,0)),0),0)*IF($T155=\"n/a\",$D155*$Y155,$G155)+IFERROR(IF(AND($V155<=AK$1,$W155>=AK$1),INDEX(Reliability!P$23:P$50,MATCH($T155,Reliability!$C$23:$C$50,0)),0),0)*$H155*$X155*$Y155),$D155)*$R155","v":0}]
[null,{"$f":"unique_contracts!B156","v":"_CREZ_UNBUNDLEDREC_NW_EXT_TX_WIND"},{"$f":"unique_contracts!D156","v":"Online"},{"$f":"unique_contracts!J156","v":0},{"$f":"unique_contracts!M156","v":"NotHybrid"},{"$f":"unique_contracts!N156","v":"NA"},{"$f":"unique_contracts!P156","v":0},{"$f":"unique_contracts!R156","v":0},{"$f":"unique_contracts!V156","v":0},{"$f":"unique_contracts!AB156","v":"sell"},{"$f":"unique_contracts!AM156","v":2008},{"$f":"unique_contracts!AN156","v":12},{"$f":"unique_contracts!AO156","v":29},{"$f":"unique_contracts!AP156","v":2023},{"$f":"unique_contracts!AQ156","v":12},{"$f":"unique_contracts!AR156","v":28},{"$f":"unique_contracts!BP156","v":"EnergyOnly"},0,{"$f":"IFERROR(IF(AND(I156>0,E156=\"NotHybrid\"),_xlfn.CONCAT(MAX(MIN(ROUNDDOWN(I156/D156,0),8),4),INDEX(resources!$G:$G,MATCH(B156,resources!$A:$A,0))),INDEX(resources!$G:$G,MATCH(B156,resources!$A:$A,0))),\"n/a\")","v":"n/a"},"n/a","n/a",2009,2023,1,1,{"$f":"MIN((IFERROR(IF(AND($V156<=Z$1,$W156>=Z$1),INDEX(Reliability!E$23:E$50,MATCH($S156,Reliability!$C$23:$C$50,0)),0),0)*IF($T156=\"n/a\",$D156*$Y156,$G156)+IFERROR(IF(AND($V156<=Z$1,$W156>=Z$1),INDEX(Reliability!E$23:E$50,MATCH($T156,Reliability!$C$23:$C$50,0)),0),0)*$H156*$X156*$Y156),$D156)*$R156","v":0},{"$f":"MIN((IFERROR(IF(AND($V156<=AA$1,$W156>=AA$1),INDEX(Reliability!F$23:F$50,MATCH($S156,Reliability!$C$23:$C$50,0)),0),0)*IF($T156=\"n/a\",$D156*$Y156,$G156)+IFERROR(IF(AND($V156<=AA$1,$W156>=AA$1),INDEX(Reliability!F$23:F$50,MATCH($T156,Reliability!$C$23:$C$50,0)),0),0)*$H156*$X156*$Y156),$D156)*$R156","v":0},{"$f":"MIN((IFERROR(IF(AND($V156<=AB$1,$W156>=AB$1),INDEX(Reliability!G$23:G$50,MATCH($S156,Reliability!$C$23:$C$50,0)),0),0)*IF($T156=\"n/a\",$D156*$Y156,$G156)+IFERROR(IF(AND($V156<=AB$1,$W156>=AB$1),INDEX(Reliability!G$23:G$50,MATCH($T156,Reliability!$C$23:$C$50,0)),0),0)*$H156*$X156*$Y156),$D156)*$R156","v":0},{"$f":"MIN((IFERROR(IF(AND($V156<=AC$1,$W156>=AC$1),INDEX(Reliability!H$23:H$50,MATCH($S156,Reliability!$C$23:$C$50,0)),0),0)*IF($T156=\"n/a\",$D156*$Y156,$G156)+IFERROR(IF(AND($V156<=AC$1,$W156>=AC$1),INDEX(Reliability!H$23:H$50,MATCH($T156,Reliability!$C$23:$C$50,0)),0),0)*$H156*$X156*$Y156),$D156)*$R156","v":0},{"$f":"MIN((IFERROR(IF(AND($V156<=AD$1,$W156>=AD$1),INDEX(Reliability!I$23:I$50,MATCH($S156,Reliability!$C$23:$C$50,0)),0),0)*IF($T156=\"n/a\",$D156*$Y156,$G156)+IFERROR(IF(AND($V156<=AD$1,$W156>=AD$1),INDEX(Reliability!I$23:I$50,MATCH($T156,Reliability!$C$23:$C$50,0)),0),0)*$H156*$X156*$Y156),$D156)*$R156","v":0},{"$f":"MIN((IFERROR(IF(AND($V156<=AE$1,$W156>=AE$1),INDEX(Reliability!J$23:J$50,MATCH($S156,Reliability!$C$23:$C$50,0)),0),0)*IF($T156=\"n/a\",$D156*$Y156,$G156)+IFERROR(IF(AND($V156<=AE$1,$W156>=AE$1),INDEX(Reliability!J$23:J$50,MATCH($T156,Reliability!$C$23:$C$50,0)),0),0)*$H156*$X156*$Y156),$D156)*$R156","v":0},{"$f":"MIN((IFERROR(IF(AND($V156<=AF$1,$W156>=AF$1),INDEX(Reliability!K$23:K$50,MATCH($S156,Reliability!$C$23:$C$50,0)),0),0)*IF($T156=\"n/a\",$D156*$Y156,$G156)+IFERROR(IF(AND($V156<=AF$1,$W156>=AF$1),INDEX(Reliability!K$23:K$50,MATCH($T156,Reliability!$C$23:$C$50,0)),0),0)*$H156*$X156*$Y156),$D156)*$R156","v":0},{"$f":"MIN((IFERROR(IF(AND($V156<=AG$1,$W156>=AG$1),INDEX(Reliability!L$23:L$50,MATCH($S156,Reliability!$C$23:$C$50,0)),0),0)*IF($T156=\"n/a\",$D156*$Y156,$G156)+IFERROR(IF(AND($V156<=AG$1,$W156>=AG$1),INDEX(Reliability!L$23:L$50,MATCH($T156,Reliability!$C$23:$C$50,0)),0),0)*$H156*$X156*$Y156),$D156)*$R156","v":0},{"$f":"MIN((IFERROR(IF(AND($V156<=AH$1,$W156>=AH$1),INDEX(Reliability!M$23:M$50,MATCH($S156,Reliability!$C$23:$C$50,0)),0),0)*IF($T156=\"n/a\",$D156*$Y156,$G156)+IFERROR(IF(AND($V156<=AH$1,$W156>=AH$1),INDEX(Reliability!M$23:M$50,MATCH($T156,Reliability!$C$23:$C$50,0)),0),0)*$H156*$X156*$Y156),$D156)*$R156","v":0},{"$f":"MIN((IFERROR(IF(AND($V156<=AI$1,$W156>=AI$1),INDEX(Reliability!N$23:N$50,MATCH($S156,Reliability!$C$23:$C$50,0)),0),0)*IF($T156=\"n/a\",$D156*$Y156,$G156)+IFERROR(IF(AND($V156<=AI$1,$W156>=AI$1),INDEX(Reliability!N$23:N$50,MATCH($T156,Reliability!$C$23:$C$50,0)),0),0)*$H156*$X156*$Y156),$D156)*$R156","v":0},{"$f":"MIN((IFERROR(IF(AND($V156<=AJ$1,$W156>=AJ$1),INDEX(Reliability!O$23:O$50,MATCH($S156,Reliability!$C$23:$C$50,0)),0),0)*IF($T156=\"n/a\",$D156*$Y156,$G156)+IFERROR(IF(AND($V156<=AJ$1,$W156>=AJ$1),INDEX(Reliability!O$23:O$50,MATCH($T156,Reliability!$C$23:$C$50,0)),0),0)*$H156*$X156*$Y156),$D156)*$R156","v":0},{"$f":"MIN((IFERROR(IF(AND($V156<=AK$1,$W156>=AK$1),INDEX(Reliability!P$23:P$50,MATCH($S156,Reliability!$C$23:$C$50,0)),0),0)*IF($T156=\"n/a\",$D156*$Y156,$G156)+IFERROR(IF(AND($V156<=AK$1,$W156>=AK$1),INDEX(Reliability!P$23:P$50,MATCH($T156,Reliability!$C$23:$C$50,0)),0),0)*$H156*$X156*$Y156),$D156)*$R156","v":0}]
[null,{"$f":"unique_contracts!B157","v":"_CREZ_UNBUNDLEDREC_NW_EXT_TX_WIND"},{"$f":"unique_contracts!D157","v":"Online"},{"$f":"unique_contracts!J157","v":0},{"$f":"unique_contracts!M157","v":"NotHybrid"},{"$f":"unique_contracts!N157","v":"NA"},{"$f":"unique_contracts!P157","v":0},{"$f":"unique_contracts!R157","v":0},{"$f":"unique_contracts!V157","v":0},{"$f":"unique_contracts!AB157","v":0},{"$f":"unique_contracts!AM157","v":2009},{"$f":"unique_contracts!AN157","v":10},{"$f":"unique_contracts!AO157","v":16},{"$f":"unique_contracts!AP157","v":2024},{"$f":"unique_contracts!AQ157","v":10},{"$f":"unique_contracts!AR157","v":15},{"$f":"unique_contracts!BP157","v":"EnergyOnly"},0,{"$f":"IFERROR(IF(AND(I157>0,E157=\"NotHybrid\"),_xlfn.CONCAT(MAX(MIN(ROUNDDOWN(I157/D157,0),8),4),INDEX(resources!$G:$G,MATCH(B157,resources!$A:$A,0))),INDEX(resources!$G:$G,MATCH(B157,resources!$A:$A,0))),\"n/a\")","v":"n/a"},"n/a","n/a",2010,2024,1,1,{"$f":"MIN((IFERROR(IF(AND($V157<=Z$1,$W157>=Z$1),INDEX(Reliability!E$23:E$50,MATCH($S157,Reliability!$C$23:$C$50,0)),0),0)*IF($T157=\"n/a\",$D157*$Y157,$G157)+IFERROR(IF(AND($V157<=Z$1,$W157>=Z$1),INDEX(Reliability!E$23:E$50,MATCH($T157,Reliability!$C$23:$C$50,0)),0),0)*$H157*$X157*$Y157),$D157)*$R157","v":0},{"$f":"MIN((IFERROR(IF(AND($V157<=AA$1,$W157>=AA$1),INDEX(Reliability!F$23:F$50,MATCH($S157,Reliability!$C$23:$C$50,0)),0),0)*IF($T157=\"n/a\",$D157*$Y157,$G157)+IFERROR(IF(AND($V157<=AA$1,$W157>=AA$1),INDEX(Reliability!F$23:F$50,MATCH($T157,Reliability!$C$23:$C$50,0)),0),0)*$H157*$X157*$Y157),$D157)*$R157","v":0},{"$f":"MIN((IFERROR(IF(AND($V157<=AB$1,$W157>=AB$1),INDEX(Reliability!G$23:G$50,MATCH($S157,Reliability!$C$23:$C$50,0)),0),0)*IF($T157=\"n/a\",$D157*$Y157,$G157)+IFERROR(IF(AND($V157<=AB$1,$W157>=AB$1),INDEX(Reliability!G$23:G$50,MATCH($T157,Reliability!$C$23:$C$50,0)),0),0)*$H157*$X157*$Y157),$D157)*$R157","v":0},{"$f":"MIN((IFERROR(IF(AND($V157<=AC$1,$W157>=AC$1),INDEX(Reliability!H$23:H$50,MATCH($S157,Reliability!$C$23:$C$50,0)),0),0)*IF($T157=\"n/a\",$D157*$Y157,$G157)+IFERROR(IF(AND($V157<=AC$1,$W157>=AC$1),INDEX(Reliability!H$23:H$50,MATCH($T157,Reliability!$C$23:$C$50,0)),0),0)*$H157*$X157*$Y157),$D157)*$R157","v":0},{"$f":"MIN((IFERROR(IF(AND($V157<=AD$1,$W157>=AD$1),INDEX(Reliability!I$23:I$50,MATCH($S157,Reliability!$C$23:$C$50,0)),0),0)*IF($T157=\"n/a\",$D157*$Y157,$G157)+IFERROR(IF(AND($V157<=AD$1,$W157>=AD$1),INDEX(Reliability!I$23:I$50,MATCH($T157,Reliability!$C$23:$C$50,0)),0),0)*$H157*$X157*$Y157),$D157)*$R157","v":0},{"$f":"MIN((IFERROR(IF(AND($V157<=AE$1,$W157>=AE$1),INDEX(Reliability!J$23:J$50,MATCH($S157,Reliability!$C$23:$C$50,0)),0),0)*IF($T157=\"n/a\",$D157*$Y157,$G157)+IFERROR(IF(AND($V157<=AE$1,$W157>=AE$1),INDEX(Reliability!J$23:J$50,MATCH($T157,Reliability!$C$23:$C$50,0)),0),0)*$H157*$X157*$Y157),$D157)*$R157","v":0},{"$f":"MIN((IFERROR(IF(AND($V157<=AF$1,$W157>=AF$1),INDEX(Reliability!K$23:K$50,MATCH($S157,Reliability!$C$23:$C$50,0)),0),0)*IF($T157=\"n/a\",$D157*$Y157,$G157)+IFERROR(IF(AND($V157<=AF$1,$W157>=AF$1),INDEX(Reliability!K$23:K$50,MATCH($T157,Reliability!$C$23:$C$50,0)),0),0)*$H157*$X157*$Y157),$D157)*$R157","v":0},{"$f":"MIN((IFERROR(IF(AND($V157<=AG$1,$W157>=AG$1),INDEX(Reliability!L$23:L$50,MATCH($S157,Reliability!$C$23:$C$50,0)),0),0)*IF($T157=\"n/a\",$D157*$Y157,$G157)+IFERROR(IF(AND($V157<=AG$1,$W157>=AG$1),INDEX(Reliability!L$23:L$50,MATCH($T157,Reliability!$C$23:$C$50,0)),0),0)*$H157*$X157*$Y157),$D157)*$R157","v":0},{"$f":"MIN((IFERROR(IF(AND($V157<=AH$1,$W157>=AH$1),INDEX(Reliability!M$23:M$50,MATCH($S157,Reliability!$C$23:$C$50,0)),0),0)*IF($T157=\"n/a\",$D157*$Y157,$G157)+IFERROR(IF(AND($V157<=AH$1,$W157>=AH$1),INDEX(Reliability!M$23:M$50,MATCH($T157,Reliability!$C$23:$C$50,0)),0),0)*$H157*$X157*$Y157),$D157)*$R157","v":0},{"$f":"MIN((IFERROR(IF(AND($V157<=AI$1,$W157>=AI$1),INDEX(Reliability!N$23:N$50,MATCH($S157,Reliability!$C$23:$C$50,0)),0),0)*IF($T157=\"n/a\",$D157*$Y157,$G157)+IFERROR(IF(AND($V157<=AI$1,$W157>=AI$1),INDEX(Reliability!N$23:N$50,MATCH($T157,Reliability!$C$23:$C$50,0)),0),0)*$H157*$X157*$Y157),$D157)*$R157","v":0},{"$f":"MIN((IFERROR(IF(AND($V157<=AJ$1,$W157>=AJ$1),INDEX(Reliability!O$23:O$50,MATCH($S157,Reliability!$C$23:$C$50,0)),0),0)*IF($T157=\"n/a\",$D157*$Y157,$G157)+IFERROR(IF(AND($V157<=AJ$1,$W157>=AJ$1),INDEX(Reliability!O$23:O$50,MATCH($T157,Reliability!$C$23:$C$50,0)),0),0)*$H157*$X157*$Y157),$D157)*$R157","v":0},{"$f":"MIN((IFERROR(IF(AND($V157<=AK$1,$W157>=AK$1),INDEX(Reliability!P$23:P$50,MATCH($S157,Reliability!$C$23:$C$50,0)),0),0)*IF($T157=\"n/a\",$D157*$Y157,$G157)+IFERROR(IF(AND($V157<=AK$1,$W157>=AK$1),INDEX(Reliability!P$23:P$50,MATCH($T157,Reliability!$C$23:$C$50,0)),0),0)*$H157*$X157*$Y157),$D157)*$R157","v":0}]
[null,{"$f":"unique_contracts!B158","v":"_CREZ_UNBUNDLEDREC_NW_EXT_TX_WIND"},{"$f":"unique_contracts!D158","v":"Online"},{"$f":"unique_contracts!J158","v":0},{"$f":"unique_contracts!M158","v":"NotHybrid"},{"$f":"unique_contracts!N158","v":"NA"},{"$f":"unique_contracts!P158","v":0},{"$f":"unique_contracts!R158","v":0},{"$f":"unique_contracts!V158","v":0},{"$f":"unique_contracts!AB158","v":"sell"},{"$f":"unique_contracts!AM158","v":2009},{"$f":"unique_contracts!AN158","v":10},{"$f":"unique_contracts!AO158","v":16},{"$f":"unique_contracts!AP158","v":2024},{"$f":"unique_contracts!AQ158","v":10},{"$f":"unique_contracts!AR158","v":15},{"$f":"unique_contracts!BP158","v":"EnergyOnly"},0,{"$f":"IFERROR(IF(AND(I158>0,E158=\"NotHybrid\"),_xlfn.CONCAT(MAX(MIN(ROUNDDOWN(I158/D158,0),8),4),INDEX(resources!$G:$G,MATCH(B158,resources!$A:$A,0))),INDEX(resources!$G:$G,MATCH(B158,resources!$A:$A,0))),\"n/a\")","v":"n/a"},"n/a","n/a",2010,2024,1,1,{"$f":"MIN((IFERROR(IF(AND($V158<=Z$1,$W158>=Z$1),INDEX(Reliability!E$23:E$50,MATCH($S158,Reliability!$C$23:$C$50,0)),0),0)*IF($T158=\"n/a\",$D158*$Y158,$G158)+IFERROR(IF(AND($V158<=Z$1,$W158>=Z$1),INDEX(Reliability!E$23:E$50,MATCH($T158,Reliability!$C$23:$C$50,0)),0),0)*$H158*$X158*$Y158),$D158)*$R158","v":0},{"$f":"MIN((IFERROR(IF(AND($V158<=AA$1,$W158>=AA$1),INDEX(Reliability!F$23:F$50,MATCH($S158,Reliability!$C$23:$C$50,0)),0),0)*IF($T158=\"n/a\",$D158*$Y158,$G158)+IFERROR(IF(AND($V158<=AA$1,$W158>=AA$1),INDEX(Reliability!F$23:F$50,MATCH($T158,Reliability!$C$23:$C$50,0)),0),0)*$H158*$X158*$Y158),$D158)*$R158","v":0},{"$f":"MIN((IFERROR(IF(AND($V158<=AB$1,$W158>=AB$1),INDEX(Reliability!G$23:G$50,MATCH($S158,Reliability!$C$23:$C$50,0)),0),0)*IF($T158=\"n/a\",$D158*$Y158,$G158)+IFERROR(IF(AND($V158<=AB$1,$W158>=AB$1),INDEX(Reliability!G$23:G$50,MATCH($T158,Reliability!$C$23:$C$50,0)),0),0)*$H158*$X158*$Y158),$D158)*$R158","v":0},{"$f":"MIN((IFERROR(IF(AND($V158<=AC$1,$W158>=AC$1),INDEX(Reliability!H$23:H$50,MATCH($S158,Reliability!$C$23:$C$50,0)),0),0)*IF($T158=\"n/a\",$D158*$Y158,$G158)+IFERROR(IF(AND($V158<=AC$1,$W158>=AC$1),INDEX(Reliability!H$23:H$50,MATCH($T158,Reliability!$C$23:$C$50,0)),0),0)*$H158*$X158*$Y158),$D158)*$R158","v":0},{"$f":"MIN((IFERROR(IF(AND($V158<=AD$1,$W158>=AD$1),INDEX(Reliability!I$23:I$50,MATCH($S158,Reliability!$C$23:$C$50,0)),0),0)*IF($T158=\"n/a\",$D158*$Y158,$G158)+IFERROR(IF(AND($V158<=AD$1,$W158>=AD$1),INDEX(Reliability!I$23:I$50,MATCH($T158,Reliability!$C$23:$C$50,0)),0),0)*$H158*$X158*$Y158),$D158)*$R158","v":0},{"$f":"MIN((IFERROR(IF(AND($V158<=AE$1,$W158>=AE$1),INDEX(Reliability!J$23:J$50,MATCH($S158,Reliability!$C$23:$C$50,0)),0),0)*IF($T158=\"n/a\",$D158*$Y158,$G158)+IFERROR(IF(AND($V158<=AE$1,$W158>=AE$1),INDEX(Reliability!J$23:J$50,MATCH($T158,Reliability!$C$23:$C$50,0)),0),0)*$H158*$X158*$Y158),$D158)*$R158","v":0},{"$f":"MIN((IFERROR(IF(AND($V158<=AF$1,$W158>=AF$1),INDEX(Reliability!K$23:K$50,MATCH($S158,Reliability!$C$23:$C$50,0)),0),0)*IF($T158=\"n/a\",$D158*$Y158,$G158)+IFERROR(IF(AND($V158<=AF$1,$W158>=AF$1),INDEX(Reliability!K$23:K$50,MATCH($T158,Reliability!$C$23:$C$50,0)),0),0)*$H158*$X158*$Y158),$D158)*$R158","v":0},{"$f":"MIN((IFERROR(IF(AND($V158<=AG$1,$W158>=AG$1),INDEX(Reliability!L$23:L$50,MATCH($S158,Reliability!$C$23:$C$50,0)),0),0)*IF($T158=\"n/a\",$D158*$Y158,$G158)+IFERROR(IF(AND($V158<=AG$1,$W158>=AG$1),INDEX(Reliability!L$23:L$50,MATCH($T158,Reliability!$C$23:$C$50,0)),0),0)*$H158*$X158*$Y158),$D158)*$R158","v":0},{"$f":"MIN((IFERROR(IF(AND($V158<=AH$1,$W158>=AH$1),INDEX(Reliability!M$23:M$50,MATCH($S158,Reliability!$C$23:$C$50,0)),0),0)*IF($T158=\"n/a\",$D158*$Y158,$G158)+IFERROR(IF(AND($V158<=AH$1,$W158>=AH$1),INDEX(Reliability!M$23:M$50,MATCH($T158,Reliability!$C$23:$C$50,0)),0),0)*$H158*$X158*$Y158),$D158)*$R158","v":0},{"$f":"MIN((IFERROR(IF(AND($V158<=AI$1,$W158>=AI$1),INDEX(Reliability!N$23:N$50,MATCH($S158,Reliability!$C$23:$C$50,0)),0),0)*IF($T158=\"n/a\",$D158*$Y158,$G158)+IFERROR(IF(AND($V158<=AI$1,$W158>=AI$1),INDEX(Reliability!N$23:N$50,MATCH($T158,Reliability!$C$23:$C$50,0)),0),0)*$H158*$X158*$Y158),$D158)*$R158","v":0},{"$f":"MIN((IFERROR(IF(AND($V158<=AJ$1,$W158>=AJ$1),INDEX(Reliability!O$23:O$50,MATCH($S158,Reliability!$C$23:$C$50,0)),0),0)*IF($T158=\"n/a\",$D158*$Y158,$G158)+IFERROR(IF(AND($V158<=AJ$1,$W158>=AJ$1),INDEX(Reliability!O$23:O$50,MATCH($T158,Reliability!$C$23:$C$50,0)),0),0)*$H158*$X158*$Y158),$D158)*$R158","v":0},{"$f":"MIN((IFERROR(IF(AND($V158<=AK$1,$W158>=AK$1),INDEX(Reliability!P$23:P$50,MATCH($S158,Reliability!$C$23:$C$50,0)),0),0)*IF($T158=\"n/a\",$D158*$Y158,$G158)+IFERROR(IF(AND($V158<=AK$1,$W158>=AK$1),INDEX(Reliability!P$23:P$50,MATCH($T158,Reliability!$C$23:$C$50,0)),0),0)*$H158*$X158*$Y158),$D158)*$R158","v":0}]
[null,{"$f":"unique_contracts!B159","v":"_CREZ_UNBUNDLEDREC_NW_EXT_TX_WIND"},{"$f":"unique_contracts!D159","v":"Online"},{"$f":"unique_contracts!J159","v":0},{"$f":"unique_contracts!M159","v":"NotHybrid"},{"$f":"unique_contracts!N159","v":"NA"},{"$f":"unique_contracts!P159","v":0},{"$f":"unique_contracts!R159","v":0},{"$f":"unique_contracts!V159","v":0},{"$f":"unique_contracts!AB159","v":0},{"$f":"unique_contracts!AM159","v":2013},{"$f":"unique_contracts!AN159","v":10},{"$f":"unique_contracts!AO159","v":15},{"$f":"unique_contracts!AP159","v":2033},{"$f":"unique_contracts!AQ159","v":10},{"$f":"unique_contracts!AR159","v":14},{"$f":"unique_contracts!BP159","v":"EnergyOnly"},0,{"$f":"IFERROR(IF(AND(I159>0,E159=\"NotHybrid\"),_xlfn.CONCAT(MAX(MIN(ROUNDDOWN(I159/D159,0),8),4),INDEX(resources!$G:$G,MATCH(B159,resources!$A:$A,0))),INDEX(resources!$G:$G,MATCH(B159,resources!$A:$A,0))),\"n/a\")","v":"n/a"},"n/a","n/a",2014,2033,1,1,{"$f":"MIN((IFERROR(IF(AND($V159<=Z$1,$W159>=Z$1),INDEX(Reliability!E$23:E$50,MATCH($S159,Reliability!$C$23:$C$50,0)),0),0)*IF($T159=\"n/a\",$D159*$Y159,$G159)+IFERROR(IF(AND($V159<=Z$1,$W159>=Z$1),INDEX(Reliability!E$23:E$50,MATCH($T159,Reliability!$C$23:$C$50,0)),0),0)*$H159*$X159*$Y159),$D159)*$R159","v":0},{"$f":"MIN((IFERROR(IF(AND($V159<=AA$1,$W159>=AA$1),INDEX(Reliability!F$23:F$50,MATCH($S159,Reliability!$C$23:$C$50,0)),0),0)*IF($T159=\"n/a\",$D159*$Y159,$G159)+IFERROR(IF(AND($V159<=AA$1,$W159>=AA$1),INDEX(Reliability!F$23:F$50,MATCH($T159,Reliability!$C$23:$C$50,0)),0),0)*$H159*$X159*$Y159),$D159)*$R159","v":0},{"$f":"MIN((IFERROR(IF(AND($V159<=AB$1,$W159>=AB$1),INDEX(Reliability!G$23:G$50,MATCH($S159,Reliability!$C$23:$C$50,0)),0),0)*IF($T159=\"n/a\",$D159*$Y159,$G159)+IFERROR(IF(AND($V159<=AB$1,$W159>=AB$1),INDEX(Reliability!G$23:G$50,MATCH($T159,Reliability!$C$23:$C$50,0)),0),0)*$H159*$X159*$Y159),$D159)*$R159","v":0},{"$f":"MIN((IFERROR(IF(AND($V159<=AC$1,$W159>=AC$1),INDEX(Reliability!H$23:H$50,MATCH($S159,Reliability!$C$23:$C$50,0)),0),0)*IF($T159=\"n/a\",$D159*$Y159,$G159)+IFERROR(IF(AND($V159<=AC$1,$W159>=AC$1),INDEX(Reliability!H$23:H$50,MATCH($T159,Reliability!$C$23:$C$50,0)),0),0)*$H159*$X159*$Y159),$D159)*$R159","v":0},{"$f":"MIN((IFERROR(IF(AND($V159<=AD$1,$W159>=AD$1),INDEX(Reliability!I$23:I$50,MATCH($S159,Reliability!$C$23:$C$50,0)),0),0)*IF($T159=\"n/a\",$D159*$Y159,$G159)+IFERROR(IF(AND($V159<=AD$1,$W159>=AD$1),INDEX(Reliability!I$23:I$50,MATCH($T159,Reliability!$C$23:$C$50,0)),0),0)*$H159*$X159*$Y159),$D159)*$R159","v":0},{"$f":"MIN((IFERROR(IF(AND($V159<=AE$1,$W159>=AE$1),INDEX(Reliability!J$23:J$50,MATCH($S159,Reliability!$C$23:$C$50,0)),0),0)*IF($T159=\"n/a\",$D159*$Y159,$G159)+IFERROR(IF(AND($V159<=AE$1,$W159>=AE$1),INDEX(Reliability!J$23:J$50,MATCH($T159,Reliability!$C$23:$C$50,0)),0),0)*$H159*$X159*$Y159),$D159)*$R159","v":0},{"$f":"MIN((IFERROR(IF(AND($V159<=AF$1,$W159>=AF$1),INDEX(Reliability!K$23:K$50,MATCH($S159,Reliability!$C$23:$C$50,0)),0),0)*IF($T159=\"n/a\",$D159*$Y159,$G159)+IFERROR(IF(AND($V159<=AF$1,$W159>=AF$1),INDEX(Reliability!K$23:K$50,MATCH($T159,Reliability!$C$23:$C$50,0)),0),0)*$H159*$X159*$Y159),$D159)*$R159","v":0},{"$f":"MIN((IFERROR(IF(AND($V159<=AG$1,$W159>=AG$1),INDEX(Reliability!L$23:L$50,MATCH($S159,Reliability!$C$23:$C$50,0)),0),0)*IF($T159=\"n/a\",$D159*$Y159,$G159)+IFERROR(IF(AND($V159<=AG$1,$W159>=AG$1),INDEX(Reliability!L$23:L$50,MATCH($T159,Reliability!$C$23:$C$50,0)),0),0)*$H159*$X159*$Y159),$D159)*$R159","v":0},{"$f":"MIN((IFERROR(IF(AND($V159<=AH$1,$W159>=AH$1),INDEX(Reliability!M$23:M$50,MATCH($S159,Reliability!$C$23:$C$50,0)),0),0)*IF($T159=\"n/a\",$D159*$Y159,$G159)+IFERROR(IF(AND($V159<=AH$1,$W159>=AH$1),INDEX(Reliability!M$23:M$50,MATCH($T159,Reliability!$C$23:$C$50,0)),0),0)*$H159*$X159*$Y159),$D159)*$R159","v":0},{"$f":"MIN((IFERROR(IF(AND($V159<=AI$1,$W159>=AI$1),INDEX(Reliability!N$23:N$50,MATCH($S159,Reliability!$C$23:$C$50,0)),0),0)*IF($T159=\"n/a\",$D159*$Y159,$G159)+IFERROR(IF(AND($V159<=AI$1,$W159>=AI$1),INDEX(Reliability!N$23:N$50,MATCH($T159,Reliability!$C$23:$C$50,0)),0),0)*$H159*$X159*$Y159),$D159)*$R159","v":0},{"$f":"MIN((IFERROR(IF(AND($V159<=AJ$1,$W159>=AJ$1),INDEX(Reliability!O$23:O$50,MATCH($S159,Reliability!$C$23:$C$50,0)),0),0)*IF($T159=\"n/a\",$D159*$Y159,$G159)+IFERROR(IF(AND($V159<=AJ$1,$W159>=AJ$1),INDEX(Reliability!O$23:O$50,MATCH($T159,Reliability!$C$23:$C$50,0)),0),0)*$H159*$X159*$Y159),$D159)*$R159","v":0},{"$f":"MIN((IFERROR(IF(AND($V159<=AK$1,$W159>=AK$1),INDEX(Reliability!P$23:P$50,MATCH($S159,Reliability!$C$23:$C$50,0)),0),0)*IF($T159=\"n/a\",$D159*$Y159,$G159)+IFERROR(IF(AND($V159<=AK$1,$W159>=AK$1),INDEX(Reliability!P$23:P$50,MATCH($T159,Reliability!$C$23:$C$50,0)),0),0)*$H159*$X159*$Y159),$D159)*$R159","v":0}]
[null,{"$f":"unique_contracts!B160","v":"_CREZ_UNBUNDLEDREC_NW_EXT_TX_WIND"},{"$f":"unique_contracts!D160","v":"Online"},{"$f":"unique_contracts!J160","v":0},{"$f":"unique_contracts!M160","v":"NotHybrid"},{"$f":"unique_contracts!N160","v":"NA"},{"$f":"unique_contracts!P160","v":0},{"$f":"unique_contracts!R160","v":0},{"$f":"unique_contracts!V160","v":0},{"$f":"unique_contracts!AB160","v":"sell"},{"$f":"unique_contracts!AM160","v":2013},{"$f":"unique_contracts!AN160","v":10},{"$f":"unique_contracts!AO160","v":15},{"$f":"unique_contracts!AP160","v":2033},{"$f":"unique_contracts!AQ160","v":10},{"$f":"unique_contracts!AR160","v":14},{"$f":"unique_contracts!BP160","v":"EnergyOnly"},0,{"$f":"IFERROR(IF(AND(I160>0,E160=\"NotHybrid\"),_xlfn.CONCAT(MAX(MIN(ROUNDDOWN(I160/D160,0),8),4),INDEX(resources!$G:$G,MATCH(B160,resources!$A:$A,0))),INDEX(resources!$G:$G,MATCH(B160,resources!$A:$A,0))),\"n/a\")","v":"n/a"},"n/a","n/a",2014,2033,1,1,{"$f":"MIN((IFERROR(IF(AND($V160<=Z$1,$W160>=Z$1),INDEX(Reliability!E$23:E$50,MATCH($S160,Reliability!$C$23:$C$50,0)),0),0)*IF($T160=\"n/a\",$D160*$Y160,$G160)+IFERROR(IF(AND($V160<=Z$1,$W160>=Z$1),INDEX(Reliability!E$23:E$50,MATCH($T160,Reliability!$C$23:$C$50,0)),0),0)*$H160*$X160*$Y160),$D160)*$R160","v":0},{"$f":"MIN((IFERROR(IF(AND($V160<=AA$1,$W160>=AA$1),INDEX(Reliability!F$23:F$50,MATCH($S160,Reliability!$C$23:$C$50,0)),0),0)*IF($T160=\"n/a\",$D160*$Y160,$G160)+IFERROR(IF(AND($V160<=AA$1,$W160>=AA$1),INDEX(Reliability!F$23:F$50,MATCH($T160,Reliability!$C$23:$C$50,0)),0),0)*$H160*$X160*$Y160),$D160)*$R160","v":0},{"$f":"MIN((IFERROR(IF(AND($V160<=AB$1,$W160>=AB$1),INDEX(Reliability!G$23:G$50,MATCH($S160,Reliability!$C$23:$C$50,0)),0),0)*IF($T160=\"n/a\",$D160*$Y160,$G160)+IFERROR(IF(AND($V160<=AB$1,$W160>=AB$1),INDEX(Reliability!G$23:G$50,MATCH($T160,Reliability!$C$23:$C$50,0)),0),0)*$H160*$X160*$Y160),$D160)*$R160","v":0},{"$f":"MIN((IFERROR(IF(AND($V160<=AC$1,$W160>=AC$1),INDEX(Reliability!H$23:H$50,MATCH($S160,Reliability!$C$23:$C$50,0)),0),0)*IF($T160=\"n/a\",$D160*$Y160,$G160)+IFERROR(IF(AND($V160<=AC$1,$W160>=AC$1),INDEX(Reliability!H$23:H$50,MATCH($T160,Reliability!$C$23:$C$50,0)),0),0)*$H160*$X160*$Y160),$D160)*$R160","v":0},{"$f":"MIN((IFERROR(IF(AND($V160<=AD$1,$W160>=AD$1),INDEX(Reliability!I$23:I$50,MATCH($S160,Reliability!$C$23:$C$50,0)),0),0)*IF($T160=\"n/a\",$D160*$Y160,$G160)+IFERROR(IF(AND($V160<=AD$1,$W160>=AD$1),INDEX(Reliability!I$23:I$50,MATCH($T160,Reliability!$C$23:$C$50,0)),0),0)*$H160*$X160*$Y160),$D160)*$R160","v":0},{"$f":"MIN((IFERROR(IF(AND($V160<=AE$1,$W160>=AE$1),INDEX(Reliability!J$23:J$50,MATCH($S160,Reliability!$C$23:$C$50,0)),0),0)*IF($T160=\"n/a\",$D160*$Y160,$G160)+IFERROR(IF(AND($V160<=AE$1,$W160>=AE$1),INDEX(Reliability!J$23:J$50,MATCH($T160,Reliability!$C$23:$C$50,0)),0),0)*$H160*$X160*$Y160),$D160)*$R160","v":0},{"$f":"MIN((IFERROR(IF(AND($V160<=AF$1,$W160>=AF$1),INDEX(Reliability!K$23:K$50,MATCH($S160,Reliability!$C$23:$C$50,0)),0),0)*IF($T160=\"n/a\",$D160*$Y160,$G160)+IFERROR(IF(AND($V160<=AF$1,$W160>=AF$1),INDEX(Reliability!K$23:K$50,MATCH($T160,Reliability!$C$23:$C$50,0)),0),0)*$H160*$X160*$Y160),$D160)*$R160","v":0},{"$f":"MIN((IFERROR(IF(AND($V160<=AG$1,$W160>=AG$1),INDEX(Reliability!L$23:L$50,MATCH($S160,Reliability!$C$23:$C$50,0)),0),0)*IF($T160=\"n/a\",$D160*$Y160,$G160)+IFERROR(IF(AND($V160<=AG$1,$W160>=AG$1),INDEX(Reliability!L$23:L$50,MATCH($T160,Reliability!$C$23:$C$50,0)),0),0)*$H160*$X160*$Y160),$D160)*$R160","v":0},{"$f":"MIN((IFERROR(IF(AND($V160<=AH$1,$W160>=AH$1),INDEX(Reliability!M$23:M$50,MATCH($S160,Reliability!$C$23:$C$50,0)),0),0)*IF($T160=\"n/a\",$D160*$Y160,$G160)+IFERROR(IF(AND($V160<=AH$1,$W160>=AH$1),INDEX(Reliability!M$23:M$50,MATCH($T160,Reliability!$C$23:$C$50,0)),0),0)*$H160*$X160*$Y160),$D160)*$R160","v":0},{"$f":"MIN((IFERROR(IF(AND($V160<=AI$1,$W160>=AI$1),INDEX(Reliability!N$23:N$50,MATCH($S160,Reliability!$C$23:$C$50,0)),0),0)*IF($T160=\"n/a\",$D160*$Y160,$G160)+IFERROR(IF(AND($V160<=AI$1,$W160>=AI$1),INDEX(Reliability!N$23:N$50,MATCH($T160,Reliability!$C$23:$C$50,0)),0),0)*$H160*$X160*$Y160),$D160)*$R160","v":0},{"$f":"MIN((IFERROR(IF(AND($V160<=AJ$1,$W160>=AJ$1),INDEX(Reliability!O$23:O$50,MATCH($S160,Reliability!$C$23:$C$50,0)),0),0)*IF($T160=\"n/a\",$D160*$Y160,$G160)+IFERROR(IF(AND($V160<=AJ$1,$W160>=AJ$1),INDEX(Reliability!O$23:O$50,MATCH($T160,Reliability!$C$23:$C$50,0)),0),0)*$H160*$X160*$Y160),$D160)*$R160","v":0},{"$f":"MIN((IFERROR(IF(AND($V160<=AK$1,$W160>=AK$1),INDEX(Reliability!P$23:P$50,MATCH($S160,Reliability!$C$23:$C$50,0)),0),0)*IF($T160=\"n/a\",$D160*$Y160,$G160)+IFERROR(IF(AND($V160<=AK$1,$W160>=AK$1),INDEX(Reliability!P$23:P$50,MATCH($T160,Reliability!$C$23:$C$50,0)),0),0)*$H160*$X160*$Y160),$D160)*$R160","v":0}]
[null,{"$f":"unique_contracts!B161","v":"ROSMDW_2_WIND1"},{"$f":"unique_contracts!D161","v":"Online"},{"$f":"unique_contracts!J161","v":140},{"$f":"unique_contracts!M161","v":"NotHybrid"},{"$f":"unique_contracts!N161","v":"NA"},{"$f":"unique_contracts!P161","v":0},{"$f":"unique_contracts!R161","v":0},{"$f":"unique_contracts!V161","v":0},{"$f":"unique_contracts!AB161","v":0},{"$f":"unique_contracts!AM161","v":2012},{"$f":"unique_contracts!AN161","v":8},{"$f":"unique_contracts!AO161","v":16},{"$f":"unique_contracts!AP161","v":2032},{"$f":"unique_contracts!AQ161","v":8},{"$f":"unique_contracts!AR161","v":15},{"$f":"unique_contracts!BP161","v":"EnergyCapacity"},1,{"$f":"IFERROR(IF(AND(I161>0,E161=\"NotHybrid\"),_xlfn.CONCAT(MAX(MIN(ROUNDDOWN(I161/D161,0),8),4),INDEX(resources!$G:$G,MATCH(B161,resources!$A:$A,0))),INDEX(resources!$G:$G,MATCH(B161,resources!$A:$A,0))),\"n/a\")","v":"in_state_wind_south"},"n/a","in_state_wind_south",2013,2031,1,1,{"$f":"MIN((IFERROR(IF(AND($V161<=Z$1,$W161>=Z$1),INDEX(Reliability!E$23:E$50,MATCH($S161,Reliability!$C$23:$C$50,0)),0),0)*IF($T161=\"n/a\",$D161*$Y161,$G161)+IFERROR(IF(AND($V161<=Z$1,$W161>=Z$1),INDEX(Reliability!E$23:E$50,MATCH($T161,Reliability!$C$23:$C$50,0)),0),0)*$H161*$X161*$Y161),$D161)*$R161","v":21.144117964941234},{"$f":"MIN((IFERROR(IF(AND($V161<=AA$1,$W161>=AA$1),INDEX(Reliability!F$23:F$50,MATCH($S161,Reliability!$C$23:$C$50,0)),0),0)*IF($T161=\"n/a\",$D161*$Y161,$G161)+IFERROR(IF(AND($V161<=AA$1,$W161>=AA$1),INDEX(Reliability!F$23:F$50,MATCH($T161,Reliability!$C$23:$C$50,0)),0),0)*$H161*$X161*$Y161),$D161)*$R161","v":21.250385663933919},{"$f":"MIN((IFERROR(IF(AND($V161<=AB$1,$W161>=AB$1),INDEX(Reliability!G$23:G$50,MATCH($S161,Reliability!$C$23:$C$50,0)),0),0)*IF($T161=\"n/a\",$D161*$Y161,$G161)+IFERROR(IF(AND($V161<=AB$1,$W161>=AB$1),INDEX(Reliability!G$23:G$50,MATCH($T161,Reliability!$C$23:$C$50,0)),0),0)*$H161*$X161*$Y161),$D161)*$R161","v":21.356653362926604},{"$f":"MIN((IFERROR(IF(AND($V161<=AC$1,$W161>=AC$1),INDEX(Reliability!H$23:H$50,MATCH($S161,Reliability!$C$23:$C$50,0)),0),0)*IF($T161=\"n/a\",$D161*$Y161,$G161)+IFERROR(IF(AND($V161<=AC$1,$W161>=AC$1),INDEX(Reliability!H$23:H$50,MATCH($T161,Reliability!$C$23:$C$50,0)),0),0)*$H161*$X161*$Y161),$D161)*$R161","v":16.587656570172221},{"$f":"MIN((IFERROR(IF(AND($V161<=AD$1,$W161>=AD$1),INDEX(Reliability!I$23:I$50,MATCH($S161,Reliability!$C$23:$C$50,0)),0),0)*IF($T161=\"n/a\",$D161*$Y161,$G161)+IFERROR(IF(AND($V161<=AD$1,$W161>=AD$1),INDEX(Reliability!I$23:I$50,MATCH($T161,Reliability!$C$23:$C$50,0)),0),0)*$H161*$X161*$Y161),$D161)*$R161","v":11.818659777417837},{"$f":"MIN((IFERROR(IF(AND($V161<=AE$1,$W161>=AE$1),INDEX(Reliability!J$23:J$50,MATCH($S161,Reliability!$C$23:$C$50,0)),0),0)*IF($T161=\"n/a\",$D161*$Y161,$G161)+IFERROR(IF(AND($V161<=AE$1,$W161>=AE$1),INDEX(Reliability!J$23:J$50,MATCH($T161,Reliability!$C$23:$C$50,0)),0),0)*$H161*$X161*$Y161),$D161)*$R161","v":11.678363580658647},{"$f":"MIN((IFERROR(IF(AND($V161<=AF$1,$W161>=AF$1),INDEX(Reliability!K$23:K$50,MATCH($S161,Reliability!$C$23:$C$50,0)),0),0)*IF($T161=\"n/a\",$D161*$Y161,$G161)+IFERROR(IF(AND($V161<=AF$1,$W161>=AF$1),INDEX(Reliability!K$23:K$50,MATCH($T161,Reliability!$C$23:$C$50,0)),0),0)*$H161*$X161*$Y161),$D161)*$R161","v":11.538067383899458},{"$f":"MIN((IFERROR(IF(AND($V161<=AG$1,$W161>=AG$1),INDEX(Reliability!L$23:L$50,MATCH($S161,Reliability!$C$23:$C$50,0)),0),0)*IF($T161=\"n/a\",$D161*$Y161,$G161)+IFERROR(IF(AND($V161<=AG$1,$W161>=AG$1),INDEX(Reliability!L$23:L$50,MATCH($T161,Reliability!$C$23:$C$50,0)),0),0)*$H161*$X161*$Y161),$D161)*$R161","v":10.476156757416677},{"$f":"MIN((IFERROR(IF(AND($V161<=AH$1,$W161>=AH$1),INDEX(Reliability!M$23:M$50,MATCH($S161,Reliability!$C$23:$C$50,0)),0),0)*IF($T161=\"n/a\",$D161*$Y161,$G161)+IFERROR(IF(AND($V161<=AH$1,$W161>=AH$1),INDEX(Reliability!M$23:M$50,MATCH($T161,Reliability!$C$23:$C$50,0)),0),0)*$H161*$X161*$Y161),$D161)*$R161","v":0},{"$f":"MIN((IFERROR(IF(AND($V161<=AI$1,$W161>=AI$1),INDEX(Reliability!N$23:N$50,MATCH($S161,Reliability!$C$23:$C$50,0)),0),0)*IF($T161=\"n/a\",$D161*$Y161,$G161)+IFERROR(IF(AND($V161<=AI$1,$W161>=AI$1),INDEX(Reliability!N$23:N$50,MATCH($T161,Reliability!$C$23:$C$50,0)),0),0)*$H161*$X161*$Y161),$D161)*$R161","v":0},{"$f":"MIN((IFERROR(IF(AND($V161<=AJ$1,$W161>=AJ$1),INDEX(Reliability!O$23:O$50,MATCH($S161,Reliability!$C$23:$C$50,0)),0),0)*IF($T161=\"n/a\",$D161*$Y161,$G161)+IFERROR(IF(AND($V161<=AJ$1,$W161>=AJ$1),INDEX(Reliability!O$23:O$50,MATCH($T161,Reliability!$C$23:$C$50,0)),0),0)*$H161*$X161*$Y161),$D161)*$R161","v":0},{"$f":"MIN((IFERROR(IF(AND($V161<=AK$1,$W161>=AK$1),INDEX(Reliability!P$23:P$50,MATCH($S161,Reliability!$C$23:$C$50,0)),0),0)*IF($T161=\"n/a\",$D161*$Y161,$G161)+IFERROR(IF(AND($V161<=AK$1,$W161>=AK$1),INDEX(Reliability!P$23:P$50,MATCH($T161,Reliability!$C$23:$C$50,0)),0),0)*$H161*$X161*$Y161),$D161)*$R161","v":0}]
[null,{"$f":"unique_contracts!B162","v":"_EXISTING_GENERIC_WIND"},{"$f":"unique_contracts!D162","v":"Online"},{"$f":"unique_contracts!J162","v":0},{"$f":"unique_contracts!M162","v":"NotHybrid"},{"$f":"unique_contracts!N162","v":"NA"},{"$f":"unique_contracts!P162","v":0},{"$f":"unique_contracts!R162","v":0},{"$f":"unique_contracts!V162","v":0},{"$f":"unique_contracts!AB162","v":"sell"},{"$f":"unique_contracts!AM162","v":2012},{"$f":"unique_contracts!AN162","v":8},{"$f":"unique_contracts!AO162","v":16},{"$f":"unique_contracts!AP162","v":2032},{"$f":"unique_contracts!AQ162","v":8},{"$f":"unique_contracts!AR162","v":15},{"$f":"unique_contracts!BP162","v":"EnergyOnly"},0,{"$f":"IFERROR(IF(AND(I162>0,E162=\"NotHybrid\"),_xlfn.CONCAT(MAX(MIN(ROUNDDOWN(I162/D162,0),8),4),INDEX(resources!$G:$G,MATCH(B162,resources!$A:$A,0))),INDEX(resources!$G:$G,MATCH(B162,resources!$A:$A,0))),\"n/a\")","v":"in_state_wind_south"},"n/a","in_state_wind_south",2013,2031,1,1,{"$f":"MIN((IFERROR(IF(AND($V162<=Z$1,$W162>=Z$1),INDEX(Reliability!E$23:E$50,MATCH($S162,Reliability!$C$23:$C$50,0)),0),0)*IF($T162=\"n/a\",$D162*$Y162,$G162)+IFERROR(IF(AND($V162<=Z$1,$W162>=Z$1),INDEX(Reliability!E$23:E$50,MATCH($T162,Reliability!$C$23:$C$50,0)),0),0)*$H162*$X162*$Y162),$D162)*$R162","v":0},{"$f":"MIN((IFERROR(IF(AND($V162<=AA$1,$W162>=AA$1),INDEX(Reliability!F$23:F$50,MATCH($S162,Reliability!$C$23:$C$50,0)),0),0)*IF($T162=\"n/a\",$D162*$Y162,$G162)+IFERROR(IF(AND($V162<=AA$1,$W162>=AA$1),INDEX(Reliability!F$23:F$50,MATCH($T162,Reliability!$C$23:$C$50,0)),0),0)*$H162*$X162*$Y162),$D162)*$R162","v":0},{"$f":"MIN((IFERROR(IF(AND($V162<=AB$1,$W162>=AB$1),INDEX(Reliability!G$23:G$50,MATCH($S162,Reliability!$C$23:$C$50,0)),0),0)*IF($T162=\"n/a\",$D162*$Y162,$G162)+IFERROR(IF(AND($V162<=AB$1,$W162>=AB$1),INDEX(Reliability!G$23:G$50,MATCH($T162,Reliability!$C$23:$C$50,0)),0),0)*$H162*$X162*$Y162),$D162)*$R162","v":0},{"$f":"MIN((IFERROR(IF(AND($V162<=AC$1,$W162>=AC$1),INDEX(Reliability!H$23:H$50,MATCH($S162,Reliability!$C$23:$C$50,0)),0),0)*IF($T162=\"n/a\",$D162*$Y162,$G162)+IFERROR(IF(AND($V162<=AC$1,$W162>=AC$1),INDEX(Reliability!H$23:H$50,MATCH($T162,Reliability!$C$23:$C$50,0)),0),0)*$H162*$X162*$Y162),$D162)*$R162","v":0},{"$f":"MIN((IFERROR(IF(AND($V162<=AD$1,$W162>=AD$1),INDEX(Reliability!I$23:I$50,MATCH($S162,Reliability!$C$23:$C$50,0)),0),0)*IF($T162=\"n/a\",$D162*$Y162,$G162)+IFERROR(IF(AND($V162<=AD$1,$W162>=AD$1),INDEX(Reliability!I$23:I$50,MATCH($T162,Reliability!$C$23:$C$50,0)),0),0)*$H162*$X162*$Y162),$D162)*$R162","v":0},{"$f":"MIN((IFERROR(IF(AND($V162<=AE$1,$W162>=AE$1),INDEX(Reliability!J$23:J$50,MATCH($S162,Reliability!$C$23:$C$50,0)),0),0)*IF($T162=\"n/a\",$D162*$Y162,$G162)+IFERROR(IF(AND($V162<=AE$1,$W162>=AE$1),INDEX(Reliability!J$23:J$50,MATCH($T162,Reliability!$C$23:$C$50,0)),0),0)*$H162*$X162*$Y162),$D162)*$R162","v":0},{"$f":"MIN((IFERROR(IF(AND($V162<=AF$1,$W162>=AF$1),INDEX(Reliability!K$23:K$50,MATCH($S162,Reliability!$C$23:$C$50,0)),0),0)*IF($T162=\"n/a\",$D162*$Y162,$G162)+IFERROR(IF(AND($V162<=AF$1,$W162>=AF$1),INDEX(Reliability!K$23:K$50,MATCH($T162,Reliability!$C$23:$C$50,0)),0),0)*$H162*$X162*$Y162),$D162)*$R162","v":0},{"$f":"MIN((IFERROR(IF(AND($V162<=AG$1,$W162>=AG$1),INDEX(Reliability!L$23:L$50,MATCH($S162,Reliability!$C$23:$C$50,0)),0),0)*IF($T162=\"n/a\",$D162*$Y162,$G162)+IFERROR(IF(AND($V162<=AG$1,$W162>=AG$1),INDEX(Reliability!L$23:L$50,MATCH($T162,Reliability!$C$23:$C$50,0)),0),0)*$H162*$X162*$Y162),$D162)*$R162","v":0},{"$f":"MIN((IFERROR(IF(AND($V162<=AH$1,$W162>=AH$1),INDEX(Reliability!M$23:M$50,MATCH($S162,Reliability!$C$23:$C$50,0)),0),0)*IF($T162=\"n/a\",$D162*$Y162,$G162)+IFERROR(IF(AND($V162<=AH$1,$W162>=AH$1),INDEX(Reliability!M$23:M$50,MATCH($T162,Reliability!$C$23:$C$50,0)),0),0)*$H162*$X162*$Y162),$D162)*$R162","v":0},{"$f":"MIN((IFERROR(IF(AND($V162<=AI$1,$W162>=AI$1),INDEX(Reliability!N$23:N$50,MATCH($S162,Reliability!$C$23:$C$50,0)),0),0)*IF($T162=\"n/a\",$D162*$Y162,$G162)+IFERROR(IF(AND($V162<=AI$1,$W162>=AI$1),INDEX(Reliability!N$23:N$50,MATCH($T162,Reliability!$C$23:$C$50,0)),0),0)*$H162*$X162*$Y162),$D162)*$R162","v":0},{"$f":"MIN((IFERROR(IF(AND($V162<=AJ$1,$W162>=AJ$1),INDEX(Reliability!O$23:O$50,MATCH($S162,Reliability!$C$23:$C$50,0)),0),0)*IF($T162=\"n/a\",$D162*$Y162,$G162)+IFERROR(IF(AND($V162<=AJ$1,$W162>=AJ$1),INDEX(Reliability!O$23:O$50,MATCH($T162,Reliability!$C$23:$C$50,0)),0),0)*$H162*$X162*$Y162),$D162)*$R162","v":0},{"$f":"MIN((IFERROR(IF(AND($V162<=AK$1,$W162>=AK$1),INDEX(Reliability!P$23:P$50,MATCH($S162,Reliability!$C$23:$C$50,0)),0),0)*IF($T162=\"n/a\",$D162*$Y162,$G162)+IFERROR(IF(AND($V162<=AK$1,$W162>=AK$1),INDEX(Reliability!P$23:P$50,MATCH($T162,Reliability!$C$23:$C$50,0)),0),0)*$H162*$X162*$Y162),$D162)*$R162","v":0}]
[null,{"$f":"unique_contracts!B163","v":"MIDWD_7_CORAMB"},{"$f":"unique_contracts!D163","v":"Online"},{"$f":"unique_contracts!J163","v":7.5},{"$f":"unique_contracts!M163","v":"NotHybrid"},{"$f":"unique_contracts!N163","v":"NA"},{"$f":"unique_contracts!P163","v":0},{"$f":"unique_contracts!R163","v":0},{"$f":"unique_contracts!V163","v":0},{"$f":"unique_contracts!AB163","v":0},{"$f":"unique_contracts!AM163","v":2011},{"$f":"unique_contracts!AN163","v":3},{"$f":"unique_contracts!AO163","v":1},{"$f":"unique_contracts!AP163","v":2026},{"$f":"unique_contracts!AQ163","v":3},{"$f":"unique_contracts!AR163","v":1},{"$f":"unique_contracts!BP163","v":"EnergyCapacity"},1,{"$f":"IFERROR(IF(AND(I163>0,E163=\"NotHybrid\"),_xlfn.CONCAT(MAX(MIN(ROUNDDOWN(I163/D163,0),8),4),INDEX(resources!$G:$G,MATCH(B163,resources!$A:$A,0))),INDEX(resources!$G:$G,MATCH(B163,resources!$A:$A,0))),\"n/a\")","v":"in_state_wind_south"},"n/a","in_state_wind_south",2011,2025,1,1,{"$f":"MIN((IFERROR(IF(AND($V163<=Z$1,$W163>=Z$1),INDEX(Reliability!E$23:E$50,MATCH($S163,Reliability!$C$23:$C$50,0)),0),0)*IF($T163=\"n/a\",$D163*$Y163,$G163)+IFERROR(IF(AND($V163<=Z$1,$W163>=Z$1),INDEX(Reliability!E$23:E$50,MATCH($T163,Reliability!$C$23:$C$50,0)),0),0)*$H163*$X163*$Y163),$D163)*$R163","v":1.132720605264709},{"$f":"MIN((IFERROR(IF(AND($V163<=AA$1,$W163>=AA$1),INDEX(Reliability!F$23:F$50,MATCH($S163,Reliability!$C$23:$C$50,0)),0),0)*IF($T163=\"n/a\",$D163*$Y163,$G163)+IFERROR(IF(AND($V163<=AA$1,$W163>=AA$1),INDEX(Reliability!F$23:F$50,MATCH($T163,Reliability!$C$23:$C$50,0)),0),0)*$H163*$X163*$Y163),$D163)*$R163","v":1.1384135177107457},{"$f":"MIN((IFERROR(IF(AND($V163<=AB$1,$W163>=AB$1),INDEX(Reliability!G$23:G$50,MATCH($S163,Reliability!$C$23:$C$50,0)),0),0)*IF($T163=\"n/a\",$D163*$Y163,$G163)+IFERROR(IF(AND($V163<=AB$1,$W163>=AB$1),INDEX(Reliability!G$23:G$50,MATCH($T163,Reliability!$C$23:$C$50,0)),0),0)*$H163*$X163*$Y163),$D163)*$R163","v":0},{"$f":"MIN((IFERROR(IF(AND($V163<=AC$1,$W163>=AC$1),INDEX(Reliability!H$23:H$50,MATCH($S163,Reliability!$C$23:$C$50,0)),0),0)*IF($T163=\"n/a\",$D163*$Y163,$G163)+IFERROR(IF(AND($V163<=AC$1,$W163>=AC$1),INDEX(Reliability!H$23:H$50,MATCH($T163,Reliability!$C$23:$C$50,0)),0),0)*$H163*$X163*$Y163),$D163)*$R163","v":0},{"$f":"MIN((IFERROR(IF(AND($V163<=AD$1,$W163>=AD$1),INDEX(Reliability!I$23:I$50,MATCH($S163,Reliability!$C$23:$C$50,0)),0),0)*IF($T163=\"n/a\",$D163*$Y163,$G163)+IFERROR(IF(AND($V163<=AD$1,$W163>=AD$1),INDEX(Reliability!I$23:I$50,MATCH($T163,Reliability!$C$23:$C$50,0)),0),0)*$H163*$X163*$Y163),$D163)*$R163","v":0},{"$f":"MIN((IFERROR(IF(AND($V163<=AE$1,$W163>=AE$1),INDEX(Reliability!J$23:J$50,MATCH($S163,Reliability!$C$23:$C$50,0)),0),0)*IF($T163=\"n/a\",$D163*$Y163,$G163)+IFERROR(IF(AND($V163<=AE$1,$W163>=AE$1),INDEX(Reliability!J$23:J$50,MATCH($T163,Reliability!$C$23:$C$50,0)),0),0)*$H163*$X163*$Y163),$D163)*$R163","v":0},{"$f":"MIN((IFERROR(IF(AND($V163<=AF$1,$W163>=AF$1),INDEX(Reliability!K$23:K$50,MATCH($S163,Reliability!$C$23:$C$50,0)),0),0)*IF($T163=\"n/a\",$D163*$Y163,$G163)+IFERROR(IF(AND($V163<=AF$1,$W163>=AF$1),INDEX(Reliability!K$23:K$50,MATCH($T163,Reliability!$C$23:$C$50,0)),0),0)*$H163*$X163*$Y163),$D163)*$R163","v":0},{"$f":"MIN((IFERROR(IF(AND($V163<=AG$1,$W163>=AG$1),INDEX(Reliability!L$23:L$50,MATCH($S163,Reliability!$C$23:$C$50,0)),0),0)*IF($T163=\"n/a\",$D163*$Y163,$G163)+IFERROR(IF(AND($V163<=AG$1,$W163>=AG$1),INDEX(Reliability!L$23:L$50,MATCH($T163,Reliability!$C$23:$C$50,0)),0),0)*$H163*$X163*$Y163),$D163)*$R163","v":0},{"$f":"MIN((IFERROR(IF(AND($V163<=AH$1,$W163>=AH$1),INDEX(Reliability!M$23:M$50,MATCH($S163,Reliability!$C$23:$C$50,0)),0),0)*IF($T163=\"n/a\",$D163*$Y163,$G163)+IFERROR(IF(AND($V163<=AH$1,$W163>=AH$1),INDEX(Reliability!M$23:M$50,MATCH($T163,Reliability!$C$23:$C$50,0)),0),0)*$H163*$X163*$Y163),$D163)*$R163","v":0},{"$f":"MIN((IFERROR(IF(AND($V163<=AI$1,$W163>=AI$1),INDEX(Reliability!N$23:N$50,MATCH($S163,Reliability!$C$23:$C$50,0)),0),0)*IF($T163=\"n/a\",$D163*$Y163,$G163)+IFERROR(IF(AND($V163<=AI$1,$W163>=AI$1),INDEX(Reliability!N$23:N$50,MATCH($T163,Reliability!$C$23:$C$50,0)),0),0)*$H163*$X163*$Y163),$D163)*$R163","v":0},{"$f":"MIN((IFERROR(IF(AND($V163<=AJ$1,$W163>=AJ$1),INDEX(Reliability!O$23:O$50,MATCH($S163,Reliability!$C$23:$C$50,0)),0),0)*IF($T163=\"n/a\",$D163*$Y163,$G163)+IFERROR(IF(AND($V163<=AJ$1,$W163>=AJ$1),INDEX(Reliability!O$23:O$50,MATCH($T163,Reliability!$C$23:$C$50,0)),0),0)*$H163*$X163*$Y163),$D163)*$R163","v":0},{"$f":"MIN((IFERROR(IF(AND($V163<=AK$1,$W163>=AK$1),INDEX(Reliability!P$23:P$50,MATCH($S163,Reliability!$C$23:$C$50,0)),0),0)*IF($T163=\"n/a\",$D163*$Y163,$G163)+IFERROR(IF(AND($V163<=AK$1,$W163>=AK$1),INDEX(Reliability!P$23:P$50,MATCH($T163,Reliability!$C$23:$C$50,0)),0),0)*$H163*$X163*$Y163),$D163)*$R163","v":0}]
[null,{"$f":"unique_contracts!B164","v":"_EXISTING_GENERIC_SOLAR_1AXIS"},{"$f":"unique_contracts!D164","v":"Online"},{"$f":"unique_contracts!J164","v":0},{"$f":"unique_contracts!M164","v":"NotHybrid"},{"$f":"unique_contracts!N164","v":"NA"},{"$f":"unique_contracts!P164","v":0},{"$f":"unique_contracts!R164","v":0},{"$f":"unique_contracts!V164","v":0},{"$f":"unique_contracts!AB164","v":"sell"},{"$f":"unique_contracts!AM164","v":2011},{"$f":"unique_contracts!AN164","v":3},{"$f":"unique_contracts!AO164","v":1},{"$f":"unique_contracts!AP164","v":2026},{"$f":"unique_contracts!AQ164","v":3},{"$f":"unique_contracts!AR164","v":1},{"$f":"unique_contracts!BP164","v":"EnergyOnly"},0,{"$f":"IFERROR(IF(AND(I164>0,E164=\"NotHybrid\"),_xlfn.CONCAT(MAX(MIN(ROUNDDOWN(I164/D164,0),8),4),INDEX(resources!$G:$G,MATCH(B164,resources!$A:$A,0))),INDEX(resources!$G:$G,MATCH(B164,resources!$A:$A,0))),\"n/a\")","v":"utility_pv"},"n/a","utility_pv",2011,2025,1,1,{"$f":"MIN((IFERROR(IF(AND($V164<=Z$1,$W164>=Z$1),INDEX(Reliability!E$23:E$50,MATCH($S164,Reliability!$C$23:$C$50,0)),0),0)*IF($T164=\"n/a\",$D164*$Y164,$G164)+IFERROR(IF(AND($V164<=Z$1,$W164>=Z$1),INDEX(Reliability!E$23:E$50,MATCH($T164,Reliability!$C$23:$C$50,0)),0),0)*$H164*$X164*$Y164),$D164)*$R164","v":0},{"$f":"MIN((IFERROR(IF(AND($V164<=AA$1,$W164>=AA$1),INDEX(Reliability!F$23:F$50,MATCH($S164,Reliability!$C$23:$C$50,0)),0),0)*IF($T164=\"n/a\",$D164*$Y164,$G164)+IFERROR(IF(AND($V164<=AA$1,$W164>=AA$1),INDEX(Reliability!F$23:F$50,MATCH($T164,Reliability!$C$23:$C$50,0)),0),0)*$H164*$X164*$Y164),$D164)*$R164","v":0},{"$f":"MIN((IFERROR(IF(AND($V164<=AB$1,$W164>=AB$1),INDEX(Reliability!G$23:G$50,MATCH($S164,Reliability!$C$23:$C$50,0)),0),0)*IF($T164=\"n/a\",$D164*$Y164,$G164)+IFERROR(IF(AND($V164<=AB$1,$W164>=AB$1),INDEX(Reliability!G$23:G$50,MATCH($T164,Reliability!$C$23:$C$50,0)),0),0)*$H164*$X164*$Y164),$D164)*$R164","v":0},{"$f":"MIN((IFERROR(IF(AND($V164<=AC$1,$W164>=AC$1),INDEX(Reliability!H$23:H$50,MATCH($S164,Reliability!$C$23:$C$50,0)),0),0)*IF($T164=\"n/a\",$D164*$Y164,$G164)+IFERROR(IF(AND($V164<=AC$1,$W164>=AC$1),INDEX(Reliability!H$23:H$50,MATCH($T164,Reliability!$C$23:$C$50,0)),0),0)*$H164*$X164*$Y164),$D164)*$R164","v":0},{"$f":"MIN((IFERROR(IF(AND($V164<=AD$1,$W164>=AD$1),INDEX(Reliability!I$23:I$50,MATCH($S164,Reliability!$C$23:$C$50,0)),0),0)*IF($T164=\"n/a\",$D164*$Y164,$G164)+IFERROR(IF(AND($V164<=AD$1,$W164>=AD$1),INDEX(Reliability!I$23:I$50,MATCH($T164,Reliability!$C$23:$C$50,0)),0),0)*$H164*$X164*$Y164),$D164)*$R164","v":0},{"$f":"MIN((IFERROR(IF(AND($V164<=AE$1,$W164>=AE$1),INDEX(Reliability!J$23:J$50,MATCH($S164,Reliability!$C$23:$C$50,0)),0),0)*IF($T164=\"n/a\",$D164*$Y164,$G164)+IFERROR(IF(AND($V164<=AE$1,$W164>=AE$1),INDEX(Reliability!J$23:J$50,MATCH($T164,Reliability!$C$23:$C$50,0)),0),0)*$H164*$X164*$Y164),$D164)*$R164","v":0},{"$f":"MIN((IFERROR(IF(AND($V164<=AF$1,$W164>=AF$1),INDEX(Reliability!K$23:K$50,MATCH($S164,Reliability!$C$23:$C$50,0)),0),0)*IF($T164=\"n/a\",$D164*$Y164,$G164)+IFERROR(IF(AND($V164<=AF$1,$W164>=AF$1),INDEX(Reliability!K$23:K$50,MATCH($T164,Reliability!$C$23:$C$50,0)),0),0)*$H164*$X164*$Y164),$D164)*$R164","v":0},{"$f":"MIN((IFERROR(IF(AND($V164<=AG$1,$W164>=AG$1),INDEX(Reliability!L$23:L$50,MATCH($S164,Reliability!$C$23:$C$50,0)),0),0)*IF($T164=\"n/a\",$D164*$Y164,$G164)+IFERROR(IF(AND($V164<=AG$1,$W164>=AG$1),INDEX(Reliability!L$23:L$50,MATCH($T164,Reliability!$C$23:$C$50,0)),0),0)*$H164*$X164*$Y164),$D164)*$R164","v":0},{"$f":"MIN((IFERROR(IF(AND($V164<=AH$1,$W164>=AH$1),INDEX(Reliability!M$23:M$50,MATCH($S164,Reliability!$C$23:$C$50,0)),0),0)*IF($T164=\"n/a\",$D164*$Y164,$G164)+IFERROR(IF(AND($V164<=AH$1,$W164>=AH$1),INDEX(Reliability!M$23:M$50,MATCH($T164,Reliability!$C$23:$C$50,0)),0),0)*$H164*$X164*$Y164),$D164)*$R164","v":0},{"$f":"MIN((IFERROR(IF(AND($V164<=AI$1,$W164>=AI$1),INDEX(Reliability!N$23:N$50,MATCH($S164,Reliability!$C$23:$C$50,0)),0),0)*IF($T164=\"n/a\",$D164*$Y164,$G164)+IFERROR(IF(AND($V164<=AI$1,$W164>=AI$1),INDEX(Reliability!N$23:N$50,MATCH($T164,Reliability!$C$23:$C$50,0)),0),0)*$H164*$X164*$Y164),$D164)*$R164","v":0},{"$f":"MIN((IFERROR(IF(AND($V164<=AJ$1,$W164>=AJ$1),INDEX(Reliability!O$23:O$50,MATCH($S164,Reliability!$C$23:$C$50,0)),0),0)*IF($T164=\"n/a\",$D164*$Y164,$G164)+IFERROR(IF(AND($V164<=AJ$1,$W164>=AJ$1),INDEX(Reliability!O$23:O$50,MATCH($T164,Reliability!$C$23:$C$50,0)),0),0)*$H164*$X164*$Y164),$D164)*$R164","v":0},{"$f":"MIN((IFERROR(IF(AND($V164<=AK$1,$W164>=AK$1),INDEX(Reliability!P$23:P$50,MATCH($S164,Reliability!$C$23:$C$50,0)),0),0)*IF($T164=\"n/a\",$D164*$Y164,$G164)+IFERROR(IF(AND($V164<=AK$1,$W164>=AK$1),INDEX(Reliability!P$23:P$50,MATCH($T164,Reliability!$C$23:$C$50,0)),0),0)*$H164*$X164*$Y164),$D164)*$R164","v":0}]
[null,{"$f":"unique_contracts!B165","v":"OCTILO_5_WIND"},{"$f":"unique_contracts!D165","v":"Online"},{"$f":"unique_contracts!J165","v":265.29000000000002},{"$f":"unique_contracts!M165","v":"NotHybrid"},{"$f":"unique_contracts!N165","v":"NA"},{"$f":"unique_contracts!P165","v":0},{"$f":"unique_contracts!R165","v":0},{"$f":"unique_contracts!V165","v":0},{"$f":"unique_contracts!AB165","v":0},{"$f":"unique_contracts!AM165","v":2013},{"$f":"unique_contracts!AN165","v":7},{"$f":"unique_contracts!AO165","v":30},{"$f":"unique_contracts!AP165","v":2033},{"$f":"unique_contracts!AQ165","v":7},{"$f":"unique_contracts!AR165","v":30},{"$f":"unique_contracts!BP165","v":"EnergyCapacity"},1,{"$f":"IFERROR(IF(AND(I165>0,E165=\"NotHybrid\"),_xlfn.CONCAT(MAX(MIN(ROUNDDOWN(I165/D165,0),8),4),INDEX(resources!$G:$G,MATCH(B165,resources!$A:$A,0))),INDEX(resources!$G:$G,MATCH(B165,resources!$A:$A,0))),\"n/a\")","v":"in_state_wind_south"},"n/a","in_state_wind_south",2014,2032,1,1,{"$f":"MIN((IFERROR(IF(AND($V165<=Z$1,$W165>=Z$1),INDEX(Reliability!E$23:E$50,MATCH($S165,Reliability!$C$23:$C$50,0)),0),0)*IF($T165=\"n/a\",$D165*$Y165,$G165)+IFERROR(IF(AND($V165<=Z$1,$W165>=Z$1),INDEX(Reliability!E$23:E$50,MATCH($T165,Reliability!$C$23:$C$50,0)),0),0)*$H165*$X165*$Y165),$D165)*$R165","v":40.066593249423285},{"$f":"MIN((IFERROR(IF(AND($V165<=AA$1,$W165>=AA$1),INDEX(Reliability!F$23:F$50,MATCH($S165,Reliability!$C$23:$C$50,0)),0),0)*IF($T165=\"n/a\",$D165*$Y165,$G165)+IFERROR(IF(AND($V165<=AA$1,$W165>=AA$1),INDEX(Reliability!F$23:F$50,MATCH($T165,Reliability!$C$23:$C$50,0)),0),0)*$H165*$X165*$Y165),$D165)*$R165","v":40.267962948464501},{"$f":"MIN((IFERROR(IF(AND($V165<=AB$1,$W165>=AB$1),INDEX(Reliability!G$23:G$50,MATCH($S165,Reliability!$C$23:$C$50,0)),0),0)*IF($T165=\"n/a\",$D165*$Y165,$G165)+IFERROR(IF(AND($V165<=AB$1,$W165>=AB$1),INDEX(Reliability!G$23:G$50,MATCH($T165,Reliability!$C$23:$C$50,0)),0),0)*$H165*$X165*$Y165),$D165)*$R165","v":40.469332647505709},{"$f":"MIN((IFERROR(IF(AND($V165<=AC$1,$W165>=AC$1),INDEX(Reliability!H$23:H$50,MATCH($S165,Reliability!$C$23:$C$50,0)),0),0)*IF($T165=\"n/a\",$D165*$Y165,$G165)+IFERROR(IF(AND($V165<=AC$1,$W165>=AC$1),INDEX(Reliability!H$23:H$50,MATCH($T165,Reliability!$C$23:$C$50,0)),0),0)*$H165*$X165*$Y165),$D165)*$R165","v":31.432424367864204},{"$f":"MIN((IFERROR(IF(AND($V165<=AD$1,$W165>=AD$1),INDEX(Reliability!I$23:I$50,MATCH($S165,Reliability!$C$23:$C$50,0)),0),0)*IF($T165=\"n/a\",$D165*$Y165,$G165)+IFERROR(IF(AND($V165<=AD$1,$W165>=AD$1),INDEX(Reliability!I$23:I$50,MATCH($T165,Reliability!$C$23:$C$50,0)),0),0)*$H165*$X165*$Y165),$D165)*$R165","v":22.395516088222703},{"$f":"MIN((IFERROR(IF(AND($V165<=AE$1,$W165>=AE$1),INDEX(Reliability!J$23:J$50,MATCH($S165,Reliability!$C$23:$C$50,0)),0),0)*IF($T165=\"n/a\",$D165*$Y165,$G165)+IFERROR(IF(AND($V165<=AE$1,$W165>=AE$1),INDEX(Reliability!J$23:J$50,MATCH($T165,Reliability!$C$23:$C$50,0)),0),0)*$H165*$X165*$Y165),$D165)*$R165","v":22.129664816520947},{"$f":"MIN((IFERROR(IF(AND($V165<=AF$1,$W165>=AF$1),INDEX(Reliability!K$23:K$50,MATCH($S165,Reliability!$C$23:$C$50,0)),0),0)*IF($T165=\"n/a\",$D165*$Y165,$G165)+IFERROR(IF(AND($V165<=AF$1,$W165>=AF$1),INDEX(Reliability!K$23:K$50,MATCH($T165,Reliability!$C$23:$C$50,0)),0),0)*$H165*$X165*$Y165),$D165)*$R165","v":21.863813544819198},{"$f":"MIN((IFERROR(IF(AND($V165<=AG$1,$W165>=AG$1),INDEX(Reliability!L$23:L$50,MATCH($S165,Reliability!$C$23:$C$50,0)),0),0)*IF($T165=\"n/a\",$D165*$Y165,$G165)+IFERROR(IF(AND($V165<=AG$1,$W165>=AG$1),INDEX(Reliability!L$23:L$50,MATCH($T165,Reliability!$C$23:$C$50,0)),0),0)*$H165*$X165*$Y165),$D165)*$R165","v":19.851568758393359},{"$f":"MIN((IFERROR(IF(AND($V165<=AH$1,$W165>=AH$1),INDEX(Reliability!M$23:M$50,MATCH($S165,Reliability!$C$23:$C$50,0)),0),0)*IF($T165=\"n/a\",$D165*$Y165,$G165)+IFERROR(IF(AND($V165<=AH$1,$W165>=AH$1),INDEX(Reliability!M$23:M$50,MATCH($T165,Reliability!$C$23:$C$50,0)),0),0)*$H165*$X165*$Y165),$D165)*$R165","v":17.839323971967524},{"$f":"MIN((IFERROR(IF(AND($V165<=AI$1,$W165>=AI$1),INDEX(Reliability!N$23:N$50,MATCH($S165,Reliability!$C$23:$C$50,0)),0),0)*IF($T165=\"n/a\",$D165*$Y165,$G165)+IFERROR(IF(AND($V165<=AI$1,$W165>=AI$1),INDEX(Reliability!N$23:N$50,MATCH($T165,Reliability!$C$23:$C$50,0)),0),0)*$H165*$X165*$Y165),$D165)*$R165","v":0},{"$f":"MIN((IFERROR(IF(AND($V165<=AJ$1,$W165>=AJ$1),INDEX(Reliability!O$23:O$50,MATCH($S165,Reliability!$C$23:$C$50,0)),0),0)*IF($T165=\"n/a\",$D165*$Y165,$G165)+IFERROR(IF(AND($V165<=AJ$1,$W165>=AJ$1),INDEX(Reliability!O$23:O$50,MATCH($T165,Reliability!$C$23:$C$50,0)),0),0)*$H165*$X165*$Y165),$D165)*$R165","v":0},{"$f":"MIN((IFERROR(IF(AND($V165<=AK$1,$W165>=AK$1),INDEX(Reliability!P$23:P$50,MATCH($S165,Reliability!$C$23:$C$50,0)),0),0)*IF($T165=\"n/a\",$D165*$Y165,$G165)+IFERROR(IF(AND($V165<=AK$1,$W165>=AK$1),INDEX(Reliability!P$23:P$50,MATCH($T165,Reliability!$C$23:$C$50,0)),0),0)*$H165*$X165*$Y165),$D165)*$R165","v":0}]
[null,{"$f":"unique_contracts!B166","v":"_EXISTING_GENERIC_SOLAR_1AXIS"},{"$f":"unique_contracts!D166","v":"Online"},{"$f":"unique_contracts!J166","v":0},{"$f":"unique_contracts!M166","v":"NotHybrid"},{"$f":"unique_contracts!N166","v":"NA"},{"$f":"unique_contracts!P166","v":0},{"$f":"unique_contracts!R166","v":0},{"$f":"unique_contracts!V166","v":0},{"$f":"unique_contracts!AB166","v":"sell"},{"$f":"unique_contracts!AM166","v":2013},{"$f":"unique_contracts!AN166","v":7},{"$f":"unique_contracts!AO166","v":30},{"$f":"unique_contracts!AP166","v":2033},{"$f":"unique_contracts!AQ166","v":7},{"$f":"unique_contracts!AR166","v":30},{"$f":"unique_contracts!BP166","v":"EnergyOnly"},0,{"$f":"IFERROR(IF(AND(I166>0,E166=\"NotHybrid\"),_xlfn.CONCAT(MAX(MIN(ROUNDDOWN(I166/D166,0),8),4),INDEX(resources!$G:$G,MATCH(B166,resources!$A:$A,0))),INDEX(resources!$G:$G,MATCH(B166,resources!$A:$A,0))),\"n/a\")","v":"utility_pv"},"n/a","utility_pv",2014,2032,1,1,{"$f":"MIN((IFERROR(IF(AND($V166<=Z$1,$W166>=Z$1),INDEX(Reliability!E$23:E$50,MATCH($S166,Reliability!$C$23:$C$50,0)),0),0)*IF($T166=\"n/a\",$D166*$Y166,$G166)+IFERROR(IF(AND($V166<=Z$1,$W166>=Z$1),INDEX(Reliability!E$23:E$50,MATCH($T166,Reliability!$C$23:$C$50,0)),0),0)*$H166*$X166*$Y166),$D166)*$R166","v":0},{"$f":"MIN((IFERROR(IF(AND($V166<=AA$1,$W166>=AA$1),INDEX(Reliability!F$23:F$50,MATCH($S166,Reliability!$C$23:$C$50,0)),0),0)*IF($T166=\"n/a\",$D166*$Y166,$G166)+IFERROR(IF(AND($V166<=AA$1,$W166>=AA$1),INDEX(Reliability!F$23:F$50,MATCH($T166,Reliability!$C$23:$C$50,0)),0),0)*$H166*$X166*$Y166),$D166)*$R166","v":0},{"$f":"MIN((IFERROR(IF(AND($V166<=AB$1,$W166>=AB$1),INDEX(Reliability!G$23:G$50,MATCH($S166,Reliability!$C$23:$C$50,0)),0),0)*IF($T166=\"n/a\",$D166*$Y166,$G166)+IFERROR(IF(AND($V166<=AB$1,$W166>=AB$1),INDEX(Reliability!G$23:G$50,MATCH($T166,Reliability!$C$23:$C$50,0)),0),0)*$H166*$X166*$Y166),$D166)*$R166","v":0},{"$f":"MIN((IFERROR(IF(AND($V166<=AC$1,$W166>=AC$1),INDEX(Reliability!H$23:H$50,MATCH($S166,Reliability!$C$23:$C$50,0)),0),0)*IF($T166=\"n/a\",$D166*$Y166,$G166)+IFERROR(IF(AND($V166<=AC$1,$W166>=AC$1),INDEX(Reliability!H$23:H$50,MATCH($T166,Reliability!$C$23:$C$50,0)),0),0)*$H166*$X166*$Y166),$D166)*$R166","v":0},{"$f":"MIN((IFERROR(IF(AND($V166<=AD$1,$W166>=AD$1),INDEX(Reliability!I$23:I$50,MATCH($S166,Reliability!$C$23:$C$50,0)),0),0)*IF($T166=\"n/a\",$D166*$Y166,$G166)+IFERROR(IF(AND($V166<=AD$1,$W166>=AD$1),INDEX(Reliability!I$23:I$50,MATCH($T166,Reliability!$C$23:$C$50,0)),0),0)*$H166*$X166*$Y166),$D166)*$R166","v":0},{"$f":"MIN((IFERROR(IF(AND($V166<=AE$1,$W166>=AE$1),INDEX(Reliability!J$23:J$50,MATCH($S166,Reliability!$C$23:$C$50,0)),0),0)*IF($T166=\"n/a\",$D166*$Y166,$G166)+IFERROR(IF(AND($V166<=AE$1,$W166>=AE$1),INDEX(Reliability!J$23:J$50,MATCH($T166,Reliability!$C$23:$C$50,0)),0),0)*$H166*$X166*$Y166),$D166)*$R166","v":0},{"$f":"MIN((IFERROR(IF(AND($V166<=AF$1,$W166>=AF$1),INDEX(Reliability!K$23:K$50,MATCH($S166,Reliability!$C$23:$C$50,0)),0),0)*IF($T166=\"n/a\",$D166*$Y166,$G166)+IFERROR(IF(AND($V166<=AF$1,$W166>=AF$1),INDEX(Reliability!K$23:K$50,MATCH($T166,Reliability!$C$23:$C$50,0)),0),0)*$H166*$X166*$Y166),$D166)*$R166","v":0},{"$f":"MIN((IFERROR(IF(AND($V166<=AG$1,$W166>=AG$1),INDEX(Reliability!L$23:L$50,MATCH($S166,Reliability!$C$23:$C$50,0)),0),0)*IF($T166=\"n/a\",$D166*$Y166,$G166)+IFERROR(IF(AND($V166<=AG$1,$W166>=AG$1),INDEX(Reliability!L$23:L$50,MATCH($T166,Reliability!$C$23:$C$50,0)),0),0)*$H166*$X166*$Y166),$D166)*$R166","v":0},{"$f":"MIN((IFERROR(IF(AND($V166<=AH$1,$W166>=AH$1),INDEX(Reliability!M$23:M$50,MATCH($S166,Reliability!$C$23:$C$50,0)),0),0)*IF($T166=\"n/a\",$D166*$Y166,$G166)+IFERROR(IF(AND($V166<=AH$1,$W166>=AH$1),INDEX(Reliability!M$23:M$50,MATCH($T166,Reliability!$C$23:$C$50,0)),0),0)*$H166*$X166*$Y166),$D166)*$R166","v":0},{"$f":"MIN((IFERROR(IF(AND($V166<=AI$1,$W166>=AI$1),INDEX(Reliability!N$23:N$50,MATCH($S166,Reliability!$C$23:$C$50,0)),0),0)*IF($T166=\"n/a\",$D166*$Y166,$G166)+IFERROR(IF(AND($V166<=AI$1,$W166>=AI$1),INDEX(Reliability!N$23:N$50,MATCH($T166,Reliability!$C$23:$C$50,0)),0),0)*$H166*$X166*$Y166),$D166)*$R166","v":0},{"$f":"MIN((IFERROR(IF(AND($V166<=AJ$1,$W166>=AJ$1),INDEX(Reliability!O$23:O$50,MATCH($S166,Reliability!$C$23:$C$50,0)),0),0)*IF($T166=\"n/a\",$D166*$Y166,$G166)+IFERROR(IF(AND($V166<=AJ$1,$W166>=AJ$1),INDEX(Reliability!O$23:O$50,MATCH($T166,Reliability!$C$23:$C$50,0)),0),0)*$H166*$X166*$Y166),$D166)*$R166","v":0},{"$f":"MIN((IFERROR(IF(AND($V166<=AK$1,$W166>=AK$1),INDEX(Reliability!P$23:P$50,MATCH($S166,Reliability!$C$23:$C$50,0)),0),0)*IF($T166=\"n/a\",$D166*$Y166,$G166)+IFERROR(IF(AND($V166<=AK$1,$W166>=AK$1),INDEX(Reliability!P$23:P$50,MATCH($T166,Reliability!$C$23:$C$50,0)),0),0)*$H166*$X166*$Y166),$D166)*$R166","v":0}]
[null,{"$f":"unique_contracts!B167","v":"ENERSJ_2_WIND"},{"$f":"unique_contracts!D167","v":"Online"},{"$f":"unique_contracts!J167","v":155},{"$f":"unique_contracts!M167","v":"NotHybrid"},{"$f":"unique_contracts!N167","v":"NA"},{"$f":"unique_contracts!P167","v":0},{"$f":"unique_contracts!R167","v":0},{"$f":"unique_contracts!V167","v":0},{"$f":"unique_contracts!AB167","v":0},{"$f":"unique_contracts!AM167","v":2015},{"$f":"unique_contracts!AN167","v":6},{"$f":"unique_contracts!AO167","v":5},{"$f":"unique_contracts!AP167","v":2035},{"$f":"unique_contracts!AQ167","v":6},{"$f":"unique_contracts!AR167","v":4},{"$f":"unique_contracts!BP167","v":"EnergyCapacity"},1,{"$f":"IFERROR(IF(AND(I167>0,E167=\"NotHybrid\"),_xlfn.CONCAT(MAX(MIN(ROUNDDOWN(I167/D167,0),8),4),INDEX(resources!$G:$G,MATCH(B167,resources!$A:$A,0))),INDEX(resources!$G:$G,MATCH(B167,resources!$A:$A,0))),\"n/a\")","v":"in_state_wind_south"},"n/a","in_state_wind_south",2016,2034,1,1,{"$f":"MIN((IFERROR(IF(AND($V167<=Z$1,$W167>=Z$1),INDEX(Reliability!E$23:E$50,MATCH($S167,Reliability!$C$23:$C$50,0)),0),0)*IF($T167=\"n/a\",$D167*$Y167,$G167)+IFERROR(IF(AND($V167<=Z$1,$W167>=Z$1),INDEX(Reliability!E$23:E$50,MATCH($T167,Reliability!$C$23:$C$50,0)),0),0)*$H167*$X167*$Y167),$D167)*$R167","v":23.409559175470651},{"$f":"MIN((IFERROR(IF(AND($V167<=AA$1,$W167>=AA$1),INDEX(Reliability!F$23:F$50,MATCH($S167,Reliability!$C$23:$C$50,0)),0),0)*IF($T167=\"n/a\",$D167*$Y167,$G167)+IFERROR(IF(AND($V167<=AA$1,$W167>=AA$1),INDEX(Reliability!F$23:F$50,MATCH($T167,Reliability!$C$23:$C$50,0)),0),0)*$H167*$X167*$Y167),$D167)*$R167","v":23.52721269935541},{"$f":"MIN((IFERROR(IF(AND($V167<=AB$1,$W167>=AB$1),INDEX(Reliability!G$23:G$50,MATCH($S167,Reliability!$C$23:$C$50,0)),0),0)*IF($T167=\"n/a\",$D167*$Y167,$G167)+IFERROR(IF(AND($V167<=AB$1,$W167>=AB$1),INDEX(Reliability!G$23:G$50,MATCH($T167,Reliability!$C$23:$C$50,0)),0),0)*$H167*$X167*$Y167),$D167)*$R167","v":23.644866223240172},{"$f":"MIN((IFERROR(IF(AND($V167<=AC$1,$W167>=AC$1),INDEX(Reliability!H$23:H$50,MATCH($S167,Reliability!$C$23:$C$50,0)),0),0)*IF($T167=\"n/a\",$D167*$Y167,$G167)+IFERROR(IF(AND($V167<=AC$1,$W167>=AC$1),INDEX(Reliability!H$23:H$50,MATCH($T167,Reliability!$C$23:$C$50,0)),0),0)*$H167*$X167*$Y167),$D167)*$R167","v":18.364905488404958},{"$f":"MIN((IFERROR(IF(AND($V167<=AD$1,$W167>=AD$1),INDEX(Reliability!I$23:I$50,MATCH($S167,Reliability!$C$23:$C$50,0)),0),0)*IF($T167=\"n/a\",$D167*$Y167,$G167)+IFERROR(IF(AND($V167<=AD$1,$W167>=AD$1),INDEX(Reliability!I$23:I$50,MATCH($T167,Reliability!$C$23:$C$50,0)),0),0)*$H167*$X167*$Y167),$D167)*$R167","v":13.084944753569749},{"$f":"MIN((IFERROR(IF(AND($V167<=AE$1,$W167>=AE$1),INDEX(Reliability!J$23:J$50,MATCH($S167,Reliability!$C$23:$C$50,0)),0),0)*IF($T167=\"n/a\",$D167*$Y167,$G167)+IFERROR(IF(AND($V167<=AE$1,$W167>=AE$1),INDEX(Reliability!J$23:J$50,MATCH($T167,Reliability!$C$23:$C$50,0)),0),0)*$H167*$X167*$Y167),$D167)*$R167","v":12.929616821443503},{"$f":"MIN((IFERROR(IF(AND($V167<=AF$1,$W167>=AF$1),INDEX(Reliability!K$23:K$50,MATCH($S167,Reliability!$C$23:$C$50,0)),0),0)*IF($T167=\"n/a\",$D167*$Y167,$G167)+IFERROR(IF(AND($V167<=AF$1,$W167>=AF$1),INDEX(Reliability!K$23:K$50,MATCH($T167,Reliability!$C$23:$C$50,0)),0),0)*$H167*$X167*$Y167),$D167)*$R167","v":12.774288889317258},{"$f":"MIN((IFERROR(IF(AND($V167<=AG$1,$W167>=AG$1),INDEX(Reliability!L$23:L$50,MATCH($S167,Reliability!$C$23:$C$50,0)),0),0)*IF($T167=\"n/a\",$D167*$Y167,$G167)+IFERROR(IF(AND($V167<=AG$1,$W167>=AG$1),INDEX(Reliability!L$23:L$50,MATCH($T167,Reliability!$C$23:$C$50,0)),0),0)*$H167*$X167*$Y167),$D167)*$R167","v":11.598602124282749},{"$f":"MIN((IFERROR(IF(AND($V167<=AH$1,$W167>=AH$1),INDEX(Reliability!M$23:M$50,MATCH($S167,Reliability!$C$23:$C$50,0)),0),0)*IF($T167=\"n/a\",$D167*$Y167,$G167)+IFERROR(IF(AND($V167<=AH$1,$W167>=AH$1),INDEX(Reliability!M$23:M$50,MATCH($T167,Reliability!$C$23:$C$50,0)),0),0)*$H167*$X167*$Y167),$D167)*$R167","v":10.422915359248242},{"$f":"MIN((IFERROR(IF(AND($V167<=AI$1,$W167>=AI$1),INDEX(Reliability!N$23:N$50,MATCH($S167,Reliability!$C$23:$C$50,0)),0),0)*IF($T167=\"n/a\",$D167*$Y167,$G167)+IFERROR(IF(AND($V167<=AI$1,$W167>=AI$1),INDEX(Reliability!N$23:N$50,MATCH($T167,Reliability!$C$23:$C$50,0)),0),0)*$H167*$X167*$Y167),$D167)*$R167","v":9.2472285942137322},{"$f":"MIN((IFERROR(IF(AND($V167<=AJ$1,$W167>=AJ$1),INDEX(Reliability!O$23:O$50,MATCH($S167,Reliability!$C$23:$C$50,0)),0),0)*IF($T167=\"n/a\",$D167*$Y167,$G167)+IFERROR(IF(AND($V167<=AJ$1,$W167>=AJ$1),INDEX(Reliability!O$23:O$50,MATCH($T167,Reliability!$C$23:$C$50,0)),0),0)*$H167*$X167*$Y167),$D167)*$R167","v":8.0715418291792247},{"$f":"MIN((IFERROR(IF(AND($V167<=AK$1,$W167>=AK$1),INDEX(Reliability!P$23:P$50,MATCH($S167,Reliability!$C$23:$C$50,0)),0),0)*IF($T167=\"n/a\",$D167*$Y167,$G167)+IFERROR(IF(AND($V167<=AK$1,$W167>=AK$1),INDEX(Reliability!P$23:P$50,MATCH($T167,Reliability!$C$23:$C$50,0)),0),0)*$H167*$X167*$Y167),$D167)*$R167","v":0}]
[null,{"$f":"unique_contracts!B168","v":"_EXISTING_GENERIC_BIOGAS_LANDFILLGAS"},{"$f":"unique_contracts!D168","v":"Online"},{"$f":"unique_contracts!J168","v":0},{"$f":"unique_contracts!M168","v":"NotHybrid"},{"$f":"unique_contracts!N168","v":"NA"},{"$f":"unique_contracts!P168","v":0},{"$f":"unique_contracts!R168","v":0},{"$f":"unique_contracts!V168","v":0},{"$f":"unique_contracts!AB168","v":"sell"},{"$f":"unique_contracts!AM168","v":2015},{"$f":"unique_contracts!AN168","v":6},{"$f":"unique_contracts!AO168","v":5},{"$f":"unique_contracts!AP168","v":2035},{"$f":"unique_contracts!AQ168","v":6},{"$f":"unique_contracts!AR168","v":4},{"$f":"unique_contracts!BP168","v":"EnergyOnly"},0,{"$f":"IFERROR(IF(AND(I168>0,E168=\"NotHybrid\"),_xlfn.CONCAT(MAX(MIN(ROUNDDOWN(I168/D168,0),8),4),INDEX(resources!$G:$G,MATCH(B168,resources!$A:$A,0))),INDEX(resources!$G:$G,MATCH(B168,resources!$A:$A,0))),\"n/a\")","v":"biomass_wood"},"n/a","biomass_wood",2016,2034,1,1,{"$f":"MIN((IFERROR(IF(AND($V168<=Z$1,$W168>=Z$1),INDEX(Reliability!E$23:E$50,MATCH($S168,Reliability!$C$23:$C$50,0)),0),0)*IF($T168=\"n/a\",$D168*$Y168,$G168)+IFERROR(IF(AND($V168<=Z$1,$W168>=Z$1),INDEX(Reliability!E$23:E$50,MATCH($T168,Reliability!$C$23:$C$50,0)),0),0)*$H168*$X168*$Y168),$D168)*$R168","v":0},{"$f":"MIN((IFERROR(IF(AND($V168<=AA$1,$W168>=AA$1),INDEX(Reliability!F$23:F$50,MATCH($S168,Reliability!$C$23:$C$50,0)),0),0)*IF($T168=\"n/a\",$D168*$Y168,$G168)+IFERROR(IF(AND($V168<=AA$1,$W168>=AA$1),INDEX(Reliability!F$23:F$50,MATCH($T168,Reliability!$C$23:$C$50,0)),0),0)*$H168*$X168*$Y168),$D168)*$R168","v":0},{"$f":"MIN((IFERROR(IF(AND($V168<=AB$1,$W168>=AB$1),INDEX(Reliability!G$23:G$50,MATCH($S168,Reliability!$C$23:$C$50,0)),0),0)*IF($T168=\"n/a\",$D168*$Y168,$G168)+IFERROR(IF(AND($V168<=AB$1,$W168>=AB$1),INDEX(Reliability!G$23:G$50,MATCH($T168,Reliability!$C$23:$C$50,0)),0),0)*$H168*$X168*$Y168),$D168)*$R168","v":0},{"$f":"MIN((IFERROR(IF(AND($V168<=AC$1,$W168>=AC$1),INDEX(Reliability!H$23:H$50,MATCH($S168,Reliability!$C$23:$C$50,0)),0),0)*IF($T168=\"n/a\",$D168*$Y168,$G168)+IFERROR(IF(AND($V168<=AC$1,$W168>=AC$1),INDEX(Reliability!H$23:H$50,MATCH($T168,Reliability!$C$23:$C$50,0)),0),0)*$H168*$X168*$Y168),$D168)*$R168","v":0},{"$f":"MIN((IFERROR(IF(AND($V168<=AD$1,$W168>=AD$1),INDEX(Reliability!I$23:I$50,MATCH($S168,Reliability!$C$23:$C$50,0)),0),0)*IF($T168=\"n/a\",$D168*$Y168,$G168)+IFERROR(IF(AND($V168<=AD$1,$W168>=AD$1),INDEX(Reliability!I$23:I$50,MATCH($T168,Reliability!$C$23:$C$50,0)),0),0)*$H168*$X168*$Y168),$D168)*$R168","v":0},{"$f":"MIN((IFERROR(IF(AND($V168<=AE$1,$W168>=AE$1),INDEX(Reliability!J$23:J$50,MATCH($S168,Reliability!$C$23:$C$50,0)),0),0)*IF($T168=\"n/a\",$D168*$Y168,$G168)+IFERROR(IF(AND($V168<=AE$1,$W168>=AE$1),INDEX(Reliability!J$23:J$50,MATCH($T168,Reliability!$C$23:$C$50,0)),0),0)*$H168*$X168*$Y168),$D168)*$R168","v":0},{"$f":"MIN((IFERROR(IF(AND($V168<=AF$1,$W168>=AF$1),INDEX(Reliability!K$23:K$50,MATCH($S168,Reliability!$C$23:$C$50,0)),0),0)*IF($T168=\"n/a\",$D168*$Y168,$G168)+IFERROR(IF(AND($V168<=AF$1,$W168>=AF$1),INDEX(Reliability!K$23:K$50,MATCH($T168,Reliability!$C$23:$C$50,0)),0),0)*$H168*$X168*$Y168),$D168)*$R168","v":0},{"$f":"MIN((IFERROR(IF(AND($V168<=AG$1,$W168>=AG$1),INDEX(Reliability!L$23:L$50,MATCH($S168,Reliability!$C$23:$C$50,0)),0),0)*IF($T168=\"n/a\",$D168*$Y168,$G168)+IFERROR(IF(AND($V168<=AG$1,$W168>=AG$1),INDEX(Reliability!L$23:L$50,MATCH($T168,Reliability!$C$23:$C$50,0)),0),0)*$H168*$X168*$Y168),$D168)*$R168","v":0},{"$f":"MIN((IFERROR(IF(AND($V168<=AH$1,$W168>=AH$1),INDEX(Reliability!M$23:M$50,MATCH($S168,Reliability!$C$23:$C$50,0)),0),0)*IF($T168=\"n/a\",$D168*$Y168,$G168)+IFERROR(IF(AND($V168<=AH$1,$W168>=AH$1),INDEX(Reliability!M$23:M$50,MATCH($T168,Reliability!$C$23:$C$50,0)),0),0)*$H168*$X168*$Y168),$D168)*$R168","v":0},{"$f":"MIN((IFERROR(IF(AND($V168<=AI$1,$W168>=AI$1),INDEX(Reliability!N$23:N$50,MATCH($S168,Reliability!$C$23:$C$50,0)),0),0)*IF($T168=\"n/a\",$D168*$Y168,$G168)+IFERROR(IF(AND($V168<=AI$1,$W168>=AI$1),INDEX(Reliability!N$23:N$50,MATCH($T168,Reliability!$C$23:$C$50,0)),0),0)*$H168*$X168*$Y168),$D168)*$R168","v":0},{"$f":"MIN((IFERROR(IF(AND($V168<=AJ$1,$W168>=AJ$1),INDEX(Reliability!O$23:O$50,MATCH($S168,Reliability!$C$23:$C$50,0)),0),0)*IF($T168=\"n/a\",$D168*$Y168,$G168)+IFERROR(IF(AND($V168<=AJ$1,$W168>=AJ$1),INDEX(Reliability!O$23:O$50,MATCH($T168,Reliability!$C$23:$C$50,0)),0),0)*$H168*$X168*$Y168),$D168)*$R168","v":0},{"$f":"MIN((IFERROR(IF(AND($V168<=AK$1,$W168>=AK$1),INDEX(Reliability!P$23:P$50,MATCH($S168,Reliability!$C$23:$C$50,0)),0),0)*IF($T168=\"n/a\",$D168*$Y168,$G168)+IFERROR(IF(AND($V168<=AK$1,$W168>=AK$1),INDEX(Reliability!P$23:P$50,MATCH($T168,Reliability!$C$23:$C$50,0)),0),0)*$H168*$X168*$Y168),$D168)*$R168","v":0}]
[null,{"$f":"unique_contracts!B169","v":"MANZNA_2_WIND"},{"$f":"unique_contracts!D169","v":"Online"},{"$f":"unique_contracts!J169","v":100},{"$f":"unique_contracts!M169","v":"NotHybrid"},{"$f":"unique_contracts!N169","v":"NA"},{"$f":"unique_contracts!P169","v":0},{"$f":"unique_contracts!R169","v":0},{"$f":"unique_contracts!V169","v":0},{"$f":"unique_contracts!AB169","v":0},{"$f":"unique_contracts!AM169","v":2012},{"$f":"unique_contracts!AN169","v":12},{"$f":"unique_contracts!AO169","v":31},{"$f":"unique_contracts!AP169","v":2032},{"$f":"unique_contracts!AQ169","v":12},{"$f":"unique_contracts!AR169","v":30},{"$f":"unique_contracts!BP169","v":"EnergyCapacity"},1,{"$f":"IFERROR(IF(AND(I169>0,E169=\"NotHybrid\"),_xlfn.CONCAT(MAX(MIN(ROUNDDOWN(I169/D169,0),8),4),INDEX(resources!$G:$G,MATCH(B169,resources!$A:$A,0))),INDEX(resources!$G:$G,MATCH(B169,resources!$A:$A,0))),\"n/a\")","v":"in_state_wind_south"},"n/a","in_state_wind_south",2013,2032,1,1,{"$f":"MIN((IFERROR(IF(AND($V169<=Z$1,$W169>=Z$1),INDEX(Reliability!E$23:E$50,MATCH($S169,Reliability!$C$23:$C$50,0)),0),0)*IF($T169=\"n/a\",$D169*$Y169,$G169)+IFERROR(IF(AND($V169<=Z$1,$W169>=Z$1),INDEX(Reliability!E$23:E$50,MATCH($T169,Reliability!$C$23:$C$50,0)),0),0)*$H169*$X169*$Y169),$D169)*$R169","v":15.102941403529451},{"$f":"MIN((IFERROR(IF(AND($V169<=AA$1,$W169>=AA$1),INDEX(Reliability!F$23:F$50,MATCH($S169,Reliability!$C$23:$C$50,0)),0),0)*IF($T169=\"n/a\",$D169*$Y169,$G169)+IFERROR(IF(AND($V169<=AA$1,$W169>=AA$1),INDEX(Reliability!F$23:F$50,MATCH($T169,Reliability!$C$23:$C$50,0)),0),0)*$H169*$X169*$Y169),$D169)*$R169","v":15.178846902809942},{"$f":"MIN((IFERROR(IF(AND($V169<=AB$1,$W169>=AB$1),INDEX(Reliability!G$23:G$50,MATCH($S169,Reliability!$C$23:$C$50,0)),0),0)*IF($T169=\"n/a\",$D169*$Y169,$G169)+IFERROR(IF(AND($V169<=AB$1,$W169>=AB$1),INDEX(Reliability!G$23:G$50,MATCH($T169,Reliability!$C$23:$C$50,0)),0),0)*$H169*$X169*$Y169),$D169)*$R169","v":15.254752402090432},{"$f":"MIN((IFERROR(IF(AND($V169<=AC$1,$W169>=AC$1),INDEX(Reliability!H$23:H$50,MATCH($S169,Reliability!$C$23:$C$50,0)),0),0)*IF($T169=\"n/a\",$D169*$Y169,$G169)+IFERROR(IF(AND($V169<=AC$1,$W169>=AC$1),INDEX(Reliability!H$23:H$50,MATCH($T169,Reliability!$C$23:$C$50,0)),0),0)*$H169*$X169*$Y169),$D169)*$R169","v":11.848326121551587},{"$f":"MIN((IFERROR(IF(AND($V169<=AD$1,$W169>=AD$1),INDEX(Reliability!I$23:I$50,MATCH($S169,Reliability!$C$23:$C$50,0)),0),0)*IF($T169=\"n/a\",$D169*$Y169,$G169)+IFERROR(IF(AND($V169<=AD$1,$W169>=AD$1),INDEX(Reliability!I$23:I$50,MATCH($T169,Reliability!$C$23:$C$50,0)),0),0)*$H169*$X169*$Y169),$D169)*$R169","v":8.4418998410127415},{"$f":"MIN((IFERROR(IF(AND($V169<=AE$1,$W169>=AE$1),INDEX(Reliability!J$23:J$50,MATCH($S169,Reliability!$C$23:$C$50,0)),0),0)*IF($T169=\"n/a\",$D169*$Y169,$G169)+IFERROR(IF(AND($V169<=AE$1,$W169>=AE$1),INDEX(Reliability!J$23:J$50,MATCH($T169,Reliability!$C$23:$C$50,0)),0),0)*$H169*$X169*$Y169),$D169)*$R169","v":8.3416882718990344},{"$f":"MIN((IFERROR(IF(AND($V169<=AF$1,$W169>=AF$1),INDEX(Reliability!K$23:K$50,MATCH($S169,Reliability!$C$23:$C$50,0)),0),0)*IF($T169=\"n/a\",$D169*$Y169,$G169)+IFERROR(IF(AND($V169<=AF$1,$W169>=AF$1),INDEX(Reliability!K$23:K$50,MATCH($T169,Reliability!$C$23:$C$50,0)),0),0)*$H169*$X169*$Y169),$D169)*$R169","v":8.2414767027853273},{"$f":"MIN((IFERROR(IF(AND($V169<=AG$1,$W169>=AG$1),INDEX(Reliability!L$23:L$50,MATCH($S169,Reliability!$C$23:$C$50,0)),0),0)*IF($T169=\"n/a\",$D169*$Y169,$G169)+IFERROR(IF(AND($V169<=AG$1,$W169>=AG$1),INDEX(Reliability!L$23:L$50,MATCH($T169,Reliability!$C$23:$C$50,0)),0),0)*$H169*$X169*$Y169),$D169)*$R169","v":7.4829691124404834},{"$f":"MIN((IFERROR(IF(AND($V169<=AH$1,$W169>=AH$1),INDEX(Reliability!M$23:M$50,MATCH($S169,Reliability!$C$23:$C$50,0)),0),0)*IF($T169=\"n/a\",$D169*$Y169,$G169)+IFERROR(IF(AND($V169<=AH$1,$W169>=AH$1),INDEX(Reliability!M$23:M$50,MATCH($T169,Reliability!$C$23:$C$50,0)),0),0)*$H169*$X169*$Y169),$D169)*$R169","v":6.7244615220956403},{"$f":"MIN((IFERROR(IF(AND($V169<=AI$1,$W169>=AI$1),INDEX(Reliability!N$23:N$50,MATCH($S169,Reliability!$C$23:$C$50,0)),0),0)*IF($T169=\"n/a\",$D169*$Y169,$G169)+IFERROR(IF(AND($V169<=AI$1,$W169>=AI$1),INDEX(Reliability!N$23:N$50,MATCH($T169,Reliability!$C$23:$C$50,0)),0),0)*$H169*$X169*$Y169),$D169)*$R169","v":0},{"$f":"MIN((IFERROR(IF(AND($V169<=AJ$1,$W169>=AJ$1),INDEX(Reliability!O$23:O$50,MATCH($S169,Reliability!$C$23:$C$50,0)),0),0)*IF($T169=\"n/a\",$D169*$Y169,$G169)+IFERROR(IF(AND($V169<=AJ$1,$W169>=AJ$1),INDEX(Reliability!O$23:O$50,MATCH($T169,Reliability!$C$23:$C$50,0)),0),0)*$H169*$X169*$Y169),$D169)*$R169","v":0},{"$f":"MIN((IFERROR(IF(AND($V169<=AK$1,$W169>=AK$1),INDEX(Reliability!P$23:P$50,MATCH($S169,Reliability!$C$23:$C$50,0)),0),0)*IF($T169=\"n/a\",$D169*$Y169,$G169)+IFERROR(IF(AND($V169<=AK$1,$W169>=AK$1),INDEX(Reliability!P$23:P$50,MATCH($T169,Reliability!$C$23:$C$50,0)),0),0)*$H169*$X169*$Y169),$D169)*$R169","v":0}]
[null,{"$f":"unique_contracts!B170","v":"_EXISTING_GENERIC_SOLAR_1AXIS"},{"$f":"unique_contracts!D170","v":"Online"},{"$f":"unique_contracts!J170","v":0},{"$f":"unique_contracts!M170","v":"NotHybrid"},{"$f":"unique_contracts!N170","v":"NA"},{"$f":"unique_contracts!P170","v":0},{"$f":"unique_contracts!R170","v":0},{"$f":"unique_contracts!V170","v":0},{"$f":"unique_contracts!AB170","v":"sell"},{"$f":"unique_contracts!AM170","v":2012},{"$f":"unique_contracts!AN170","v":12},{"$f":"unique_contracts!AO170","v":31},{"$f":"unique_contracts!AP170","v":2032},{"$f":"unique_contracts!AQ170","v":12},{"$f":"unique_contracts!AR170","v":30},{"$f":"unique_contracts!BP170","v":"EnergyOnly"},0,{"$f":"IFERROR(IF(AND(I170>0,E170=\"NotHybrid\"),_xlfn.CONCAT(MAX(MIN(ROUNDDOWN(I170/D170,0),8),4),INDEX(resources!$G:$G,MATCH(B170,resources!$A:$A,0))),INDEX(resources!$G:$G,MATCH(B170,resources!$A:$A,0))),\"n/a\")","v":"utility_pv"},"n/a","utility_pv",2013,2032,1,1,{"$f":"MIN((IFERROR(IF(AND($V170<=Z$1,$W170>=Z$1),INDEX(Reliability!E$23:E$50,MATCH($S170,Reliability!$C$23:$C$50,0)),0),0)*IF($T170=\"n/a\",$D170*$Y170,$G170)+IFERROR(IF(AND($V170<=Z$1,$W170>=Z$1),INDEX(Reliability!E$23:E$50,MATCH($T170,Reliability!$C$23:$C$50,0)),0),0)*$H170*$X170*$Y170),$D170)*$R170","v":0},{"$f":"MIN((IFERROR(IF(AND($V170<=AA$1,$W170>=AA$1),INDEX(Reliability!F$23:F$50,MATCH($S170,Reliability!$C$23:$C$50,0)),0),0)*IF($T170=\"n/a\",$D170*$Y170,$G170)+IFERROR(IF(AND($V170<=AA$1,$W170>=AA$1),INDEX(Reliability!F$23:F$50,MATCH($T170,Reliability!$C$23:$C$50,0)),0),0)*$H170*$X170*$Y170),$D170)*$R170","v":0},{"$f":"MIN((IFERROR(IF(AND($V170<=AB$1,$W170>=AB$1),INDEX(Reliability!G$23:G$50,MATCH($S170,Reliability!$C$23:$C$50,0)),0),0)*IF($T170=\"n/a\",$D170*$Y170,$G170)+IFERROR(IF(AND($V170<=AB$1,$W170>=AB$1),INDEX(Reliability!G$23:G$50,MATCH($T170,Reliability!$C$23:$C$50,0)),0),0)*$H170*$X170*$Y170),$D170)*$R170","v":0},{"$f":"MIN((IFERROR(IF(AND($V170<=AC$1,$W170>=AC$1),INDEX(Reliability!H$23:H$50,MATCH($S170,Reliability!$C$23:$C$50,0)),0),0)*IF($T170=\"n/a\",$D170*$Y170,$G170)+IFERROR(IF(AND($V170<=AC$1,$W170>=AC$1),INDEX(Reliability!H$23:H$50,MATCH($T170,Reliability!$C$23:$C$50,0)),0),0)*$H170*$X170*$Y170),$D170)*$R170","v":0},{"$f":"MIN((IFERROR(IF(AND($V170<=AD$1,$W170>=AD$1),INDEX(Reliability!I$23:I$50,MATCH($S170,Reliability!$C$23:$C$50,0)),0),0)*IF($T170=\"n/a\",$D170*$Y170,$G170)+IFERROR(IF(AND($V170<=AD$1,$W170>=AD$1),INDEX(Reliability!I$23:I$50,MATCH($T170,Reliability!$C$23:$C$50,0)),0),0)*$H170*$X170*$Y170),$D170)*$R170","v":0},{"$f":"MIN((IFERROR(IF(AND($V170<=AE$1,$W170>=AE$1),INDEX(Reliability!J$23:J$50,MATCH($S170,Reliability!$C$23:$C$50,0)),0),0)*IF($T170=\"n/a\",$D170*$Y170,$G170)+IFERROR(IF(AND($V170<=AE$1,$W170>=AE$1),INDEX(Reliability!J$23:J$50,MATCH($T170,Reliability!$C$23:$C$50,0)),0),0)*$H170*$X170*$Y170),$D170)*$R170","v":0},{"$f":"MIN((IFERROR(IF(AND($V170<=AF$1,$W170>=AF$1),INDEX(Reliability!K$23:K$50,MATCH($S170,Reliability!$C$23:$C$50,0)),0),0)*IF($T170=\"n/a\",$D170*$Y170,$G170)+IFERROR(IF(AND($V170<=AF$1,$W170>=AF$1),INDEX(Reliability!K$23:K$50,MATCH($T170,Reliability!$C$23:$C$50,0)),0),0)*$H170*$X170*$Y170),$D170)*$R170","v":0},{"$f":"MIN((IFERROR(IF(AND($V170<=AG$1,$W170>=AG$1),INDEX(Reliability!L$23:L$50,MATCH($S170,Reliability!$C$23:$C$50,0)),0),0)*IF($T170=\"n/a\",$D170*$Y170,$G170)+IFERROR(IF(AND($V170<=AG$1,$W170>=AG$1),INDEX(Reliability!L$23:L$50,MATCH($T170,Reliability!$C$23:$C$50,0)),0),0)*$H170*$X170*$Y170),$D170)*$R170","v":0},{"$f":"MIN((IFERROR(IF(AND($V170<=AH$1,$W170>=AH$1),INDEX(Reliability!M$23:M$50,MATCH($S170,Reliability!$C$23:$C$50,0)),0),0)*IF($T170=\"n/a\",$D170*$Y170,$G170)+IFERROR(IF(AND($V170<=AH$1,$W170>=AH$1),INDEX(Reliability!M$23:M$50,MATCH($T170,Reliability!$C$23:$C$50,0)),0),0)*$H170*$X170*$Y170),$D170)*$R170","v":0},{"$f":"MIN((IFERROR(IF(AND($V170<=AI$1,$W170>=AI$1),INDEX(Reliability!N$23:N$50,MATCH($S170,Reliability!$C$23:$C$50,0)),0),0)*IF($T170=\"n/a\",$D170*$Y170,$G170)+IFERROR(IF(AND($V170<=AI$1,$W170>=AI$1),INDEX(Reliability!N$23:N$50,MATCH($T170,Reliability!$C$23:$C$50,0)),0),0)*$H170*$X170*$Y170),$D170)*$R170","v":0},{"$f":"MIN((IFERROR(IF(AND($V170<=AJ$1,$W170>=AJ$1),INDEX(Reliability!O$23:O$50,MATCH($S170,Reliability!$C$23:$C$50,0)),0),0)*IF($T170=\"n/a\",$D170*$Y170,$G170)+IFERROR(IF(AND($V170<=AJ$1,$W170>=AJ$1),INDEX(Reliability!O$23:O$50,MATCH($T170,Reliability!$C$23:$C$50,0)),0),0)*$H170*$X170*$Y170),$D170)*$R170","v":0},{"$f":"MIN((IFERROR(IF(AND($V170<=AK$1,$W170>=AK$1),INDEX(Reliability!P$23:P$50,MATCH($S170,Reliability!$C$23:$C$50,0)),0),0)*IF($T170=\"n/a\",$D170*$Y170,$G170)+IFERROR(IF(AND($V170<=AK$1,$W170>=AK$1),INDEX(Reliability!P$23:P$50,MATCH($T170,Reliability!$C$23:$C$50,0)),0),0)*$H170*$X170*$Y170),$D170)*$R170","v":0}]
[null,{"$f":"unique_contracts!B171","v":"ENERSJ_5_ESJWD2"},{"$f":"unique_contracts!D171","v":"Online"},{"$f":"unique_contracts!J171","v":105},{"$f":"unique_contracts!M171","v":"NotHybrid"},{"$f":"unique_contracts!N171","v":"NA"},{"$f":"unique_contracts!P171","v":0},{"$f":"unique_contracts!R171","v":0},{"$f":"unique_contracts!V171","v":0},{"$f":"unique_contracts!AB171","v":0},{"$f":"unique_contracts!AM171","v":2022},{"$f":"unique_contracts!AN171","v":1},{"$f":"unique_contracts!AO171","v":15},{"$f":"unique_contracts!AP171","v":2042},{"$f":"unique_contracts!AQ171","v":1},{"$f":"unique_contracts!AR171","v":14},{"$f":"unique_contracts!BP171","v":"EnergyCapacity"},1,{"$f":"IFERROR(IF(AND(I171>0,E171=\"NotHybrid\"),_xlfn.CONCAT(MAX(MIN(ROUNDDOWN(I171/D171,0),8),4),INDEX(resources!$G:$G,MATCH(B171,resources!$A:$A,0))),INDEX(resources!$G:$G,MATCH(B171,resources!$A:$A,0))),\"n/a\")","v":"in_state_wind_south"},"n/a","in_state_wind_south",2022,2041,1,1,{"$f":"MIN((IFERROR(IF(AND($V171<=Z$1,$W171>=Z$1),INDEX(Reliability!E$23:E$50,MATCH($S171,Reliability!$C$23:$C$50,0)),0),0)*IF($T171=\"n/a\",$D171*$Y171,$G171)+IFERROR(IF(AND($V171<=Z$1,$W171>=Z$1),INDEX(Reliability!E$23:E$50,MATCH($T171,Reliability!$C$23:$C$50,0)),0),0)*$H171*$X171*$Y171),$D171)*$R171","v":15.858088473705925},{"$f":"MIN((IFERROR(IF(AND($V171<=AA$1,$W171>=AA$1),INDEX(Reliability!F$23:F$50,MATCH($S171,Reliability!$C$23:$C$50,0)),0),0)*IF($T171=\"n/a\",$D171*$Y171,$G171)+IFERROR(IF(AND($V171<=AA$1,$W171>=AA$1),INDEX(Reliability!F$23:F$50,MATCH($T171,Reliability!$C$23:$C$50,0)),0),0)*$H171*$X171*$Y171),$D171)*$R171","v":15.937789247950439},{"$f":"MIN((IFERROR(IF(AND($V171<=AB$1,$W171>=AB$1),INDEX(Reliability!G$23:G$50,MATCH($S171,Reliability!$C$23:$C$50,0)),0),0)*IF($T171=\"n/a\",$D171*$Y171,$G171)+IFERROR(IF(AND($V171<=AB$1,$W171>=AB$1),INDEX(Reliability!G$23:G$50,MATCH($T171,Reliability!$C$23:$C$50,0)),0),0)*$H171*$X171*$Y171),$D171)*$R171","v":16.017490022194956},{"$f":"MIN((IFERROR(IF(AND($V171<=AC$1,$W171>=AC$1),INDEX(Reliability!H$23:H$50,MATCH($S171,Reliability!$C$23:$C$50,0)),0),0)*IF($T171=\"n/a\",$D171*$Y171,$G171)+IFERROR(IF(AND($V171<=AC$1,$W171>=AC$1),INDEX(Reliability!H$23:H$50,MATCH($T171,Reliability!$C$23:$C$50,0)),0),0)*$H171*$X171*$Y171),$D171)*$R171","v":12.440742427629166},{"$f":"MIN((IFERROR(IF(AND($V171<=AD$1,$W171>=AD$1),INDEX(Reliability!I$23:I$50,MATCH($S171,Reliability!$C$23:$C$50,0)),0),0)*IF($T171=\"n/a\",$D171*$Y171,$G171)+IFERROR(IF(AND($V171<=AD$1,$W171>=AD$1),INDEX(Reliability!I$23:I$50,MATCH($T171,Reliability!$C$23:$C$50,0)),0),0)*$H171*$X171*$Y171),$D171)*$R171","v":8.8639948330633782},{"$f":"MIN((IFERROR(IF(AND($V171<=AE$1,$W171>=AE$1),INDEX(Reliability!J$23:J$50,MATCH($S171,Reliability!$C$23:$C$50,0)),0),0)*IF($T171=\"n/a\",$D171*$Y171,$G171)+IFERROR(IF(AND($V171<=AE$1,$W171>=AE$1),INDEX(Reliability!J$23:J$50,MATCH($T171,Reliability!$C$23:$C$50,0)),0),0)*$H171*$X171*$Y171),$D171)*$R171","v":8.7587726854939856},{"$f":"MIN((IFERROR(IF(AND($V171<=AF$1,$W171>=AF$1),INDEX(Reliability!K$23:K$50,MATCH($S171,Reliability!$C$23:$C$50,0)),0),0)*IF($T171=\"n/a\",$D171*$Y171,$G171)+IFERROR(IF(AND($V171<=AF$1,$W171>=AF$1),INDEX(Reliability!K$23:K$50,MATCH($T171,Reliability!$C$23:$C$50,0)),0),0)*$H171*$X171*$Y171),$D171)*$R171","v":8.6535505379245947},{"$f":"MIN((IFERROR(IF(AND($V171<=AG$1,$W171>=AG$1),INDEX(Reliability!L$23:L$50,MATCH($S171,Reliability!$C$23:$C$50,0)),0),0)*IF($T171=\"n/a\",$D171*$Y171,$G171)+IFERROR(IF(AND($V171<=AG$1,$W171>=AG$1),INDEX(Reliability!L$23:L$50,MATCH($T171,Reliability!$C$23:$C$50,0)),0),0)*$H171*$X171*$Y171),$D171)*$R171","v":7.8571175680625078},{"$f":"MIN((IFERROR(IF(AND($V171<=AH$1,$W171>=AH$1),INDEX(Reliability!M$23:M$50,MATCH($S171,Reliability!$C$23:$C$50,0)),0),0)*IF($T171=\"n/a\",$D171*$Y171,$G171)+IFERROR(IF(AND($V171<=AH$1,$W171>=AH$1),INDEX(Reliability!M$23:M$50,MATCH($T171,Reliability!$C$23:$C$50,0)),0),0)*$H171*$X171*$Y171),$D171)*$R171","v":7.0606845982004218},{"$f":"MIN((IFERROR(IF(AND($V171<=AI$1,$W171>=AI$1),INDEX(Reliability!N$23:N$50,MATCH($S171,Reliability!$C$23:$C$50,0)),0),0)*IF($T171=\"n/a\",$D171*$Y171,$G171)+IFERROR(IF(AND($V171<=AI$1,$W171>=AI$1),INDEX(Reliability!N$23:N$50,MATCH($T171,Reliability!$C$23:$C$50,0)),0),0)*$H171*$X171*$Y171),$D171)*$R171","v":6.2642516283383349},{"$f":"MIN((IFERROR(IF(AND($V171<=AJ$1,$W171>=AJ$1),INDEX(Reliability!O$23:O$50,MATCH($S171,Reliability!$C$23:$C$50,0)),0),0)*IF($T171=\"n/a\",$D171*$Y171,$G171)+IFERROR(IF(AND($V171<=AJ$1,$W171>=AJ$1),INDEX(Reliability!O$23:O$50,MATCH($T171,Reliability!$C$23:$C$50,0)),0),0)*$H171*$X171*$Y171),$D171)*$R171","v":5.4678186584762489},{"$f":"MIN((IFERROR(IF(AND($V171<=AK$1,$W171>=AK$1),INDEX(Reliability!P$23:P$50,MATCH($S171,Reliability!$C$23:$C$50,0)),0),0)*IF($T171=\"n/a\",$D171*$Y171,$G171)+IFERROR(IF(AND($V171<=AK$1,$W171>=AK$1),INDEX(Reliability!P$23:P$50,MATCH($T171,Reliability!$C$23:$C$50,0)),0),0)*$H171*$X171*$Y171),$D171)*$R171","v":4.6713856886141611}]
[null,{"$f":"unique_contracts!B172","v":"_EXISTING_GENERIC_SOLAR_1AXIS"},{"$f":"unique_contracts!D172","v":"Online"},{"$f":"unique_contracts!J172","v":0},{"$f":"unique_contracts!M172","v":"NotHybrid"},{"$f":"unique_contracts!N172","v":"NA"},{"$f":"unique_contracts!P172","v":0},{"$f":"unique_contracts!R172","v":0},{"$f":"unique_contracts!V172","v":0},{"$f":"unique_contracts!AB172","v":"sell"},{"$f":"unique_contracts!AM172","v":2022},{"$f":"unique_contracts!AN172","v":1},{"$f":"unique_contracts!AO172","v":15},{"$f":"unique_contracts!AP172","v":2042},{"$f":"unique_contracts!AQ172","v":1},{"$f":"unique_contracts!AR172","v":14},{"$f":"unique_contracts!BP172","v":"EnergyOnly"},0,{"$f":"IFERROR(IF(AND(I172>0,E172=\"NotHybrid\"),_xlfn.CONCAT(MAX(MIN(ROUNDDOWN(I172/D172,0),8),4),INDEX(resources!$G:$G,MATCH(B172,resources!$A:$A,0))),INDEX(resources!$G:$G,MATCH(B172,resources!$A:$A,0))),\"n/a\")","v":"utility_pv"},"n/a","utility_pv",2022,2041,1,1,{"$f":"MIN((IFERROR(IF(AND($V172<=Z$1,$W172>=Z$1),INDEX(Reliability!E$23:E$50,MATCH($S172,Reliability!$C$23:$C$50,0)),0),0)*IF($T172=\"n/a\",$D172*$Y172,$G172)+IFERROR(IF(AND($V172<=Z$1,$W172>=Z$1),INDEX(Reliability!E$23:E$50,MATCH($T172,Reliability!$C$23:$C$50,0)),0),0)*$H172*$X172*$Y172),$D172)*$R172","v":0},{"$f":"MIN((IFERROR(IF(AND($V172<=AA$1,$W172>=AA$1),INDEX(Reliability!F$23:F$50,MATCH($S172,Reliability!$C$23:$C$50,0)),0),0)*IF($T172=\"n/a\",$D172*$Y172,$G172)+IFERROR(IF(AND($V172<=AA$1,$W172>=AA$1),INDEX(Reliability!F$23:F$50,MATCH($T172,Reliability!$C$23:$C$50,0)),0),0)*$H172*$X172*$Y172),$D172)*$R172","v":0},{"$f":"MIN((IFERROR(IF(AND($V172<=AB$1,$W172>=AB$1),INDEX(Reliability!G$23:G$50,MATCH($S172,Reliability!$C$23:$C$50,0)),0),0)*IF($T172=\"n/a\",$D172*$Y172,$G172)+IFERROR(IF(AND($V172<=AB$1,$W172>=AB$1),INDEX(Reliability!G$23:G$50,MATCH($T172,Reliability!$C$23:$C$50,0)),0),0)*$H172*$X172*$Y172),$D172)*$R172","v":0},{"$f":"MIN((IFERROR(IF(AND($V172<=AC$1,$W172>=AC$1),INDEX(Reliability!H$23:H$50,MATCH($S172,Reliability!$C$23:$C$50,0)),0),0)*IF($T172=\"n/a\",$D172*$Y172,$G172)+IFERROR(IF(AND($V172<=AC$1,$W172>=AC$1),INDEX(Reliability!H$23:H$50,MATCH($T172,Reliability!$C$23:$C$50,0)),0),0)*$H172*$X172*$Y172),$D172)*$R172","v":0},{"$f":"MIN((IFERROR(IF(AND($V172<=AD$1,$W172>=AD$1),INDEX(Reliability!I$23:I$50,MATCH($S172,Reliability!$C$23:$C$50,0)),0),0)*IF($T172=\"n/a\",$D172*$Y172,$G172)+IFERROR(IF(AND($V172<=AD$1,$W172>=AD$1),INDEX(Reliability!I$23:I$50,MATCH($T172,Reliability!$C$23:$C$50,0)),0),0)*$H172*$X172*$Y172),$D172)*$R172","v":0},{"$f":"MIN((IFERROR(IF(AND($V172<=AE$1,$W172>=AE$1),INDEX(Reliability!J$23:J$50,MATCH($S172,Reliability!$C$23:$C$50,0)),0),0)*IF($T172=\"n/a\",$D172*$Y172,$G172)+IFERROR(IF(AND($V172<=AE$1,$W172>=AE$1),INDEX(Reliability!J$23:J$50,MATCH($T172,Reliability!$C$23:$C$50,0)),0),0)*$H172*$X172*$Y172),$D172)*$R172","v":0},{"$f":"MIN((IFERROR(IF(AND($V172<=AF$1,$W172>=AF$1),INDEX(Reliability!K$23:K$50,MATCH($S172,Reliability!$C$23:$C$50,0)),0),0)*IF($T172=\"n/a\",$D172*$Y172,$G172)+IFERROR(IF(AND($V172<=AF$1,$W172>=AF$1),INDEX(Reliability!K$23:K$50,MATCH($T172,Reliability!$C$23:$C$50,0)),0),0)*$H172*$X172*$Y172),$D172)*$R172","v":0},{"$f":"MIN((IFERROR(IF(AND($V172<=AG$1,$W172>=AG$1),INDEX(Reliability!L$23:L$50,MATCH($S172,Reliability!$C$23:$C$50,0)),0),0)*IF($T172=\"n/a\",$D172*$Y172,$G172)+IFERROR(IF(AND($V172<=AG$1,$W172>=AG$1),INDEX(Reliability!L$23:L$50,MATCH($T172,Reliability!$C$23:$C$50,0)),0),0)*$H172*$X172*$Y172),$D172)*$R172","v":0},{"$f":"MIN((IFERROR(IF(AND($V172<=AH$1,$W172>=AH$1),INDEX(Reliability!M$23:M$50,MATCH($S172,Reliability!$C$23:$C$50,0)),0),0)*IF($T172=\"n/a\",$D172*$Y172,$G172)+IFERROR(IF(AND($V172<=AH$1,$W172>=AH$1),INDEX(Reliability!M$23:M$50,MATCH($T172,Reliability!$C$23:$C$50,0)),0),0)*$H172*$X172*$Y172),$D172)*$R172","v":0},{"$f":"MIN((IFERROR(IF(AND($V172<=AI$1,$W172>=AI$1),INDEX(Reliability!N$23:N$50,MATCH($S172,Reliability!$C$23:$C$50,0)),0),0)*IF($T172=\"n/a\",$D172*$Y172,$G172)+IFERROR(IF(AND($V172<=AI$1,$W172>=AI$1),INDEX(Reliability!N$23:N$50,MATCH($T172,Reliability!$C$23:$C$50,0)),0),0)*$H172*$X172*$Y172),$D172)*$R172","v":0},{"$f":"MIN((IFERROR(IF(AND($V172<=AJ$1,$W172>=AJ$1),INDEX(Reliability!O$23:O$50,MATCH($S172,Reliability!$C$23:$C$50,0)),0),0)*IF($T172=\"n/a\",$D172*$Y172,$G172)+IFERROR(IF(AND($V172<=AJ$1,$W172>=AJ$1),INDEX(Reliability!O$23:O$50,MATCH($T172,Reliability!$C$23:$C$50,0)),0),0)*$H172*$X172*$Y172),$D172)*$R172","v":0},{"$f":"MIN((IFERROR(IF(AND($V172<=AK$1,$W172>=AK$1),INDEX(Reliability!P$23:P$50,MATCH($S172,Reliability!$C$23:$C$50,0)),0),0)*IF($T172=\"n/a\",$D172*$Y172,$G172)+IFERROR(IF(AND($V172<=AK$1,$W172>=AK$1),INDEX(Reliability!P$23:P$50,MATCH($T172,Reliability!$C$23:$C$50,0)),0),0)*$H172*$X172*$Y172),$D172)*$R172","v":0}]
[null,{"$f":"unique_contracts!B173","v":"OAKWD_6_ZEPHWD"},{"$f":"unique_contracts!D173","v":"Online"},{"$f":"unique_contracts!J173","v":3.5},{"$f":"unique_contracts!M173","v":"NotHybrid"},{"$f":"unique_contracts!N173","v":"NA"},{"$f":"unique_contracts!P173","v":0},{"$f":"unique_contracts!R173","v":0},{"$f":"unique_contracts!V173","v":0},{"$f":"unique_contracts!AB173","v":0},{"$f":"unique_contracts!AM173","v":2014},{"$f":"unique_contracts!AN173","v":1},{"$f":"unique_contracts!AO173","v":26},{"$f":"unique_contracts!AP173","v":2024},{"$f":"unique_contracts!AQ173","v":1},{"$f":"unique_contracts!AR173","v":25},{"$f":"unique_contracts!BP173","v":"EnergyCapacity"},1,{"$f":"IFERROR(IF(AND(I173>0,E173=\"NotHybrid\"),_xlfn.CONCAT(MAX(MIN(ROUNDDOWN(I173/D173,0),8),4),INDEX(resources!$G:$G,MATCH(B173,resources!$A:$A,0))),INDEX(resources!$G:$G,MATCH(B173,resources!$A:$A,0))),\"n/a\")","v":"in_state_wind_south"},"n/a","in_state_wind_south",2014,2023,1,1,{"$f":"MIN((IFERROR(IF(AND($V173<=Z$1,$W173>=Z$1),INDEX(Reliability!E$23:E$50,MATCH($S173,Reliability!$C$23:$C$50,0)),0),0)*IF($T173=\"n/a\",$D173*$Y173,$G173)+IFERROR(IF(AND($V173<=Z$1,$W173>=Z$1),INDEX(Reliability!E$23:E$50,MATCH($T173,Reliability!$C$23:$C$50,0)),0),0)*$H173*$X173*$Y173),$D173)*$R173","v":0},{"$f":"MIN((IFERROR(IF(AND($V173<=AA$1,$W173>=AA$1),INDEX(Reliability!F$23:F$50,MATCH($S173,Reliability!$C$23:$C$50,0)),0),0)*IF($T173=\"n/a\",$D173*$Y173,$G173)+IFERROR(IF(AND($V173<=AA$1,$W173>=AA$1),INDEX(Reliability!F$23:F$50,MATCH($T173,Reliability!$C$23:$C$50,0)),0),0)*$H173*$X173*$Y173),$D173)*$R173","v":0},{"$f":"MIN((IFERROR(IF(AND($V173<=AB$1,$W173>=AB$1),INDEX(Reliability!G$23:G$50,MATCH($S173,Reliability!$C$23:$C$50,0)),0),0)*IF($T173=\"n/a\",$D173*$Y173,$G173)+IFERROR(IF(AND($V173<=AB$1,$W173>=AB$1),INDEX(Reliability!G$23:G$50,MATCH($T173,Reliability!$C$23:$C$50,0)),0),0)*$H173*$X173*$Y173),$D173)*$R173","v":0},{"$f":"MIN((IFERROR(IF(AND($V173<=AC$1,$W173>=AC$1),INDEX(Reliability!H$23:H$50,MATCH($S173,Reliability!$C$23:$C$50,0)),0),0)*IF($T173=\"n/a\",$D173*$Y173,$G173)+IFERROR(IF(AND($V173<=AC$1,$W173>=AC$1),INDEX(Reliability!H$23:H$50,MATCH($T173,Reliability!$C$23:$C$50,0)),0),0)*$H173*$X173*$Y173),$D173)*$R173","v":0},{"$f":"MIN((IFERROR(IF(AND($V173<=AD$1,$W173>=AD$1),INDEX(Reliability!I$23:I$50,MATCH($S173,Reliability!$C$23:$C$50,0)),0),0)*IF($T173=\"n/a\",$D173*$Y173,$G173)+IFERROR(IF(AND($V173<=AD$1,$W173>=AD$1),INDEX(Reliability!I$23:I$50,MATCH($T173,Reliability!$C$23:$C$50,0)),0),0)*$H173*$X173*$Y173),$D173)*$R173","v":0},{"$f":"MIN((IFERROR(IF(AND($V173<=AE$1,$W173>=AE$1),INDEX(Reliability!J$23:J$50,MATCH($S173,Reliability!$C$23:$C$50,0)),0),0)*IF($T173=\"n/a\",$D173*$Y173,$G173)+IFERROR(IF(AND($V173<=AE$1,$W173>=AE$1),INDEX(Reliability!J$23:J$50,MATCH($T173,Reliability!$C$23:$C$50,0)),0),0)*$H173*$X173*$Y173),$D173)*$R173","v":0},{"$f":"MIN((IFERROR(IF(AND($V173<=AF$1,$W173>=AF$1),INDEX(Reliability!K$23:K$50,MATCH($S173,Reliability!$C$23:$C$50,0)),0),0)*IF($T173=\"n/a\",$D173*$Y173,$G173)+IFERROR(IF(AND($V173<=AF$1,$W173>=AF$1),INDEX(Reliability!K$23:K$50,MATCH($T173,Reliability!$C$23:$C$50,0)),0),0)*$H173*$X173*$Y173),$D173)*$R173","v":0},{"$f":"MIN((IFERROR(IF(AND($V173<=AG$1,$W173>=AG$1),INDEX(Reliability!L$23:L$50,MATCH($S173,Reliability!$C$23:$C$50,0)),0),0)*IF($T173=\"n/a\",$D173*$Y173,$G173)+IFERROR(IF(AND($V173<=AG$1,$W173>=AG$1),INDEX(Reliability!L$23:L$50,MATCH($T173,Reliability!$C$23:$C$50,0)),0),0)*$H173*$X173*$Y173),$D173)*$R173","v":0},{"$f":"MIN((IFERROR(IF(AND($V173<=AH$1,$W173>=AH$1),INDEX(Reliability!M$23:M$50,MATCH($S173,Reliability!$C$23:$C$50,0)),0),0)*IF($T173=\"n/a\",$D173*$Y173,$G173)+IFERROR(IF(AND($V173<=AH$1,$W173>=AH$1),INDEX(Reliability!M$23:M$50,MATCH($T173,Reliability!$C$23:$C$50,0)),0),0)*$H173*$X173*$Y173),$D173)*$R173","v":0},{"$f":"MIN((IFERROR(IF(AND($V173<=AI$1,$W173>=AI$1),INDEX(Reliability!N$23:N$50,MATCH($S173,Reliability!$C$23:$C$50,0)),0),0)*IF($T173=\"n/a\",$D173*$Y173,$G173)+IFERROR(IF(AND($V173<=AI$1,$W173>=AI$1),INDEX(Reliability!N$23:N$50,MATCH($T173,Reliability!$C$23:$C$50,0)),0),0)*$H173*$X173*$Y173),$D173)*$R173","v":0},{"$f":"MIN((IFERROR(IF(AND($V173<=AJ$1,$W173>=AJ$1),INDEX(Reliability!O$23:O$50,MATCH($S173,Reliability!$C$23:$C$50,0)),0),0)*IF($T173=\"n/a\",$D173*$Y173,$G173)+IFERROR(IF(AND($V173<=AJ$1,$W173>=AJ$1),INDEX(Reliability!O$23:O$50,MATCH($T173,Reliability!$C$23:$C$50,0)),0),0)*$H173*$X173*$Y173),$D173)*$R173","v":0},{"$f":"MIN((IFERROR(IF(AND($V173<=AK$1,$W173>=AK$1),INDEX(Reliability!P$23:P$50,MATCH($S173,Reliability!$C$23:$C$50,0)),0),0)*IF($T173=\"n/a\",$D173*$Y173,$G173)+IFERROR(IF(AND($V173<=AK$1,$W173>=AK$1),INDEX(Reliability!P$23:P$50,MATCH($T173,Reliability!$C$23:$C$50,0)),0),0)*$H173*$X173*$Y173),$D173)*$R173","v":0}]
[null,{"$f":"unique_contracts!B174","v":"_EXISTING_GENERIC_WIND"},{"$f":"unique_contracts!D174","v":"Online"},{"$f":"unique_contracts!J174","v":0},{"$f":"unique_contracts!M174","v":"NotHybrid"},{"$f":"unique_contracts!N174","v":"NA"},{"$f":"unique_contracts!P174","v":0},{"$f":"unique_contracts!R174","v":0},{"$f":"unique_contracts!V174","v":0},{"$f":"unique_contracts!AB174","v":"sell"},{"$f":"unique_contracts!AM174","v":2014},{"$f":"unique_contracts!AN174","v":1},{"$f":"unique_contracts!AO174","v":26},{"$f":"unique_contracts!AP174","v":2024},{"$f":"unique_contracts!AQ174","v":1},{"$f":"unique_contracts!AR174","v":25},{"$f":"unique_contracts!BP174","v":"EnergyOnly"},0,{"$f":"IFERROR(IF(AND(I174>0,E174=\"NotHybrid\"),_xlfn.CONCAT(MAX(MIN(ROUNDDOWN(I174/D174,0),8),4),INDEX(resources!$G:$G,MATCH(B174,resources!$A:$A,0))),INDEX(resources!$G:$G,MATCH(B174,resources!$A:$A,0))),\"n/a\")","v":"in_state_wind_south"},"n/a","in_state_wind_south",2014,2023,1,1,{"$f":"MIN((IFERROR(IF(AND($V174<=Z$1,$W174>=Z$1),INDEX(Reliability!E$23:E$50,MATCH($S174,Reliability!$C$23:$C$50,0)),0),0)*IF($T174=\"n/a\",$D174*$Y174,$G174)+IFERROR(IF(AND($V174<=Z$1,$W174>=Z$1),INDEX(Reliability!E$23:E$50,MATCH($T174,Reliability!$C$23:$C$50,0)),0),0)*$H174*$X174*$Y174),$D174)*$R174","v":0},{"$f":"MIN((IFERROR(IF(AND($V174<=AA$1,$W174>=AA$1),INDEX(Reliability!F$23:F$50,MATCH($S174,Reliability!$C$23:$C$50,0)),0),0)*IF($T174=\"n/a\",$D174*$Y174,$G174)+IFERROR(IF(AND($V174<=AA$1,$W174>=AA$1),INDEX(Reliability!F$23:F$50,MATCH($T174,Reliability!$C$23:$C$50,0)),0),0)*$H174*$X174*$Y174),$D174)*$R174","v":0},{"$f":"MIN((IFERROR(IF(AND($V174<=AB$1,$W174>=AB$1),INDEX(Reliability!G$23:G$50,MATCH($S174,Reliability!$C$23:$C$50,0)),0),0)*IF($T174=\"n/a\",$D174*$Y174,$G174)+IFERROR(IF(AND($V174<=AB$1,$W174>=AB$1),INDEX(Reliability!G$23:G$50,MATCH($T174,Reliability!$C$23:$C$50,0)),0),0)*$H174*$X174*$Y174),$D174)*$R174","v":0},{"$f":"MIN((IFERROR(IF(AND($V174<=AC$1,$W174>=AC$1),INDEX(Reliability!H$23:H$50,MATCH($S174,Reliability!$C$23:$C$50,0)),0),0)*IF($T174=\"n/a\",$D174*$Y174,$G174)+IFERROR(IF(AND($V174<=AC$1,$W174>=AC$1),INDEX(Reliability!H$23:H$50,MATCH($T174,Reliability!$C$23:$C$50,0)),0),0)*$H174*$X174*$Y174),$D174)*$R174","v":0},{"$f":"MIN((IFERROR(IF(AND($V174<=AD$1,$W174>=AD$1),INDEX(Reliability!I$23:I$50,MATCH($S174,Reliability!$C$23:$C$50,0)),0),0)*IF($T174=\"n/a\",$D174*$Y174,$G174)+IFERROR(IF(AND($V174<=AD$1,$W174>=AD$1),INDEX(Reliability!I$23:I$50,MATCH($T174,Reliability!$C$23:$C$50,0)),0),0)*$H174*$X174*$Y174),$D174)*$R174","v":0},{"$f":"MIN((IFERROR(IF(AND($V174<=AE$1,$W174>=AE$1),INDEX(Reliability!J$23:J$50,MATCH($S174,Reliability!$C$23:$C$50,0)),0),0)*IF($T174=\"n/a\",$D174*$Y174,$G174)+IFERROR(IF(AND($V174<=AE$1,$W174>=AE$1),INDEX(Reliability!J$23:J$50,MATCH($T174,Reliability!$C$23:$C$50,0)),0),0)*$H174*$X174*$Y174),$D174)*$R174","v":0},{"$f":"MIN((IFERROR(IF(AND($V174<=AF$1,$W174>=AF$1),INDEX(Reliability!K$23:K$50,MATCH($S174,Reliability!$C$23:$C$50,0)),0),0)*IF($T174=\"n/a\",$D174*$Y174,$G174)+IFERROR(IF(AND($V174<=AF$1,$W174>=AF$1),INDEX(Reliability!K$23:K$50,MATCH($T174,Reliability!$C$23:$C$50,0)),0),0)*$H174*$X174*$Y174),$D174)*$R174","v":0},{"$f":"MIN((IFERROR(IF(AND($V174<=AG$1,$W174>=AG$1),INDEX(Reliability!L$23:L$50,MATCH($S174,Reliability!$C$23:$C$50,0)),0),0)*IF($T174=\"n/a\",$D174*$Y174,$G174)+IFERROR(IF(AND($V174<=AG$1,$W174>=AG$1),INDEX(Reliability!L$23:L$50,MATCH($T174,Reliability!$C$23:$C$50,0)),0),0)*$H174*$X174*$Y174),$D174)*$R174","v":0},{"$f":"MIN((IFERROR(IF(AND($V174<=AH$1,$W174>=AH$1),INDEX(Reliability!M$23:M$50,MATCH($S174,Reliability!$C$23:$C$50,0)),0),0)*IF($T174=\"n/a\",$D174*$Y174,$G174)+IFERROR(IF(AND($V174<=AH$1,$W174>=AH$1),INDEX(Reliability!M$23:M$50,MATCH($T174,Reliability!$C$23:$C$50,0)),0),0)*$H174*$X174*$Y174),$D174)*$R174","v":0},{"$f":"MIN((IFERROR(IF(AND($V174<=AI$1,$W174>=AI$1),INDEX(Reliability!N$23:N$50,MATCH($S174,Reliability!$C$23:$C$50,0)),0),0)*IF($T174=\"n/a\",$D174*$Y174,$G174)+IFERROR(IF(AND($V174<=AI$1,$W174>=AI$1),INDEX(Reliability!N$23:N$50,MATCH($T174,Reliability!$C$23:$C$50,0)),0),0)*$H174*$X174*$Y174),$D174)*$R174","v":0},{"$f":"MIN((IFERROR(IF(AND($V174<=AJ$1,$W174>=AJ$1),INDEX(Reliability!O$23:O$50,MATCH($S174,Reliability!$C$23:$C$50,0)),0),0)*IF($T174=\"n/a\",$D174*$Y174,$G174)+IFERROR(IF(AND($V174<=AJ$1,$W174>=AJ$1),INDEX(Reliability!O$23:O$50,MATCH($T174,Reliability!$C$23:$C$50,0)),0),0)*$H174*$X174*$Y174),$D174)*$R174","v":0},{"$f":"MIN((IFERROR(IF(AND($V174<=AK$1,$W174>=AK$1),INDEX(Reliability!P$23:P$50,MATCH($S174,Reliability!$C$23:$C$50,0)),0),0)*IF($T174=\"n/a\",$D174*$Y174,$G174)+IFERROR(IF(AND($V174<=AK$1,$W174>=AK$1),INDEX(Reliability!P$23:P$50,MATCH($T174,Reliability!$C$23:$C$50,0)),0),0)*$H174*$X174*$Y174),$D174)*$R174","v":0}]
[null,{"$f":"unique_contracts!B175","v":"GARNET_2_WIND1"},{"$f":"unique_contracts!D175","v":"Online"},{"$f":"unique_contracts!J175","v":11.2},{"$f":"unique_contracts!M175","v":"NotHybrid"},{"$f":"unique_contracts!N175","v":"NA"},{"$f":"unique_contracts!P175","v":0},{"$f":"unique_contracts!R175","v":0},{"$f":"unique_contracts!V175","v":0},{"$f":"unique_contracts!AB175","v":0},{"$f":"unique_contracts!AM175","v":2015},{"$f":"unique_contracts!AN175","v":1},{"$f":"unique_contracts!AO175","v":20},{"$f":"unique_contracts!AP175","v":2025},{"$f":"unique_contracts!AQ175","v":1},{"$f":"unique_contracts!AR175","v":19},{"$f":"unique_contracts!BP175","v":"EnergyCapacity"},1,{"$f":"IFERROR(IF(AND(I175>0,E175=\"NotHybrid\"),_xlfn.CONCAT(MAX(MIN(ROUNDDOWN(I175/D175,0),8),4),INDEX(resources!$G:$G,MATCH(B175,resources!$A:$A,0))),INDEX(resources!$G:$G,MATCH(B175,resources!$A:$A,0))),\"n/a\")","v":"in_state_wind_south"},"n/a","in_state_wind_south",2015,2024,1,1,{"$f":"MIN((IFERROR(IF(AND($V175<=Z$1,$W175>=Z$1),INDEX(Reliability!E$23:E$50,MATCH($S175,Reliability!$C$23:$C$50,0)),0),0)*IF($T175=\"n/a\",$D175*$Y175,$G175)+IFERROR(IF(AND($V175<=Z$1,$W175>=Z$1),INDEX(Reliability!E$23:E$50,MATCH($T175,Reliability!$C$23:$C$50,0)),0),0)*$H175*$X175*$Y175),$D175)*$R175","v":1.6915294371952985},{"$f":"MIN((IFERROR(IF(AND($V175<=AA$1,$W175>=AA$1),INDEX(Reliability!F$23:F$50,MATCH($S175,Reliability!$C$23:$C$50,0)),0),0)*IF($T175=\"n/a\",$D175*$Y175,$G175)+IFERROR(IF(AND($V175<=AA$1,$W175>=AA$1),INDEX(Reliability!F$23:F$50,MATCH($T175,Reliability!$C$23:$C$50,0)),0),0)*$H175*$X175*$Y175),$D175)*$R175","v":0},{"$f":"MIN((IFERROR(IF(AND($V175<=AB$1,$W175>=AB$1),INDEX(Reliability!G$23:G$50,MATCH($S175,Reliability!$C$23:$C$50,0)),0),0)*IF($T175=\"n/a\",$D175*$Y175,$G175)+IFERROR(IF(AND($V175<=AB$1,$W175>=AB$1),INDEX(Reliability!G$23:G$50,MATCH($T175,Reliability!$C$23:$C$50,0)),0),0)*$H175*$X175*$Y175),$D175)*$R175","v":0},{"$f":"MIN((IFERROR(IF(AND($V175<=AC$1,$W175>=AC$1),INDEX(Reliability!H$23:H$50,MATCH($S175,Reliability!$C$23:$C$50,0)),0),0)*IF($T175=\"n/a\",$D175*$Y175,$G175)+IFERROR(IF(AND($V175<=AC$1,$W175>=AC$1),INDEX(Reliability!H$23:H$50,MATCH($T175,Reliability!$C$23:$C$50,0)),0),0)*$H175*$X175*$Y175),$D175)*$R175","v":0},{"$f":"MIN((IFERROR(IF(AND($V175<=AD$1,$W175>=AD$1),INDEX(Reliability!I$23:I$50,MATCH($S175,Reliability!$C$23:$C$50,0)),0),0)*IF($T175=\"n/a\",$D175*$Y175,$G175)+IFERROR(IF(AND($V175<=AD$1,$W175>=AD$1),INDEX(Reliability!I$23:I$50,MATCH($T175,Reliability!$C$23:$C$50,0)),0),0)*$H175*$X175*$Y175),$D175)*$R175","v":0},{"$f":"MIN((IFERROR(IF(AND($V175<=AE$1,$W175>=AE$1),INDEX(Reliability!J$23:J$50,MATCH($S175,Reliability!$C$23:$C$50,0)),0),0)*IF($T175=\"n/a\",$D175*$Y175,$G175)+IFERROR(IF(AND($V175<=AE$1,$W175>=AE$1),INDEX(Reliability!J$23:J$50,MATCH($T175,Reliability!$C$23:$C$50,0)),0),0)*$H175*$X175*$Y175),$D175)*$R175","v":0},{"$f":"MIN((IFERROR(IF(AND($V175<=AF$1,$W175>=AF$1),INDEX(Reliability!K$23:K$50,MATCH($S175,Reliability!$C$23:$C$50,0)),0),0)*IF($T175=\"n/a\",$D175*$Y175,$G175)+IFERROR(IF(AND($V175<=AF$1,$W175>=AF$1),INDEX(Reliability!K$23:K$50,MATCH($T175,Reliability!$C$23:$C$50,0)),0),0)*$H175*$X175*$Y175),$D175)*$R175","v":0},{"$f":"MIN((IFERROR(IF(AND($V175<=AG$1,$W175>=AG$1),INDEX(Reliability!L$23:L$50,MATCH($S175,Reliability!$C$23:$C$50,0)),0),0)*IF($T175=\"n/a\",$D175*$Y175,$G175)+IFERROR(IF(AND($V175<=AG$1,$W175>=AG$1),INDEX(Reliability!L$23:L$50,MATCH($T175,Reliability!$C$23:$C$50,0)),0),0)*$H175*$X175*$Y175),$D175)*$R175","v":0},{"$f":"MIN((IFERROR(IF(AND($V175<=AH$1,$W175>=AH$1),INDEX(Reliability!M$23:M$50,MATCH($S175,Reliability!$C$23:$C$50,0)),0),0)*IF($T175=\"n/a\",$D175*$Y175,$G175)+IFERROR(IF(AND($V175<=AH$1,$W175>=AH$1),INDEX(Reliability!M$23:M$50,MATCH($T175,Reliability!$C$23:$C$50,0)),0),0)*$H175*$X175*$Y175),$D175)*$R175","v":0},{"$f":"MIN((IFERROR(IF(AND($V175<=AI$1,$W175>=AI$1),INDEX(Reliability!N$23:N$50,MATCH($S175,Reliability!$C$23:$C$50,0)),0),0)*IF($T175=\"n/a\",$D175*$Y175,$G175)+IFERROR(IF(AND($V175<=AI$1,$W175>=AI$1),INDEX(Reliability!N$23:N$50,MATCH($T175,Reliability!$C$23:$C$50,0)),0),0)*$H175*$X175*$Y175),$D175)*$R175","v":0},{"$f":"MIN((IFERROR(IF(AND($V175<=AJ$1,$W175>=AJ$1),INDEX(Reliability!O$23:O$50,MATCH($S175,Reliability!$C$23:$C$50,0)),0),0)*IF($T175=\"n/a\",$D175*$Y175,$G175)+IFERROR(IF(AND($V175<=AJ$1,$W175>=AJ$1),INDEX(Reliability!O$23:O$50,MATCH($T175,Reliability!$C$23:$C$50,0)),0),0)*$H175*$X175*$Y175),$D175)*$R175","v":0},{"$f":"MIN((IFERROR(IF(AND($V175<=AK$1,$W175>=AK$1),INDEX(Reliability!P$23:P$50,MATCH($S175,Reliability!$C$23:$C$50,0)),0),0)*IF($T175=\"n/a\",$D175*$Y175,$G175)+IFERROR(IF(AND($V175<=AK$1,$W175>=AK$1),INDEX(Reliability!P$23:P$50,MATCH($T175,Reliability!$C$23:$C$50,0)),0),0)*$H175*$X175*$Y175),$D175)*$R175","v":0}]
[null,{"$f":"unique_contracts!B176","v":"_EXISTING_GENERIC_WIND"},{"$f":"unique_contracts!D176","v":"Online"},{"$f":"unique_contracts!J176","v":0},{"$f":"unique_contracts!M176","v":"NotHybrid"},{"$f":"unique_contracts!N176","v":"NA"},{"$f":"unique_contracts!P176","v":0},{"$f":"unique_contracts!R176","v":0},{"$f":"unique_contracts!V176","v":0},{"$f":"unique_contracts!AB176","v":"sell"},{"$f":"unique_contracts!AM176","v":2015},{"$f":"unique_contracts!AN176","v":1},{"$f":"unique_contracts!AO176","v":20},{"$f":"unique_contracts!AP176","v":2025},{"$f":"unique_contracts!AQ176","v":1},{"$f":"unique_contracts!AR176","v":19},{"$f":"unique_contracts!BP176","v":"EnergyOnly"},0,{"$f":"IFERROR(IF(AND(I176>0,E176=\"NotHybrid\"),_xlfn.CONCAT(MAX(MIN(ROUNDDOWN(I176/D176,0),8),4),INDEX(resources!$G:$G,MATCH(B176,resources!$A:$A,0))),INDEX(resources!$G:$G,MATCH(B176,resources!$A:$A,0))),\"n/a\")","v":"in_state_wind_south"},"n/a","in_state_wind_south",2015,2024,1,1,{"$f":"MIN((IFERROR(IF(AND($V176<=Z$1,$W176>=Z$1),INDEX(Reliability!E$23:E$50,MATCH($S176,Reliability!$C$23:$C$50,0)),0),0)*IF($T176=\"n/a\",$D176*$Y176,$G176)+IFERROR(IF(AND($V176<=Z$1,$W176>=Z$1),INDEX(Reliability!E$23:E$50,MATCH($T176,Reliability!$C$23:$C$50,0)),0),0)*$H176*$X176*$Y176),$D176)*$R176","v":0},{"$f":"MIN((IFERROR(IF(AND($V176<=AA$1,$W176>=AA$1),INDEX(Reliability!F$23:F$50,MATCH($S176,Reliability!$C$23:$C$50,0)),0),0)*IF($T176=\"n/a\",$D176*$Y176,$G176)+IFERROR(IF(AND($V176<=AA$1,$W176>=AA$1),INDEX(Reliability!F$23:F$50,MATCH($T176,Reliability!$C$23:$C$50,0)),0),0)*$H176*$X176*$Y176),$D176)*$R176","v":0},{"$f":"MIN((IFERROR(IF(AND($V176<=AB$1,$W176>=AB$1),INDEX(Reliability!G$23:G$50,MATCH($S176,Reliability!$C$23:$C$50,0)),0),0)*IF($T176=\"n/a\",$D176*$Y176,$G176)+IFERROR(IF(AND($V176<=AB$1,$W176>=AB$1),INDEX(Reliability!G$23:G$50,MATCH($T176,Reliability!$C$23:$C$50,0)),0),0)*$H176*$X176*$Y176),$D176)*$R176","v":0},{"$f":"MIN((IFERROR(IF(AND($V176<=AC$1,$W176>=AC$1),INDEX(Reliability!H$23:H$50,MATCH($S176,Reliability!$C$23:$C$50,0)),0),0)*IF($T176=\"n/a\",$D176*$Y176,$G176)+IFERROR(IF(AND($V176<=AC$1,$W176>=AC$1),INDEX(Reliability!H$23:H$50,MATCH($T176,Reliability!$C$23:$C$50,0)),0),0)*$H176*$X176*$Y176),$D176)*$R176","v":0},{"$f":"MIN((IFERROR(IF(AND($V176<=AD$1,$W176>=AD$1),INDEX(Reliability!I$23:I$50,MATCH($S176,Reliability!$C$23:$C$50,0)),0),0)*IF($T176=\"n/a\",$D176*$Y176,$G176)+IFERROR(IF(AND($V176<=AD$1,$W176>=AD$1),INDEX(Reliability!I$23:I$50,MATCH($T176,Reliability!$C$23:$C$50,0)),0),0)*$H176*$X176*$Y176),$D176)*$R176","v":0},{"$f":"MIN((IFERROR(IF(AND($V176<=AE$1,$W176>=AE$1),INDEX(Reliability!J$23:J$50,MATCH($S176,Reliability!$C$23:$C$50,0)),0),0)*IF($T176=\"n/a\",$D176*$Y176,$G176)+IFERROR(IF(AND($V176<=AE$1,$W176>=AE$1),INDEX(Reliability!J$23:J$50,MATCH($T176,Reliability!$C$23:$C$50,0)),0),0)*$H176*$X176*$Y176),$D176)*$R176","v":0},{"$f":"MIN((IFERROR(IF(AND($V176<=AF$1,$W176>=AF$1),INDEX(Reliability!K$23:K$50,MATCH($S176,Reliability!$C$23:$C$50,0)),0),0)*IF($T176=\"n/a\",$D176*$Y176,$G176)+IFERROR(IF(AND($V176<=AF$1,$W176>=AF$1),INDEX(Reliability!K$23:K$50,MATCH($T176,Reliability!$C$23:$C$50,0)),0),0)*$H176*$X176*$Y176),$D176)*$R176","v":0},{"$f":"MIN((IFERROR(IF(AND($V176<=AG$1,$W176>=AG$1),INDEX(Reliability!L$23:L$50,MATCH($S176,Reliability!$C$23:$C$50,0)),0),0)*IF($T176=\"n/a\",$D176*$Y176,$G176)+IFERROR(IF(AND($V176<=AG$1,$W176>=AG$1),INDEX(Reliability!L$23:L$50,MATCH($T176,Reliability!$C$23:$C$50,0)),0),0)*$H176*$X176*$Y176),$D176)*$R176","v":0},{"$f":"MIN((IFERROR(IF(AND($V176<=AH$1,$W176>=AH$1),INDEX(Reliability!M$23:M$50,MATCH($S176,Reliability!$C$23:$C$50,0)),0),0)*IF($T176=\"n/a\",$D176*$Y176,$G176)+IFERROR(IF(AND($V176<=AH$1,$W176>=AH$1),INDEX(Reliability!M$23:M$50,MATCH($T176,Reliability!$C$23:$C$50,0)),0),0)*$H176*$X176*$Y176),$D176)*$R176","v":0},{"$f":"MIN((IFERROR(IF(AND($V176<=AI$1,$W176>=AI$1),INDEX(Reliability!N$23:N$50,MATCH($S176,Reliability!$C$23:$C$50,0)),0),0)*IF($T176=\"n/a\",$D176*$Y176,$G176)+IFERROR(IF(AND($V176<=AI$1,$W176>=AI$1),INDEX(Reliability!N$23:N$50,MATCH($T176,Reliability!$C$23:$C$50,0)),0),0)*$H176*$X176*$Y176),$D176)*$R176","v":0},{"$f":"MIN((IFERROR(IF(AND($V176<=AJ$1,$W176>=AJ$1),INDEX(Reliability!O$23:O$50,MATCH($S176,Reliability!$C$23:$C$50,0)),0),0)*IF($T176=\"n/a\",$D176*$Y176,$G176)+IFERROR(IF(AND($V176<=AJ$1,$W176>=AJ$1),INDEX(Reliability!O$23:O$50,MATCH($T176,Reliability!$C$23:$C$50,0)),0),0)*$H176*$X176*$Y176),$D176)*$R176","v":0},{"$f":"MIN((IFERROR(IF(AND($V176<=AK$1,$W176>=AK$1),INDEX(Reliability!P$23:P$50,MATCH($S176,Reliability!$C$23:$C$50,0)),0),0)*IF($T176=\"n/a\",$D176*$Y176,$G176)+IFERROR(IF(AND($V176<=AK$1,$W176>=AK$1),INDEX(Reliability!P$23:P$50,MATCH($T176,Reliability!$C$23:$C$50,0)),0),0)*$H176*$X176*$Y176),$D176)*$R176","v":0}]
[null,{"$f":"unique_contracts!B177","v":"_EXISTING_GENERIC_PEAKER"},{"$f":"unique_contracts!D177","v":"Online"},{"$f":"unique_contracts!J177","v":20},{"$f":"unique_contracts!M177","v":"NotHybrid"},{"$f":"unique_contracts!N177","v":"NA"},{"$f":"unique_contracts!P177","v":0},{"$f":"unique_contracts!R177","v":0},{"$f":"unique_contracts!V177","v":0},{"$f":"unique_contracts!AB177","v":0},{"$f":"unique_contracts!AM177","v":2021},{"$f":"unique_contracts!AN177","v":6},{"$f":"unique_contracts!AO177","v":1},{"$f":"unique_contracts!AP177","v":2026},{"$f":"unique_contracts!AQ177","v":5},{"$f":"unique_contracts!AR177","v":31},{"$f":"unique_contracts!BP177","v":"CapacityOnly"},1,{"$f":"IFERROR(IF(AND(I177>0,E177=\"NotHybrid\"),_xlfn.CONCAT(MAX(MIN(ROUNDDOWN(I177/D177,0),8),4),INDEX(resources!$G:$G,MATCH(B177,resources!$A:$A,0))),INDEX(resources!$G:$G,MATCH(B177,resources!$A:$A,0))),\"n/a\")","v":"gas_ct"},"n/a","gas_ct",2021,2025,1,1,{"$f":"MIN((IFERROR(IF(AND($V177<=Z$1,$W177>=Z$1),INDEX(Reliability!E$23:E$50,MATCH($S177,Reliability!$C$23:$C$50,0)),0),0)*IF($T177=\"n/a\",$D177*$Y177,$G177)+IFERROR(IF(AND($V177<=Z$1,$W177>=Z$1),INDEX(Reliability!E$23:E$50,MATCH($T177,Reliability!$C$23:$C$50,0)),0),0)*$H177*$X177*$Y177),$D177)*$R177","v":16.042079488230609},{"$f":"MIN((IFERROR(IF(AND($V177<=AA$1,$W177>=AA$1),INDEX(Reliability!F$23:F$50,MATCH($S177,Reliability!$C$23:$C$50,0)),0),0)*IF($T177=\"n/a\",$D177*$Y177,$G177)+IFERROR(IF(AND($V177<=AA$1,$W177>=AA$1),INDEX(Reliability!F$23:F$50,MATCH($T177,Reliability!$C$23:$C$50,0)),0),0)*$H177*$X177*$Y177),$D177)*$R177","v":16.328110332663023},{"$f":"MIN((IFERROR(IF(AND($V177<=AB$1,$W177>=AB$1),INDEX(Reliability!G$23:G$50,MATCH($S177,Reliability!$C$23:$C$50,0)),0),0)*IF($T177=\"n/a\",$D177*$Y177,$G177)+IFERROR(IF(AND($V177<=AB$1,$W177>=AB$1),INDEX(Reliability!G$23:G$50,MATCH($T177,Reliability!$C$23:$C$50,0)),0),0)*$H177*$X177*$Y177),$D177)*$R177","v":0},{"$f":"MIN((IFERROR(IF(AND($V177<=AC$1,$W177>=AC$1),INDEX(Reliability!H$23:H$50,MATCH($S177,Reliability!$C$23:$C$50,0)),0),0)*IF($T177=\"n/a\",$D177*$Y177,$G177)+IFERROR(IF(AND($V177<=AC$1,$W177>=AC$1),INDEX(Reliability!H$23:H$50,MATCH($T177,Reliability!$C$23:$C$50,0)),0),0)*$H177*$X177*$Y177),$D177)*$R177","v":0},{"$f":"MIN((IFERROR(IF(AND($V177<=AD$1,$W177>=AD$1),INDEX(Reliability!I$23:I$50,MATCH($S177,Reliability!$C$23:$C$50,0)),0),0)*IF($T177=\"n/a\",$D177*$Y177,$G177)+IFERROR(IF(AND($V177<=AD$1,$W177>=AD$1),INDEX(Reliability!I$23:I$50,MATCH($T177,Reliability!$C$23:$C$50,0)),0),0)*$H177*$X177*$Y177),$D177)*$R177","v":0},{"$f":"MIN((IFERROR(IF(AND($V177<=AE$1,$W177>=AE$1),INDEX(Reliability!J$23:J$50,MATCH($S177,Reliability!$C$23:$C$50,0)),0),0)*IF($T177=\"n/a\",$D177*$Y177,$G177)+IFERROR(IF(AND($V177<=AE$1,$W177>=AE$1),INDEX(Reliability!J$23:J$50,MATCH($T177,Reliability!$C$23:$C$50,0)),0),0)*$H177*$X177*$Y177),$D177)*$R177","v":0},{"$f":"MIN((IFERROR(IF(AND($V177<=AF$1,$W177>=AF$1),INDEX(Reliability!K$23:K$50,MATCH($S177,Reliability!$C$23:$C$50,0)),0),0)*IF($T177=\"n/a\",$D177*$Y177,$G177)+IFERROR(IF(AND($V177<=AF$1,$W177>=AF$1),INDEX(Reliability!K$23:K$50,MATCH($T177,Reliability!$C$23:$C$50,0)),0),0)*$H177*$X177*$Y177),$D177)*$R177","v":0},{"$f":"MIN((IFERROR(IF(AND($V177<=AG$1,$W177>=AG$1),INDEX(Reliability!L$23:L$50,MATCH($S177,Reliability!$C$23:$C$50,0)),0),0)*IF($T177=\"n/a\",$D177*$Y177,$G177)+IFERROR(IF(AND($V177<=AG$1,$W177>=AG$1),INDEX(Reliability!L$23:L$50,MATCH($T177,Reliability!$C$23:$C$50,0)),0),0)*$H177*$X177*$Y177),$D177)*$R177","v":0},{"$f":"MIN((IFERROR(IF(AND($V177<=AH$1,$W177>=AH$1),INDEX(Reliability!M$23:M$50,MATCH($S177,Reliability!$C$23:$C$50,0)),0),0)*IF($T177=\"n/a\",$D177*$Y177,$G177)+IFERROR(IF(AND($V177<=AH$1,$W177>=AH$1),INDEX(Reliability!M$23:M$50,MATCH($T177,Reliability!$C$23:$C$50,0)),0),0)*$H177*$X177*$Y177),$D177)*$R177","v":0},{"$f":"MIN((IFERROR(IF(AND($V177<=AI$1,$W177>=AI$1),INDEX(Reliability!N$23:N$50,MATCH($S177,Reliability!$C$23:$C$50,0)),0),0)*IF($T177=\"n/a\",$D177*$Y177,$G177)+IFERROR(IF(AND($V177<=AI$1,$W177>=AI$1),INDEX(Reliability!N$23:N$50,MATCH($T177,Reliability!$C$23:$C$50,0)),0),0)*$H177*$X177*$Y177),$D177)*$R177","v":0},{"$f":"MIN((IFERROR(IF(AND($V177<=AJ$1,$W177>=AJ$1),INDEX(Reliability!O$23:O$50,MATCH($S177,Reliability!$C$23:$C$50,0)),0),0)*IF($T177=\"n/a\",$D177*$Y177,$G177)+IFERROR(IF(AND($V177<=AJ$1,$W177>=AJ$1),INDEX(Reliability!O$23:O$50,MATCH($T177,Reliability!$C$23:$C$50,0)),0),0)*$H177*$X177*$Y177),$D177)*$R177","v":0},{"$f":"MIN((IFERROR(IF(AND($V177<=AK$1,$W177>=AK$1),INDEX(Reliability!P$23:P$50,MATCH($S177,Reliability!$C$23:$C$50,0)),0),0)*IF($T177=\"n/a\",$D177*$Y177,$G177)+IFERROR(IF(AND($V177<=AK$1,$W177>=AK$1),INDEX(Reliability!P$23:P$50,MATCH($T177,Reliability!$C$23:$C$50,0)),0),0)*$H177*$X177*$Y177),$D177)*$R177","v":0}]
[null,{"$f":"unique_contracts!B178","v":"_EXISTING_GENERIC_PEAKER"},{"$f":"unique_contracts!D178","v":"Online"},{"$f":"unique_contracts!J178","v":8.0440000000000005},{"$f":"unique_contracts!M178","v":"NotHybrid"},{"$f":"unique_contracts!N178","v":"NA"},{"$f":"unique_contracts!P178","v":0},{"$f":"unique_contracts!R178","v":0},{"$f":"unique_contracts!V178","v":0},{"$f":"unique_contracts!AB178","v":"sell"},{"$f":"unique_contracts!AM178","v":2021},{"$f":"unique_contracts!AN178","v":6},{"$f":"unique_contracts!AO178","v":1},{"$f":"unique_contracts!AP178","v":2026},{"$f":"unique_contracts!AQ178","v":5},{"$f":"unique_contracts!AR178","v":31},{"$f":"unique_contracts!BP178","v":"CapacityOnly"},-1,{"$f":"IFERROR(IF(AND(I178>0,E178=\"NotHybrid\"),_xlfn.CONCAT(MAX(MIN(ROUNDDOWN(I178/D178,0),8),4),INDEX(resources!$G:$G,MATCH(B178,resources!$A:$A,0))),INDEX(resources!$G:$G,MATCH(B178,resources!$A:$A,0))),\"n/a\")","v":"gas_ct"},"n/a","gas_ct",2021,2025,1,1,{"$f":"MIN((IFERROR(IF(AND($V178<=Z$1,$W178>=Z$1),INDEX(Reliability!E$23:E$50,MATCH($S178,Reliability!$C$23:$C$50,0)),0),0)*IF($T178=\"n/a\",$D178*$Y178,$G178)+IFERROR(IF(AND($V178<=Z$1,$W178>=Z$1),INDEX(Reliability!E$23:E$50,MATCH($T178,Reliability!$C$23:$C$50,0)),0),0)*$H178*$X178*$Y178),$D178)*$R178","v":-6.4521243701663513},{"$f":"MIN((IFERROR(IF(AND($V178<=AA$1,$W178>=AA$1),INDEX(Reliability!F$23:F$50,MATCH($S178,Reliability!$C$23:$C$50,0)),0),0)*IF($T178=\"n/a\",$D178*$Y178,$G178)+IFERROR(IF(AND($V178<=AA$1,$W178>=AA$1),INDEX(Reliability!F$23:F$50,MATCH($T178,Reliability!$C$23:$C$50,0)),0),0)*$H178*$X178*$Y178),$D178)*$R178","v":-6.5671659757970682},{"$f":"MIN((IFERROR(IF(AND($V178<=AB$1,$W178>=AB$1),INDEX(Reliability!G$23:G$50,MATCH($S178,Reliability!$C$23:$C$50,0)),0),0)*IF($T178=\"n/a\",$D178*$Y178,$G178)+IFERROR(IF(AND($V178<=AB$1,$W178>=AB$1),INDEX(Reliability!G$23:G$50,MATCH($T178,Reliability!$C$23:$C$50,0)),0),0)*$H178*$X178*$Y178),$D178)*$R178","v":0},{"$f":"MIN((IFERROR(IF(AND($V178<=AC$1,$W178>=AC$1),INDEX(Reliability!H$23:H$50,MATCH($S178,Reliability!$C$23:$C$50,0)),0),0)*IF($T178=\"n/a\",$D178*$Y178,$G178)+IFERROR(IF(AND($V178<=AC$1,$W178>=AC$1),INDEX(Reliability!H$23:H$50,MATCH($T178,Reliability!$C$23:$C$50,0)),0),0)*$H178*$X178*$Y178),$D178)*$R178","v":0},{"$f":"MIN((IFERROR(IF(AND($V178<=AD$1,$W178>=AD$1),INDEX(Reliability!I$23:I$50,MATCH($S178,Reliability!$C$23:$C$50,0)),0),0)*IF($T178=\"n/a\",$D178*$Y178,$G178)+IFERROR(IF(AND($V178<=AD$1,$W178>=AD$1),INDEX(Reliability!I$23:I$50,MATCH($T178,Reliability!$C$23:$C$50,0)),0),0)*$H178*$X178*$Y178),$D178)*$R178","v":0},{"$f":"MIN((IFERROR(IF(AND($V178<=AE$1,$W178>=AE$1),INDEX(Reliability!J$23:J$50,MATCH($S178,Reliability!$C$23:$C$50,0)),0),0)*IF($T178=\"n/a\",$D178*$Y178,$G178)+IFERROR(IF(AND($V178<=AE$1,$W178>=AE$1),INDEX(Reliability!J$23:J$50,MATCH($T178,Reliability!$C$23:$C$50,0)),0),0)*$H178*$X178*$Y178),$D178)*$R178","v":0},{"$f":"MIN((IFERROR(IF(AND($V178<=AF$1,$W178>=AF$1),INDEX(Reliability!K$23:K$50,MATCH($S178,Reliability!$C$23:$C$50,0)),0),0)*IF($T178=\"n/a\",$D178*$Y178,$G178)+IFERROR(IF(AND($V178<=AF$1,$W178>=AF$1),INDEX(Reliability!K$23:K$50,MATCH($T178,Reliability!$C$23:$C$50,0)),0),0)*$H178*$X178*$Y178),$D178)*$R178","v":0},{"$f":"MIN((IFERROR(IF(AND($V178<=AG$1,$W178>=AG$1),INDEX(Reliability!L$23:L$50,MATCH($S178,Reliability!$C$23:$C$50,0)),0),0)*IF($T178=\"n/a\",$D178*$Y178,$G178)+IFERROR(IF(AND($V178<=AG$1,$W178>=AG$1),INDEX(Reliability!L$23:L$50,MATCH($T178,Reliability!$C$23:$C$50,0)),0),0)*$H178*$X178*$Y178),$D178)*$R178","v":0},{"$f":"MIN((IFERROR(IF(AND($V178<=AH$1,$W178>=AH$1),INDEX(Reliability!M$23:M$50,MATCH($S178,Reliability!$C$23:$C$50,0)),0),0)*IF($T178=\"n/a\",$D178*$Y178,$G178)+IFERROR(IF(AND($V178<=AH$1,$W178>=AH$1),INDEX(Reliability!M$23:M$50,MATCH($T178,Reliability!$C$23:$C$50,0)),0),0)*$H178*$X178*$Y178),$D178)*$R178","v":0},{"$f":"MIN((IFERROR(IF(AND($V178<=AI$1,$W178>=AI$1),INDEX(Reliability!N$23:N$50,MATCH($S178,Reliability!$C$23:$C$50,0)),0),0)*IF($T178=\"n/a\",$D178*$Y178,$G178)+IFERROR(IF(AND($V178<=AI$1,$W178>=AI$1),INDEX(Reliability!N$23:N$50,MATCH($T178,Reliability!$C$23:$C$50,0)),0),0)*$H178*$X178*$Y178),$D178)*$R178","v":0},{"$f":"MIN((IFERROR(IF(AND($V178<=AJ$1,$W178>=AJ$1),INDEX(Reliability!O$23:O$50,MATCH($S178,Reliability!$C$23:$C$50,0)),0),0)*IF($T178=\"n/a\",$D178*$Y178,$G178)+IFERROR(IF(AND($V178<=AJ$1,$W178>=AJ$1),INDEX(Reliability!O$23:O$50,MATCH($T178,Reliability!$C$23:$C$50,0)),0),0)*$H178*$X178*$Y178),$D178)*$R178","v":0},{"$f":"MIN((IFERROR(IF(AND($V178<=AK$1,$W178>=AK$1),INDEX(Reliability!P$23:P$50,MATCH($S178,Reliability!$C$23:$C$50,0)),0),0)*IF($T178=\"n/a\",$D178*$Y178,$G178)+IFERROR(IF(AND($V178<=AK$1,$W178>=AK$1),INDEX(Reliability!P$23:P$50,MATCH($T178,Reliability!$C$23:$C$50,0)),0),0)*$H178*$X178*$Y178),$D178)*$R178","v":0}]
[null,{"$f":"unique_contracts!B179","v":"_EXISTING_GENERIC_PEAKER"},{"$f":"unique_contracts!D179","v":"Online"},{"$f":"unique_contracts!J179","v":27},{"$f":"unique_contracts!M179","v":"NotHybrid"},{"$f":"unique_contracts!N179","v":"NA"},{"$f":"unique_contracts!P179","v":0},{"$f":"unique_contracts!R179","v":0},{"$f":"unique_contracts!V179","v":0},{"$f":"unique_contracts!AB179","v":0},{"$f":"unique_contracts!AM179","v":2021},{"$f":"unique_contracts!AN179","v":6},{"$f":"unique_contracts!AO179","v":1},{"$f":"unique_contracts!AP179","v":2026},{"$f":"unique_contracts!AQ179","v":5},{"$f":"unique_contracts!AR179","v":31},{"$f":"unique_contracts!BP179","v":"CapacityOnly"},1,{"$f":"IFERROR(IF(AND(I179>0,E179=\"NotHybrid\"),_xlfn.CONCAT(MAX(MIN(ROUNDDOWN(I179/D179,0),8),4),INDEX(resources!$G:$G,MATCH(B179,resources!$A:$A,0))),INDEX(resources!$G:$G,MATCH(B179,resources!$A:$A,0))),\"n/a\")","v":"gas_ct"},"n/a","gas_ct",2021,2025,1,1,{"$f":"MIN((IFERROR(IF(AND($V179<=Z$1,$W179>=Z$1),INDEX(Reliability!E$23:E$50,MATCH($S179,Reliability!$C$23:$C$50,0)),0),0)*IF($T179=\"n/a\",$D179*$Y179,$G179)+IFERROR(IF(AND($V179<=Z$1,$W179>=Z$1),INDEX(Reliability!E$23:E$50,MATCH($T179,Reliability!$C$23:$C$50,0)),0),0)*$H179*$X179*$Y179),$D179)*$R179","v":21.656807309111322},{"$f":"MIN((IFERROR(IF(AND($V179<=AA$1,$W179>=AA$1),INDEX(Reliability!F$23:F$50,MATCH($S179,Reliability!$C$23:$C$50,0)),0),0)*IF($T179=\"n/a\",$D179*$Y179,$G179)+IFERROR(IF(AND($V179<=AA$1,$W179>=AA$1),INDEX(Reliability!F$23:F$50,MATCH($T179,Reliability!$C$23:$C$50,0)),0),0)*$H179*$X179*$Y179),$D179)*$R179","v":22.042948949095081},{"$f":"MIN((IFERROR(IF(AND($V179<=AB$1,$W179>=AB$1),INDEX(Reliability!G$23:G$50,MATCH($S179,Reliability!$C$23:$C$50,0)),0),0)*IF($T179=\"n/a\",$D179*$Y179,$G179)+IFERROR(IF(AND($V179<=AB$1,$W179>=AB$1),INDEX(Reliability!G$23:G$50,MATCH($T179,Reliability!$C$23:$C$50,0)),0),0)*$H179*$X179*$Y179),$D179)*$R179","v":0},{"$f":"MIN((IFERROR(IF(AND($V179<=AC$1,$W179>=AC$1),INDEX(Reliability!H$23:H$50,MATCH($S179,Reliability!$C$23:$C$50,0)),0),0)*IF($T179=\"n/a\",$D179*$Y179,$G179)+IFERROR(IF(AND($V179<=AC$1,$W179>=AC$1),INDEX(Reliability!H$23:H$50,MATCH($T179,Reliability!$C$23:$C$50,0)),0),0)*$H179*$X179*$Y179),$D179)*$R179","v":0},{"$f":"MIN((IFERROR(IF(AND($V179<=AD$1,$W179>=AD$1),INDEX(Reliability!I$23:I$50,MATCH($S179,Reliability!$C$23:$C$50,0)),0),0)*IF($T179=\"n/a\",$D179*$Y179,$G179)+IFERROR(IF(AND($V179<=AD$1,$W179>=AD$1),INDEX(Reliability!I$23:I$50,MATCH($T179,Reliability!$C$23:$C$50,0)),0),0)*$H179*$X179*$Y179),$D179)*$R179","v":0},{"$f":"MIN((IFERROR(IF(AND($V179<=AE$1,$W179>=AE$1),INDEX(Reliability!J$23:J$50,MATCH($S179,Reliability!$C$23:$C$50,0)),0),0)*IF($T179=\"n/a\",$D179*$Y179,$G179)+IFERROR(IF(AND($V179<=AE$1,$W179>=AE$1),INDEX(Reliability!J$23:J$50,MATCH($T179,Reliability!$C$23:$C$50,0)),0),0)*$H179*$X179*$Y179),$D179)*$R179","v":0},{"$f":"MIN((IFERROR(IF(AND($V179<=AF$1,$W179>=AF$1),INDEX(Reliability!K$23:K$50,MATCH($S179,Reliability!$C$23:$C$50,0)),0),0)*IF($T179=\"n/a\",$D179*$Y179,$G179)+IFERROR(IF(AND($V179<=AF$1,$W179>=AF$1),INDEX(Reliability!K$23:K$50,MATCH($T179,Reliability!$C$23:$C$50,0)),0),0)*$H179*$X179*$Y179),$D179)*$R179","v":0},{"$f":"MIN((IFERROR(IF(AND($V179<=AG$1,$W179>=AG$1),INDEX(Reliability!L$23:L$50,MATCH($S179,Reliability!$C$23:$C$50,0)),0),0)*IF($T179=\"n/a\",$D179*$Y179,$G179)+IFERROR(IF(AND($V179<=AG$1,$W179>=AG$1),INDEX(Reliability!L$23:L$50,MATCH($T179,Reliability!$C$23:$C$50,0)),0),0)*$H179*$X179*$Y179),$D179)*$R179","v":0},{"$f":"MIN((IFERROR(IF(AND($V179<=AH$1,$W179>=AH$1),INDEX(Reliability!M$23:M$50,MATCH($S179,Reliability!$C$23:$C$50,0)),0),0)*IF($T179=\"n/a\",$D179*$Y179,$G179)+IFERROR(IF(AND($V179<=AH$1,$W179>=AH$1),INDEX(Reliability!M$23:M$50,MATCH($T179,Reliability!$C$23:$C$50,0)),0),0)*$H179*$X179*$Y179),$D179)*$R179","v":0},{"$f":"MIN((IFERROR(IF(AND($V179<=AI$1,$W179>=AI$1),INDEX(Reliability!N$23:N$50,MATCH($S179,Reliability!$C$23:$C$50,0)),0),0)*IF($T179=\"n/a\",$D179*$Y179,$G179)+IFERROR(IF(AND($V179<=AI$1,$W179>=AI$1),INDEX(Reliability!N$23:N$50,MATCH($T179,Reliability!$C$23:$C$50,0)),0),0)*$H179*$X179*$Y179),$D179)*$R179","v":0},{"$f":"MIN((IFERROR(IF(AND($V179<=AJ$1,$W179>=AJ$1),INDEX(Reliability!O$23:O$50,MATCH($S179,Reliability!$C$23:$C$50,0)),0),0)*IF($T179=\"n/a\",$D179*$Y179,$G179)+IFERROR(IF(AND($V179<=AJ$1,$W179>=AJ$1),INDEX(Reliability!O$23:O$50,MATCH($T179,Reliability!$C$23:$C$50,0)),0),0)*$H179*$X179*$Y179),$D179)*$R179","v":0},{"$f":"MIN((IFERROR(IF(AND($V179<=AK$1,$W179>=AK$1),INDEX(Reliability!P$23:P$50,MATCH($S179,Reliability!$C$23:$C$50,0)),0),0)*IF($T179=\"n/a\",$D179*$Y179,$G179)+IFERROR(IF(AND($V179<=AK$1,$W179>=AK$1),INDEX(Reliability!P$23:P$50,MATCH($T179,Reliability!$C$23:$C$50,0)),0),0)*$H179*$X179*$Y179),$D179)*$R179","v":0}]
[null,{"$f":"unique_contracts!B180","v":"_EXISTING_GENERIC_PEAKER"},{"$f":"unique_contracts!D180","v":"Online"},{"$f":"unique_contracts!J180","v":20.466000000000001},{"$f":"unique_contracts!M180","v":"NotHybrid"},{"$f":"unique_contracts!N180","v":"NA"},{"$f":"unique_contracts!P180","v":0},{"$f":"unique_contracts!R180","v":0},{"$f":"unique_contracts!V180","v":0},{"$f":"unique_contracts!AB180","v":"sell"},{"$f":"unique_contracts!AM180","v":2021},{"$f":"unique_contracts!AN180","v":6},{"$f":"unique_contracts!AO180","v":1},{"$f":"unique_contracts!AP180","v":2026},{"$f":"unique_contracts!AQ180","v":5},{"$f":"unique_contracts!AR180","v":31},{"$f":"unique_contracts!BP180","v":"CapacityOnly"},-1,{"$f":"IFERROR(IF(AND(I180>0,E180=\"NotHybrid\"),_xlfn.CONCAT(MAX(MIN(ROUNDDOWN(I180/D180,0),8),4),INDEX(resources!$G:$G,MATCH(B180,resources!$A:$A,0))),INDEX(resources!$G:$G,MATCH(B180,resources!$A:$A,0))),\"n/a\")","v":"gas_ct"},"n/a","gas_ct",2021,2025,1,1,{"$f":"MIN((IFERROR(IF(AND($V180<=Z$1,$W180>=Z$1),INDEX(Reliability!E$23:E$50,MATCH($S180,Reliability!$C$23:$C$50,0)),0),0)*IF($T180=\"n/a\",$D180*$Y180,$G180)+IFERROR(IF(AND($V180<=Z$1,$W180>=Z$1),INDEX(Reliability!E$23:E$50,MATCH($T180,Reliability!$C$23:$C$50,0)),0),0)*$H180*$X180*$Y180),$D180)*$R180","v":-16.415859940306383},{"$f":"MIN((IFERROR(IF(AND($V180<=AA$1,$W180>=AA$1),INDEX(Reliability!F$23:F$50,MATCH($S180,Reliability!$C$23:$C$50,0)),0),0)*IF($T180=\"n/a\",$D180*$Y180,$G180)+IFERROR(IF(AND($V180<=AA$1,$W180>=AA$1),INDEX(Reliability!F$23:F$50,MATCH($T180,Reliability!$C$23:$C$50,0)),0),0)*$H180*$X180*$Y180),$D180)*$R180","v":-16.708555303414073},{"$f":"MIN((IFERROR(IF(AND($V180<=AB$1,$W180>=AB$1),INDEX(Reliability!G$23:G$50,MATCH($S180,Reliability!$C$23:$C$50,0)),0),0)*IF($T180=\"n/a\",$D180*$Y180,$G180)+IFERROR(IF(AND($V180<=AB$1,$W180>=AB$1),INDEX(Reliability!G$23:G$50,MATCH($T180,Reliability!$C$23:$C$50,0)),0),0)*$H180*$X180*$Y180),$D180)*$R180","v":0},{"$f":"MIN((IFERROR(IF(AND($V180<=AC$1,$W180>=AC$1),INDEX(Reliability!H$23:H$50,MATCH($S180,Reliability!$C$23:$C$50,0)),0),0)*IF($T180=\"n/a\",$D180*$Y180,$G180)+IFERROR(IF(AND($V180<=AC$1,$W180>=AC$1),INDEX(Reliability!H$23:H$50,MATCH($T180,Reliability!$C$23:$C$50,0)),0),0)*$H180*$X180*$Y180),$D180)*$R180","v":0},{"$f":"MIN((IFERROR(IF(AND($V180<=AD$1,$W180>=AD$1),INDEX(Reliability!I$23:I$50,MATCH($S180,Reliability!$C$23:$C$50,0)),0),0)*IF($T180=\"n/a\",$D180*$Y180,$G180)+IFERROR(IF(AND($V180<=AD$1,$W180>=AD$1),INDEX(Reliability!I$23:I$50,MATCH($T180,Reliability!$C$23:$C$50,0)),0),0)*$H180*$X180*$Y180),$D180)*$R180","v":0},{"$f":"MIN((IFERROR(IF(AND($V180<=AE$1,$W180>=AE$1),INDEX(Reliability!J$23:J$50,MATCH($S180,Reliability!$C$23:$C$50,0)),0),0)*IF($T180=\"n/a\",$D180*$Y180,$G180)+IFERROR(IF(AND($V180<=AE$1,$W180>=AE$1),INDEX(Reliability!J$23:J$50,MATCH($T180,Reliability!$C$23:$C$50,0)),0),0)*$H180*$X180*$Y180),$D180)*$R180","v":0},{"$f":"MIN((IFERROR(IF(AND($V180<=AF$1,$W180>=AF$1),INDEX(Reliability!K$23:K$50,MATCH($S180,Reliability!$C$23:$C$50,0)),0),0)*IF($T180=\"n/a\",$D180*$Y180,$G180)+IFERROR(IF(AND($V180<=AF$1,$W180>=AF$1),INDEX(Reliability!K$23:K$50,MATCH($T180,Reliability!$C$23:$C$50,0)),0),0)*$H180*$X180*$Y180),$D180)*$R180","v":0},{"$f":"MIN((IFERROR(IF(AND($V180<=AG$1,$W180>=AG$1),INDEX(Reliability!L$23:L$50,MATCH($S180,Reliability!$C$23:$C$50,0)),0),0)*IF($T180=\"n/a\",$D180*$Y180,$G180)+IFERROR(IF(AND($V180<=AG$1,$W180>=AG$1),INDEX(Reliability!L$23:L$50,MATCH($T180,Reliability!$C$23:$C$50,0)),0),0)*$H180*$X180*$Y180),$D180)*$R180","v":0},{"$f":"MIN((IFERROR(IF(AND($V180<=AH$1,$W180>=AH$1),INDEX(Reliability!M$23:M$50,MATCH($S180,Reliability!$C$23:$C$50,0)),0),0)*IF($T180=\"n/a\",$D180*$Y180,$G180)+IFERROR(IF(AND($V180<=AH$1,$W180>=AH$1),INDEX(Reliability!M$23:M$50,MATCH($T180,Reliability!$C$23:$C$50,0)),0),0)*$H180*$X180*$Y180),$D180)*$R180","v":0},{"$f":"MIN((IFERROR(IF(AND($V180<=AI$1,$W180>=AI$1),INDEX(Reliability!N$23:N$50,MATCH($S180,Reliability!$C$23:$C$50,0)),0),0)*IF($T180=\"n/a\",$D180*$Y180,$G180)+IFERROR(IF(AND($V180<=AI$1,$W180>=AI$1),INDEX(Reliability!N$23:N$50,MATCH($T180,Reliability!$C$23:$C$50,0)),0),0)*$H180*$X180*$Y180),$D180)*$R180","v":0},{"$f":"MIN((IFERROR(IF(AND($V180<=AJ$1,$W180>=AJ$1),INDEX(Reliability!O$23:O$50,MATCH($S180,Reliability!$C$23:$C$50,0)),0),0)*IF($T180=\"n/a\",$D180*$Y180,$G180)+IFERROR(IF(AND($V180<=AJ$1,$W180>=AJ$1),INDEX(Reliability!O$23:O$50,MATCH($T180,Reliability!$C$23:$C$50,0)),0),0)*$H180*$X180*$Y180),$D180)*$R180","v":0},{"$f":"MIN((IFERROR(IF(AND($V180<=AK$1,$W180>=AK$1),INDEX(Reliability!P$23:P$50,MATCH($S180,Reliability!$C$23:$C$50,0)),0),0)*IF($T180=\"n/a\",$D180*$Y180,$G180)+IFERROR(IF(AND($V180<=AK$1,$W180>=AK$1),INDEX(Reliability!P$23:P$50,MATCH($T180,Reliability!$C$23:$C$50,0)),0),0)*$H180*$X180*$Y180),$D180)*$R180","v":0}]
[null,{"$f":"unique_contracts!B181","v":"MRGT_6_TGEBT1"},{"$f":"unique_contracts!D181","v":"Online"},{"$f":"unique_contracts!J181","v":30},{"$f":"unique_contracts!M181","v":"NotHybrid"},{"$f":"unique_contracts!N181","v":"NA"},{"$f":"unique_contracts!P181","v":0},{"$f":"unique_contracts!R181","v":0},{"$f":"unique_contracts!V181","v":120},{"$f":"unique_contracts!AB181","v":"Owned"},{"$f":"unique_contracts!AM181","v":2021},{"$f":"unique_contracts!AN181","v":6},{"$f":"unique_contracts!AO181","v":30},{"$f":"unique_contracts!AP181","v":2060},{"$f":"unique_contracts!AQ181","v":12},{"$f":"unique_contracts!AR181","v":31},{"$f":"unique_contracts!BP181","v":"EnergyCapacity"},1,{"$f":"IFERROR(IF(AND(I181>0,E181=\"NotHybrid\"),_xlfn.CONCAT(MAX(MIN(ROUNDDOWN(I181/D181,0),8),4),INDEX(resources!$G:$G,MATCH(B181,resources!$A:$A,0))),INDEX(resources!$G:$G,MATCH(B181,resources!$A:$A,0))),\"n/a\")","v":"4hr_batteries"},"n/a","4hr_batteries",2022,2060,1,1,{"$f":"MIN((IFERROR(IF(AND($V181<=Z$1,$W181>=Z$1),INDEX(Reliability!E$23:E$50,MATCH($S181,Reliability!$C$23:$C$50,0)),0),0)*IF($T181=\"n/a\",$D181*$Y181,$G181)+IFERROR(IF(AND($V181<=Z$1,$W181>=Z$1),INDEX(Reliability!E$23:E$50,MATCH($T181,Reliability!$C$23:$C$50,0)),0),0)*$H181*$X181*$Y181),$D181)*$R181","v":26.55},{"$f":"MIN((IFERROR(IF(AND($V181<=AA$1,$W181>=AA$1),INDEX(Reliability!F$23:F$50,MATCH($S181,Reliability!$C$23:$C$50,0)),0),0)*IF($T181=\"n/a\",$D181*$Y181,$G181)+IFERROR(IF(AND($V181<=AA$1,$W181>=AA$1),INDEX(Reliability!F$23:F$50,MATCH($T181,Reliability!$C$23:$C$50,0)),0),0)*$H181*$X181*$Y181),$D181)*$R181","v":27.044999999999998},{"$f":"MIN((IFERROR(IF(AND($V181<=AB$1,$W181>=AB$1),INDEX(Reliability!G$23:G$50,MATCH($S181,Reliability!$C$23:$C$50,0)),0),0)*IF($T181=\"n/a\",$D181*$Y181,$G181)+IFERROR(IF(AND($V181<=AB$1,$W181>=AB$1),INDEX(Reliability!G$23:G$50,MATCH($T181,Reliability!$C$23:$C$50,0)),0),0)*$H181*$X181*$Y181),$D181)*$R181","v":27.540000000000003},{"$f":"MIN((IFERROR(IF(AND($V181<=AC$1,$W181>=AC$1),INDEX(Reliability!H$23:H$50,MATCH($S181,Reliability!$C$23:$C$50,0)),0),0)*IF($T181=\"n/a\",$D181*$Y181,$G181)+IFERROR(IF(AND($V181<=AC$1,$W181>=AC$1),INDEX(Reliability!H$23:H$50,MATCH($T181,Reliability!$C$23:$C$50,0)),0),0)*$H181*$X181*$Y181),$D181)*$R181","v":25.365000000000002},{"$f":"MIN((IFERROR(IF(AND($V181<=AD$1,$W181>=AD$1),INDEX(Reliability!I$23:I$50,MATCH($S181,Reliability!$C$23:$C$50,0)),0),0)*IF($T181=\"n/a\",$D181*$Y181,$G181)+IFERROR(IF(AND($V181<=AD$1,$W181>=AD$1),INDEX(Reliability!I$23:I$50,MATCH($T181,Reliability!$C$23:$C$50,0)),0),0)*$H181*$X181*$Y181),$D181)*$R181","v":23.19},{"$f":"MIN((IFERROR(IF(AND($V181<=AE$1,$W181>=AE$1),INDEX(Reliability!J$23:J$50,MATCH($S181,Reliability!$C$23:$C$50,0)),0),0)*IF($T181=\"n/a\",$D181*$Y181,$G181)+IFERROR(IF(AND($V181<=AE$1,$W181>=AE$1),INDEX(Reliability!J$23:J$50,MATCH($T181,Reliability!$C$23:$C$50,0)),0),0)*$H181*$X181*$Y181),$D181)*$R181","v":22.77},{"$f":"MIN((IFERROR(IF(AND($V181<=AF$1,$W181>=AF$1),INDEX(Reliability!K$23:K$50,MATCH($S181,Reliability!$C$23:$C$50,0)),0),0)*IF($T181=\"n/a\",$D181*$Y181,$G181)+IFERROR(IF(AND($V181<=AF$1,$W181>=AF$1),INDEX(Reliability!K$23:K$50,MATCH($T181,Reliability!$C$23:$C$50,0)),0),0)*$H181*$X181*$Y181),$D181)*$R181","v":22.35},{"$f":"MIN((IFERROR(IF(AND($V181<=AG$1,$W181>=AG$1),INDEX(Reliability!L$23:L$50,MATCH($S181,Reliability!$C$23:$C$50,0)),0),0)*IF($T181=\"n/a\",$D181*$Y181,$G181)+IFERROR(IF(AND($V181<=AG$1,$W181>=AG$1),INDEX(Reliability!L$23:L$50,MATCH($T181,Reliability!$C$23:$C$50,0)),0),0)*$H181*$X181*$Y181),$D181)*$R181","v":20.286000000000001},{"$f":"MIN((IFERROR(IF(AND($V181<=AH$1,$W181>=AH$1),INDEX(Reliability!M$23:M$50,MATCH($S181,Reliability!$C$23:$C$50,0)),0),0)*IF($T181=\"n/a\",$D181*$Y181,$G181)+IFERROR(IF(AND($V181<=AH$1,$W181>=AH$1),INDEX(Reliability!M$23:M$50,MATCH($T181,Reliability!$C$23:$C$50,0)),0),0)*$H181*$X181*$Y181),$D181)*$R181","v":18.222000000000001},{"$f":"MIN((IFERROR(IF(AND($V181<=AI$1,$W181>=AI$1),INDEX(Reliability!N$23:N$50,MATCH($S181,Reliability!$C$23:$C$50,0)),0),0)*IF($T181=\"n/a\",$D181*$Y181,$G181)+IFERROR(IF(AND($V181<=AI$1,$W181>=AI$1),INDEX(Reliability!N$23:N$50,MATCH($T181,Reliability!$C$23:$C$50,0)),0),0)*$H181*$X181*$Y181),$D181)*$R181","v":16.158000000000001},{"$f":"MIN((IFERROR(IF(AND($V181<=AJ$1,$W181>=AJ$1),INDEX(Reliability!O$23:O$50,MATCH($S181,Reliability!$C$23:$C$50,0)),0),0)*IF($T181=\"n/a\",$D181*$Y181,$G181)+IFERROR(IF(AND($V181<=AJ$1,$W181>=AJ$1),INDEX(Reliability!O$23:O$50,MATCH($T181,Reliability!$C$23:$C$50,0)),0),0)*$H181*$X181*$Y181),$D181)*$R181","v":14.094000000000003},{"$f":"MIN((IFERROR(IF(AND($V181<=AK$1,$W181>=AK$1),INDEX(Reliability!P$23:P$50,MATCH($S181,Reliability!$C$23:$C$50,0)),0),0)*IF($T181=\"n/a\",$D181*$Y181,$G181)+IFERROR(IF(AND($V181<=AK$1,$W181>=AK$1),INDEX(Reliability!P$23:P$50,MATCH($T181,Reliability!$C$23:$C$50,0)),0),0)*$H181*$X181*$Y181),$D181)*$R181","v":12.030000000000001}]
[null,{"$f":"unique_contracts!B182","v":"_EXISTING_GENERIC_BATTERY_STORAGE"},{"$f":"unique_contracts!D182","v":"Online"},{"$f":"unique_contracts!J182","v":22.740000000000002},{"$f":"unique_contracts!M182","v":"NotHybrid"},{"$f":"unique_contracts!N182","v":"NA"},{"$f":"unique_contracts!P182","v":0},{"$f":"unique_contracts!R182","v":0},{"$f":"unique_contracts!V182","v":90.960000000000008},{"$f":"unique_contracts!AB182","v":"sell"},{"$f":"unique_contracts!AM182","v":2021},{"$f":"unique_contracts!AN182","v":6},{"$f":"unique_contracts!AO182","v":30},{"$f":"unique_contracts!AP182","v":2060},{"$f":"unique_contracts!AQ182","v":12},{"$f":"unique_contracts!AR182","v":31},{"$f":"unique_contracts!BP182","v":"EnergyCapacity"},-1,{"$f":"IFERROR(IF(AND(I182>0,E182=\"NotHybrid\"),_xlfn.CONCAT(MAX(MIN(ROUNDDOWN(I182/D182,0),8),4),INDEX(resources!$G:$G,MATCH(B182,resources!$A:$A,0))),INDEX(resources!$G:$G,MATCH(B182,resources!$A:$A,0))),\"n/a\")","v":"4hr_batteries"},"n/a","4hr_batteries",2022,2060,1,1,{"$f":"MIN((IFERROR(IF(AND($V182<=Z$1,$W182>=Z$1),INDEX(Reliability!E$23:E$50,MATCH($S182,Reliability!$C$23:$C$50,0)),0),0)*IF($T182=\"n/a\",$D182*$Y182,$G182)+IFERROR(IF(AND($V182<=Z$1,$W182>=Z$1),INDEX(Reliability!E$23:E$50,MATCH($T182,Reliability!$C$23:$C$50,0)),0),0)*$H182*$X182*$Y182),$D182)*$R182","v":-20.1249},{"$f":"MIN((IFERROR(IF(AND($V182<=AA$1,$W182>=AA$1),INDEX(Reliability!F$23:F$50,MATCH($S182,Reliability!$C$23:$C$50,0)),0),0)*IF($T182=\"n/a\",$D182*$Y182,$G182)+IFERROR(IF(AND($V182<=AA$1,$W182>=AA$1),INDEX(Reliability!F$23:F$50,MATCH($T182,Reliability!$C$23:$C$50,0)),0),0)*$H182*$X182*$Y182),$D182)*$R182","v":-20.500109999999999},{"$f":"MIN((IFERROR(IF(AND($V182<=AB$1,$W182>=AB$1),INDEX(Reliability!G$23:G$50,MATCH($S182,Reliability!$C$23:$C$50,0)),0),0)*IF($T182=\"n/a\",$D182*$Y182,$G182)+IFERROR(IF(AND($V182<=AB$1,$W182>=AB$1),INDEX(Reliability!G$23:G$50,MATCH($T182,Reliability!$C$23:$C$50,0)),0),0)*$H182*$X182*$Y182),$D182)*$R182","v":-20.875320000000002},{"$f":"MIN((IFERROR(IF(AND($V182<=AC$1,$W182>=AC$1),INDEX(Reliability!H$23:H$50,MATCH($S182,Reliability!$C$23:$C$50,0)),0),0)*IF($T182=\"n/a\",$D182*$Y182,$G182)+IFERROR(IF(AND($V182<=AC$1,$W182>=AC$1),INDEX(Reliability!H$23:H$50,MATCH($T182,Reliability!$C$23:$C$50,0)),0),0)*$H182*$X182*$Y182),$D182)*$R182","v":-19.226670000000002},{"$f":"MIN((IFERROR(IF(AND($V182<=AD$1,$W182>=AD$1),INDEX(Reliability!I$23:I$50,MATCH($S182,Reliability!$C$23:$C$50,0)),0),0)*IF($T182=\"n/a\",$D182*$Y182,$G182)+IFERROR(IF(AND($V182<=AD$1,$W182>=AD$1),INDEX(Reliability!I$23:I$50,MATCH($T182,Reliability!$C$23:$C$50,0)),0),0)*$H182*$X182*$Y182),$D182)*$R182","v":-17.578020000000002},{"$f":"MIN((IFERROR(IF(AND($V182<=AE$1,$W182>=AE$1),INDEX(Reliability!J$23:J$50,MATCH($S182,Reliability!$C$23:$C$50,0)),0),0)*IF($T182=\"n/a\",$D182*$Y182,$G182)+IFERROR(IF(AND($V182<=AE$1,$W182>=AE$1),INDEX(Reliability!J$23:J$50,MATCH($T182,Reliability!$C$23:$C$50,0)),0),0)*$H182*$X182*$Y182),$D182)*$R182","v":-17.25966},{"$f":"MIN((IFERROR(IF(AND($V182<=AF$1,$W182>=AF$1),INDEX(Reliability!K$23:K$50,MATCH($S182,Reliability!$C$23:$C$50,0)),0),0)*IF($T182=\"n/a\",$D182*$Y182,$G182)+IFERROR(IF(AND($V182<=AF$1,$W182>=AF$1),INDEX(Reliability!K$23:K$50,MATCH($T182,Reliability!$C$23:$C$50,0)),0),0)*$H182*$X182*$Y182),$D182)*$R182","v":-16.941300000000002},{"$f":"MIN((IFERROR(IF(AND($V182<=AG$1,$W182>=AG$1),INDEX(Reliability!L$23:L$50,MATCH($S182,Reliability!$C$23:$C$50,0)),0),0)*IF($T182=\"n/a\",$D182*$Y182,$G182)+IFERROR(IF(AND($V182<=AG$1,$W182>=AG$1),INDEX(Reliability!L$23:L$50,MATCH($T182,Reliability!$C$23:$C$50,0)),0),0)*$H182*$X182*$Y182),$D182)*$R182","v":-15.376788000000001},{"$f":"MIN((IFERROR(IF(AND($V182<=AH$1,$W182>=AH$1),INDEX(Reliability!M$23:M$50,MATCH($S182,Reliability!$C$23:$C$50,0)),0),0)*IF($T182=\"n/a\",$D182*$Y182,$G182)+IFERROR(IF(AND($V182<=AH$1,$W182>=AH$1),INDEX(Reliability!M$23:M$50,MATCH($T182,Reliability!$C$23:$C$50,0)),0),0)*$H182*$X182*$Y182),$D182)*$R182","v":-13.812276000000002},{"$f":"MIN((IFERROR(IF(AND($V182<=AI$1,$W182>=AI$1),INDEX(Reliability!N$23:N$50,MATCH($S182,Reliability!$C$23:$C$50,0)),0),0)*IF($T182=\"n/a\",$D182*$Y182,$G182)+IFERROR(IF(AND($V182<=AI$1,$W182>=AI$1),INDEX(Reliability!N$23:N$50,MATCH($T182,Reliability!$C$23:$C$50,0)),0),0)*$H182*$X182*$Y182),$D182)*$R182","v":-12.247764000000004},{"$f":"MIN((IFERROR(IF(AND($V182<=AJ$1,$W182>=AJ$1),INDEX(Reliability!O$23:O$50,MATCH($S182,Reliability!$C$23:$C$50,0)),0),0)*IF($T182=\"n/a\",$D182*$Y182,$G182)+IFERROR(IF(AND($V182<=AJ$1,$W182>=AJ$1),INDEX(Reliability!O$23:O$50,MATCH($T182,Reliability!$C$23:$C$50,0)),0),0)*$H182*$X182*$Y182),$D182)*$R182","v":-10.683252000000003},{"$f":"MIN((IFERROR(IF(AND($V182<=AK$1,$W182>=AK$1),INDEX(Reliability!P$23:P$50,MATCH($S182,Reliability!$C$23:$C$50,0)),0),0)*IF($T182=\"n/a\",$D182*$Y182,$G182)+IFERROR(IF(AND($V182<=AK$1,$W182>=AK$1),INDEX(Reliability!P$23:P$50,MATCH($T182,Reliability!$C$23:$C$50,0)),0),0)*$H182*$X182*$Y182),$D182)*$R182","v":-9.1187400000000007}]
[null,{"$f":"unique_contracts!B183","v":"VLCNTR_6_VCEBT2"},{"$f":"unique_contracts!D183","v":"Online"},{"$f":"unique_contracts!J183","v":50},{"$f":"unique_contracts!M183","v":"NotHybrid"},{"$f":"unique_contracts!N183","v":"NA"},{"$f":"unique_contracts!P183","v":0},{"$f":"unique_contracts!R183","v":0},{"$f":"unique_contracts!V183","v":200},{"$f":"unique_contracts!AB183","v":0},{"$f":"unique_contracts!AM183","v":2021},{"$f":"unique_contracts!AN183","v":12},{"$f":"unique_contracts!AO183","v":16},{"$f":"unique_contracts!AP183","v":2036},{"$f":"unique_contracts!AQ183","v":12},{"$f":"unique_contracts!AR183","v":15},{"$f":"unique_contracts!BP183","v":"CapacityOnly"},1,{"$f":"IFERROR(IF(AND(I183>0,E183=\"NotHybrid\"),_xlfn.CONCAT(MAX(MIN(ROUNDDOWN(I183/D183,0),8),4),INDEX(resources!$G:$G,MATCH(B183,resources!$A:$A,0))),INDEX(resources!$G:$G,MATCH(B183,resources!$A:$A,0))),\"n/a\")","v":"4hr_batteries"},"n/a","4hr_batteries",2022,2036,1,1,{"$f":"MIN((IFERROR(IF(AND($V183<=Z$1,$W183>=Z$1),INDEX(Reliability!E$23:E$50,MATCH($S183,Reliability!$C$23:$C$50,0)),0),0)*IF($T183=\"n/a\",$D183*$Y183,$G183)+IFERROR(IF(AND($V183<=Z$1,$W183>=Z$1),INDEX(Reliability!E$23:E$50,MATCH($T183,Reliability!$C$23:$C$50,0)),0),0)*$H183*$X183*$Y183),$D183)*$R183","v":44.25},{"$f":"MIN((IFERROR(IF(AND($V183<=AA$1,$W183>=AA$1),INDEX(Reliability!F$23:F$50,MATCH($S183,Reliability!$C$23:$C$50,0)),0),0)*IF($T183=\"n/a\",$D183*$Y183,$G183)+IFERROR(IF(AND($V183<=AA$1,$W183>=AA$1),INDEX(Reliability!F$23:F$50,MATCH($T183,Reliability!$C$23:$C$50,0)),0),0)*$H183*$X183*$Y183),$D183)*$R183","v":45.074999999999996},{"$f":"MIN((IFERROR(IF(AND($V183<=AB$1,$W183>=AB$1),INDEX(Reliability!G$23:G$50,MATCH($S183,Reliability!$C$23:$C$50,0)),0),0)*IF($T183=\"n/a\",$D183*$Y183,$G183)+IFERROR(IF(AND($V183<=AB$1,$W183>=AB$1),INDEX(Reliability!G$23:G$50,MATCH($T183,Reliability!$C$23:$C$50,0)),0),0)*$H183*$X183*$Y183),$D183)*$R183","v":45.9},{"$f":"MIN((IFERROR(IF(AND($V183<=AC$1,$W183>=AC$1),INDEX(Reliability!H$23:H$50,MATCH($S183,Reliability!$C$23:$C$50,0)),0),0)*IF($T183=\"n/a\",$D183*$Y183,$G183)+IFERROR(IF(AND($V183<=AC$1,$W183>=AC$1),INDEX(Reliability!H$23:H$50,MATCH($T183,Reliability!$C$23:$C$50,0)),0),0)*$H183*$X183*$Y183),$D183)*$R183","v":42.274999999999999},{"$f":"MIN((IFERROR(IF(AND($V183<=AD$1,$W183>=AD$1),INDEX(Reliability!I$23:I$50,MATCH($S183,Reliability!$C$23:$C$50,0)),0),0)*IF($T183=\"n/a\",$D183*$Y183,$G183)+IFERROR(IF(AND($V183<=AD$1,$W183>=AD$1),INDEX(Reliability!I$23:I$50,MATCH($T183,Reliability!$C$23:$C$50,0)),0),0)*$H183*$X183*$Y183),$D183)*$R183","v":38.65},{"$f":"MIN((IFERROR(IF(AND($V183<=AE$1,$W183>=AE$1),INDEX(Reliability!J$23:J$50,MATCH($S183,Reliability!$C$23:$C$50,0)),0),0)*IF($T183=\"n/a\",$D183*$Y183,$G183)+IFERROR(IF(AND($V183<=AE$1,$W183>=AE$1),INDEX(Reliability!J$23:J$50,MATCH($T183,Reliability!$C$23:$C$50,0)),0),0)*$H183*$X183*$Y183),$D183)*$R183","v":37.950000000000003},{"$f":"MIN((IFERROR(IF(AND($V183<=AF$1,$W183>=AF$1),INDEX(Reliability!K$23:K$50,MATCH($S183,Reliability!$C$23:$C$50,0)),0),0)*IF($T183=\"n/a\",$D183*$Y183,$G183)+IFERROR(IF(AND($V183<=AF$1,$W183>=AF$1),INDEX(Reliability!K$23:K$50,MATCH($T183,Reliability!$C$23:$C$50,0)),0),0)*$H183*$X183*$Y183),$D183)*$R183","v":37.25},{"$f":"MIN((IFERROR(IF(AND($V183<=AG$1,$W183>=AG$1),INDEX(Reliability!L$23:L$50,MATCH($S183,Reliability!$C$23:$C$50,0)),0),0)*IF($T183=\"n/a\",$D183*$Y183,$G183)+IFERROR(IF(AND($V183<=AG$1,$W183>=AG$1),INDEX(Reliability!L$23:L$50,MATCH($T183,Reliability!$C$23:$C$50,0)),0),0)*$H183*$X183*$Y183),$D183)*$R183","v":33.81},{"$f":"MIN((IFERROR(IF(AND($V183<=AH$1,$W183>=AH$1),INDEX(Reliability!M$23:M$50,MATCH($S183,Reliability!$C$23:$C$50,0)),0),0)*IF($T183=\"n/a\",$D183*$Y183,$G183)+IFERROR(IF(AND($V183<=AH$1,$W183>=AH$1),INDEX(Reliability!M$23:M$50,MATCH($T183,Reliability!$C$23:$C$50,0)),0),0)*$H183*$X183*$Y183),$D183)*$R183","v":30.37},{"$f":"MIN((IFERROR(IF(AND($V183<=AI$1,$W183>=AI$1),INDEX(Reliability!N$23:N$50,MATCH($S183,Reliability!$C$23:$C$50,0)),0),0)*IF($T183=\"n/a\",$D183*$Y183,$G183)+IFERROR(IF(AND($V183<=AI$1,$W183>=AI$1),INDEX(Reliability!N$23:N$50,MATCH($T183,Reliability!$C$23:$C$50,0)),0),0)*$H183*$X183*$Y183),$D183)*$R183","v":26.930000000000003},{"$f":"MIN((IFERROR(IF(AND($V183<=AJ$1,$W183>=AJ$1),INDEX(Reliability!O$23:O$50,MATCH($S183,Reliability!$C$23:$C$50,0)),0),0)*IF($T183=\"n/a\",$D183*$Y183,$G183)+IFERROR(IF(AND($V183<=AJ$1,$W183>=AJ$1),INDEX(Reliability!O$23:O$50,MATCH($T183,Reliability!$C$23:$C$50,0)),0),0)*$H183*$X183*$Y183),$D183)*$R183","v":23.490000000000006},{"$f":"MIN((IFERROR(IF(AND($V183<=AK$1,$W183>=AK$1),INDEX(Reliability!P$23:P$50,MATCH($S183,Reliability!$C$23:$C$50,0)),0),0)*IF($T183=\"n/a\",$D183*$Y183,$G183)+IFERROR(IF(AND($V183<=AK$1,$W183>=AK$1),INDEX(Reliability!P$23:P$50,MATCH($T183,Reliability!$C$23:$C$50,0)),0),0)*$H183*$X183*$Y183),$D183)*$R183","v":20.05}]
[null,{"$f":"unique_contracts!B184","v":"_EXISTING_GENERIC_BATTERY_STORAGE"},{"$f":"unique_contracts!D184","v":"Online"},{"$f":"unique_contracts!J184","v":20.11},{"$f":"unique_contracts!M184","v":"NotHybrid"},{"$f":"unique_contracts!N184","v":"NA"},{"$f":"unique_contracts!P184","v":0},{"$f":"unique_contracts!R184","v":0},{"$f":"unique_contracts!V184","v":0},{"$f":"unique_contracts!AB184","v":"sell"},{"$f":"unique_contracts!AM184","v":2021},{"$f":"unique_contracts!AN184","v":12},{"$f":"unique_contracts!AO184","v":16},{"$f":"unique_contracts!AP184","v":2036},{"$f":"unique_contracts!AQ184","v":12},{"$f":"unique_contracts!AR184","v":15},{"$f":"unique_contracts!BP184","v":"CapacityOnly"},-1,{"$f":"IFERROR(IF(AND(I184>0,E184=\"NotHybrid\"),_xlfn.CONCAT(MAX(MIN(ROUNDDOWN(I184/D184,0),8),4),INDEX(resources!$G:$G,MATCH(B184,resources!$A:$A,0))),INDEX(resources!$G:$G,MATCH(B184,resources!$A:$A,0))),\"n/a\")","v":"hr_batteries"},"n/a","hr_batteries",2022,2036,1,0,{"$f":"MIN((IFERROR(IF(AND($V184<=Z$1,$W184>=Z$1),INDEX(Reliability!E$23:E$50,MATCH($S184,Reliability!$C$23:$C$50,0)),0),0)*IF($T184=\"n/a\",$D184*$Y184,$G184)+IFERROR(IF(AND($V184<=Z$1,$W184>=Z$1),INDEX(Reliability!E$23:E$50,MATCH($T184,Reliability!$C$23:$C$50,0)),0),0)*$H184*$X184*$Y184),$D184)*$R184","v":0},{"$f":"MIN((IFERROR(IF(AND($V184<=AA$1,$W184>=AA$1),INDEX(Reliability!F$23:F$50,MATCH($S184,Reliability!$C$23:$C$50,0)),0),0)*IF($T184=\"n/a\",$D184*$Y184,$G184)+IFERROR(IF(AND($V184<=AA$1,$W184>=AA$1),INDEX(Reliability!F$23:F$50,MATCH($T184,Reliability!$C$23:$C$50,0)),0),0)*$H184*$X184*$Y184),$D184)*$R184","v":0},{"$f":"MIN((IFERROR(IF(AND($V184<=AB$1,$W184>=AB$1),INDEX(Reliability!G$23:G$50,MATCH($S184,Reliability!$C$23:$C$50,0)),0),0)*IF($T184=\"n/a\",$D184*$Y184,$G184)+IFERROR(IF(AND($V184<=AB$1,$W184>=AB$1),INDEX(Reliability!G$23:G$50,MATCH($T184,Reliability!$C$23:$C$50,0)),0),0)*$H184*$X184*$Y184),$D184)*$R184","v":0},{"$f":"MIN((IFERROR(IF(AND($V184<=AC$1,$W184>=AC$1),INDEX(Reliability!H$23:H$50,MATCH($S184,Reliability!$C$23:$C$50,0)),0),0)*IF($T184=\"n/a\",$D184*$Y184,$G184)+IFERROR(IF(AND($V184<=AC$1,$W184>=AC$1),INDEX(Reliability!H$23:H$50,MATCH($T184,Reliability!$C$23:$C$50,0)),0),0)*$H184*$X184*$Y184),$D184)*$R184","v":0},{"$f":"MIN((IFERROR(IF(AND($V184<=AD$1,$W184>=AD$1),INDEX(Reliability!I$23:I$50,MATCH($S184,Reliability!$C$23:$C$50,0)),0),0)*IF($T184=\"n/a\",$D184*$Y184,$G184)+IFERROR(IF(AND($V184<=AD$1,$W184>=AD$1),INDEX(Reliability!I$23:I$50,MATCH($T184,Reliability!$C$23:$C$50,0)),0),0)*$H184*$X184*$Y184),$D184)*$R184","v":0},{"$f":"MIN((IFERROR(IF(AND($V184<=AE$1,$W184>=AE$1),INDEX(Reliability!J$23:J$50,MATCH($S184,Reliability!$C$23:$C$50,0)),0),0)*IF($T184=\"n/a\",$D184*$Y184,$G184)+IFERROR(IF(AND($V184<=AE$1,$W184>=AE$1),INDEX(Reliability!J$23:J$50,MATCH($T184,Reliability!$C$23:$C$50,0)),0),0)*$H184*$X184*$Y184),$D184)*$R184","v":0},{"$f":"MIN((IFERROR(IF(AND($V184<=AF$1,$W184>=AF$1),INDEX(Reliability!K$23:K$50,MATCH($S184,Reliability!$C$23:$C$50,0)),0),0)*IF($T184=\"n/a\",$D184*$Y184,$G184)+IFERROR(IF(AND($V184<=AF$1,$W184>=AF$1),INDEX(Reliability!K$23:K$50,MATCH($T184,Reliability!$C$23:$C$50,0)),0),0)*$H184*$X184*$Y184),$D184)*$R184","v":0},{"$f":"MIN((IFERROR(IF(AND($V184<=AG$1,$W184>=AG$1),INDEX(Reliability!L$23:L$50,MATCH($S184,Reliability!$C$23:$C$50,0)),0),0)*IF($T184=\"n/a\",$D184*$Y184,$G184)+IFERROR(IF(AND($V184<=AG$1,$W184>=AG$1),INDEX(Reliability!L$23:L$50,MATCH($T184,Reliability!$C$23:$C$50,0)),0),0)*$H184*$X184*$Y184),$D184)*$R184","v":0},{"$f":"MIN((IFERROR(IF(AND($V184<=AH$1,$W184>=AH$1),INDEX(Reliability!M$23:M$50,MATCH($S184,Reliability!$C$23:$C$50,0)),0),0)*IF($T184=\"n/a\",$D184*$Y184,$G184)+IFERROR(IF(AND($V184<=AH$1,$W184>=AH$1),INDEX(Reliability!M$23:M$50,MATCH($T184,Reliability!$C$23:$C$50,0)),0),0)*$H184*$X184*$Y184),$D184)*$R184","v":0},{"$f":"MIN((IFERROR(IF(AND($V184<=AI$1,$W184>=AI$1),INDEX(Reliability!N$23:N$50,MATCH($S184,Reliability!$C$23:$C$50,0)),0),0)*IF($T184=\"n/a\",$D184*$Y184,$G184)+IFERROR(IF(AND($V184<=AI$1,$W184>=AI$1),INDEX(Reliability!N$23:N$50,MATCH($T184,Reliability!$C$23:$C$50,0)),0),0)*$H184*$X184*$Y184),$D184)*$R184","v":0},{"$f":"MIN((IFERROR(IF(AND($V184<=AJ$1,$W184>=AJ$1),INDEX(Reliability!O$23:O$50,MATCH($S184,Reliability!$C$23:$C$50,0)),0),0)*IF($T184=\"n/a\",$D184*$Y184,$G184)+IFERROR(IF(AND($V184<=AJ$1,$W184>=AJ$1),INDEX(Reliability!O$23:O$50,MATCH($T184,Reliability!$C$23:$C$50,0)),0),0)*$H184*$X184*$Y184),$D184)*$R184","v":0},{"$f":"MIN((IFERROR(IF(AND($V184<=AK$1,$W184>=AK$1),INDEX(Reliability!P$23:P$50,MATCH($S184,Reliability!$C$23:$C$50,0)),0),0)*IF($T184=\"n/a\",$D184*$Y184,$G184)+IFERROR(IF(AND($V184<=AK$1,$W184>=AK$1),INDEX(Reliability!P$23:P$50,MATCH($T184,Reliability!$C$23:$C$50,0)),0),0)*$H184*$X184*$Y184),$D184)*$R184","v":0}]
[null,{"$f":"unique_contracts!B185","v":"VLCNTR_6_VCEBT1"},{"$f":"unique_contracts!D185","v":"Online"},{"$f":"unique_contracts!J185","v":54},{"$f":"unique_contracts!M185","v":"NotHybrid"},{"$f":"unique_contracts!N185","v":"NA"},{"$f":"unique_contracts!P185","v":0},{"$f":"unique_contracts!R185","v":0},{"$f":"unique_contracts!V185","v":216},{"$f":"unique_contracts!AB185","v":0},{"$f":"unique_contracts!AM185","v":2021},{"$f":"unique_contracts!AN185","v":11},{"$f":"unique_contracts!AO185","v":29},{"$f":"unique_contracts!AP185","v":2036},{"$f":"unique_contracts!AQ185","v":11},{"$f":"unique_contracts!AR185","v":28},{"$f":"unique_contracts!BP185","v":"EnergyCapacity"},1,{"$f":"IFERROR(IF(AND(I185>0,E185=\"NotHybrid\"),_xlfn.CONCAT(MAX(MIN(ROUNDDOWN(I185/D185,0),8),4),INDEX(resources!$G:$G,MATCH(B185,resources!$A:$A,0))),INDEX(resources!$G:$G,MATCH(B185,resources!$A:$A,0))),\"n/a\")","v":"4hr_batteries"},"n/a","4hr_batteries",2022,2036,1,1,{"$f":"MIN((IFERROR(IF(AND($V185<=Z$1,$W185>=Z$1),INDEX(Reliability!E$23:E$50,MATCH($S185,Reliability!$C$23:$C$50,0)),0),0)*IF($T185=\"n/a\",$D185*$Y185,$G185)+IFERROR(IF(AND($V185<=Z$1,$W185>=Z$1),INDEX(Reliability!E$23:E$50,MATCH($T185,Reliability!$C$23:$C$50,0)),0),0)*$H185*$X185*$Y185),$D185)*$R185","v":47.79},{"$f":"MIN((IFERROR(IF(AND($V185<=AA$1,$W185>=AA$1),INDEX(Reliability!F$23:F$50,MATCH($S185,Reliability!$C$23:$C$50,0)),0),0)*IF($T185=\"n/a\",$D185*$Y185,$G185)+IFERROR(IF(AND($V185<=AA$1,$W185>=AA$1),INDEX(Reliability!F$23:F$50,MATCH($T185,Reliability!$C$23:$C$50,0)),0),0)*$H185*$X185*$Y185),$D185)*$R185","v":48.680999999999997},{"$f":"MIN((IFERROR(IF(AND($V185<=AB$1,$W185>=AB$1),INDEX(Reliability!G$23:G$50,MATCH($S185,Reliability!$C$23:$C$50,0)),0),0)*IF($T185=\"n/a\",$D185*$Y185,$G185)+IFERROR(IF(AND($V185<=AB$1,$W185>=AB$1),INDEX(Reliability!G$23:G$50,MATCH($T185,Reliability!$C$23:$C$50,0)),0),0)*$H185*$X185*$Y185),$D185)*$R185","v":49.572000000000003},{"$f":"MIN((IFERROR(IF(AND($V185<=AC$1,$W185>=AC$1),INDEX(Reliability!H$23:H$50,MATCH($S185,Reliability!$C$23:$C$50,0)),0),0)*IF($T185=\"n/a\",$D185*$Y185,$G185)+IFERROR(IF(AND($V185<=AC$1,$W185>=AC$1),INDEX(Reliability!H$23:H$50,MATCH($T185,Reliability!$C$23:$C$50,0)),0),0)*$H185*$X185*$Y185),$D185)*$R185","v":45.657000000000004},{"$f":"MIN((IFERROR(IF(AND($V185<=AD$1,$W185>=AD$1),INDEX(Reliability!I$23:I$50,MATCH($S185,Reliability!$C$23:$C$50,0)),0),0)*IF($T185=\"n/a\",$D185*$Y185,$G185)+IFERROR(IF(AND($V185<=AD$1,$W185>=AD$1),INDEX(Reliability!I$23:I$50,MATCH($T185,Reliability!$C$23:$C$50,0)),0),0)*$H185*$X185*$Y185),$D185)*$R185","v":41.742000000000004},{"$f":"MIN((IFERROR(IF(AND($V185<=AE$1,$W185>=AE$1),INDEX(Reliability!J$23:J$50,MATCH($S185,Reliability!$C$23:$C$50,0)),0),0)*IF($T185=\"n/a\",$D185*$Y185,$G185)+IFERROR(IF(AND($V185<=AE$1,$W185>=AE$1),INDEX(Reliability!J$23:J$50,MATCH($T185,Reliability!$C$23:$C$50,0)),0),0)*$H185*$X185*$Y185),$D185)*$R185","v":40.985999999999997},{"$f":"MIN((IFERROR(IF(AND($V185<=AF$1,$W185>=AF$1),INDEX(Reliability!K$23:K$50,MATCH($S185,Reliability!$C$23:$C$50,0)),0),0)*IF($T185=\"n/a\",$D185*$Y185,$G185)+IFERROR(IF(AND($V185<=AF$1,$W185>=AF$1),INDEX(Reliability!K$23:K$50,MATCH($T185,Reliability!$C$23:$C$50,0)),0),0)*$H185*$X185*$Y185),$D185)*$R185","v":40.229999999999997},{"$f":"MIN((IFERROR(IF(AND($V185<=AG$1,$W185>=AG$1),INDEX(Reliability!L$23:L$50,MATCH($S185,Reliability!$C$23:$C$50,0)),0),0)*IF($T185=\"n/a\",$D185*$Y185,$G185)+IFERROR(IF(AND($V185<=AG$1,$W185>=AG$1),INDEX(Reliability!L$23:L$50,MATCH($T185,Reliability!$C$23:$C$50,0)),0),0)*$H185*$X185*$Y185),$D185)*$R185","v":36.514800000000001},{"$f":"MIN((IFERROR(IF(AND($V185<=AH$1,$W185>=AH$1),INDEX(Reliability!M$23:M$50,MATCH($S185,Reliability!$C$23:$C$50,0)),0),0)*IF($T185=\"n/a\",$D185*$Y185,$G185)+IFERROR(IF(AND($V185<=AH$1,$W185>=AH$1),INDEX(Reliability!M$23:M$50,MATCH($T185,Reliability!$C$23:$C$50,0)),0),0)*$H185*$X185*$Y185),$D185)*$R185","v":32.799600000000005},{"$f":"MIN((IFERROR(IF(AND($V185<=AI$1,$W185>=AI$1),INDEX(Reliability!N$23:N$50,MATCH($S185,Reliability!$C$23:$C$50,0)),0),0)*IF($T185=\"n/a\",$D185*$Y185,$G185)+IFERROR(IF(AND($V185<=AI$1,$W185>=AI$1),INDEX(Reliability!N$23:N$50,MATCH($T185,Reliability!$C$23:$C$50,0)),0),0)*$H185*$X185*$Y185),$D185)*$R185","v":29.084400000000006},{"$f":"MIN((IFERROR(IF(AND($V185<=AJ$1,$W185>=AJ$1),INDEX(Reliability!O$23:O$50,MATCH($S185,Reliability!$C$23:$C$50,0)),0),0)*IF($T185=\"n/a\",$D185*$Y185,$G185)+IFERROR(IF(AND($V185<=AJ$1,$W185>=AJ$1),INDEX(Reliability!O$23:O$50,MATCH($T185,Reliability!$C$23:$C$50,0)),0),0)*$H185*$X185*$Y185),$D185)*$R185","v":25.369200000000006},{"$f":"MIN((IFERROR(IF(AND($V185<=AK$1,$W185>=AK$1),INDEX(Reliability!P$23:P$50,MATCH($S185,Reliability!$C$23:$C$50,0)),0),0)*IF($T185=\"n/a\",$D185*$Y185,$G185)+IFERROR(IF(AND($V185<=AK$1,$W185>=AK$1),INDEX(Reliability!P$23:P$50,MATCH($T185,Reliability!$C$23:$C$50,0)),0),0)*$H185*$X185*$Y185),$D185)*$R185","v":21.654}]
[null,{"$f":"unique_contracts!B186","v":"_EXISTING_GENERIC_BATTERY_STORAGE"},{"$f":"unique_contracts!D186","v":"Online"},{"$f":"unique_contracts!J186","v":21.718800000000002},{"$f":"unique_contracts!M186","v":"NotHybrid"},{"$f":"unique_contracts!N186","v":"NA"},{"$f":"unique_contracts!P186","v":0},{"$f":"unique_contracts!R186","v":0},{"$f":"unique_contracts!V186","v":0},{"$f":"unique_contracts!AB186","v":"sell"},{"$f":"unique_contracts!AM186","v":2021},{"$f":"unique_contracts!AN186","v":11},{"$f":"unique_contracts!AO186","v":29},{"$f":"unique_contracts!AP186","v":2036},{"$f":"unique_contracts!AQ186","v":11},{"$f":"unique_contracts!AR186","v":28},{"$f":"unique_contracts!BP186","v":"CapacityOnly"},-1,{"$f":"IFERROR(IF(AND(I186>0,E186=\"NotHybrid\"),_xlfn.CONCAT(MAX(MIN(ROUNDDOWN(I186/D186,0),8),4),INDEX(resources!$G:$G,MATCH(B186,resources!$A:$A,0))),INDEX(resources!$G:$G,MATCH(B186,resources!$A:$A,0))),\"n/a\")","v":"hr_batteries"},"n/a","hr_batteries",2022,2036,1,0,{"$f":"MIN((IFERROR(IF(AND($V186<=Z$1,$W186>=Z$1),INDEX(Reliability!E$23:E$50,MATCH($S186,Reliability!$C$23:$C$50,0)),0),0)*IF($T186=\"n/a\",$D186*$Y186,$G186)+IFERROR(IF(AND($V186<=Z$1,$W186>=Z$1),INDEX(Reliability!E$23:E$50,MATCH($T186,Reliability!$C$23:$C$50,0)),0),0)*$H186*$X186*$Y186),$D186)*$R186","v":0},{"$f":"MIN((IFERROR(IF(AND($V186<=AA$1,$W186>=AA$1),INDEX(Reliability!F$23:F$50,MATCH($S186,Reliability!$C$23:$C$50,0)),0),0)*IF($T186=\"n/a\",$D186*$Y186,$G186)+IFERROR(IF(AND($V186<=AA$1,$W186>=AA$1),INDEX(Reliability!F$23:F$50,MATCH($T186,Reliability!$C$23:$C$50,0)),0),0)*$H186*$X186*$Y186),$D186)*$R186","v":0},{"$f":"MIN((IFERROR(IF(AND($V186<=AB$1,$W186>=AB$1),INDEX(Reliability!G$23:G$50,MATCH($S186,Reliability!$C$23:$C$50,0)),0),0)*IF($T186=\"n/a\",$D186*$Y186,$G186)+IFERROR(IF(AND($V186<=AB$1,$W186>=AB$1),INDEX(Reliability!G$23:G$50,MATCH($T186,Reliability!$C$23:$C$50,0)),0),0)*$H186*$X186*$Y186),$D186)*$R186","v":0},{"$f":"MIN((IFERROR(IF(AND($V186<=AC$1,$W186>=AC$1),INDEX(Reliability!H$23:H$50,MATCH($S186,Reliability!$C$23:$C$50,0)),0),0)*IF($T186=\"n/a\",$D186*$Y186,$G186)+IFERROR(IF(AND($V186<=AC$1,$W186>=AC$1),INDEX(Reliability!H$23:H$50,MATCH($T186,Reliability!$C$23:$C$50,0)),0),0)*$H186*$X186*$Y186),$D186)*$R186","v":0},{"$f":"MIN((IFERROR(IF(AND($V186<=AD$1,$W186>=AD$1),INDEX(Reliability!I$23:I$50,MATCH($S186,Reliability!$C$23:$C$50,0)),0),0)*IF($T186=\"n/a\",$D186*$Y186,$G186)+IFERROR(IF(AND($V186<=AD$1,$W186>=AD$1),INDEX(Reliability!I$23:I$50,MATCH($T186,Reliability!$C$23:$C$50,0)),0),0)*$H186*$X186*$Y186),$D186)*$R186","v":0},{"$f":"MIN((IFERROR(IF(AND($V186<=AE$1,$W186>=AE$1),INDEX(Reliability!J$23:J$50,MATCH($S186,Reliability!$C$23:$C$50,0)),0),0)*IF($T186=\"n/a\",$D186*$Y186,$G186)+IFERROR(IF(AND($V186<=AE$1,$W186>=AE$1),INDEX(Reliability!J$23:J$50,MATCH($T186,Reliability!$C$23:$C$50,0)),0),0)*$H186*$X186*$Y186),$D186)*$R186","v":0},{"$f":"MIN((IFERROR(IF(AND($V186<=AF$1,$W186>=AF$1),INDEX(Reliability!K$23:K$50,MATCH($S186,Reliability!$C$23:$C$50,0)),0),0)*IF($T186=\"n/a\",$D186*$Y186,$G186)+IFERROR(IF(AND($V186<=AF$1,$W186>=AF$1),INDEX(Reliability!K$23:K$50,MATCH($T186,Reliability!$C$23:$C$50,0)),0),0)*$H186*$X186*$Y186),$D186)*$R186","v":0},{"$f":"MIN((IFERROR(IF(AND($V186<=AG$1,$W186>=AG$1),INDEX(Reliability!L$23:L$50,MATCH($S186,Reliability!$C$23:$C$50,0)),0),0)*IF($T186=\"n/a\",$D186*$Y186,$G186)+IFERROR(IF(AND($V186<=AG$1,$W186>=AG$1),INDEX(Reliability!L$23:L$50,MATCH($T186,Reliability!$C$23:$C$50,0)),0),0)*$H186*$X186*$Y186),$D186)*$R186","v":0},{"$f":"MIN((IFERROR(IF(AND($V186<=AH$1,$W186>=AH$1),INDEX(Reliability!M$23:M$50,MATCH($S186,Reliability!$C$23:$C$50,0)),0),0)*IF($T186=\"n/a\",$D186*$Y186,$G186)+IFERROR(IF(AND($V186<=AH$1,$W186>=AH$1),INDEX(Reliability!M$23:M$50,MATCH($T186,Reliability!$C$23:$C$50,0)),0),0)*$H186*$X186*$Y186),$D186)*$R186","v":0},{"$f":"MIN((IFERROR(IF(AND($V186<=AI$1,$W186>=AI$1),INDEX(Reliability!N$23:N$50,MATCH($S186,Reliability!$C$23:$C$50,0)),0),0)*IF($T186=\"n/a\",$D186*$Y186,$G186)+IFERROR(IF(AND($V186<=AI$1,$W186>=AI$1),INDEX(Reliability!N$23:N$50,MATCH($T186,Reliability!$C$23:$C$50,0)),0),0)*$H186*$X186*$Y186),$D186)*$R186","v":0},{"$f":"MIN((IFERROR(IF(AND($V186<=AJ$1,$W186>=AJ$1),INDEX(Reliability!O$23:O$50,MATCH($S186,Reliability!$C$23:$C$50,0)),0),0)*IF($T186=\"n/a\",$D186*$Y186,$G186)+IFERROR(IF(AND($V186<=AJ$1,$W186>=AJ$1),INDEX(Reliability!O$23:O$50,MATCH($T186,Reliability!$C$23:$C$50,0)),0),0)*$H186*$X186*$Y186),$D186)*$R186","v":0},{"$f":"MIN((IFERROR(IF(AND($V186<=AK$1,$W186>=AK$1),INDEX(Reliability!P$23:P$50,MATCH($S186,Reliability!$C$23:$C$50,0)),0),0)*IF($T186=\"n/a\",$D186*$Y186,$G186)+IFERROR(IF(AND($V186<=AK$1,$W186>=AK$1),INDEX(Reliability!P$23:P$50,MATCH($T186,Reliability!$C$23:$C$50,0)),0),0)*$H186*$X186*$Y186),$D186)*$R186","v":0}]
[null,{"$f":"unique_contracts!B187","v":"VSTAES_6_VESBT1"},{"$f":"unique_contracts!D187","v":"Online"},{"$f":"unique_contracts!J187","v":10},{"$f":"unique_contracts!M187","v":"NotHybrid"},{"$f":"unique_contracts!N187","v":"NA"},{"$f":"unique_contracts!P187","v":0},{"$f":"unique_contracts!R187","v":0},{"$f":"unique_contracts!V187","v":40},{"$f":"unique_contracts!AB187","v":0},{"$f":"unique_contracts!AM187","v":2021},{"$f":"unique_contracts!AN187","v":8},{"$f":"unique_contracts!AO187","v":1},{"$f":"unique_contracts!AP187","v":2036},{"$f":"unique_contracts!AQ187","v":7},{"$f":"unique_contracts!AR187","v":31},{"$f":"unique_contracts!BP187","v":"CapacityOnly"},1,{"$f":"IFERROR(IF(AND(I187>0,E187=\"NotHybrid\"),_xlfn.CONCAT(MAX(MIN(ROUNDDOWN(I187/D187,0),8),4),INDEX(resources!$G:$G,MATCH(B187,resources!$A:$A,0))),INDEX(resources!$G:$G,MATCH(B187,resources!$A:$A,0))),\"n/a\")","v":"4hr_batteries"},"n/a","4hr_batteries",2022,2035,1,1,{"$f":"MIN((IFERROR(IF(AND($V187<=Z$1,$W187>=Z$1),INDEX(Reliability!E$23:E$50,MATCH($S187,Reliability!$C$23:$C$50,0)),0),0)*IF($T187=\"n/a\",$D187*$Y187,$G187)+IFERROR(IF(AND($V187<=Z$1,$W187>=Z$1),INDEX(Reliability!E$23:E$50,MATCH($T187,Reliability!$C$23:$C$50,0)),0),0)*$H187*$X187*$Y187),$D187)*$R187","v":8.85},{"$f":"MIN((IFERROR(IF(AND($V187<=AA$1,$W187>=AA$1),INDEX(Reliability!F$23:F$50,MATCH($S187,Reliability!$C$23:$C$50,0)),0),0)*IF($T187=\"n/a\",$D187*$Y187,$G187)+IFERROR(IF(AND($V187<=AA$1,$W187>=AA$1),INDEX(Reliability!F$23:F$50,MATCH($T187,Reliability!$C$23:$C$50,0)),0),0)*$H187*$X187*$Y187),$D187)*$R187","v":9.0150000000000006},{"$f":"MIN((IFERROR(IF(AND($V187<=AB$1,$W187>=AB$1),INDEX(Reliability!G$23:G$50,MATCH($S187,Reliability!$C$23:$C$50,0)),0),0)*IF($T187=\"n/a\",$D187*$Y187,$G187)+IFERROR(IF(AND($V187<=AB$1,$W187>=AB$1),INDEX(Reliability!G$23:G$50,MATCH($T187,Reliability!$C$23:$C$50,0)),0),0)*$H187*$X187*$Y187),$D187)*$R187","v":9.18},{"$f":"MIN((IFERROR(IF(AND($V187<=AC$1,$W187>=AC$1),INDEX(Reliability!H$23:H$50,MATCH($S187,Reliability!$C$23:$C$50,0)),0),0)*IF($T187=\"n/a\",$D187*$Y187,$G187)+IFERROR(IF(AND($V187<=AC$1,$W187>=AC$1),INDEX(Reliability!H$23:H$50,MATCH($T187,Reliability!$C$23:$C$50,0)),0),0)*$H187*$X187*$Y187),$D187)*$R187","v":8.4550000000000001},{"$f":"MIN((IFERROR(IF(AND($V187<=AD$1,$W187>=AD$1),INDEX(Reliability!I$23:I$50,MATCH($S187,Reliability!$C$23:$C$50,0)),0),0)*IF($T187=\"n/a\",$D187*$Y187,$G187)+IFERROR(IF(AND($V187<=AD$1,$W187>=AD$1),INDEX(Reliability!I$23:I$50,MATCH($T187,Reliability!$C$23:$C$50,0)),0),0)*$H187*$X187*$Y187),$D187)*$R187","v":7.73},{"$f":"MIN((IFERROR(IF(AND($V187<=AE$1,$W187>=AE$1),INDEX(Reliability!J$23:J$50,MATCH($S187,Reliability!$C$23:$C$50,0)),0),0)*IF($T187=\"n/a\",$D187*$Y187,$G187)+IFERROR(IF(AND($V187<=AE$1,$W187>=AE$1),INDEX(Reliability!J$23:J$50,MATCH($T187,Reliability!$C$23:$C$50,0)),0),0)*$H187*$X187*$Y187),$D187)*$R187","v":7.59},{"$f":"MIN((IFERROR(IF(AND($V187<=AF$1,$W187>=AF$1),INDEX(Reliability!K$23:K$50,MATCH($S187,Reliability!$C$23:$C$50,0)),0),0)*IF($T187=\"n/a\",$D187*$Y187,$G187)+IFERROR(IF(AND($V187<=AF$1,$W187>=AF$1),INDEX(Reliability!K$23:K$50,MATCH($T187,Reliability!$C$23:$C$50,0)),0),0)*$H187*$X187*$Y187),$D187)*$R187","v":7.45},{"$f":"MIN((IFERROR(IF(AND($V187<=AG$1,$W187>=AG$1),INDEX(Reliability!L$23:L$50,MATCH($S187,Reliability!$C$23:$C$50,0)),0),0)*IF($T187=\"n/a\",$D187*$Y187,$G187)+IFERROR(IF(AND($V187<=AG$1,$W187>=AG$1),INDEX(Reliability!L$23:L$50,MATCH($T187,Reliability!$C$23:$C$50,0)),0),0)*$H187*$X187*$Y187),$D187)*$R187","v":6.7620000000000005},{"$f":"MIN((IFERROR(IF(AND($V187<=AH$1,$W187>=AH$1),INDEX(Reliability!M$23:M$50,MATCH($S187,Reliability!$C$23:$C$50,0)),0),0)*IF($T187=\"n/a\",$D187*$Y187,$G187)+IFERROR(IF(AND($V187<=AH$1,$W187>=AH$1),INDEX(Reliability!M$23:M$50,MATCH($T187,Reliability!$C$23:$C$50,0)),0),0)*$H187*$X187*$Y187),$D187)*$R187","v":6.0740000000000007},{"$f":"MIN((IFERROR(IF(AND($V187<=AI$1,$W187>=AI$1),INDEX(Reliability!N$23:N$50,MATCH($S187,Reliability!$C$23:$C$50,0)),0),0)*IF($T187=\"n/a\",$D187*$Y187,$G187)+IFERROR(IF(AND($V187<=AI$1,$W187>=AI$1),INDEX(Reliability!N$23:N$50,MATCH($T187,Reliability!$C$23:$C$50,0)),0),0)*$H187*$X187*$Y187),$D187)*$R187","v":5.386000000000001},{"$f":"MIN((IFERROR(IF(AND($V187<=AJ$1,$W187>=AJ$1),INDEX(Reliability!O$23:O$50,MATCH($S187,Reliability!$C$23:$C$50,0)),0),0)*IF($T187=\"n/a\",$D187*$Y187,$G187)+IFERROR(IF(AND($V187<=AJ$1,$W187>=AJ$1),INDEX(Reliability!O$23:O$50,MATCH($T187,Reliability!$C$23:$C$50,0)),0),0)*$H187*$X187*$Y187),$D187)*$R187","v":4.6980000000000013},{"$f":"MIN((IFERROR(IF(AND($V187<=AK$1,$W187>=AK$1),INDEX(Reliability!P$23:P$50,MATCH($S187,Reliability!$C$23:$C$50,0)),0),0)*IF($T187=\"n/a\",$D187*$Y187,$G187)+IFERROR(IF(AND($V187<=AK$1,$W187>=AK$1),INDEX(Reliability!P$23:P$50,MATCH($T187,Reliability!$C$23:$C$50,0)),0),0)*$H187*$X187*$Y187),$D187)*$R187","v":4.01}]
[null,{"$f":"unique_contracts!B188","v":"_EXISTING_GENERIC_BATTERY_STORAGE"},{"$f":"unique_contracts!D188","v":"Online"},{"$f":"unique_contracts!J188","v":4.0220000000000002},{"$f":"unique_contracts!M188","v":"NotHybrid"},{"$f":"unique_contracts!N188","v":"NA"},{"$f":"unique_contracts!P188","v":0},{"$f":"unique_contracts!R188","v":0},{"$f":"unique_contracts!V188","v":0},{"$f":"unique_contracts!AB188","v":"sell"},{"$f":"unique_contracts!AM188","v":2021},{"$f":"unique_contracts!AN188","v":8},{"$f":"unique_contracts!AO188","v":1},{"$f":"unique_contracts!AP188","v":2036},{"$f":"unique_contracts!AQ188","v":7},{"$f":"unique_contracts!AR188","v":31},{"$f":"unique_contracts!BP188","v":"CapacityOnly"},-1,{"$f":"IFERROR(IF(AND(I188>0,E188=\"NotHybrid\"),_xlfn.CONCAT(MAX(MIN(ROUNDDOWN(I188/D188,0),8),4),INDEX(resources!$G:$G,MATCH(B188,resources!$A:$A,0))),INDEX(resources!$G:$G,MATCH(B188,resources!$A:$A,0))),\"n/a\")","v":"hr_batteries"},"n/a","hr_batteries",2022,2035,1,0,{"$f":"MIN((IFERROR(IF(AND($V188<=Z$1,$W188>=Z$1),INDEX(Reliability!E$23:E$50,MATCH($S188,Reliability!$C$23:$C$50,0)),0),0)*IF($T188=\"n/a\",$D188*$Y188,$G188)+IFERROR(IF(AND($V188<=Z$1,$W188>=Z$1),INDEX(Reliability!E$23:E$50,MATCH($T188,Reliability!$C$23:$C$50,0)),0),0)*$H188*$X188*$Y188),$D188)*$R188","v":0},{"$f":"MIN((IFERROR(IF(AND($V188<=AA$1,$W188>=AA$1),INDEX(Reliability!F$23:F$50,MATCH($S188,Reliability!$C$23:$C$50,0)),0),0)*IF($T188=\"n/a\",$D188*$Y188,$G188)+IFERROR(IF(AND($V188<=AA$1,$W188>=AA$1),INDEX(Reliability!F$23:F$50,MATCH($T188,Reliability!$C$23:$C$50,0)),0),0)*$H188*$X188*$Y188),$D188)*$R188","v":0},{"$f":"MIN((IFERROR(IF(AND($V188<=AB$1,$W188>=AB$1),INDEX(Reliability!G$23:G$50,MATCH($S188,Reliability!$C$23:$C$50,0)),0),0)*IF($T188=\"n/a\",$D188*$Y188,$G188)+IFERROR(IF(AND($V188<=AB$1,$W188>=AB$1),INDEX(Reliability!G$23:G$50,MATCH($T188,Reliability!$C$23:$C$50,0)),0),0)*$H188*$X188*$Y188),$D188)*$R188","v":0},{"$f":"MIN((IFERROR(IF(AND($V188<=AC$1,$W188>=AC$1),INDEX(Reliability!H$23:H$50,MATCH($S188,Reliability!$C$23:$C$50,0)),0),0)*IF($T188=\"n/a\",$D188*$Y188,$G188)+IFERROR(IF(AND($V188<=AC$1,$W188>=AC$1),INDEX(Reliability!H$23:H$50,MATCH($T188,Reliability!$C$23:$C$50,0)),0),0)*$H188*$X188*$Y188),$D188)*$R188","v":0},{"$f":"MIN((IFERROR(IF(AND($V188<=AD$1,$W188>=AD$1),INDEX(Reliability!I$23:I$50,MATCH($S188,Reliability!$C$23:$C$50,0)),0),0)*IF($T188=\"n/a\",$D188*$Y188,$G188)+IFERROR(IF(AND($V188<=AD$1,$W188>=AD$1),INDEX(Reliability!I$23:I$50,MATCH($T188,Reliability!$C$23:$C$50,0)),0),0)*$H188*$X188*$Y188),$D188)*$R188","v":0},{"$f":"MIN((IFERROR(IF(AND($V188<=AE$1,$W188>=AE$1),INDEX(Reliability!J$23:J$50,MATCH($S188,Reliability!$C$23:$C$50,0)),0),0)*IF($T188=\"n/a\",$D188*$Y188,$G188)+IFERROR(IF(AND($V188<=AE$1,$W188>=AE$1),INDEX(Reliability!J$23:J$50,MATCH($T188,Reliability!$C$23:$C$50,0)),0),0)*$H188*$X188*$Y188),$D188)*$R188","v":0},{"$f":"MIN((IFERROR(IF(AND($V188<=AF$1,$W188>=AF$1),INDEX(Reliability!K$23:K$50,MATCH($S188,Reliability!$C$23:$C$50,0)),0),0)*IF($T188=\"n/a\",$D188*$Y188,$G188)+IFERROR(IF(AND($V188<=AF$1,$W188>=AF$1),INDEX(Reliability!K$23:K$50,MATCH($T188,Reliability!$C$23:$C$50,0)),0),0)*$H188*$X188*$Y188),$D188)*$R188","v":0},{"$f":"MIN((IFERROR(IF(AND($V188<=AG$1,$W188>=AG$1),INDEX(Reliability!L$23:L$50,MATCH($S188,Reliability!$C$23:$C$50,0)),0),0)*IF($T188=\"n/a\",$D188*$Y188,$G188)+IFERROR(IF(AND($V188<=AG$1,$W188>=AG$1),INDEX(Reliability!L$23:L$50,MATCH($T188,Reliability!$C$23:$C$50,0)),0),0)*$H188*$X188*$Y188),$D188)*$R188","v":0},{"$f":"MIN((IFERROR(IF(AND($V188<=AH$1,$W188>=AH$1),INDEX(Reliability!M$23:M$50,MATCH($S188,Reliability!$C$23:$C$50,0)),0),0)*IF($T188=\"n/a\",$D188*$Y188,$G188)+IFERROR(IF(AND($V188<=AH$1,$W188>=AH$1),INDEX(Reliability!M$23:M$50,MATCH($T188,Reliability!$C$23:$C$50,0)),0),0)*$H188*$X188*$Y188),$D188)*$R188","v":0},{"$f":"MIN((IFERROR(IF(AND($V188<=AI$1,$W188>=AI$1),INDEX(Reliability!N$23:N$50,MATCH($S188,Reliability!$C$23:$C$50,0)),0),0)*IF($T188=\"n/a\",$D188*$Y188,$G188)+IFERROR(IF(AND($V188<=AI$1,$W188>=AI$1),INDEX(Reliability!N$23:N$50,MATCH($T188,Reliability!$C$23:$C$50,0)),0),0)*$H188*$X188*$Y188),$D188)*$R188","v":0},{"$f":"MIN((IFERROR(IF(AND($V188<=AJ$1,$W188>=AJ$1),INDEX(Reliability!O$23:O$50,MATCH($S188,Reliability!$C$23:$C$50,0)),0),0)*IF($T188=\"n/a\",$D188*$Y188,$G188)+IFERROR(IF(AND($V188<=AJ$1,$W188>=AJ$1),INDEX(Reliability!O$23:O$50,MATCH($T188,Reliability!$C$23:$C$50,0)),0),0)*$H188*$X188*$Y188),$D188)*$R188","v":0},{"$f":"MIN((IFERROR(IF(AND($V188<=AK$1,$W188>=AK$1),INDEX(Reliability!P$23:P$50,MATCH($S188,Reliability!$C$23:$C$50,0)),0),0)*IF($T188=\"n/a\",$D188*$Y188,$G188)+IFERROR(IF(AND($V188<=AK$1,$W188>=AK$1),INDEX(Reliability!P$23:P$50,MATCH($T188,Reliability!$C$23:$C$50,0)),0),0)*$H188*$X188*$Y188),$D188)*$R188","v":0}]
[null,{"$f":"unique_contracts!B189","v":"_NEW_GENERIC_BATTERY_STORAGE"},{"$f":"unique_contracts!D189","v":"Development"},{"$f":"unique_contracts!J189","v":131},{"$f":"unique_contracts!M189","v":"NotHybrid"},{"$f":"unique_contracts!N189","v":"NA"},{"$f":"unique_contracts!P189","v":0},{"$f":"unique_contracts!R189","v":0},{"$f":"unique_contracts!V189","v":524},{"$f":"unique_contracts!AB189","v":"Owned"},{"$f":"unique_contracts!AM189","v":0},{"$f":"unique_contracts!AN189","v":0},{"$f":"unique_contracts!AO189","v":0},{"$f":"unique_contracts!AP189","v":2060},{"$f":"unique_contracts!AQ189","v":12},{"$f":"unique_contracts!AR189","v":31},{"$f":"unique_contracts!BP189","v":"EnergyCapacity"},1,{"$f":"IFERROR(IF(AND(I189>0,E189=\"NotHybrid\"),_xlfn.CONCAT(MAX(MIN(ROUNDDOWN(I189/D189,0),8),4),INDEX(resources!$G:$G,MATCH(B189,resources!$A:$A,0))),INDEX(resources!$G:$G,MATCH(B189,resources!$A:$A,0))),\"n/a\")","v":"4hr_batteries"},"n/a","4hr_batteries",0,2060,1,1,{"$f":"MIN((IFERROR(IF(AND($V189<=Z$1,$W189>=Z$1),INDEX(Reliability!E$23:E$50,MATCH($S189,Reliability!$C$23:$C$50,0)),0),0)*IF($T189=\"n/a\",$D189*$Y189,$G189)+IFERROR(IF(AND($V189<=Z$1,$W189>=Z$1),INDEX(Reliability!E$23:E$50,MATCH($T189,Reliability!$C$23:$C$50,0)),0),0)*$H189*$X189*$Y189),$D189)*$R189","v":115.935},{"$f":"MIN((IFERROR(IF(AND($V189<=AA$1,$W189>=AA$1),INDEX(Reliability!F$23:F$50,MATCH($S189,Reliability!$C$23:$C$50,0)),0),0)*IF($T189=\"n/a\",$D189*$Y189,$G189)+IFERROR(IF(AND($V189<=AA$1,$W189>=AA$1),INDEX(Reliability!F$23:F$50,MATCH($T189,Reliability!$C$23:$C$50,0)),0),0)*$H189*$X189*$Y189),$D189)*$R189","v":118.09649999999999},{"$f":"MIN((IFERROR(IF(AND($V189<=AB$1,$W189>=AB$1),INDEX(Reliability!G$23:G$50,MATCH($S189,Reliability!$C$23:$C$50,0)),0),0)*IF($T189=\"n/a\",$D189*$Y189,$G189)+IFERROR(IF(AND($V189<=AB$1,$W189>=AB$1),INDEX(Reliability!G$23:G$50,MATCH($T189,Reliability!$C$23:$C$50,0)),0),0)*$H189*$X189*$Y189),$D189)*$R189","v":120.25800000000001},{"$f":"MIN((IFERROR(IF(AND($V189<=AC$1,$W189>=AC$1),INDEX(Reliability!H$23:H$50,MATCH($S189,Reliability!$C$23:$C$50,0)),0),0)*IF($T189=\"n/a\",$D189*$Y189,$G189)+IFERROR(IF(AND($V189<=AC$1,$W189>=AC$1),INDEX(Reliability!H$23:H$50,MATCH($T189,Reliability!$C$23:$C$50,0)),0),0)*$H189*$X189*$Y189),$D189)*$R189","v":110.76050000000001},{"$f":"MIN((IFERROR(IF(AND($V189<=AD$1,$W189>=AD$1),INDEX(Reliability!I$23:I$50,MATCH($S189,Reliability!$C$23:$C$50,0)),0),0)*IF($T189=\"n/a\",$D189*$Y189,$G189)+IFERROR(IF(AND($V189<=AD$1,$W189>=AD$1),INDEX(Reliability!I$23:I$50,MATCH($T189,Reliability!$C$23:$C$50,0)),0),0)*$H189*$X189*$Y189),$D189)*$R189","v":101.26300000000001},{"$f":"MIN((IFERROR(IF(AND($V189<=AE$1,$W189>=AE$1),INDEX(Reliability!J$23:J$50,MATCH($S189,Reliability!$C$23:$C$50,0)),0),0)*IF($T189=\"n/a\",$D189*$Y189,$G189)+IFERROR(IF(AND($V189<=AE$1,$W189>=AE$1),INDEX(Reliability!J$23:J$50,MATCH($T189,Reliability!$C$23:$C$50,0)),0),0)*$H189*$X189*$Y189),$D189)*$R189","v":99.429000000000002},{"$f":"MIN((IFERROR(IF(AND($V189<=AF$1,$W189>=AF$1),INDEX(Reliability!K$23:K$50,MATCH($S189,Reliability!$C$23:$C$50,0)),0),0)*IF($T189=\"n/a\",$D189*$Y189,$G189)+IFERROR(IF(AND($V189<=AF$1,$W189>=AF$1),INDEX(Reliability!K$23:K$50,MATCH($T189,Reliability!$C$23:$C$50,0)),0),0)*$H189*$X189*$Y189),$D189)*$R189","v":97.594999999999999},{"$f":"MIN((IFERROR(IF(AND($V189<=AG$1,$W189>=AG$1),INDEX(Reliability!L$23:L$50,MATCH($S189,Reliability!$C$23:$C$50,0)),0),0)*IF($T189=\"n/a\",$D189*$Y189,$G189)+IFERROR(IF(AND($V189<=AG$1,$W189>=AG$1),INDEX(Reliability!L$23:L$50,MATCH($T189,Reliability!$C$23:$C$50,0)),0),0)*$H189*$X189*$Y189),$D189)*$R189","v":88.5822},{"$f":"MIN((IFERROR(IF(AND($V189<=AH$1,$W189>=AH$1),INDEX(Reliability!M$23:M$50,MATCH($S189,Reliability!$C$23:$C$50,0)),0),0)*IF($T189=\"n/a\",$D189*$Y189,$G189)+IFERROR(IF(AND($V189<=AH$1,$W189>=AH$1),INDEX(Reliability!M$23:M$50,MATCH($T189,Reliability!$C$23:$C$50,0)),0),0)*$H189*$X189*$Y189),$D189)*$R189","v":79.569400000000002},{"$f":"MIN((IFERROR(IF(AND($V189<=AI$1,$W189>=AI$1),INDEX(Reliability!N$23:N$50,MATCH($S189,Reliability!$C$23:$C$50,0)),0),0)*IF($T189=\"n/a\",$D189*$Y189,$G189)+IFERROR(IF(AND($V189<=AI$1,$W189>=AI$1),INDEX(Reliability!N$23:N$50,MATCH($T189,Reliability!$C$23:$C$50,0)),0),0)*$H189*$X189*$Y189),$D189)*$R189","v":70.556600000000017},{"$f":"MIN((IFERROR(IF(AND($V189<=AJ$1,$W189>=AJ$1),INDEX(Reliability!O$23:O$50,MATCH($S189,Reliability!$C$23:$C$50,0)),0),0)*IF($T189=\"n/a\",$D189*$Y189,$G189)+IFERROR(IF(AND($V189<=AJ$1,$W189>=AJ$1),INDEX(Reliability!O$23:O$50,MATCH($T189,Reliability!$C$23:$C$50,0)),0),0)*$H189*$X189*$Y189),$D189)*$R189","v":61.543800000000012},{"$f":"MIN((IFERROR(IF(AND($V189<=AK$1,$W189>=AK$1),INDEX(Reliability!P$23:P$50,MATCH($S189,Reliability!$C$23:$C$50,0)),0),0)*IF($T189=\"n/a\",$D189*$Y189,$G189)+IFERROR(IF(AND($V189<=AK$1,$W189>=AK$1),INDEX(Reliability!P$23:P$50,MATCH($T189,Reliability!$C$23:$C$50,0)),0),0)*$H189*$X189*$Y189),$D189)*$R189","v":52.531000000000006}]
[null,{"$f":"unique_contracts!B190","v":"_NEW_GENERIC_BATTERY_STORAGE"},{"$f":"unique_contracts!D190","v":"Development"},{"$f":"unique_contracts!J190","v":99.298000000000002},{"$f":"unique_contracts!M190","v":"NotHybrid"},{"$f":"unique_contracts!N190","v":"NA"},{"$f":"unique_contracts!P190","v":0},{"$f":"unique_contracts!R190","v":0},{"$f":"unique_contracts!V190","v":397.19200000000001},{"$f":"unique_contracts!AB190","v":"sell"},{"$f":"unique_contracts!AM190","v":0},{"$f":"unique_contracts!AN190","v":0},{"$f":"unique_contracts!AO190","v":0},{"$f":"unique_contracts!AP190","v":2060},{"$f":"unique_contracts!AQ190","v":12},{"$f":"unique_contracts!AR190","v":31},{"$f":"unique_contracts!BP190","v":"EnergyCapacity"},-1,{"$f":"IFERROR(IF(AND(I190>0,E190=\"NotHybrid\"),_xlfn.CONCAT(MAX(MIN(ROUNDDOWN(I190/D190,0),8),4),INDEX(resources!$G:$G,MATCH(B190,resources!$A:$A,0))),INDEX(resources!$G:$G,MATCH(B190,resources!$A:$A,0))),\"n/a\")","v":"4hr_batteries"},"n/a","4hr_batteries",0,2060,1,1,{"$f":"MIN((IFERROR(IF(AND($V190<=Z$1,$W190>=Z$1),INDEX(Reliability!E$23:E$50,MATCH($S190,Reliability!$C$23:$C$50,0)),0),0)*IF($T190=\"n/a\",$D190*$Y190,$G190)+IFERROR(IF(AND($V190<=Z$1,$W190>=Z$1),INDEX(Reliability!E$23:E$50,MATCH($T190,Reliability!$C$23:$C$50,0)),0),0)*$H190*$X190*$Y190),$D190)*$R190","v":-87.878730000000004},{"$f":"MIN((IFERROR(IF(AND($V190<=AA$1,$W190>=AA$1),INDEX(Reliability!F$23:F$50,MATCH($S190,Reliability!$C$23:$C$50,0)),0),0)*IF($T190=\"n/a\",$D190*$Y190,$G190)+IFERROR(IF(AND($V190<=AA$1,$W190>=AA$1),INDEX(Reliability!F$23:F$50,MATCH($T190,Reliability!$C$23:$C$50,0)),0),0)*$H190*$X190*$Y190),$D190)*$R190","v":-89.517146999999994},{"$f":"MIN((IFERROR(IF(AND($V190<=AB$1,$W190>=AB$1),INDEX(Reliability!G$23:G$50,MATCH($S190,Reliability!$C$23:$C$50,0)),0),0)*IF($T190=\"n/a\",$D190*$Y190,$G190)+IFERROR(IF(AND($V190<=AB$1,$W190>=AB$1),INDEX(Reliability!G$23:G$50,MATCH($T190,Reliability!$C$23:$C$50,0)),0),0)*$H190*$X190*$Y190),$D190)*$R190","v":-91.155564000000012},{"$f":"MIN((IFERROR(IF(AND($V190<=AC$1,$W190>=AC$1),INDEX(Reliability!H$23:H$50,MATCH($S190,Reliability!$C$23:$C$50,0)),0),0)*IF($T190=\"n/a\",$D190*$Y190,$G190)+IFERROR(IF(AND($V190<=AC$1,$W190>=AC$1),INDEX(Reliability!H$23:H$50,MATCH($T190,Reliability!$C$23:$C$50,0)),0),0)*$H190*$X190*$Y190),$D190)*$R190","v":-83.956459000000009},{"$f":"MIN((IFERROR(IF(AND($V190<=AD$1,$W190>=AD$1),INDEX(Reliability!I$23:I$50,MATCH($S190,Reliability!$C$23:$C$50,0)),0),0)*IF($T190=\"n/a\",$D190*$Y190,$G190)+IFERROR(IF(AND($V190<=AD$1,$W190>=AD$1),INDEX(Reliability!I$23:I$50,MATCH($T190,Reliability!$C$23:$C$50,0)),0),0)*$H190*$X190*$Y190),$D190)*$R190","v":-76.757354000000007},{"$f":"MIN((IFERROR(IF(AND($V190<=AE$1,$W190>=AE$1),INDEX(Reliability!J$23:J$50,MATCH($S190,Reliability!$C$23:$C$50,0)),0),0)*IF($T190=\"n/a\",$D190*$Y190,$G190)+IFERROR(IF(AND($V190<=AE$1,$W190>=AE$1),INDEX(Reliability!J$23:J$50,MATCH($T190,Reliability!$C$23:$C$50,0)),0),0)*$H190*$X190*$Y190),$D190)*$R190","v":-75.367182},{"$f":"MIN((IFERROR(IF(AND($V190<=AF$1,$W190>=AF$1),INDEX(Reliability!K$23:K$50,MATCH($S190,Reliability!$C$23:$C$50,0)),0),0)*IF($T190=\"n/a\",$D190*$Y190,$G190)+IFERROR(IF(AND($V190<=AF$1,$W190>=AF$1),INDEX(Reliability!K$23:K$50,MATCH($T190,Reliability!$C$23:$C$50,0)),0),0)*$H190*$X190*$Y190),$D190)*$R190","v":-73.977010000000007},{"$f":"MIN((IFERROR(IF(AND($V190<=AG$1,$W190>=AG$1),INDEX(Reliability!L$23:L$50,MATCH($S190,Reliability!$C$23:$C$50,0)),0),0)*IF($T190=\"n/a\",$D190*$Y190,$G190)+IFERROR(IF(AND($V190<=AG$1,$W190>=AG$1),INDEX(Reliability!L$23:L$50,MATCH($T190,Reliability!$C$23:$C$50,0)),0),0)*$H190*$X190*$Y190),$D190)*$R190","v":-67.14530760000001},{"$f":"MIN((IFERROR(IF(AND($V190<=AH$1,$W190>=AH$1),INDEX(Reliability!M$23:M$50,MATCH($S190,Reliability!$C$23:$C$50,0)),0),0)*IF($T190=\"n/a\",$D190*$Y190,$G190)+IFERROR(IF(AND($V190<=AH$1,$W190>=AH$1),INDEX(Reliability!M$23:M$50,MATCH($T190,Reliability!$C$23:$C$50,0)),0),0)*$H190*$X190*$Y190),$D190)*$R190","v":-60.313605200000005},{"$f":"MIN((IFERROR(IF(AND($V190<=AI$1,$W190>=AI$1),INDEX(Reliability!N$23:N$50,MATCH($S190,Reliability!$C$23:$C$50,0)),0),0)*IF($T190=\"n/a\",$D190*$Y190,$G190)+IFERROR(IF(AND($V190<=AI$1,$W190>=AI$1),INDEX(Reliability!N$23:N$50,MATCH($T190,Reliability!$C$23:$C$50,0)),0),0)*$H190*$X190*$Y190),$D190)*$R190","v":-53.481902800000007},{"$f":"MIN((IFERROR(IF(AND($V190<=AJ$1,$W190>=AJ$1),INDEX(Reliability!O$23:O$50,MATCH($S190,Reliability!$C$23:$C$50,0)),0),0)*IF($T190=\"n/a\",$D190*$Y190,$G190)+IFERROR(IF(AND($V190<=AJ$1,$W190>=AJ$1),INDEX(Reliability!O$23:O$50,MATCH($T190,Reliability!$C$23:$C$50,0)),0),0)*$H190*$X190*$Y190),$D190)*$R190","v":-46.65020040000001},{"$f":"MIN((IFERROR(IF(AND($V190<=AK$1,$W190>=AK$1),INDEX(Reliability!P$23:P$50,MATCH($S190,Reliability!$C$23:$C$50,0)),0),0)*IF($T190=\"n/a\",$D190*$Y190,$G190)+IFERROR(IF(AND($V190<=AK$1,$W190>=AK$1),INDEX(Reliability!P$23:P$50,MATCH($T190,Reliability!$C$23:$C$50,0)),0),0)*$H190*$X190*$Y190),$D190)*$R190","v":-39.818498000000005}]
[null,{"$f":"unique_contracts!B191","v":"NGILAA_5_SDGDYN"},{"$f":"unique_contracts!D191","v":"Online"},{"$f":"unique_contracts!J191","v":54.93},{"$f":"unique_contracts!M191","v":"NotHybrid"},{"$f":"unique_contracts!N191","v":"NA"},{"$f":"unique_contracts!P191","v":0},{"$f":"unique_contracts!R191","v":0},{"$f":"unique_contracts!V191","v":0},{"$f":"unique_contracts!AB191","v":0},{"$f":"unique_contracts!AM191","v":2015},{"$f":"unique_contracts!AN191","v":12},{"$f":"unique_contracts!AO191","v":1},{"$f":"unique_contracts!AP191","v":2024},{"$f":"unique_contracts!AQ191","v":5},{"$f":"unique_contracts!AR191","v":27},{"$f":"unique_contracts!BP191","v":"EnergyCapacity"},1,{"$f":"IFERROR(IF(AND(I191>0,E191=\"NotHybrid\"),_xlfn.CONCAT(MAX(MIN(ROUNDDOWN(I191/D191,0),8),4),INDEX(resources!$G:$G,MATCH(B191,resources!$A:$A,0))),INDEX(resources!$G:$G,MATCH(B191,resources!$A:$A,0))),\"n/a\")","v":"gas_ct"},"n/a","gas_ct",2016,2023,1,1,{"$f":"MIN((IFERROR(IF(AND($V191<=Z$1,$W191>=Z$1),INDEX(Reliability!E$23:E$50,MATCH($S191,Reliability!$C$23:$C$50,0)),0),0)*IF($T191=\"n/a\",$D191*$Y191,$G191)+IFERROR(IF(AND($V191<=Z$1,$W191>=Z$1),INDEX(Reliability!E$23:E$50,MATCH($T191,Reliability!$C$23:$C$50,0)),0),0)*$H191*$X191*$Y191),$D191)*$R191","v":0},{"$f":"MIN((IFERROR(IF(AND($V191<=AA$1,$W191>=AA$1),INDEX(Reliability!F$23:F$50,MATCH($S191,Reliability!$C$23:$C$50,0)),0),0)*IF($T191=\"n/a\",$D191*$Y191,$G191)+IFERROR(IF(AND($V191<=AA$1,$W191>=AA$1),INDEX(Reliability!F$23:F$50,MATCH($T191,Reliability!$C$23:$C$50,0)),0),0)*$H191*$X191*$Y191),$D191)*$R191","v":0},{"$f":"MIN((IFERROR(IF(AND($V191<=AB$1,$W191>=AB$1),INDEX(Reliability!G$23:G$50,MATCH($S191,Reliability!$C$23:$C$50,0)),0),0)*IF($T191=\"n/a\",$D191*$Y191,$G191)+IFERROR(IF(AND($V191<=AB$1,$W191>=AB$1),INDEX(Reliability!G$23:G$50,MATCH($T191,Reliability!$C$23:$C$50,0)),0),0)*$H191*$X191*$Y191),$D191)*$R191","v":0},{"$f":"MIN((IFERROR(IF(AND($V191<=AC$1,$W191>=AC$1),INDEX(Reliability!H$23:H$50,MATCH($S191,Reliability!$C$23:$C$50,0)),0),0)*IF($T191=\"n/a\",$D191*$Y191,$G191)+IFERROR(IF(AND($V191<=AC$1,$W191>=AC$1),INDEX(Reliability!H$23:H$50,MATCH($T191,Reliability!$C$23:$C$50,0)),0),0)*$H191*$X191*$Y191),$D191)*$R191","v":0},{"$f":"MIN((IFERROR(IF(AND($V191<=AD$1,$W191>=AD$1),INDEX(Reliability!I$23:I$50,MATCH($S191,Reliability!$C$23:$C$50,0)),0),0)*IF($T191=\"n/a\",$D191*$Y191,$G191)+IFERROR(IF(AND($V191<=AD$1,$W191>=AD$1),INDEX(Reliability!I$23:I$50,MATCH($T191,Reliability!$C$23:$C$50,0)),0),0)*$H191*$X191*$Y191),$D191)*$R191","v":0},{"$f":"MIN((IFERROR(IF(AND($V191<=AE$1,$W191>=AE$1),INDEX(Reliability!J$23:J$50,MATCH($S191,Reliability!$C$23:$C$50,0)),0),0)*IF($T191=\"n/a\",$D191*$Y191,$G191)+IFERROR(IF(AND($V191<=AE$1,$W191>=AE$1),INDEX(Reliability!J$23:J$50,MATCH($T191,Reliability!$C$23:$C$50,0)),0),0)*$H191*$X191*$Y191),$D191)*$R191","v":0},{"$f":"MIN((IFERROR(IF(AND($V191<=AF$1,$W191>=AF$1),INDEX(Reliability!K$23:K$50,MATCH($S191,Reliability!$C$23:$C$50,0)),0),0)*IF($T191=\"n/a\",$D191*$Y191,$G191)+IFERROR(IF(AND($V191<=AF$1,$W191>=AF$1),INDEX(Reliability!K$23:K$50,MATCH($T191,Reliability!$C$23:$C$50,0)),0),0)*$H191*$X191*$Y191),$D191)*$R191","v":0},{"$f":"MIN((IFERROR(IF(AND($V191<=AG$1,$W191>=AG$1),INDEX(Reliability!L$23:L$50,MATCH($S191,Reliability!$C$23:$C$50,0)),0),0)*IF($T191=\"n/a\",$D191*$Y191,$G191)+IFERROR(IF(AND($V191<=AG$1,$W191>=AG$1),INDEX(Reliability!L$23:L$50,MATCH($T191,Reliability!$C$23:$C$50,0)),0),0)*$H191*$X191*$Y191),$D191)*$R191","v":0},{"$f":"MIN((IFERROR(IF(AND($V191<=AH$1,$W191>=AH$1),INDEX(Reliability!M$23:M$50,MATCH($S191,Reliability!$C$23:$C$50,0)),0),0)*IF($T191=\"n/a\",$D191*$Y191,$G191)+IFERROR(IF(AND($V191<=AH$1,$W191>=AH$1),INDEX(Reliability!M$23:M$50,MATCH($T191,Reliability!$C$23:$C$50,0)),0),0)*$H191*$X191*$Y191),$D191)*$R191","v":0},{"$f":"MIN((IFERROR(IF(AND($V191<=AI$1,$W191>=AI$1),INDEX(Reliability!N$23:N$50,MATCH($S191,Reliability!$C$23:$C$50,0)),0),0)*IF($T191=\"n/a\",$D191*$Y191,$G191)+IFERROR(IF(AND($V191<=AI$1,$W191>=AI$1),INDEX(Reliability!N$23:N$50,MATCH($T191,Reliability!$C$23:$C$50,0)),0),0)*$H191*$X191*$Y191),$D191)*$R191","v":0},{"$f":"MIN((IFERROR(IF(AND($V191<=AJ$1,$W191>=AJ$1),INDEX(Reliability!O$23:O$50,MATCH($S191,Reliability!$C$23:$C$50,0)),0),0)*IF($T191=\"n/a\",$D191*$Y191,$G191)+IFERROR(IF(AND($V191<=AJ$1,$W191>=AJ$1),INDEX(Reliability!O$23:O$50,MATCH($T191,Reliability!$C$23:$C$50,0)),0),0)*$H191*$X191*$Y191),$D191)*$R191","v":0},{"$f":"MIN((IFERROR(IF(AND($V191<=AK$1,$W191>=AK$1),INDEX(Reliability!P$23:P$50,MATCH($S191,Reliability!$C$23:$C$50,0)),0),0)*IF($T191=\"n/a\",$D191*$Y191,$G191)+IFERROR(IF(AND($V191<=AK$1,$W191>=AK$1),INDEX(Reliability!P$23:P$50,MATCH($T191,Reliability!$C$23:$C$50,0)),0),0)*$H191*$X191*$Y191),$D191)*$R191","v":0}]
[null,{"$f":"unique_contracts!B192","v":"LASSEN_6_UNITS"},{"$f":"unique_contracts!D192","v":"Online"},{"$f":"unique_contracts!J192","v":24},{"$f":"unique_contracts!M192","v":"NotHybrid"},{"$f":"unique_contracts!N192","v":"NA"},{"$f":"unique_contracts!P192","v":0},{"$f":"unique_contracts!R192","v":0},{"$f":"unique_contracts!V192","v":0},{"$f":"unique_contracts!AB192","v":"sell"},{"$f":"unique_contracts!AM192","v":2020},{"$f":"unique_contracts!AN192","v":1},{"$f":"unique_contracts!AO192","v":1},{"$f":"unique_contracts!AP192","v":2024},{"$f":"unique_contracts!AQ192","v":9},{"$f":"unique_contracts!AR192","v":31},{"$f":"unique_contracts!BP192","v":"EnergyCapacity"},-1,{"$f":"IFERROR(IF(AND(I192>0,E192=\"NotHybrid\"),_xlfn.CONCAT(MAX(MIN(ROUNDDOWN(I192/D192,0),8),4),INDEX(resources!$G:$G,MATCH(B192,resources!$A:$A,0))),INDEX(resources!$G:$G,MATCH(B192,resources!$A:$A,0))),\"n/a\")","v":"biomass_wood"},"n/a","biomass_wood",2020,2024,1,1,{"$f":"MIN((IFERROR(IF(AND($V192<=Z$1,$W192>=Z$1),INDEX(Reliability!E$23:E$50,MATCH($S192,Reliability!$C$23:$C$50,0)),0),0)*IF($T192=\"n/a\",$D192*$Y192,$G192)+IFERROR(IF(AND($V192<=Z$1,$W192>=Z$1),INDEX(Reliability!E$23:E$50,MATCH($T192,Reliability!$C$23:$C$50,0)),0),0)*$H192*$X192*$Y192),$D192)*$R192","v":-18.906540506271504},{"$f":"MIN((IFERROR(IF(AND($V192<=AA$1,$W192>=AA$1),INDEX(Reliability!F$23:F$50,MATCH($S192,Reliability!$C$23:$C$50,0)),0),0)*IF($T192=\"n/a\",$D192*$Y192,$G192)+IFERROR(IF(AND($V192<=AA$1,$W192>=AA$1),INDEX(Reliability!F$23:F$50,MATCH($T192,Reliability!$C$23:$C$50,0)),0),0)*$H192*$X192*$Y192),$D192)*$R192","v":0},{"$f":"MIN((IFERROR(IF(AND($V192<=AB$1,$W192>=AB$1),INDEX(Reliability!G$23:G$50,MATCH($S192,Reliability!$C$23:$C$50,0)),0),0)*IF($T192=\"n/a\",$D192*$Y192,$G192)+IFERROR(IF(AND($V192<=AB$1,$W192>=AB$1),INDEX(Reliability!G$23:G$50,MATCH($T192,Reliability!$C$23:$C$50,0)),0),0)*$H192*$X192*$Y192),$D192)*$R192","v":0},{"$f":"MIN((IFERROR(IF(AND($V192<=AC$1,$W192>=AC$1),INDEX(Reliability!H$23:H$50,MATCH($S192,Reliability!$C$23:$C$50,0)),0),0)*IF($T192=\"n/a\",$D192*$Y192,$G192)+IFERROR(IF(AND($V192<=AC$1,$W192>=AC$1),INDEX(Reliability!H$23:H$50,MATCH($T192,Reliability!$C$23:$C$50,0)),0),0)*$H192*$X192*$Y192),$D192)*$R192","v":0},{"$f":"MIN((IFERROR(IF(AND($V192<=AD$1,$W192>=AD$1),INDEX(Reliability!I$23:I$50,MATCH($S192,Reliability!$C$23:$C$50,0)),0),0)*IF($T192=\"n/a\",$D192*$Y192,$G192)+IFERROR(IF(AND($V192<=AD$1,$W192>=AD$1),INDEX(Reliability!I$23:I$50,MATCH($T192,Reliability!$C$23:$C$50,0)),0),0)*$H192*$X192*$Y192),$D192)*$R192","v":0},{"$f":"MIN((IFERROR(IF(AND($V192<=AE$1,$W192>=AE$1),INDEX(Reliability!J$23:J$50,MATCH($S192,Reliability!$C$23:$C$50,0)),0),0)*IF($T192=\"n/a\",$D192*$Y192,$G192)+IFERROR(IF(AND($V192<=AE$1,$W192>=AE$1),INDEX(Reliability!J$23:J$50,MATCH($T192,Reliability!$C$23:$C$50,0)),0),0)*$H192*$X192*$Y192),$D192)*$R192","v":0},{"$f":"MIN((IFERROR(IF(AND($V192<=AF$1,$W192>=AF$1),INDEX(Reliability!K$23:K$50,MATCH($S192,Reliability!$C$23:$C$50,0)),0),0)*IF($T192=\"n/a\",$D192*$Y192,$G192)+IFERROR(IF(AND($V192<=AF$1,$W192>=AF$1),INDEX(Reliability!K$23:K$50,MATCH($T192,Reliability!$C$23:$C$50,0)),0),0)*$H192*$X192*$Y192),$D192)*$R192","v":0},{"$f":"MIN((IFERROR(IF(AND($V192<=AG$1,$W192>=AG$1),INDEX(Reliability!L$23:L$50,MATCH($S192,Reliability!$C$23:$C$50,0)),0),0)*IF($T192=\"n/a\",$D192*$Y192,$G192)+IFERROR(IF(AND($V192<=AG$1,$W192>=AG$1),INDEX(Reliability!L$23:L$50,MATCH($T192,Reliability!$C$23:$C$50,0)),0),0)*$H192*$X192*$Y192),$D192)*$R192","v":0},{"$f":"MIN((IFERROR(IF(AND($V192<=AH$1,$W192>=AH$1),INDEX(Reliability!M$23:M$50,MATCH($S192,Reliability!$C$23:$C$50,0)),0),0)*IF($T192=\"n/a\",$D192*$Y192,$G192)+IFERROR(IF(AND($V192<=AH$1,$W192>=AH$1),INDEX(Reliability!M$23:M$50,MATCH($T192,Reliability!$C$23:$C$50,0)),0),0)*$H192*$X192*$Y192),$D192)*$R192","v":0},{"$f":"MIN((IFERROR(IF(AND($V192<=AI$1,$W192>=AI$1),INDEX(Reliability!N$23:N$50,MATCH($S192,Reliability!$C$23:$C$50,0)),0),0)*IF($T192=\"n/a\",$D192*$Y192,$G192)+IFERROR(IF(AND($V192<=AI$1,$W192>=AI$1),INDEX(Reliability!N$23:N$50,MATCH($T192,Reliability!$C$23:$C$50,0)),0),0)*$H192*$X192*$Y192),$D192)*$R192","v":0},{"$f":"MIN((IFERROR(IF(AND($V192<=AJ$1,$W192>=AJ$1),INDEX(Reliability!O$23:O$50,MATCH($S192,Reliability!$C$23:$C$50,0)),0),0)*IF($T192=\"n/a\",$D192*$Y192,$G192)+IFERROR(IF(AND($V192<=AJ$1,$W192>=AJ$1),INDEX(Reliability!O$23:O$50,MATCH($T192,Reliability!$C$23:$C$50,0)),0),0)*$H192*$X192*$Y192),$D192)*$R192","v":0},{"$f":"MIN((IFERROR(IF(AND($V192<=AK$1,$W192>=AK$1),INDEX(Reliability!P$23:P$50,MATCH($S192,Reliability!$C$23:$C$50,0)),0),0)*IF($T192=\"n/a\",$D192*$Y192,$G192)+IFERROR(IF(AND($V192<=AK$1,$W192>=AK$1),INDEX(Reliability!P$23:P$50,MATCH($T192,Reliability!$C$23:$C$50,0)),0),0)*$H192*$X192*$Y192),$D192)*$R192","v":0}]
[null,{"$f":"unique_contracts!B193","v":"LASSEN_6_UNITS"},{"$f":"unique_contracts!D193","v":"Online"},{"$f":"unique_contracts!J193","v":0},{"$f":"unique_contracts!M193","v":"NotHybrid"},{"$f":"unique_contracts!N193","v":"NA"},{"$f":"unique_contracts!P193","v":0},{"$f":"unique_contracts!R193","v":0},{"$f":"unique_contracts!V193","v":0},{"$f":"unique_contracts!AB193","v":"sell"},{"$f":"unique_contracts!AM193","v":2023},{"$f":"unique_contracts!AN193","v":1},{"$f":"unique_contracts!AO193","v":1},{"$f":"unique_contracts!AP193","v":2025},{"$f":"unique_contracts!AQ193","v":12},{"$f":"unique_contracts!AR193","v":31},{"$f":"unique_contracts!BP193","v":"EnergyOnly"},0,{"$f":"IFERROR(IF(AND(I193>0,E193=\"NotHybrid\"),_xlfn.CONCAT(MAX(MIN(ROUNDDOWN(I193/D193,0),8),4),INDEX(resources!$G:$G,MATCH(B193,resources!$A:$A,0))),INDEX(resources!$G:$G,MATCH(B193,resources!$A:$A,0))),\"n/a\")","v":"biomass_wood"},"n/a","biomass_wood",2023,2025,1,1,{"$f":"MIN((IFERROR(IF(AND($V193<=Z$1,$W193>=Z$1),INDEX(Reliability!E$23:E$50,MATCH($S193,Reliability!$C$23:$C$50,0)),0),0)*IF($T193=\"n/a\",$D193*$Y193,$G193)+IFERROR(IF(AND($V193<=Z$1,$W193>=Z$1),INDEX(Reliability!E$23:E$50,MATCH($T193,Reliability!$C$23:$C$50,0)),0),0)*$H193*$X193*$Y193),$D193)*$R193","v":0},{"$f":"MIN((IFERROR(IF(AND($V193<=AA$1,$W193>=AA$1),INDEX(Reliability!F$23:F$50,MATCH($S193,Reliability!$C$23:$C$50,0)),0),0)*IF($T193=\"n/a\",$D193*$Y193,$G193)+IFERROR(IF(AND($V193<=AA$1,$W193>=AA$1),INDEX(Reliability!F$23:F$50,MATCH($T193,Reliability!$C$23:$C$50,0)),0),0)*$H193*$X193*$Y193),$D193)*$R193","v":0},{"$f":"MIN((IFERROR(IF(AND($V193<=AB$1,$W193>=AB$1),INDEX(Reliability!G$23:G$50,MATCH($S193,Reliability!$C$23:$C$50,0)),0),0)*IF($T193=\"n/a\",$D193*$Y193,$G193)+IFERROR(IF(AND($V193<=AB$1,$W193>=AB$1),INDEX(Reliability!G$23:G$50,MATCH($T193,Reliability!$C$23:$C$50,0)),0),0)*$H193*$X193*$Y193),$D193)*$R193","v":0},{"$f":"MIN((IFERROR(IF(AND($V193<=AC$1,$W193>=AC$1),INDEX(Reliability!H$23:H$50,MATCH($S193,Reliability!$C$23:$C$50,0)),0),0)*IF($T193=\"n/a\",$D193*$Y193,$G193)+IFERROR(IF(AND($V193<=AC$1,$W193>=AC$1),INDEX(Reliability!H$23:H$50,MATCH($T193,Reliability!$C$23:$C$50,0)),0),0)*$H193*$X193*$Y193),$D193)*$R193","v":0},{"$f":"MIN((IFERROR(IF(AND($V193<=AD$1,$W193>=AD$1),INDEX(Reliability!I$23:I$50,MATCH($S193,Reliability!$C$23:$C$50,0)),0),0)*IF($T193=\"n/a\",$D193*$Y193,$G193)+IFERROR(IF(AND($V193<=AD$1,$W193>=AD$1),INDEX(Reliability!I$23:I$50,MATCH($T193,Reliability!$C$23:$C$50,0)),0),0)*$H193*$X193*$Y193),$D193)*$R193","v":0},{"$f":"MIN((IFERROR(IF(AND($V193<=AE$1,$W193>=AE$1),INDEX(Reliability!J$23:J$50,MATCH($S193,Reliability!$C$23:$C$50,0)),0),0)*IF($T193=\"n/a\",$D193*$Y193,$G193)+IFERROR(IF(AND($V193<=AE$1,$W193>=AE$1),INDEX(Reliability!J$23:J$50,MATCH($T193,Reliability!$C$23:$C$50,0)),0),0)*$H193*$X193*$Y193),$D193)*$R193","v":0},{"$f":"MIN((IFERROR(IF(AND($V193<=AF$1,$W193>=AF$1),INDEX(Reliability!K$23:K$50,MATCH($S193,Reliability!$C$23:$C$50,0)),0),0)*IF($T193=\"n/a\",$D193*$Y193,$G193)+IFERROR(IF(AND($V193<=AF$1,$W193>=AF$1),INDEX(Reliability!K$23:K$50,MATCH($T193,Reliability!$C$23:$C$50,0)),0),0)*$H193*$X193*$Y193),$D193)*$R193","v":0},{"$f":"MIN((IFERROR(IF(AND($V193<=AG$1,$W193>=AG$1),INDEX(Reliability!L$23:L$50,MATCH($S193,Reliability!$C$23:$C$50,0)),0),0)*IF($T193=\"n/a\",$D193*$Y193,$G193)+IFERROR(IF(AND($V193<=AG$1,$W193>=AG$1),INDEX(Reliability!L$23:L$50,MATCH($T193,Reliability!$C$23:$C$50,0)),0),0)*$H193*$X193*$Y193),$D193)*$R193","v":0},{"$f":"MIN((IFERROR(IF(AND($V193<=AH$1,$W193>=AH$1),INDEX(Reliability!M$23:M$50,MATCH($S193,Reliability!$C$23:$C$50,0)),0),0)*IF($T193=\"n/a\",$D193*$Y193,$G193)+IFERROR(IF(AND($V193<=AH$1,$W193>=AH$1),INDEX(Reliability!M$23:M$50,MATCH($T193,Reliability!$C$23:$C$50,0)),0),0)*$H193*$X193*$Y193),$D193)*$R193","v":0},{"$f":"MIN((IFERROR(IF(AND($V193<=AI$1,$W193>=AI$1),INDEX(Reliability!N$23:N$50,MATCH($S193,Reliability!$C$23:$C$50,0)),0),0)*IF($T193=\"n/a\",$D193*$Y193,$G193)+IFERROR(IF(AND($V193<=AI$1,$W193>=AI$1),INDEX(Reliability!N$23:N$50,MATCH($T193,Reliability!$C$23:$C$50,0)),0),0)*$H193*$X193*$Y193),$D193)*$R193","v":0},{"$f":"MIN((IFERROR(IF(AND($V193<=AJ$1,$W193>=AJ$1),INDEX(Reliability!O$23:O$50,MATCH($S193,Reliability!$C$23:$C$50,0)),0),0)*IF($T193=\"n/a\",$D193*$Y193,$G193)+IFERROR(IF(AND($V193<=AJ$1,$W193>=AJ$1),INDEX(Reliability!O$23:O$50,MATCH($T193,Reliability!$C$23:$C$50,0)),0),0)*$H193*$X193*$Y193),$D193)*$R193","v":0},{"$f":"MIN((IFERROR(IF(AND($V193<=AK$1,$W193>=AK$1),INDEX(Reliability!P$23:P$50,MATCH($S193,Reliability!$C$23:$C$50,0)),0),0)*IF($T193=\"n/a\",$D193*$Y193,$G193)+IFERROR(IF(AND($V193<=AK$1,$W193>=AK$1),INDEX(Reliability!P$23:P$50,MATCH($T193,Reliability!$C$23:$C$50,0)),0),0)*$H193*$X193*$Y193),$D193)*$R193","v":0}]

{"sheet":"resources","index":4,"n_rows":1778,"n_cols":7,"rows_kept":1778,"cut":false,"hidden":false,"merged":[]}
["resource","generator_name","MAXGEN","resolve_final_group","BAA_ID","supertype","elcc_type"]
["7STDRD_1_SOLAR1","SHAFTER_SOLAR",20,"caiso_solar","CISO","physical","utility_pv"]
["ACACIA_6_SOLAR","WEST_ANTELOPE_SOLAR",20,"caiso_solar","CISO","physical","utility_pv"]
["ADELANTO_SOLAR","NAN",10,"ldwp_solar","LADWP","physical","utility_pv"]
["ADERA_1_SOLAR1","ADERA_SOLAR",20,"caiso_solar","CISO","physical","utility_pv"]
["ADLIN_1_UNITS","GEYSERS_AIDLIN_AGGREGATE",22,"caiso_geothermal","CISO","physical","geothermal"]
["ADMEST_6_SOLAR","ADAMS_EAST",19,"caiso_solar","CISO","physical","utility_pv"]
["ADOBEE_1_SOLAR","ADOBE_SOLAR",20,"caiso_solar","CISO","physical","utility_pv"]
["AGCANA_X_HOOVER","HOOVER_POWER_PLANT",40,"caiso_hydro","WALC","specifiedimport","hydro"]
["AGRICO_6_PL3N5","FRESNO_PEAKER",22.69,"caiso_peaker1","CISO","physical","gas_ct"]
["AGRICO_7_UNIT","FRESNO_COGEN",49.9,"caiso_ccgt2","CISO","physical","gas_cc"]
["AGUCAL_5_SOLAR1","AGUA_CALIENTE_SOLAR",290,"caiso_solar","CISO","physical","utility_pv"]
["AKINGS_6_AMESR1","AMERICAN_KINGS_SOLAR",123,"caiso_solar","CISO","physical","utility_pv"]
["ALAMIT_2_PL1X3","ALAMITOS_ENERGY_CENTER_UNIT_7",674.7,"caiso_ccgt1","CISO","physical","gas_cc"]
["ALAMIT_7_ES1","ALAMITOS_ENERGY_STORAGE",100.45,"caiso_li_battery","CISO","physical","hr_batteries"]
["ALAMIT_7_UNIT_3","ALAMITOS_GEN_STA._UNIT_3",326.76,"caiso_st","CISO","physical","steam"]
["ALAMIT_7_UNIT_4","ALAMITOS_GEN_STA._UNIT_4",334.43,"caiso_st","CISO","physical","steam"]
["ALAMIT_7_UNIT_5","ALAMITOS_GEN_STA._UNIT_5",480,"caiso_st","CISO","physical","steam"]
["ALAMO_6_UNIT","ALAMO_POWER_PLANT",17,"caiso_hydro","CISO","physical","hydro"]
["ALHMBR_1_ALHSLR","SG_ALHAMBRA",50,"iid_solar","IID","specifiedimport","utility_pv"]
["ALLGNY_6_HYDRO1","SALMON_CREEK_HYDROELECTRIC_PROJECT",0.52,"caiso_small_hydro","CISO","physical","small_hydro"]
["ALMASL_2_AL6BT6","MAVERICK6STORAGE",50,"caiso_li_battery","CISO","physical","hr_batteries"]
["ALMASL_2_GS1SR1","ALMASOL_GENERATING_STATION_1",125,"caiso_solar","CISO","physical","utility_pv"]
["ALMASL_2_GS4SR4","ALMASOL_GENERATING_STATION_4",100,"caiso_solar","CISO","physical","utility_pv"]
["ALMASL_2_GS6SR6","ALMASOL_GENERATING_STATION_6",100,"caiso_solar","CISO","physical","utility_pv"]
["ALMASL_2_GS7SR7","ALMASOL_GENERATING_STATION_7",132,"caiso_solar","CISO","physical","utility_pv"]
["ALMEGT_1_UNIT_1","ALAMEDA_GT_UNIT_1",25,"caiso_peaker2","CISO","physical","gas_ct"]
["ALMEGT_1_UNIT_2","ALAMEDA_GT_UNIT_2",25,"caiso_peaker2","CISO","physical","gas_ct"]
["ALPSLR_1_NTHSLR","ALPAUGH_NORTH,_LLC",20,"caiso_solar","CISO","physical","utility_pv"]
["ALPSLR_1_SPSSLR","ALPAUGH_50_LLC",50,"caiso_solar","CISO","physical","utility_pv"]
["ALT6DN_2_WIND7","PINYON_PINES_1",164.31,"caiso_wind","CISO","physical","in_state_wind_south"]
["ALT6DS_2_WIND9","PINYON_PINES_2",132,"caiso_wind","CISO","physical","in_state_wind_south"]
["ALTA3A_2_CPCE4","ALTA_WIND_4",102,"caiso_wind","CISO","physical","in_state_wind_south"]
["ALTA3A_2_CPCE5","ALTA_WIND_5",168,"caiso_wind","CISO","physical","in_state_wind_south"]
["ALTA3A_2_CPCE8","ALTA_WIND_8",150,"caiso_wind","CISO","physical","in_state_wind_south"]
["ALTA4A_2_CPCW1","ALTA_WIND_1",150,"caiso_wind","CISO","physical","in_state_wind_south"]
["ALTA4B_2_CPCW2","ALTA_WIND_2",150,"caiso_wind","CISO","physical","in_state_wind_south"]
["ALTA4B_2_CPCW3","ALTA_WIND_3",150,"caiso_wind","CISO","physical","in_state_wind_south"]
["ALTA4B_2_CPCW6","MUSTANG_HILLS",150,"caiso_wind","CISO","physical","in_state_wind_south"]
["ALTA6B_2_WIND11","ALTA_WIND_11",88.15,"caiso_wind","CISO","physical","in_state_wind_south"]
["ALTA6E_2_WIND10","ALTA_WIND_10",134.84,"caiso_wind","CISO","physical","in_state_wind_south"]
["ALTAGASSTORAGE","NAN",40,"caiso_li_battery","CISO","physical","hr_batteries"]
["ALTWD_1_QF","NAN",28.84,"caiso_wind","CISO","physical","in_state_wind_south"]
["ALTWD_2_AT3WD3","ALTECH_3",9.8000000000000007,"caiso_wind","CISO","physical","in_state_wind_south"]
["ALTWD_2_COAWD1","COACHELLA_1",50.4,"caiso_wind","CISO","physical","in_state_wind_south"]
["ANAHM_2_CANYN1","CANYON_POWER_PLANT_UNIT_1",49.4,"caiso_peaker1","CISO","physical","gas_ct"]
["ANAHM_2_CANYN2","CANYON_POWER_PLANT_UNIT_2",49.4,"caiso_peaker1","CISO","physical","gas_ct"]
["ANAHM_2_CANYN3","CANYON_POWER_PLANT_UNIT_3",49.4,"caiso_peaker1","CISO","physical","gas_ct"]
["ANAHM_2_CANYN4","CANYON_POWER_PLANT_UNIT_4",49.4,"caiso_peaker1","CISO","physical","gas_ct"]
["ANAHM_7_CT","NAN",40.64,"caiso_peaker1","CISO","physical","gas_ct"]
["ANTLPE_2_QF","ANTELOPE QFS",4,"caiso_wind","CISO","physical","in_state_wind_south"]
["ANZA_6_SOLAR1","SEVILLE SOLAR ONE",20,"iid_solar","IID","specifiedimport","utility_pv"]
["APEX_CC","NAN",538.70000000000005,"ldwp_ccgt","LADWP","physical","gas_cc"]
["APLHIL_1_SFKHY1","SOUTH FORK POWERHOUSE",2.68,"caiso_hydro","CISO","physical","hydro"]
["APLHIL_1_SLABCK","SLAB CREEK HYDRO",1,"caiso_small_hydro","CISO","physical","small_hydro"]
["AQUAWS_2_AQWSR1","Aquamarine Westside",250,"caiso_solar","CISO","physical","utility_pv"]
["ARATINASOLAR","NAN",150,"caiso_solar","CISO","physical","utility_pv"]
["ARATINASTORAGE","NAN",50,"caiso_li_battery","CISO","physical","hr_batteries"]
["ARBWD_6_QF","WIND RESOURCE II",19.95,"caiso_wind","CISO","physical","in_state_wind_south"]
["ARCOGN_2_UNITS","WATSON COGENERATION",416.6,"caiso_chp","CISO","physical","cogen"]
["ARKANS_1_ARKSLR","SG ARKANSAS",50,"iid_solar","IID","specifiedimport","utility_pv"]
["ARLINT_5_SCEDYN","ARLINGTON VALLEY CC",565,"SW_CCGT","AZPS","specifiedimport","gas_cc"]
["ARLNTN_2_AR1SR1","Arlington",100,"caiso_solar","CISO","physical","utility_pv"]
["ARLNTN_2_ASUSR1","Arlington Solar 1",131,"caiso_solar","CISO","physical","utility_pv"]
["ARLVAL_5_SOLAR","ARLINGTON VALLEY SOLAR ENERGY II",127,"caiso_solar","SRP","specifiedimport","utility_pv"]
["ARVINN_6_ORION1","ORION 1 SOLAR",12,"caiso_solar","CISO","physical","utility_pv"]
["ARVINN_6_ORION2","ORION 2 SOLAR",8,"caiso_solar","CISO","physical","utility_pv"]
["ASTORA_2_SOLAR1","ASTORIA 1",100,"caiso_solar","CISO","physical","utility_pv"]
["ASTORA_2_SOLAR2","ASTORIA 2",75,"caiso_solar","CISO","physical","utility_pv"]
["ATHOS_5_AP1X2","INTERSECTSOLAR",250,"caiso_solar","CISO","physical","utility_pv"]
["ATHOS_5_AP2X2","Athos Power Plant 2",200,"caiso_solar","CISO","physical","utility_pv"]
["ATWEL2_1_SOLAR1","ATWELL WEST",20,"caiso_solar","CISO","physical","utility_pv"]
["ATWELL_1_SOLAR","ATWELL ISLAND PV SOLAR GENERATING FACI.",20,"caiso_solar","CISO","physical","utility_pv"]
["AVENAL_6_AVPARK","AVENAL PARK SOLAR PROJECT",6,"caiso_solar","CISO","physical","utility_pv"]
["AVENAL_6_AVSLR1","AVENAL SOLAR 1",7.9,"caiso_solar","CISO","physical","utility_pv"]
["AVENAL_6_AVSLR2","AVENAL SOLAR 2",7.9,"caiso_solar","CISO","physical","utility_pv"]
["AVENAL_6_SANDDG","SAND DRAG SOLAR PROJECT",19,"caiso_solar","CISO","physical","utility_pv"]
["AVENAL_6_SUNCTY","SUN CITY SOLAR PROJECT",20,"caiso_solar","CISO","physical","utility_pv"]
["AVSOLR_2_SOLAR","AV SOLAR RANCH 1",241.5,"caiso_solar","CISO","physical","utility_pv"]
["AZALEASOLAR","NAN",60,"caiso_solar","CISO","physical","utility_pv"]
["AZALEASTORAGE","NAN",38,"caiso_li_battery","CISO","physical","hr_batteries"]
["BAHIA_2_LKHSR1","LAKE HERMAN SOLAR",5,"caiso_solar","CISO","physical","utility_pv"]
["BALCHS_7_UNIT 1","BALCH 1 PH UNIT 1",31,"caiso_hydro","CISO","physical","hydro"]
["BALCHS_7_UNIT 2","BALCH 2 PH UNIT 2",52.5,"caiso_hydro","CISO","physical","hydro"]
["BALCHS_7_UNIT 3","BALCH 2 PH UNIT 3",54.6,"caiso_hydro","CISO","physical","hydro"]
["BANGOR_6_HYDRO","VIRGINIA RANCH DAM POWERPLANT",1,"caiso_small_hydro","CISO","physical","small_hydro"]
["BANKPP_2_NSPIN","BANKPP_2_NSPIN",270,"caiso_pumped_hydro","CISO","physical","pumped_storage"]
["BARRE_2_QF","BARRE QFS",0.2,"caiso_small_hydro","CISO","physical","small_hydro"]
["BARRE_6_PEAKER","BARRE PEAKER",47,"caiso_peaker1","CISO","physical","gas_ct"]
["BASICE_2_UNITS","KING CITY COGEN",120,"caiso_chp","CISO","physical","cogen"]
["BCTSYS_5_PWXDYN","BCTSYS_5_PWXDYN",428,"caiso_hydro","BPAT","specifiedimport","hydro"]
["BDGRCK_1_UNITS","BADGER CREEK LIMITED",48.08,"caiso_peaker1","CISO","physical","gas_ct"]
["BEACON_SOLAR_B","NAN",125,"ldwp_solar","LADWP","physical","utility_pv"]
["BEARDS_7_UNIT 1","BEARDSLEY HYDRO",11.5,"caiso_hydro","CISO","physical","hydro"]
["BEARMT_1_UNIT","BEAR MOUNTAIN LIMITED",49.21,"caiso_peaker2","CISO","physical","gas_ct"]
["BEJNLS_5_BV2SCEDYN","BROADVIEW 2",167,"caiso_wind","AZPS","specifiedimport","out_of_state_wind_AZNM"]
["BEKWJS_5_BV1SCEDYN","BROADVIEW 1",130,"caiso_wind","AZPS","specifiedimport","out_of_state_wind_AZNM"]
["BELDEN_7_UNIT 1","BELDEN HYDRO",119,"caiso_hydro","CISO","physical","hydro"]
["BELLEVUESOLARINV1","NAN",1.6,"caiso_solar","CISO","physical","utility_pv"]
["BGSKYN_2_AS2SR1","ANTELOPE SOLAR 2",105,"caiso_solar","CISO","physical","utility_pv"]
["BGSKYN_2_ASPSR2","ANTELOPE SOLAR 2 SAN PABLO",100,"caiso_solar","CISO","physical","utility_pv"]
["BGSKYN_2_ASSR1B","Antelope Solar 1B ",17,"caiso_solar","CISO","physical","utility_pv"]
["BGSKYN_2_ASSR3A","ANTELOPE SOLAR 3A",15,"caiso_solar","CISO","physical","utility_pv"]
["BGSKYN_2_ASSR3B","ANTELOPE SOLAR 3B",5,"caiso_solar","CISO","physical","utility_pv"]
["BGSKYN_2_BS3SR3","BIG SKY SOLAR 3",20,"caiso_solar","CISO","physical","utility_pv"]
["BIGBEAUSTORAGE","NAN",40,"caiso_li_battery","CISO","physical","hr_batteries"]
["BIGCRK_2_EXESWD","BIG CREEK HYDRO PROJECT PSP",820,"caiso_hydro","CISO","physical","hydro"]
["BIGCRK_7_DAM7","DAM 7 AT BIG CREEK (FISHWATER GEN)",0.3,"caiso_hydro","CISO","physical","hydro"]
["BIGCRK_7_MAMRES","MAMMOTH POOL RESERVOIR (FISHWATER",1.25,"caiso_small_hydro","CISO","physical","small_hydro"]
["BIGSKY_2_AS2BT1","Antelope Solar 2 LAB",127,"caiso_li_battery","CISO","physical","hr_batteries"]
["BIGSKY_2_ASLBT2","ANTELOPE SOLAR 2 LUNA",100,"caiso_li_battery","CISO","physical","hr_batteries"]
["BIGSKY_2_BSKSR6","BIG SKY SOLAR 6",20,"caiso_solar","CISO","physical","utility_pv"]
["BIGSKY_2_BSKSR7","BIG SKY SOLAR 7",20,"caiso_solar","CISO","physical","utility_pv"]
["BIGSKY_2_BSKSR8","BIG SKY SOLAR 8",20,"caiso_solar","CISO","physical","utility_pv"]
["BIGSKY_2_SOLAR1","ANTELOPE BIG SKY RANCH",20,"caiso_solar","CISO","physical","utility_pv"]
["BIGSKY_2_SOLAR2","BIG SKY SOLAR 4",40,"caiso_solar","CISO","physical","utility_pv"]
["BIGSKY_2_SOLAR3","BIG SKY SUMMER",20,"caiso_solar","CISO","physical","utility_pv"]
["BIGSKY_2_SOLAR4","WESTERN ANTELOPE BLUE SKY RANCH B",20,"caiso_solar","CISO","physical","utility_pv"]
["BIGSKY_2_SOLAR5","BIG SKY SOLAR 2",5,"caiso_solar","CISO","physical","utility_pv"]
["BIGSKY_2_SOLAR6","SOLVERDE 1",85,"caiso_solar","CISO","physical","utility_pv"]
["BIGSKY_2_SOLAR7","BIG SKY SOLAR 1",50,"caiso_solar","CISO","physical","utility_pv"]
["BIGSKY1","NAN",0.75,"caiso_biomass","CISO","physical","biomass_wood"]
["BIGSKY2","NAN",0.75,"caiso_biomass","CISO","physical","biomass_wood"]
["BIOMAS_1_UNIT 1","WOODLAND BIOMASS",25.5,"caiso_biomass","CISO","physical","biomass_wood"]
["BIOMASSONEGE1","NAN",14.4,"caiso_biomass","CISO","physical","biomass_wood"]
["BISHOP_1_ALAMO","BISHOP CREEK PLANT 2  AND  6",13.4,"caiso_small_hydro","CISO","physical","small_hydro"]
["BISHOP_1_UNITS","BISHOP CREEK PLANT 3  AND  4",15.8,"caiso_small_hydro","CISO","physical","small_hydro"]
["BKRFLD_2_SOLAR1","BAKERSFIELD 111",1.38,"caiso_solar","CISO","physical","utility_pv"]
["BLACK_7_UNIT 1","JAMES B. BLACK 1",85,"caiso_hydro","CISO","physical","hydro"]
["BLACK_7_UNIT 2","JAMES B. BLACK 2",84.1,"caiso_hydro","CISO","physical","hydro"]
["BLACK_WALNUT","NAN",15,"caiso_li_battery","CISO","physical","hr_batteries"]
["BLAST_1_WIND","MOUNTAIN VIEW IV WIND",49,"caiso_wind","CISO","physical","in_state_wind_south"]
["BLCKBT_2_STONEY","BLACK BUTTE HYDRO",6.2,"caiso_small_hydro","CISO","physical","small_hydro"]
["BLCKWL_6_SOLAR1","BLACKWELL SOLAR",12,"caiso_solar","CISO","physical","utility_pv"]
["BLKCRK_2_GMCBT1","GENESIS MCCOY BESS",230,"caiso_li_battery","CISO","physical","hr_batteries"]
["BLKCRK_2_SOLAR1","MCCOY STATION",250,"caiso_solar","CISO","physical","utility_pv"]
["BLKDIA_2_BDEBT1","BLACK DIAMOND ENERGY STORAGE",200,"caiso_li_battery","CISO","physical","hr_batteries"]
["BLM W_2_COSBT1","COSOSTORAGE",60,"caiso_li_battery","CISO","physical","hr_batteries"]
["BLM_2_UNITS","BLM EAST FACILITY",72,"caiso_geothermal","CISO","physical","geothermal"]
["BLUE_MOUNTAIN_ELECTRIC_COMPANY","NAN",3,"caiso_biomass","CISO","physical","biomass_wood"]
["BLULKE_6_BLUELK","NAN",12,"caiso_biomass","CISO","physical","biomass_wood"]
["BLYTHE_1_SOLAR1","BLYTHE SOLAR 1 PROJECT",21,"caiso_solar","CISO","physical","utility_pv"]
["BLYTHE_1_SOLAR2","BLYTHE GREEN 1",20,"caiso_solar","CISO","physical","utility_pv"]
["BLYTHESTORAGE1","NAN",63,"caiso_li_battery","CISO","physical","hr_batteries"]
["BNNIEN_7_ALTAPH","ALTA POWER HOUSE",1,"caiso_small_hydro","CISO","physical","small_hydro"]
["BOGUE_1_UNITA1","FEATHER RIVER ENERGY CENTER, UNIT #1",47.6,"caiso_peaker1","CISO","physical","gas_ct"]
["BORDER_6_UNITA1","CALPEAK POWER BORDER UNIT 1",51.25,"caiso_peaker2","CISO","physical","gas_ct"]
["BOWMN_6_HYDRO","NID HYDRO BOWMAN POWERHOUSE",3.6,"caiso_small_hydro","CISO","physical","small_hydro"]
["BRDGVL_7_BAKER","BAKER STATION HYDRO",1.49,"caiso_small_hydro","CISO","physical","small_hydro"]
["BRDSLD_2_HIWIND","HIGH WINDS ENERGY CENTER",162,"caiso_wind","CISO","physical","in_state_wind_north"]
["BRDSLD_2_MTZUM2","NEXTERA ENERGY MONTEZUMA WIND II",78.2,"caiso_wind","CISO","physical","in_state_wind_north"]
["BRDSLD_2_MTZUMA","FPL ENERGY MONTEZUMA WIND",36.799999999999997,"caiso_wind","CISO","physical","in_state_wind_north"]
["BRDSLD_2_SHILO1","SHILOH I WIND PROJECT",150,"caiso_wind","CISO","physical","in_state_wind_north"]
["BRDSLD_2_SHILO2","SHILOH WIND PROJECT 2",150,"caiso_wind","CISO","physical","in_state_wind_north"]
["BRDSLD_2_SHLO3A","SHILOH III WIND PROJECT, LLC",102.5,"caiso_wind","CISO","physical","in_state_wind_north"]
["BRDSLD_2_SHLO3B","SHILOH IV WIND PROJECT",100,"caiso_wind","CISO","physical","in_state_wind_north"]
["BREGGO_6_DEGRSL","DESERT GREEN SOLAR FARM",6.3,"caiso_solar","CISO","physical","utility_pv"]
["BREGGO_6_SOLAR","NRG BORREGO SOLAR ONE",26,"caiso_solar","CISO","physical","utility_pv"]
["BRODIE_2_WIND","CORAM BRODIE WIND PROJECT",102,"caiso_wind","CISO","physical","in_state_wind_south"]
["BUCKBL_2_PL1X3","BLYTHE ENERGY CENTER",493.63,"caiso_ccgt2","CISO","physical","gas_cc"]
["BUCKCK_2_HYDRO","LASSEN STATION HYDRO",0.99,"caiso_small_hydro","CISO","physical","small_hydro"]
["BUCKCK_7_OAKFLT","OAK FLAT",1.3,"caiso_small_hydro","CISO","physical","small_hydro"]
["BUCKCK_7_PL1X2","BUCKS CREEK AGGREGATE",57.25,"caiso_hydro","CISO","physical","hydro"]
["BUCKWD_1_NPALM1","NORTH PALM SPRINGS 1A",2.4,"caiso_solar","CISO","physical","utility_pv"]
["BUCKWD_1_QF","BUCKWIND RE-POWERING PROJECT",16.5,"caiso_wind","CISO","physical","in_state_wind_south"]
["BUCKWD_7_WINTCV","WINTEC ENERGY, LTD.",1.32,"caiso_wind","CISO","physical","in_state_wind_south"]
["BURNYF_2_UNIT 1","BURNEY FOREST POWER",29,"caiso_biomass","CISO","physical","biomass_wood"]
["BUTTVL_7_UNIT 1","BUTT VALLEY HYDRO",39.5,"caiso_hydro","CISO","physical","hydro"]
["CABALO_2_M2BSR1","MUSTANG 2 BARBARO SOLAR",50,"caiso_solar","CISO","physical","utility_pv"]
["CABALO_2_M2WSR2","MUSTANG 2 WHIRLAWAY SOLAR",100,"caiso_solar","CISO","physical","utility_pv"]
["CABZON_1_WINDA1","CABAZON WIND PROJECT",41,"caiso_wind","CISO","physical","in_state_wind_south"]
["CALFTN_2_CFSBT1","California Flats Storage",60,"caiso_li_battery","CISO","physical","hr_batteries"]
["CALFTN_2_SOLAR","CALIFORNIA FLATS NORTH",130,"caiso_solar","CISO","physical","utility_pv"]
["CALFTS_2_CFSSR1","CALIFORNIA FLATS SOLAR SOUTH",150,"caiso_solar","CISO","physical","utility_pv"]
["CALGEN_1_UNITS","COSO NAVY 1",80,"caiso_geothermal","CISO","physical","geothermal"]
["CALPIN_1_AGNEW","AGNEWS POWER PLANT",28.56,"caiso_ccgt1","CISO","physical","gas_cc"]
["CALPSS_6_SOLAR1","CALIPATRIA SOLAR FARM",19.899999999999999,"iid_solar","IID","specifiedimport","utility_pv"]
["CAMCHE_1_PL1X3","CAMANCHE UNITS  1, 2 &  3 AGGREGATE",9.99,"caiso_hydro","CISO","physical","hydro"]
["CAMDEN_6_RDDBM1","RUANN DAIRY DIGESTER BIOMAT",0.55000000000000004,"caiso_biomass","CISO","physical","biomass_wood"]
["CAMERON","NAN",2.4,"caiso_solar","CISO","physical","utility_pv"]
["CAMLOT_2_SOLAR1","CAMELOT",45,"caiso_solar","CISO","physical","utility_pv"]
["CAMLOT_2_SOLAR2","COLUMBIA TWO",15,"caiso_solar","CISO","physical","utility_pv"]
["CAMPFW_7_FARWST","CAMP FAR WEST HYDRO",8,"caiso_small_hydro","CISO","physical","small_hydro"]
["CANTUA_1_SOLAR","CANTUA SOLAR STATION",20,"caiso_solar","CISO","physical","utility_pv"]
["CAPWD_1_QF","EDOM HILLS WIND FARM",19.55,"caiso_wind","CISO","physical","in_state_wind_south"]
["CARBOU_7_PL2X3","CARIBOU PH 1 UNIT 2 & 3 AGGREGATE",49,"caiso_hydro","CISO","physical","hydro"]
["CARBOU_7_PL4X5","CARIBOU PH 2 UNIT 4 & 5 AGGREGATE",120,"caiso_hydro","CISO","physical","hydro"]
["CARBOU_7_UNIT 1","CARIBOU PH 1 UNIT 1",24,"caiso_hydro","CISO","physical","hydro"]
["CARGILLB6BIO1","NAN",1.1000000000000001,"caiso_biomass","CISO","physical","biomass_wood"]
["CARGILLB6BIO2","NAN",1.1000000000000001,"caiso_biomass","CISO","physical","biomass_wood"]
["CARLS1_2_CARCT1","CARLSBAD 1",422,"caiso_peaker1","CISO","physical","gas_ct"]
["CARLS2_1_CARCT1","CARLSBAD 2",105.5,"caiso_peaker1","CISO","physical","gas_ct"]
["CARSON_ICE_CC","NAN",62.7,"banc_ccgt","BANC","physical","gas_cc"]
["CARSON_ICE_PEAKER","NAN",42,"banc_peaker","BANC","physical","gas_ct"]
["CASADB_1_CD4GT1","NAN",40,"caiso_geothermal","CISO","physical","geothermal"]
["CASCADESTORAGE","NAN",25,"caiso_li_battery","CISO","physical","hr_batteries"]
["CASTAIC_1","NAN",240,"ldwp_pumped_hydro","LADWP","physical","pumped_storage"]
["CASTAIC_2","NAN",250,"ldwp_pumped_hydro","LADWP","physical","pumped_storage"]
["CASTAIC_3","NAN",240,"ldwp_pumped_hydro","LADWP","physical","pumped_storage"]
["CASTAIC_4","NAN",240,"ldwp_pumped_hydro","LADWP","physical","pumped_storage"]
["CASTAIC_5","NAN",240,"ldwp_pumped_hydro","LADWP","physical","pumped_storage"]
["CASTAIC_6","NAN",250,"ldwp_pumped_hydro","LADWP","physical","pumped_storage"]
["CASTVL_2_FCELL","NAN",1.4,"caiso_biomass","CISO","physical","biomass_wood"]
["CATLNA_2_SOLAR","CATALINA SOLAR - PHASES 1 AND 2",110,"caiso_solar","CISO","physical","utility_pv"]
["CATLNA_2_SOLAR2","CATALINA SOLAR 2",18,"caiso_solar","CISO","physical","utility_pv"]
["CAVLSR_2_BSOLAR","CALIFORNIA VALLEY SOLAR RANCH-PHASE B",40,"caiso_solar","CISO","physical","utility_pv"]
["CAVLSR_2_RSOLAR","CALIFORNIA VALLEY SOLAR RANCH-PHASE A",210,"caiso_solar","CISO","physical","utility_pv"]
["CAYTNO_2_VASCO","VASCO ROAD",4.3,"caiso_biomass","CISO","physical","biomass_wood"]
["CDWR07_2_GEN","CDWR07_2_GEN",415.3,"caiso_pumped_hydro","CISO","physical","pumped_storage"]
["CEDRCK_6_UNIT","WATER WHEEL RANCH",0.98,"caiso_small_hydro","CISO","physical","small_hydro"]
["CEDUCR_2_SOLAR1","DUCOR SOLAR 1",20,"caiso_solar","CISO","physical","utility_pv"]
["CEDUCR_2_SOLAR2","DUCOR SOLAR 2",20,"caiso_solar","CISO","physical","utility_pv"]
["CEDUCR_2_SOLAR3","DUCOR SOLAR 3",15,"caiso_solar","CISO","physical","utility_pv"]
["CEDUCR_2_SOLAR4","DUCOR SOLAR 4",20,"caiso_solar","CISO","physical","utility_pv"]
["CENT40_1_C40SR1","CENTRAL 40",40,"caiso_solar","CISO","physical","utility_pv"]
["CENTER_2_RHONDO","MWD RIO HONDO HYDROELECTRIC RECOVERY PLA",1.91,"caiso_hydro","CISO","physical","hydro"]
["CENTER_2_SOLAR1","PICO RIVERA",0.9,"caiso_solar","CISO","physical","utility_pv"]
["CENTER_2_TECNG1","TECHNICAST",0.99,"caiso_chp","CISO","physical","cogen"]
["CENTER_6_PEAKER","CENTER PEAKER",47.11,"caiso_peaker1","CISO","physical","gas_ct"]
["CENTRY_6_PL1X4","CENTURY GENERATING PLANT (AGGREGATE)",41.4,"caiso_peaker1","CISO","physical","gas_ct"]
["CHALANSOLAR","NAN",64.900000000000006,"caiso_solar","CISO","physical","utility_pv"]
["CHALANSTORAGE","NAN",25,"caiso_li_battery","CISO","physical","hr_batteries"]
["CHALK_1_UNIT","CHALK CLIFF LIMITED",48.67,"caiso_peaker2","CISO","physical","gas_ct"]
["CHARMN_2_PGONG1","PROCTER  AND  GAMBLE OXNARD I",19.87,"caiso_chp","CISO","physical","cogen"]
["CHEVCD_6_UNIT","CHEVRON USA (TAFT/CADET)",11.5,"caiso_chp","CISO","physical","cogen"]
["CHEVCO_6_UNIT 1","CHEVRON USA (COALINGA)",16.5,"caiso_chp","CISO","physical","cogen"]
["CHEVCO_6_UNIT 2","AERA ENERGY LLC. (COALINGA)",8.5,"caiso_chp","CISO","physical","cogen"]
["CHEVCY_1_UNIT","CHEVRON USA (CYMRIC)",24.3,"caiso_chp","CISO","physical","cogen"]
["CHEVMN_2_UNITS","CHEVRON U.S.A. UNITS 1 & 2 AGGREGATE",124.87,"caiso_chp","CISO","physical","cogen"]
["CHICPK_7_UNIT 1","CHICAGO PARK POWERHOUSE",42,"caiso_hydro","CISO","physical","hydro"]
["CHILLS_1_SYCENG","SYCAMORE ENERGY 1",1.5,"caiso_biomass","CISO","physical","biomass_wood"]
["CHILLS_7_UNITA1","SYCAMORE ENERGY 2",2.25,"caiso_biomass","CISO","physical","biomass_wood"]
["CHINO_2_APEBT1","POMONA ENERGY STORAGE",20,"caiso_li_battery","CISO","physical","hr_batteries"]
["CHINO_2_JURUPA","JURUPA",1.5,"caiso_solar","CISO","physical","utility_pv"]
["CHINO_2_QF","CHINO QFS",0.19,"caiso_biomass","CISO","physical","biomass_wood"]
["CHINO_2_SASOLR","SS SAN ANTONIO WEST LLC",1.5,"caiso_solar","CISO","physical","utility_pv"]
["CHINO_2_SOLAR","CHINO RT SOLAR 1",1,"caiso_solar","CISO","physical","utility_pv"]
["CHINO_2_SOLAR2","KONA SOLAR - TERRA FRANCESCA",1.49,"caiso_solar","CISO","physical","utility_pv"]
["CHINO_6_CIMGEN","CHINO CO-GENERATION",26,"caiso_chp","CISO","physical","cogen"]
["CHINO_6_SMPPAP","NAN",44,"caiso_peaker2","CISO","physical","gas_ct"]
["CHINO_7_MILIKN","MN MILLIKEN GENCO LLC",1.9,"caiso_biomass","CISO","physical","biomass_wood"]
["CHWCHL_1_BIOMAS","CHOW II BIOMASS TO ENERGY",10.8,"caiso_biomass","CISO","physical","biomass_wood"]
["CHWCHL_1_UNIT","CHOW 2 PEAKER PLANT",48.6,"caiso_reciprocating_engine","CISO","physical","ice"]
["CLINESCO_3_PVDYN","CLINES CORNERS",129.94,"caiso_wind","PNM","specifiedimport","out_of_state_wind_AZNM"]
["CLINESCO_3_WBDYN","CLINES CORNERS B",194.28,"caiso_wind","PNM","specifiedimport","out_of_state_wind_AZNM"]
["CLOVDL_1_SOLAR","CLOVERDALE SOLAR I",1.5,"caiso_solar","CISO","physical","utility_pv"]
["CLOVER_2_UNIT","CLOVER CREEK",0.99,"caiso_small_hydro","CISO","physical","small_hydro"]
["CLRKRD_6_LIMESD","LIME SADDLE HYDRO",2,"caiso_small_hydro","CISO","physical","small_hydro"]
["CLRMTK_1_QF","SMALL QF AGGREGATION - OAKLAND",1.25,"caiso_chp","CISO","physical","cogen"]
["CNTNLA_2_SOLAR1","CENTINELA SOLAR ENERGY I",125,"caiso_solar","CISO","physical","utility_pv"]
["CNTNLA_2_SOLAR2","CENTINELS SOLAR ENERGY 2",45.6,"caiso_solar","CISO","physical","utility_pv"]
["CNTRVL_6_UNIT","CENTERVILLE",6.4,"caiso_small_hydro","CISO","physical","small_hydro"]
["COACHELLA_1","NAN",20,"iid_peaker","IID","physical","gas_ct"]
["COACHELLA_2","NAN",20,"iid_peaker","IID","physical","gas_ct"]
["COACHELLA_3","NAN",20,"iid_peaker","IID","physical","gas_ct"]
["COACHELLA_4","NAN",20,"iid_peaker","IID","physical","gas_ct"]
["COACHELLA_BATTERY","NAN",31,"IID_Li_Battery","IID","physical","hr_batteries"]
["COACHELLAWIND","NAN",94.936000000000007,"caiso_wind","CISO","physical","in_state_wind_south"]
["COCOPP_2_CTG1","MARSH LANDING 1",204.2,"caiso_peaker1","CISO","physical","gas_ct"]
["COCOPP_2_CTG2","MARSH LANDING 2",202.7,"caiso_peaker1","CISO","physical","gas_ct"]
["COCOPP_2_CTG3","MARSH LANDING 3",208.96,"caiso_peaker1","CISO","physical","gas_ct"]
["COCOPP_2_CTG4","MARSH LANDING 4",204.29,"caiso_peaker1","CISO","physical","gas_ct"]
["COCOSB_6_SOLAR","OAKLEY SOLAR PROJECT",1.5,"caiso_solar","CISO","physical","utility_pv"]
["COGNAT_1_UNIT","STOCKTON BIOMAS",45,"caiso_biomass","CISO","physical","biomass_wood"]
["COLEMN_2_UNIT","COLEMAN",13,"caiso_small_hydro","CISO","physical","small_hydro"]
["COLGAT_7_UNIT 1","COLGATE POWERHOUSE UNIT 1",176.72,"caiso_hydro","CISO","physical","hydro"]
["COLGAT_7_UNIT 2","COLGATE POWERHOUSE UNIT 2",175.67,"caiso_hydro","CISO","physical","hydro"]
["COLGNS_2_CNSSR1","COLGREEN NORTH SHORE",74.8,"iid_solar","IID","specifiedimport","utility_pv"]
["COLPIN_6_COLLNS","COLLINS PINE",3.3,"caiso_biomass","CISO","physical","biomass_wood"]
["COLTON_6_AGUAM1","AGUA MANSA UNIT 1 (CITY OF COLTON)",43,"caiso_peaker2","CISO","physical","gas_ct"]
["COLUSA_2_PL1X3","COLUSA GENERATING STATION",641,"caiso_ccgt1","CISO","physical","gas_cc"]
["COLVIL_7_PL1X2","COLLIERVILLE HYDRO UNIT 1 & 2 AGGREGATE",246.86,"caiso_hydro","CISO","physical","hydro"]
["CONTRL_1_CASAD1","MAMMOTH G1",10,"caiso_geothermal","CISO","physical","geothermal"]
["CONTRL_1_CASAD2","MAMMOTH G2",10.5,"caiso_geothermal","CISO","physical","geothermal"]
["CONTRL_1_CASAD3","MAMMOTH G3",14,"caiso_geothermal","CISO","physical","geothermal"]
["CONTRL_1_LUNDY","LUNDY",3,"caiso_small_hydro","CISO","physical","small_hydro"]
["CONTRL_1_OXBOW","DIXIE VALLEY GEO",60,"caiso_geothermal","CISO","physical","geothermal"]
["CONTRL_1_POOLE","POOLE HYDRO PLANT 1",10.9,"caiso_small_hydro","CISO","physical","small_hydro"]
["CONTRL_1_QF","CONTROL QFS",2.9,"caiso_geothermal","CISO","physical","geothermal"]
["CONTRL_1_RUSHCK","RUSH CREEK",11.94,"caiso_small_hydro","CISO","physical","small_hydro"]
["COPMT2_2_SOLAR2","CMS2",155,"caiso_solar","CISO","physical","utility_pv"]
["COPMT4_2_SOLAR4","COPPER MOUNTAIN SOLAR 4",92,"caiso_solar","CISO","physical","utility_pv"]
["COPMTN_2_CM10","COPPER MOUNTAIN 10",10,"caiso_solar","CISO","physical","utility_pv"]
["COPMTN_2_SOLAR1","COPPER MOUNTAIN 48",48,"caiso_solar","CISO","physical","utility_pv"]
["COPPER_MOUNTAIN_3_01","COPPER_MOUNTAIN_3_01",26,"ldwp_solar","LADWP","physical","utility_pv"]
["COPPER_MOUNTAIN_3_02","COPPER_MOUNTAIN_3_02",27,"ldwp_solar","LADWP","physical","utility_pv"]
["COPPER_MOUNTAIN_3_03","COPPER_MOUNTAIN_3_03",26,"ldwp_solar","LADWP","physical","utility_pv"]
["COPPER_MOUNTAIN_3_04","COPPER_MOUNTAIN_3_04",28,"ldwp_solar","LADWP","physical","utility_pv"]
["COPPER_MOUNTAIN_3_05","COPPER_MOUNTAIN_3_05",25,"ldwp_solar","LADWP","physical","utility_pv"]
["COPPER_MOUNTAIN_3_06","COPPER_MOUNTAIN_3_06",26,"ldwp_solar","LADWP","physical","utility_pv"]
["COPPER_MOUNTAIN_3_07","COPPER_MOUNTAIN_3_07",27,"ldwp_solar","LADWP","physical","utility_pv"]
["COPPER_MOUNTAIN_3_08","COPPER_MOUNTAIN_3_08",26,"ldwp_solar","LADWP","physical","utility_pv"]
["COPPER_MOUNTAIN_3_09","COPPER_MOUNTAIN_3_09",24,"ldwp_solar","LADWP","physical","utility_pv"]
["COPPER_MOUNTAIN_3_10","COPPER_MOUNTAIN_3_10",20,"ldwp_solar","LADWP","physical","utility_pv"]
["CORCAN_1_SOLAR1","CID SOLAR",20,"caiso_solar","CISO","physical","utility_pv"]
["CORCAN_1_SOLAR2","CORCORAN CITY",11,"caiso_solar","CISO","physical","utility_pv"]
["CORDOVA_FIR_SOLAR","NAN",9.5,"banc_solar","BANC","physical","utility_pv"]
["CORONS_2_SOLAR","MASTER DEVELOPMENT CORONA",0.99,"caiso_solar","CISO","physical","utility_pv"]
["CORONS_6_CLRWTR","CLEARWATER POWER PLANT",28,"caiso_ccgt2","CISO","physical","gas_cc"]
["CORRAL_6_SJOAQN","AMERESCO SAN JOAQUIN",4.3,"caiso_biomass","CISO","physical","biomass_wood"]
["COSUMNES_CC","NAN",534.6,"banc_ccgt","BANC","physical","gas_cc"]
["COTTLE_2_FRNKNH","FRANKENHEIMER POWER PLANT",5.3,"caiso_small_hydro","CISO","physical","small_hydro"]
["COVERD_2_HCKHY1","HATCHET CREEK",6.89,"caiso_hydro","CISO","physical","hydro"]
["COVERD_2_MCKHY1","MONTGOMERY CREEK HYDRO",2.8,"caiso_hydro","CISO","physical","hydro"]
["COVERD_2_QFUNTS","COVE HYDROELECTRIC PROJECT",5.5,"caiso_small_hydro","CISO","physical","small_hydro"]
["COVERD_2_RCKHY1","ROARING CREEK",2,"caiso_hydro","CISO","physical","hydro"]
["COWCRK_2_UNIT","COW CREEK HYDRO",2,"caiso_small_hydro","CISO","physical","small_hydro"]
["CPSTNO_7_PRMADS","PRIMA DESCHECHA (CAPISTRANO)",6.1,"caiso_biomass","CISO","physical","cogen"]
["CPVERD_2_SOLAR","CAMPO VERDE SOLAR",139,"caiso_solar","CISO","physical","utility_pv"]
["CRELMN_6_RAMON1","RAMONA 1",2,"caiso_solar","CISO","physical","utility_pv"]
["CRELMN_6_RAMON2","RAMONA 2",5,"caiso_solar","CISO","physical","utility_pv"]
["CRELMN_6_RAMSR3","RAMONA SOLAR ENERGY",4.32,"caiso_solar","CISO","physical","utility_pv"]
["CRESSY_1_PARKER","PARKER POWERHOUSE",2.83,"caiso_small_hydro","CISO","physical","small_hydro"]
["CRESTA_7_PL1X2","CRESTA PH UNIT 1 & 2 AGGREGATE",70.400000000000006,"caiso_hydro","CISO","physical","hydro"]
["CRIMSN_2_CRMBT1","Crimson (CAISO), Sonoran West (LSEs)",200,"caiso_li_battery","CISO","physical","hr_batteries"]
["CRIMSN_2_CRMBT2","Crimson 2",150,"caiso_li_battery","CISO","physical","hr_batteries"]
["CRNEVL_6_CRNVA","CRANE VALLEY",0.9,"caiso_small_hydro","CISO","physical","small_hydro"]
["CRNEVL_6_SJQN 2","SAN JOAQUIN 2",3.2,"caiso_hydro","CISO","physical","hydro"]
["CRNEVL_6_SJQN 3","SAN JOAQUIN 3",4.2,"caiso_hydro","CISO","physical","hydro"]
["CROKET_7_UNIT","CROCKETT COGEN",240,"caiso_chp","CISO","physical","cogen"]
["CROWCREEKSOLAR","NAN",20,"caiso_solar","CISO","physical","utility_pv"]
["CROWCREEKSTORAGE","NAN",20,"caiso_li_battery","CISO","physical","hr_batteries"]
["CRSTWD_6_KUMYAY","KUMEYAAY WIND FARM",50,"caiso_wind","CISO","physical","in_state_wind_south"]
["CRWCKS_1_SOLAR1","CROW CREEK SOLAR 1",20,"caiso_solar","CISO","physical","utility_pv"]
["CSCCOG_1_UNIT 1","SANTA CLARA CO-GEN",7,"caiso_peaker1","CISO","physical","cogen"]
["CSCGNR_1_UNIT 1","GIANERA PEAKER UNIT 1",24.75,"caiso_peaker2","CISO","physical","gas_ct"]
["CSCGNR_1_UNIT 2","GIANERA PEAKER UNIT 2",24.75,"caiso_peaker2","CISO","physical","gas_ct"]
["CSLR4S_2_SOLAR","CSOLAR IV SOUTH",130,"caiso_solar","CISO","physical","utility_pv"]
["CSTOGA_6_LNDFIL","CLOVER FLAT LAND FILL GAS",0.85,"caiso_biomass","CISO","physical","biomass_wood"]
["CSTRVL_7_PL1X2","MARINA LAND FILL GAS",4.53,"caiso_biomass","CISO","physical","biomass_wood"]
["CSTRVL_7_QFUNTS","CASTROVILLE QF AGGREGATE",2,"caiso_biomass","CISO","physical","cogen"]
["CTNWDP_1_QF","SMALL QF AGGREGATION - BURNEY",0.5,"caiso_small_hydro","CISO","physical","small_hydro"]
["CUMBIA_1_SOLAR","COLUMBIA SOLAR ENERGY II",19,"caiso_solar","CISO","physical","utility_pv"]
["CUMMNG_6_SUNCT1","SUNSELECT 1",4,"caiso_chp","CISO","physical","cogen"]
["CURTIS_1_CANLCK","CANAL CREEK POWERHOUSE",0.9,"caiso_small_hydro","CISO","physical","small_hydro"]
["CURTIS_1_FARFLD","FAIRFIELD POWERHOUSE",0.9,"caiso_small_hydro","CISO","physical","small_hydro"]
["CUYAMS_6_CUYSR1","CUYAMA SOLAR",40,"caiso_solar","CISO","physical","utility_pv"]
["DAIRLD_1_CR1BM1","NAN",2,"caiso_biogas","CISO","physical","biogas"]
["DAIRLD_1_MD1SL1","MADERA 1",1.5,"caiso_solar","CISO","physical","utility_pv"]
["DAIRLD_1_MD2BM1","MADERA DIGESTER GENSET 2",0.8,"caiso_biomass","CISO","physical","biomass_wood"]
["DALYCT_1_FCELL","NAN",1.6,"caiso_biomass","CISO","physical","biomass_wood"]
["DAVID_TEVELDE_DAIRY_DIGESTER","NAN",1,"caiso_biogas","CISO","physical","biogas"]
["DAVIS_1_SOLAR1","GRASSLANDS 3",1,"caiso_solar","CISO","physical","utility_pv"]
["DAVIS_1_SOLAR2","GRASSLANDS 4",1,"caiso_solar","CISO","physical","utility_pv"]
["DAVIS_7_MNMETH","MM YOLO POWER LLC",4,"caiso_biogas","CISO","physical","biogas"]
["DEADCK_1_UNIT","DEADCK_1_UNIT",2,"caiso_small_hydro","CISO","physical","small_hydro"]
["DEERCR_6_UNIT 1","DEER CREEK",7,"caiso_hydro","CISO","physical","hydro"]
["DEL_RANCH_COMPANY","NAN",42,"iid_geothermal","IID","physical","geothermal"]
["DELAMO_2_SOLAR1","GOLDEN SPRINGS BUILDING H",1.5,"caiso_solar","CISO","physical","utility_pv"]
["DELAMO_2_SOLAR2","GOLDEN SPRINGS BUILDING M",1.75,"caiso_solar","CISO","physical","utility_pv"]
["DELAMO_2_SOLAR3","GOLDEN SPRINGS BUILDING G",1.25,"caiso_solar","CISO","physical","utility_pv"]
["DELAMO_2_SOLAR4","GOLDEN SPRINGS BUILDING F",1.3,"caiso_solar","CISO","physical","utility_pv"]
["DELAMO_2_SOLAR5","GOLDEN SPRINGS BUILDING L",1,"caiso_solar","CISO","physical","utility_pv"]
["DELAMO_2_SOLAR6","FREEWAY SPRINGS",2,"caiso_solar","CISO","physical","utility_pv"]
["DELAMO_2_SOLRC1","GOLDEN SPRINGS BUILDING C1",1.1599999999999999,"caiso_solar","CISO","physical","utility_pv"]
["DELAMO_2_SOLRD","GOLDEN SOLAR BUILDING D",1.25,"caiso_solar","CISO","physical","utility_pv"]
["DELSUR_6_BSOLAR","CENTRAL ANTELOPE DRY RANCH B",3,"caiso_solar","CISO","physical","utility_pv"]
["DELSUR_6_CREST","NAN",10,"caiso_solar","CISO","physical","utility_pv"]
["DELSUR_6_DRYFRB","DRY FARM RANCH B",5,"caiso_solar","CISO","physical","utility_pv"]
["DELSUR_6_SOLAR1","SUMMER SOLAR NORTH",6.5,"caiso_solar","CISO","physical","utility_pv"]
["DELSUR_6_SOLAR4","RADIANCE SOLAR 4",1.5,"caiso_solar","CISO","physical","utility_pv"]
["DELSUR_6_SOLAR5","RADIANCE SOLAR 5",1.5,"caiso_solar","CISO","physical","utility_pv"]
["DELTA_2_PL1X4","DELTA ENERGY CENTER AGGREGATE",880,"caiso_ccgt1","CISO","physical","gas_cc"]
["DESERT_POWER_3","NAN",50,"iid_geothermal","IID","physical","geothermal"]
["DESERT_VIEW","NAN",50,"caiso_biomass","IID","physical","biogas"]
["DEVERS_1_QF","NAN",92.639805999999993,"caiso_wind","CISO","physical","in_state_wind_south"]
["DEVERS_1_SEPV05","SEPV 5",2,"caiso_solar","CISO","physical","utility_pv"]
["DEVERS_1_SOLAR","CASCADE SOLAR",18.5,"caiso_solar","CISO","physical","utility_pv"]
["DEVERS_1_SOLAR1","SEPV8",12,"caiso_solar","CISO","physical","utility_pv"]
["DEVERS_1_SOLAR2","SEPV9",9,"caiso_solar","CISO","physical","utility_pv"]
["DEVERS_2_CS2SR4","CALIENTE SOLAR 2",0.91,"caiso_solar","CISO","physical","utility_pv"]
["DEVERS_2_DHSPG2","DESERT HOT SPRINGS 2",1.4,"caiso_solar","CISO","physical","utility_pv"]
["DEXZEL_1_UNIT","WESTERN POWER AND STEAM COGENERATION",20,"caiso_chp","CISO","physical","cogen"]
["DIABLO_7_UNIT 1","DIABLO CANYON UNIT 1",1150,"caiso_nuclear","CISO","physical","nuclear"]
["DIABLO_7_UNIT 2","DIABLO CANYON UNIT 2",1150,"caiso_nuclear","CISO","physical","nuclear"]
["DIAMOND_H_DAIRY_POWER","NAN",2,"caiso_biogas","CISO","physical","biogas"]
["DINUBA_6_UNIT","NAN",12,"caiso_biomass","CISO","physical","biomass_wood"]
["DISCOV_1_CHEVRN","CHEVRON USA (EASTRIDGE)",48.8,"caiso_chp","CISO","physical","cogen"]
["DIVSON_6_NSQF","NAN",47,"caiso_chp","CISO","physical","cogen"]
["DIXNLD_1_LNDFL","ZERO WASTE ENERGY",1.6,"caiso_biomass","CISO","physical","biomass_wood"]
["DMDVLY_1_UNITS","DIAMOND VALLEY LAKE PUMP-GEN PLANT",21,"caiso_hydro","CISO","physical","hydro"]
["DONNLS_7_UNIT","DONNELLS HYDRO",72,"caiso_hydro","CISO","physical","hydro"]
["DOSMGO_2_NSPIN","DOSMGO_2_NSPIN",159,"caiso_pumped_hydro","CISO","physical","pumped_storage"]
["DOUBLC_1_UNITS","DOUBLE \"C\" LIMITED",52.23,"caiso_peaker2","CISO","physical","gas_ct"]
["DOUBLEADIGESTER1","NAN",1.5,"caiso_biomass","CISO","physical","biomass_wood"]
["DOUBLEADIGESTER2","NAN",1.5,"caiso_biomass","CISO","physical","biomass_wood"]
["DOUBLEADIGESTER3","NAN",1.5,"caiso_biomass","CISO","physical","biomass_wood"]
["DRACKR_2_D4SR4B","DRACKER SOLAR UNIT 4B",62.5,"caiso_solar","CISO","physical","utility_pv"]
["DRACKR_2_DS3SR3","DRACKER SOLAR UNIT 3",125,"caiso_solar","CISO","physical","utility_pv"]
["DRACKR_2_DS4SR4","DRACKER SOLAR UNIT 4",62.5,"caiso_solar","CISO","physical","utility_pv"]
["DRACKR_2_DSUBT1","DRACKER SOLAR UNIT 1 BESS",63,"caiso_li_battery","CISO","physical","hr_batteries"]
["DRACKR_2_DSUBT2","DRACKER SOLAR UNIT 2 BESS",115,"caiso_li_battery","CISO","physical","hr_batteries"]
["DRACKR_2_DSUBT3","DRACKER SOLAR UNIT 3 BESS",115,"caiso_li_battery","CISO","physical","hr_batteries"]
["DRACKR_2_DSUBT4","Dracker Solar Unit 4 BESS",47,"caiso_li_battery","CISO","physical","hr_batteries"]
["DRACKR_2_SOLAR1","DRACKER SOLAR UNIT 1",110,"caiso_solar","CISO","physical","utility_pv"]
["DRACKR_2_SOLAR2","DRACKER SOLAR UNIT 2",125,"caiso_solar","CISO","physical","utility_pv"]
["DRACKR_3_DSUBT3","NAN",115,"caiso_li_battery","CISO","physical","hr_batteries"]
["DREWS_6_PL1X4","DREWS GENERATING PLANT",41.4,"caiso_peaker1","CISO","physical","gas_ct"]
["DREWSR_2_BHSSR1","Blue Hornet Solar",100,"caiso_solar","CISO","physical","utility_pv"]
["DRUM_7_PL1X2","DRUM PH 1 UNITS 1 & 2 AGGREGATE",26,"caiso_hydro","CISO","physical","hydro"]
["DRUM_7_PL3X4","DRUM PH 1 UNITS 3 & 4 AGGREGATE",28.9,"caiso_hydro","CISO","physical","hydro"]
["DRUM_7_UNIT 5","DRUM PH 2 UNIT 5",50,"caiso_hydro","CISO","physical","hydro"]
["DSABLA_7_UNIT","DE SABLA HYDRO",18.5,"caiso_small_hydro","CISO","physical","small_hydro"]
["DSFLWR_2_WS2SR1","WILLOW SPRINGS 2",100,"caiso_solar","CISO","physical","utility_pv"]
["DSRTHV_2_DH1SR1","DESERT HARVEST",80,"caiso_solar","CISO","physical","utility_pv"]
["DSRTHV_2_DH2BT1","DESERT HARVEST BESS",35,"caiso_li_battery","CISO","physical","hr_batteries"]
["DSRTHV_2_DH2SR2","DESERT HARVEST 2",70,"caiso_solar","CISO","physical","utility_pv"]
["DSRTSL_2_SOLAR1","DESERT STATELINE",296.19,"caiso_solar","CISO","physical","utility_pv"]
["DSRTSN_2_DS2X2","Desert Sunlight PV II Storage",230,"caiso_li_battery","CISO","physical","hr_batteries"]
["DSRTSN_2_SOLAR1","DESERT SUNLIGHT 300",300,"caiso_solar","CISO","physical","utility_pv"]
["DSRTSN_2_SOLAR2","DESERT SUNLIGHT 250",250,"caiso_solar","CISO","physical","utility_pv"]
["DTCHWD_2_BT3WND","BROOKFIELD TEHACHAPI 3",4.5,"caiso_wind","CISO","physical","in_state_wind_south"]
["DTCHWD_2_BT4WND","BROOKFIELD TEHACHAPI 4",6.52,"caiso_wind","CISO","physical","in_state_wind_south"]
["DUANE_1_PL1X3","DONALD VON RAESFELD POWER PROJECT",147.80000000000001,"caiso_ccgt2","CISO","physical","gas_cc"]
["DURNMESA_3_WBDYN","DURAN MESA",105.08,"caiso_wind","PNM","specifiedimport","out_of_state_wind_AZNM"]
["DUTCH1_7_UNIT 1","DUTCH FLAT 1 PH",22,"caiso_hydro","CISO","physical","hydro"]
["DUTCH2_7_UNIT 1","DUTCH FLAT 2 PH",26,"caiso_hydro","CISO","physical","hydro"]
["DVLCYN_1_UNITS","DEVIL CANYON HYDRO UNITS 1-4 AGGREGATE",235,"caiso_hydro","CISO","physical","hydro"]
["DYERSM_6_DSWWD1","DYER SUMMIT WIND REPOWER",44.8,"caiso_wind","CISO","physical","in_state_wind_north"]
["EARTH_ENERGY_1","NAN",11,"iid_geothermal","IID","physical","geothermal"]
["EASTWD_7_UNIT","EASTWOOD PUMP-GEN",200,"caiso_pumped_hydro","CISO","physical","pumped_storage"]
["EDMONS_2_NSPIN","EDMONS_2_NSPIN",775.8,"caiso_pumped_hydro","CISO","physical","pumped_storage"]
["EDWARD_2_E21SB1_LESR","EdSan 2 Edwards 1A",71,"caiso_li_battery","CISO","physical","hr_batteries"]
["EDWARD_2_E21SB1_SUN","EdSan 2 Edwards 1A",95,"caiso_solar","CISO","physical","utility_pv"]
["EDWARD_2_E23SB1","EdSan 2 Edwards 3",18,"caiso_solar","CISO","physical","utility_pv"]
["EDWARD_2_E23SB1_LESR","EdSan 2 Edwards 3",12,"caiso_li_battery","CISO","physical","hr_batteries"]
["EDWARD_2_ES2BT3","EdSan 2",85,"caiso_solar","CISO","physical","utility_pv"]
["EDWARD_2_ES2BT3_LESR","EdSan 2",66,"caiso_li_battery","CISO","physical","hr_batteries"]
["EEKTMN_6_SOLAR1","EE K SOLAR 1",20,"caiso_solar","CISO","physical","utility_pv"]
["EL_CENTRO_4","NAN",70,"iid_ccgt","IID","physical","gas_cc"]
["EL_CENTRO_CC2","NAN",108.8,"iid_ccgt","IID","physical","gas_cc"]
["EL_CENTRO_CC3","NAN",146.5,"iid_ccgt","IID","physical","gas_cc"]
["ELCABO_5_ECWSCEDYN","EL CABO WIND",298,"caiso_wind","AZPS","specifiedimport","out_of_state_wind_AZNM"]
["ELCAJN_6_DRGEN1","NAN",3,"caiso_li_battery","CISO","physical","hr_batteries"]
["ELCAJN_6_DRGEN2","NAN",1,"caiso_li_battery","CISO","physical","hr_batteries"]
["ELCAJN_6_EB1BT1","EASTERN BESS 1",7.5,"caiso_li_battery","CISO","physical","hr_batteries"]
["ELCAJN_6_LM6K","EL CAJON ENERGY CENTER",48.1,"caiso_peaker2","CISO","physical","gas_ct"]
["ELCAJN_6_UNITA1","CUYAMACA PEAK ENERGY PLANT",45.42,"caiso_peaker1","CISO","physical","gas_ct"]
["ELCAP_1_SOLAR","2097 HELTON",1.5,"caiso_solar","CISO","physical","utility_pv"]
["ELDORO_7_UNIT 1","EL DORADO UNIT 1",11,"caiso_hydro","CISO","physical","hydro"]
["ELDORO_7_UNIT 2","EL DORADO UNIT 2",11,"caiso_hydro","CISO","physical","hydro"]
["ELECTR_7_PL1X3","ELECTRA PH UNIT 1 & 2 AGGREGATE",93,"caiso_hydro","CISO","physical","hydro"]
["ELK_GROVE_1_SOLAR","NAN",50.9,"banc_solar","BANC","physical","utility_pv"]
["ELK_GROVE_2_SOLAR","NAN",37.9,"banc_solar","BANC","physical","utility_pv"]
["ELKCRK_6_STONYG","STONEY GORGE HYDRO AGGREGATE",4.9000000000000004,"caiso_small_hydro","CISO","physical","small_hydro"]
["ELKHIL_2_PL1X3","ELK HILLS COMBINED CYCLE (AGGREGATE)",551.70000000000005,"caiso_ccgt1","CISO","physical","gas_cc"]
["ELKHRN_1_EESX3","ELKHORN ENERGY STORAGE",182.5,"caiso_li_battery","CISO","physical","hr_batteries"]
["ELLIS_2_QF","ELLIS QFS",12,"caiso_peaker1","CISO","physical","gas_ct"]
["ELNIDP_6_BIOMAS","EL NIDO BIOMASS TO ENERGY",10.5,"caiso_biomass","CISO","physical","biomass_wood"]
["ELSEGN_2_UN1011","EL SEGUNDO ENERGY CENTER 5/6",263,"caiso_ccgt2","CISO","physical","gas_cc"]
["ELSEGN_2_UN2021","EL SEGUNDO ENERGY CENTER 7/8",263.68,"caiso_ccgt1","CISO","physical","gas_cc"]
["ENELBELLASTORAGE","NAN",10,"caiso_li_battery","CISO","physical","hr_batteries"]
["ENERGETICS_PV","NAN",4.8,"caiso_solar","CISO","physical","utility_pv"]
["ENERSJ_2_WIND","ESJ WIND ENERGY",155.1,"caiso_wind","CISO","physical","in_state_wind_south"]
["ENERSJ_5_ESJWD2","ENERGIA_SIERRA_JUAREZ_2_US_LLC",105,"caiso_wind","CISO","physical","in_state_wind_south"]
["ENWIND_2_WIND1","CAMERON RIDGE",47.1,"caiso_wind","CISO","physical","in_state_wind_south"]
["ENWIND_2_WIND2","RIDGETOP I",38.24,"caiso_wind","CISO","physical","in_state_wind_south"]
["ESCNDO_6_EB1BT1","ESCONDIDO BESS 1",10,"caiso_li_battery","CISO","physical","hr_batteries"]
["ESCNDO_6_EB2BT2","ESCONDIDO BESS 2",10,"caiso_li_battery","CISO","physical","hr_batteries"]
["ESCNDO_6_EB3BT3","ESCONDIDO BESS 3",10,"caiso_li_battery","CISO","physical","hr_batteries"]
["ESCNDO_6_PL1X2","MMC ESCONDIDO AGGREGATE",48.71,"caiso_peaker2","CISO","physical","gas_ct"]
["ESCNDO_6_UNITB1","CALPEAK POWER ENTERPRISE UNIT 1",48.04,"caiso_peaker2","CISO","physical","gas_ct"]
["ESCO_6_GLMQF","GOAL LINE COGEN",49.9,"caiso_chp","CISO","physical","cogen"]
["ESNHWR_2_WC1BT1","Wildcat I BESS",3,"caiso_li_battery","CISO","physical","hr_batteries"]
["ESQUON_6_LNDFIL","NEAL ROAD LANDFILL GENERATING FACILITY",2.1,"caiso_biomass","CISO","physical","biomass_wood"]
["ESTWND_2_OPPWD1","Oasis Power Plant Eastwind",57.14,"caiso_wind","CISO","physical","in_state_wind_south"]
["ETIWND_2_CHMPNE","CHAMPAGNE",1,"caiso_solar","CISO","physical","utility_pv"]
["ETIWND_2_FONTNA","FONTANALYTLE CREEK POWERHOUSE P",2.56,"caiso_small_hydro","CISO","physical","small_hydro"]
["ETIWND_2_RTS010","SPVP010 FONTANA RT SOLAR",1.5,"caiso_solar","CISO","physical","utility_pv"]
["ETIWND_2_RTS015","SPVP015",3,"caiso_solar","CISO","physical","utility_pv"]
["ETIWND_2_RTS017","SPVP017",3.5,"caiso_solar","CISO","physical","utility_pv"]
["ETIWND_2_RTS018","SPVP018 FONTANA RT SOLAR",1.5,"caiso_solar","CISO","physical","utility_pv"]
["ETIWND_2_RTS023","SPVP023 FONTANA RT SOLAR",2.5,"caiso_solar","CISO","physical","utility_pv"]
["ETIWND_2_RTS026","SPVP026",6,"caiso_solar","CISO","physical","utility_pv"]
["ETIWND_2_RTS027","SPVP027",2,"caiso_solar","CISO","physical","utility_pv"]
["ETIWND_2_SOLAR1","DEDEAUX ONTARIO",1,"caiso_solar","CISO","physical","utility_pv"]
["ETIWND_2_SOLAR2","ROCHESTER",1,"caiso_solar","CISO","physical","utility_pv"]
["ETIWND_2_SOLAR5","DULLES",2,"caiso_solar","CISO","physical","utility_pv"]
["ETIWND_2_UNIT1","ETIWND_2_UNIT1",33.6,"caiso_chp","CISO","physical","cogen"]
["ETIWND_6_GRPLND","GRAPELAND PEAKER",47.39,"caiso_peaker1","CISO","physical","gas_ct"]
["ETIWND_6_MWDETI","ETIWANDA RECOVERY HYDRO",24,"caiso_small_hydro","CISO","physical","small_hydro"]
["EXCHEC_7_UNIT 1","EXCHEQUER HYDRO",94.5,"caiso_hydro","CISO","physical","hydro"]
["EXCLSG_1_SOLAR","EXCELSIOR SOLAR",60,"caiso_solar","CISO","physical","utility_pv"]
["FAIRHV_6_UNIT","NAN",18.75,"caiso_biomass","CISO","physical","biomass_wood"]
["FALLBROOKSTORAGE","NAN",40,"caiso_li_battery","CISO","physical","hr_batteries"]
["FELLOW_7_QFUNTS","FELLOW QF AGGREGATE",6.2,"caiso_chp","CISO","physical","cogen"]
["FLOWD_2_RT2WD2","RIDGETOP 2",27.39,"caiso_wind","CISO","physical","in_state_wind_south"]
["FLOWD_2_WIND1","CAMERON RIDGE 2",11.9,"caiso_wind","CISO","physical","in_state_wind_south"]
["FLOWD2_2_FPLWND","DIABLO WINDS",18,"caiso_wind","CISO","physical","in_state_wind_north"]
["FMEADO_6_HELLHL","FMEADO_6_HELLHL",0.6,"caiso_hydro","CISO","physical","hydro"]
["FMEADO_7_UNIT","FRENCH MEADOWS HYDRO",16,"caiso_small_hydro","CISO","physical","small_hydro"]
["FORBST_7_UNIT 1","FORBESTOWN HYDRO",37.5,"caiso_hydro","CISO","physical","hydro"]
["FORKBU_6_UNIT","HYPOWER, INC. (FORKS OF BUTTE)",14.3,"caiso_hydro","CISO","physical","hydro"]
["FRESHW_1_SOLAR1","CORCORAN 3",20,"caiso_solar","CISO","physical","utility_pv"]
["FRESNOSOLAR","NAN",100,"caiso_solar","CISO","physical","utility_pv"]
["FRESNOSTORAGE","NAN",10,"caiso_li_battery","CISO","physical","hr_batteries"]
["FRIANT_6_UNITS","FRIANT DAM",25,"caiso_small_hydro","CISO","physical","small_hydro"]
["FRITO_1_LAY","FRITO-LAY",6,"caiso_chp","CISO","physical","cogen"]
["FRNTBW_6_SOLAR1","FRONTIER SOLAR",20,"caiso_solar","CISO","physical","utility_pv"]
["FROGTN_1_UTICAA","ANGELS POWERHOUSE",1.4,"caiso_hydro","CISO","physical","hydro"]
["FROGTN_1_UTICAM","MURPHYS POWERHOUSE",3.6,"caiso_hydro","CISO","physical","hydro"]
["FTSWRD_6_TRFORK","THREE FORKS WATER POWER PROJECT",1.63,"caiso_small_hydro","CISO","physical","small_hydro"]
["FTSWRD_7_QFUNTS","FTSWRD_7_QFUNTS",1.6,"caiso_small_hydro","CISO","physical","small_hydro"]
["FULTON_1_QF","SMALL QF AGGREGATION - ZENIA",1,"caiso_small_hydro","CISO","physical","small_hydro"]
["GALE_1_SR3SR3","SUNRAY 3",13.8,"caiso_solar","CISO","physical","utility_pv"]
["GANSO_1_WSTBM1","WESTSTAR DAIRY BIOGAS",1,"caiso_biogas","CISO","physical","biogas"]
["GARLND_2_GARBT1","GARLAND STORAGE",88,"caiso_li_battery","CISO","physical","hr_batteries"]
["GARLND_2_GASLR","GARLAND B",180,"caiso_solar","CISO","physical","utility_pv"]
["GARLND_2_GASLRA","GARLAND A",20,"caiso_solar","CISO","physical","utility_pv"]
["GARNET_1_SOLAR","NORTH PALM SPRINGS 4A",4,"caiso_solar","CISO","physical","utility_pv"]
["GARNET_1_SOLAR2","GARNET SOLAR POWER GENERATION STATION 1",4,"caiso_solar","CISO","physical","utility_pv"]
["GARNET_1_UNITS","GARNET GREEN POWER PROJECT AGGREGATE",16.5,"caiso_wind","CISO","physical","in_state_wind_south"]
["GARNET_1_WIND","GARNET WIND ENERGY CENTER",6.5,"caiso_wind","CISO","physical","in_state_wind_south"]
["GARNET_1_WINDS","GARNET WINDS AGGREGATION",22.5,"caiso_wind","CISO","physical","in_state_wind_south"]
["GARNET_1_WT3WND","WAGNER WIND",6,"caiso_wind","CISO","physical","in_state_wind_south"]
["GARNET_2_COAWD2","COACHELLA 2",10.8,"caiso_wind","CISO","physical","in_state_wind_south"]
["GARNET_2_DIFWD1","NAN",7.88,"caiso_wind","CISO","physical","in_state_wind_south"]
["GARNET_2_HYDRO","WHITEWATER HYDRO",1,"caiso_small_hydro","CISO","physical","small_hydro"]
["GARNET_2_WIND1","PHOENIX",11.2,"caiso_wind","CISO","physical","in_state_wind_south"]
["GARNET_2_WIND2","KAREN AVENUE WIND FARM",11.7,"caiso_wind","CISO","physical","in_state_wind_south"]
["GARNET_2_WIND3","SAN GORGONIO EAST",12.6,"caiso_wind","CISO","physical","in_state_wind_south"]
["GARNET_2_WIND4","WINDUSTRIES",9.8000000000000007,"caiso_wind","CISO","physical","in_state_wind_south"]
["GARNET_2_WIND5","EASTWIND",3,"caiso_wind","CISO","physical","in_state_wind_south"]
["GARNET_2_WPMWD6","WINTEC PALM",5.93,"caiso_wind","CISO","physical","in_state_wind_south"]
["GASKW1_2_GW1SR1","GASKELL WEST 1",20,"caiso_solar","CISO","physical","utility_pv"]
["GATES_2_SOLAR","GATES SOLAR STATION",20,"caiso_solar","CISO","physical","utility_pv"]
["GATES_2_WSOLAR","WEST GATES SOLAR STATION",10,"caiso_solar","CISO","physical","utility_pv"]
["GATEWY_2_GESBT1","GATEWAY ENERGY STROAGE",250,"caiso_li_battery","CISO","physical","hr_batteries"]
["GATWAY_2_PL1X3","GATEWAY GENERATING STATION",585,"caiso_ccgt1","CISO","physical","gas_cc"]
["GENESI_2_STG","GENESIS STATION",250,"caiso_solar","CISO","physical","utility_pv"]
["GEO_EAST_MESA_2_1","NAN",22,"iid_geothermal","IID","physical","geothermal"]
["GEO_EAST_MESA_3_1","NAN",22,"iid_geothermal","IID","physical","geothermal"]
["GEO_EAST_MESA_3_2","NAN",10,"iid_geothermal","IID","physical","geothermal"]
["GEYS11_7_UNIT11","GEYSERS UNIT 11 (HEALDSBURG)",86.8,"caiso_geothermal","CISO","physical","geothermal"]
["GEYS12_7_UNIT12","GEYSERS UNIT 12 (HEALDSBURG)",57,"caiso_geothermal","CISO","physical","geothermal"]
["GEYS13_7_UNIT13","GEYSERS UNIT 13 (HEALDSBURG)",73,"caiso_geothermal","CISO","physical","geothermal"]
["GEYS14_7_UNIT14","GEYSERS UNIT 14 (HEALDSBURG)",70,"caiso_geothermal","CISO","physical","geothermal"]
["GEYS16_7_UNIT16","GEYSERS UNIT 16 (HEALDSBURG)",63,"caiso_geothermal","CISO","physical","geothermal"]
["GEYS17_2_BOTRCK","NAN",10.01,"caiso_geothermal","CISO","physical","geothermal"]
["GEYS17_7_UNIT17","GEYSERS UNIT 17 (HEALDSBURG)",75.5,"caiso_geothermal","CISO","physical","geothermal"]
["GEYS18_7_UNIT18","GEYSERS UNIT 18 (HEALDSBURG)",72,"caiso_geothermal","CISO","physical","geothermal"]
["GEYS20_7_UNIT20","GEYSERS UNIT 20 (HEALDSBURG)",50,"caiso_geothermal","CISO","physical","geothermal"]
["GIFENS_6_BUGSL1","BURFORD GIFFEN",20,"caiso_solar","CISO","physical","utility_pv"]
["GIFFEN_6_SOLAR","GIFFEN SOLAR STATION",10,"caiso_solar","CISO","physical","utility_pv"]
["GIFFEN_6_SOLAR1","ASPIRATION SOLAR G",9,"caiso_solar","CISO","physical","utility_pv"]
["GILROY_1_UNIT","GILROY COGEN AGGREGATE",120,"caiso_ccgt1","CISO","physical","gas_ct"]
["GILRPP_1_PL1X2","GILROY ENERGY CENTER UNITS 1&2 AGGREGATE",95.2,"caiso_peaker2","CISO","physical","gas_ct"]
["GILRPP_1_PL3X4","GILROY ENERGY CENTER, UNIT #3",46.2,"caiso_peaker2","CISO","physical","gas_ct"]
["GLDFGR_6_SOLAR1","PORTAL RIDGE B",20,"caiso_solar","CISO","physical","utility_pv"]
["GLDFGR_6_SOLAR2","PORTAL RIDGE C",11.4,"caiso_solar","CISO","physical","utility_pv"]
["GLDTWN_6_COLUM3","COLUMBIA 3",10,"caiso_solar","CISO","physical","utility_pv"]
["GLDTWN_6_SOLAR","RIO GRANDE",5,"caiso_solar","CISO","physical","utility_pv"]
["GLNARM_2_UNIT 5","GLENARM TURBINE 5",65.81,"caiso_peaker2","CISO","physical","gas_cc"]
["GLNARM_7_UNIT 1","GLEN ARM UNIT 1",22.07,"caiso_peaker2","CISO","physical","gas_ct"]
["GLNARM_7_UNIT 2","GLEN ARM UNIT 2",22.3,"caiso_peaker2","CISO","physical","gas_ct"]
["GLNARM_7_UNIT 3","GLEN ARM UNIT 3",44.83,"caiso_peaker1","CISO","physical","gas_ct"]
["GLNARM_7_UNIT 4","GLEN ARM UNIT 4",42.42,"caiso_peaker1","CISO","physical","gas_ct"]
["GLOW_6_SOLAR","ANTELOPE POWER PLANT",20,"caiso_solar","CISO","physical","utility_pv"]
["GOLETA_2_QF","GOLETA QFS",0.25,"caiso_small_hydro","CISO","physical","small_hydro"]
["GOLETA_2_VALBT1","VALLECITO ENERGY STORAGE",10,"caiso_li_battery","CISO","physical","hr_batteries"]
["GOLETA_6_ELLWOD","ELLWOOD ENERGY SUPPORT FACILITY",54,"caiso_peaker2","CISO","physical","gas_ct"]
["GOLETA_6_EXGEN","EXXON COMPANY USA",48.2,"caiso_chp","CISO","physical","cogen"]
["GOLETA_6_GAVOTA","NAN",9.9,"caiso_chp","CISO","physical","cogen"]
["GOLETA_6_TAJIGS","NAN",2.84,"caiso_biogas","CISO","physical","biogas"]
["GOLETA_6_TR2BM2","Tajiguas Biogas Engines",1.99,"caiso_biomass","CISO","physical","biogas"]
["GONZLS_6_UNIT","JOHNSON CANYON LANDFILL",1.42,"caiso_biomass","CISO","physical","biomass_wood"]
["GOOSLK_1_SOLAR1","GOOSE LAKE",12,"caiso_solar","CISO","physical","utility_pv"]
["GRADYW_5_GDYWD1","GRADY WIND",200,"caiso_wind","AZPS","specifiedimport","out_of_state_wind_AZNM"]
["GRAYSON_3","NAN",18,"ldwp_st","LADWP","physical","steam"]
["GRAYSON_4","NAN",40,"ldwp_st","LADWP","physical","steam"]
["GRAYSON_5","NAN",40,"ldwp_st","LADWP","physical","steam"]
["GRAYSON_9","NAN",48,"ldwp_peaker","LADWP","physical","gas_ct"]
["GRAYSON_CC","NAN",102,"ldwp_ccgt","LADWP","physical","gas_cc"]
["GRIDLY_6_SOLAR","GRIDLEY MAIN TWO",2.5,"caiso_solar","CISO","physical","utility_pv"]
["GRIFFI_2_LSPDYN","GRIFFITH ENERGY",570,"sw_ccgt","WALC","specifiedimport","gas_cc"]
["GRIZLY_1_UNIT 1","GRIZZLY HYDRO",20,"caiso_hydro","CISO","physical","hydro"]
["GRNITE_6_ESCBT1","EnerSmart El Cajon",3,"caiso_li_battery","CISO","physical","hr_batteries"]
["GRNLF1_1_PL1X2","Greenleaf 1",60,"caiso_peaker2","CISO","physical","gas_ct"]
["GRNLF1_1_UNITS","NAN",49.2,"caiso_peaker1","CISO","physical","gas_ct"]
["GRNLF2_1_UNIT","GREENLEAF II COGEN",49.2,"caiso_chp","CISO","physical","cogen"]
["GRNVLY_7_SCLAND","SANTA CRUZ LANDFILL GENERATING PLANT",3.04,"caiso_biomass","CISO","physical","biomass_wood"]
["GRSCRK_6_BGCKWW","BIG CREEK WATER WORKS - CEDAR FLAT",5,"caiso_small_hydro","CISO","physical","small_hydro"]
["GRZZLY_1_BERKLY","BERKELEY COGENERATION",26.35,"caiso_chp","CISO","physical","cogen"]
["GUERNS_6_HD3BM3","HANFORD DIGESTER GENSET 3",1,"caiso_biogas","CISO","physical","biogas"]
["GUERNS_6_SOLAR","GUERNSEY SOLAR STATION",20,"caiso_solar","CISO","physical","utility_pv"]
["GUERNS_6_VH2BM1","HANFORD DIGESTER GENSET 2",1,"caiso_biogas","CISO","physical","biogas"]
["GWFPWR_1_UNITS","HANFORD PEAKER PLANT",98.46,"caiso_peaker2","CISO","physical","gas_ct"]
["GYS5X6_7_UNITS","GEYSERS UNITS 5 & 6 AGGREGATE",98.43,"caiso_geothermal","CISO","physical","geothermal"]
["GYS7X8_7_UNITS","GEYSERS UNITS 7 & 8 AGGREGATE",95.8,"caiso_geothermal","CISO","physical","geothermal"]
["GYSRVL_7_WSPRNG","WARM SPRINGS HYDRO",3.75,"caiso_small_hydro","CISO","physical","small_hydro"]
["HAASPH_7_PL1X2","HAAS PH UNIT 1 & 2 AGGREGATE",144,"caiso_hydro","CISO","physical","hydro"]
["HALSEY_6_UNIT","HALSEY HYDRO",13.5,"caiso_small_hydro","CISO","physical","small_hydro"]
["HARBGN_7_UNITS","HARBOR COGEN COMBINED CYCLE",109.01,"caiso_ccgt2","CISO","physical","gas_cc"]
["HARBOR_CC","NAN",231,"ldwp_ccgt","LADWP","physical","gas_cc"]
["HARBOR_UNIT_10","NAN",49,"ldwp_peaker","LADWP","physical","gas_ct"]
["HARBOR_UNIT_11","NAN",49,"ldwp_peaker","LADWP","physical","gas_ct"]
["HARBOR_UNIT_12","NAN",49,"ldwp_peaker","LADWP","physical","gas_ct"]
["HARBOR_UNIT_13","NAN",49,"ldwp_peaker","LADWP","physical","gas_ct"]
["HARBOR_UNIT_14","NAN",49,"ldwp_peaker","LADWP","physical","gas_ct"]
["HARDWK_6_STWBM1","STILL WATER RANCH DAIRY",1,"caiso_biogas","CISO","physical","biogas"]
["HAT_CREEK_BIOENERGY__LLC","NAN",2.88,"caiso_biomass","CISO","physical","biomass_wood"]
["HATCR1_7_UNIT","HAT CREEK  #1",8.5,"caiso_small_hydro","CISO","physical","small_hydro"]
["HATCR2_7_UNIT","HAT CREEK  #2",8.5,"caiso_small_hydro","CISO","physical","small_hydro"]
["HATLOS_6_BWDHY1","BIDWELL DITCH",2,"caiso_hydro","CISO","physical","hydro"]
["HATLOS_6_LSCRK","LOST CREEK 1 & 2 HYDRO CONVERSION",1.7,"caiso_small_hydro","CISO","physical","small_hydro"]
["HATRDG_2_WIND","HATCHET RIDGE WIND FARM",102,"caiso_wind","CISO","physical","in_state_wind_north"]
["HAYNES_1","NAN",222,"ldwp_st","LADWP","physical","steam"]
["HAYNES_11","NAN",96,"ldwp_peaker","LADWP","physical","gas_ct"]
["HAYNES_12","NAN",96,"ldwp_peaker","LADWP","physical","gas_ct"]
["HAYNES_13","NAN",96,"ldwp_peaker","LADWP","physical","gas_ct"]
["HAYNES_14","NAN",96,"ldwp_peaker","LADWP","physical","gas_ct"]
["HAYNES_15","NAN",96,"ldwp_peaker","LADWP","physical","gas_ct"]
["HAYNES_16","NAN",96,"ldwp_peaker","LADWP","physical","gas_ct"]
["HAYNES_2","NAN",222,"ldwp_st","LADWP","physical","steam"]
["HAYNES_CC","NAN",590,"ldwp_ccgt","LADWP","physical","gas_cc"]
["HAYPRS_6_HAYHD1","HAYPRESS LOWER",5.8,"caiso_small_hydro","CISO","physical","small_hydro"]
["HAYPRS_6_HAYHD2","HAYPRESS MIDDLE",6.7,"caiso_small_hydro","CISO","physical","small_hydro"]
["HEBER_GEO_1","NAN",8.75,"iid_geothermal","IID","physical","geothermal"]
["HEBER_GEO_2","NAN",4.37,"iid_geothermal","IID","physical","geothermal"]
["HEBER_GEO_COMPLEX","NAN",52,"iid_geothermal","IID","physical","geothermal"]
["HEBER_II","NAN",16,"iid_geothermal","IID","physical","geothermal"]
["HEBER_SOLAR_PV","NAN",10,"iid_solar","IID","physical","utility_pv"]
["HEDGE_SOLAR","NAN",1.5,"banc_solar","BANC","physical","utility_pv"]
["HELMPG_7_UNIT 1","HELMS PUMP-GEN UNIT 1",407,"caiso_pumped_hydro","CISO","physical","pumped_storage"]
["HELMPG_7_UNIT 2","HELMS PUMP-GEN UNIT 2",407,"caiso_pumped_hydro","CISO","physical","pumped_storage"]
["HELMPG_7_UNIT 3","HELMS PUMP-GEN UNIT 3",404,"caiso_pumped_hydro","CISO","physical","pumped_storage"]
["HENRTA_6_HDEBT1","HENRIETTA D ENERGY STORAGE",10,"caiso_li_battery","CISO","physical","hr_batteries"]
["HENRTA_6_SOLAR1","LEMOORE 1",1.5,"caiso_solar","CISO","physical","utility_pv"]
["HENRTA_6_SOLAR2","WESTSIDE SOLAR POWER PV1",2,"caiso_solar","CISO","physical","utility_pv"]
["HENRTA_6_UNITA1","GWF HENRIETTA PEAKER PLANT UNIT 1",49.98,"caiso_peaker2","CISO","physical","gas_ct"]
["HENRTA_6_UNITA2","GWF HENRIETTA PEAKER PLANT UNIT 2",49.42,"caiso_peaker2","CISO","physical","gas_ct"]
["HENRTS_1_SOLAR","HENRIETTA SOLAR PROJECT",100,"caiso_solar","CISO","physical","utility_pv"]
["HERDLN_6_BYHSR1","Byron Highway Solar",5,"caiso_solar","CISO","physical","utility_pv"]
["HIDSRT_2_UNITS","HIGH DESERT POWER PROJECT AGGREGATE",830,"caiso_ccgt1","CISO","physical","gas_cc"]
["HIGGNS_1_COMBIE","COMBIE SOUTH",1.5,"caiso_small_hydro","CISO","physical","small_hydro"]
["HIGGNS_7_QFUNTS","HIGGNS_7_QFUNTS",0.5,"caiso_hydro","CISO","physical","hydro"]
["HIGHDS_2_H5SBT1","HIGH 5 SOLAR BESS",50,"caiso_li_battery","CISO","physical","hr_batteries"]
["HIGHDS_2_H5SSR1","HIGH 5 SOLAR",100,"caiso_solar","CISO","physical","utility_pv"]
["HILAND_7_YOLOWD","CLEAR LAKE UNIT 1",3.75,"caiso_hydro","CISO","physical","hydro"]
["HINSON_6_CARBGN","BP WILMINGTON CALCINER",30,"caiso_chp","CISO","physical","cogen"]
["HINSON_6_LBECH1","LONG BEACH UNIT 1",63,"caiso_peaker2","CISO","physical","gas_ct"]
["HINSON_6_LBECH2","LONG BEACH UNIT 2",63,"caiso_peaker2","CISO","physical","gas_ct"]
["HINSON_6_LBECH3","LONG BEACH UNIT 3",63,"caiso_peaker2","CISO","physical","gas_ct"]
["HINSON_6_LBECH4","LONG BEACH UNIT 4",63,"caiso_peaker2","CISO","physical","gas_ct"]
["HINSON_6_SERRGN","SOUTHEAST RESOURCE RECOVERY",34,"caiso_chp","CISO","physical","cogen"]
["HMLTBR_6_UNITS","HAMILTON BRANCH PH (AGGREGATE)",4.9000000000000004,"caiso_small_hydro","CISO","physical","small_hydro"]
["HNTGBH_2_PL1X3","HUNTINGTON BEACH ENERGY",673.8,"caiso_ccgt1","CISO","physical","gas_cc"]
["HNTGBH_7_UNIT 2","HUNTINGTON BEACH GEN STA. UNIT 2",226.84,"caiso_st","CISO","physical","steam"]
["HOLGAT_1_BORAX","U.S. BORAX, UNIT 1",48.2,"caiso_chp","CISO","physical","cogen"]
["HOLSTR_1_SOLAR","SAN BENITO SMART PARK",1.5,"caiso_solar","CISO","physical","utility_pv"]
["HOLSTR_1_SOLAR2","HOLLISTER SOLAR",1.5,"caiso_solar","CISO","physical","utility_pv"]
["HOOLEYDIGESTER1","NAN",0.2,"caiso_biomass","CISO","physical","biomass_wood"]
["HOOLEYDIGESTER2","NAN",0.2,"caiso_biomass","CISO","physical","biomass_wood"]
["HOOVER_2_MWDDYN","HOOVER",249,"caiso_hydro","WALC","specifiedimport","hydro"]
["HOOVER_2_VEADYN","HOOVER",16,"caiso_hydro","WALC","specifiedimport","hydro"]
["HUDSON_RANCH_I","NAN",64.8,"iid_geothermal","IID","physical","geothermal"]
["HUMBPP_1_UNITS3","HUMBOLDT BAY GENERATING STATION 3",65.08,"caiso_reciprocating_engine","CISO","physical","ice"]
["HUMBPP_6_UNITS","HUMBOLDT BAY GENERATING STATION 1",97.62,"caiso_reciprocating_engine","CISO","physical","ice"]
["HUMBSB_1_QF","SMALL QF AGGREGATION - TRINITY",1.25,"caiso_hydro","CISO","physical","hydro"]
["HUMMINGBIRDSTORAGE","NAN",75,"caiso_li_battery","CISO","physical","hr_batteries"]
["HURON_6_SOLAR","HURON SOLAR STATION",20,"caiso_solar","CISO","physical","utility_pv"]
["HYTTHM_2_UNITS","HYATT-THERMALITO PUMP-GEN (AGGREGATE)",933.1,"caiso_hydro","CISO","physical","hydro"]
["IGNACO_1_QF","SMALL QF AGGREGATION - VALLEJO/DINSMORE",0.5,"caiso_chp","CISO","physical","cogen"]
["IMPERIAL_VALLEYIVSC2","NAN",20,"iid_solar","IID","physical","utility_pv"]
["INDIGO_1_UNIT 1","INDIGO PEAKER UNIT 1",45,"caiso_peaker2","CISO","physical","gas_ct"]
["INDIGO_1_UNIT 2","INDIGO PEAKER UNIT 2",45,"caiso_peaker2","CISO","physical","gas_ct"]
["INDIGO_1_UNIT 3","INDIGO PEAKER UNIT 3",45,"caiso_peaker2","CISO","physical","gas_ct"]
["INDVLY_1_UNITS","INDIAN VALLEY HYDRO",3.01,"caiso_small_hydro","CISO","physical","small_hydro"]
["INSKIP_2_UNIT","INSKIP HYDRO",8,"caiso_hydro","CISO","physical","hydro"]
["INTERMOUNTAIN_1","NAN",849.97,"ldwp_coal","LADWP","physical","coal"]
["INTERMOUNTAIN_2","NAN",849.97,"ldwp_coal","LADWP","physical","coal"]
["INTKEP_2_UNITS","CCSF HETCH_HETCHY HYDRO AGGREGATE",405,"caiso_hydro","CISO","physical","hydro"]
["INTMNT_3_ANAHEIM","INTERMOUNTAIN POWER PROJECT",236,"ldwp_coal","LADWP","specifiedimport","coal"]
["INTMNT_3_PASADENA","INTERMOUNTAIN POWER PROJECT",107,"ldwp_coal","LADWP","specifiedimport","coal"]
["INTMNT_3_RIVERSIDE","IPPDYN",136,"ldwp_coal","LADWP","specifiedimport","coal"]
["INTTRB_6_UNIT","INTERNATIONAL TURBINE RESEARCH",18.399999999999999,"caiso_wind","CISO","physical","in_state_wind_north"]
["IVANPA_1_UNIT1","IVANPAH 1",126,"caiso_solar","CISO","physical","utility_pv"]
["IVANPA_1_UNIT2","IVANPAH 2",133,"caiso_solar","CISO","physical","utility_pv"]
["IVANPA_1_UNIT3","IVANPAH 3",133,"caiso_solar","CISO","physical","utility_pv"]
["IVSLR2_2_SM2SR1","SILVER RIDGE MOUNT SIGNAL 2",150,"caiso_solar","CISO","physical","utility_pv"]
["IVSLRP_2_SOLAR1","SILVER RIDGE MOUNT SIGNAL",200,"caiso_solar","CISO","physical","utility_pv"]
["IVWEST_2_SOLAR1","IMPERIAL VALLEY WEST ( Q # 608)",150,"caiso_solar","CISO","physical","utility_pv"]
["JACMSR_1_JACSR1","JACUMBA SOLAR FARM",20,"caiso_solar","CISO","physical","utility_pv"]
["JANCRK_6_RCABT1","Redwood Coast Airport Microgrid",1.75,"caiso_li_battery","CISO","physical","hr_batteries"]
["JAVASR_1_JAVSR1","NAN",13.5,"caiso_solar","CISO","physical","utility_pv"]
["JAWBNE_2_NSRWND","NORTH SKY RIVER WIND PROJECT",160,"caiso_wind","CISO","physical","in_state_wind_south"]
["JAWBNE_2_SRWND","NAN",77,"caiso_wind","CISO","physical","in_state_wind_south"]
["JAWBNE_2_SRWWD2","Sky River Wind Repower B",30.2,"caiso_wind","CISO","physical","in_state_wind_south"]
["JAYNE_6_WLSLR","WESTLANDS SOLAR FARM PV 1",18,"caiso_solar","CISO","physical","utility_pv"]
["JJ_ELMORE","NAN",42,"iid_geothermal","IID","physical","geothermal"]
["JOANEC_2_STABT1","SANTA ANA STORAGE 1",20,"caiso_li_battery","CISO","physical","hr_batteries"]
["JOANEC_2_STABT2","Santa Ana Storage 2",20,"caiso_li_battery","CISO","physical","hr_batteries"]
["JOHANN_2_JOSBT1","JOHANNA STORAGE 1",10,"caiso_li_battery","CISO","physical","hr_batteries"]
["JOHANN_2_JOSBT2","JOHANNA STORAGE 2",10,"caiso_li_battery","CISO","physical","hr_batteries"]
["JOHANN_2_OCEBT2","ORANGE COUNTY ENERGY STORAGE 2",9,"caiso_li_battery","CISO","physical","hr_batteries"]
["JOHANN_2_OCEBT3","ORANGE COUNTY ENERGY STORAGE 3",6,"caiso_li_battery","CISO","physical","hr_batteries"]
["K_ROAD_MOAPA","NAN",250,"ldwp_solar","LADWP","physical","utility_pv"]
["K_ROAD_MODESTO","NAN",26.32,"banc_solar","BANC","physical","utility_pv"]
["KANSAS_6_SOLAR","RE KANSAS SOUTH",20,"caiso_solar","CISO","physical","utility_pv"]
["KEARNY_6_NESBT1","KEARNY NORTH ENERGY STORAGE",10,"caiso_li_battery","CISO","physical","hr_batteries"]
["KEARNY_6_SESBT2","KEARNY SOUTH ENERGY STORAGE",10,"caiso_li_battery","CISO","physical","hr_batteries"]
["KEKAWK_6_UNIT","STS HYDROPOWER LTD. (KEKAWAKA)",5.5,"caiso_small_hydro","CISO","physical","small_hydro"]
["KELSO_2_UNITS","MARIPOSA ENERGY",198.03,"caiso_peaker1","CISO","physical","gas_ct"]
["KELYRG_6_UNIT","KELLY RIDGE HYDRO",11,"caiso_small_hydro","CISO","physical","small_hydro"]
["KERKH2_7_UNIT 1","KERKHOFF PH 2 UNIT #1",153.9,"caiso_hydro","CISO","physical","hydro"]
["KERMAN_6_SOLAR1","FRESNO SOLAR SOUTH",1.5,"caiso_solar","CISO","physical","utility_pv"]
["KERMAN_6_SOLAR2","FRESNO SOLAR WEST",1.5,"caiso_solar","CISO","physical","utility_pv"]
["KERNFT_1_UNITS","KERN FRONT LIMITED",52.4,"caiso_chp","CISO","physical","cogen"]
["KERNRG_1_UNITS","SOUTH BELRIDGE COGEN FACILITY",55.2,"caiso_chp","CISO","physical","cogen"]
["KERRGN_1_UNIT 1","KERN RIVER HYDRO UNITS 1-4 AGGREGATE",25.6,"caiso_hydro","CISO","physical","hydro"]
["KIEFER_LANDFILL_1_1","NAN",3.5,"caiso_biomass","BANC","physical","biogas"]
["KIEFER_LANDFILL_1_2","NAN",3.5,"caiso_biomass","BANC","physical","biogas"]
["KIEFER_LANDFILL_1_3","NAN",3.5,"caiso_biomass","BANC","physical","biogas"]
["KIEFER_LANDFILL_2_1","NAN",3.5,"caiso_biomass","BANC","physical","biogas"]
["KIEFER_LANDFILL_2_2","NAN",3.5,"caiso_biomass","BANC","physical","biogas"]
["KILARC_2_UNIT 1","KILARC HYDRO",1.5,"caiso_small_hydro","CISO","physical","small_hydro"]
["KINGCO_1_KINGBR","KINGSBURG COGEN",34.5,"caiso_chp","CISO","physical","cogen"]
["KINGRV_7_UNIT 1","KINGS RIVER HYDRO UNIT 1",51.2,"caiso_hydro","CISO","physical","hydro"]
["KIRKER_7_KELCYN","KELLER CANYON LANDFILL GEN FACILICITY",3.56,"caiso_biomass","CISO","physical","biomass_wood"]
["KNGBRD_2_SOLAR1","KINGBIRD SOLAR A",20,"caiso_solar","CISO","physical","utility_pv"]
["KNGBRD_2_SOLAR2","KINGBIRD SOLAR B",20,"caiso_solar","CISO","physical","utility_pv"]
["KNGBRG_1_KBSLR1","KINGSBURG1",1.5,"caiso_solar","CISO","physical","utility_pv"]
["KNGBRG_1_KBSLR2","KINGSBURG2",1.5,"caiso_solar","CISO","physical","utility_pv"]
["KNGCTY_6_UNITA1","KING CITY ENERGY CENTER, UNIT 1",44.6,"caiso_peaker2","CISO","physical","gas_ct"]
["KNTSTH_6_SOLAR","KENT SOUTH",20,"caiso_solar","CISO","physical","utility_pv"]
["KRAMER_1_KJ5SR5","NAN",30,"caiso_solar","CISO","physical","utility_pv"]
["KRAMER_1_SEGS37","NAN",72.057623090000007,"caiso_solar","CISO","physical","utility_pv"]
["KRAMER_1_SEGSR3","NAN",30,"caiso_solar","CISO","physical","utility_pv"]
["KRAMER_1_SEGSR4","NAN",30.881838470000002,"caiso_solar","CISO","physical","utility_pv"]
["KRAMER_2_SEGS 8","KRAMER JUNCTION 8",80,"caiso_solar","CISO","physical","utility_pv"]
["KRAMER_2_SEGS 9","KRAMER JUNCTION 9",80,"caiso_solar","CISO","physical","utility_pv"]
["KRAMER_2_SEGS89","NAN",80,"caiso_solar","CISO","physical","utility_pv"]
["KRNCNY_6_UNIT","KERN CANYON POWERHOUSE",10.6,"caiso_small_hydro","CISO","physical","small_hydro"]
["KYCORA_6_KMSBT1","KEARNY MESA STORAGE",1,"caiso_li_battery","CISO","physical","hr_batteries"]
["LACIEN_2_VENICE","MWD VENICE HYDROELECTRIC RECOVERY PLANT",9.9499999999999993,"caiso_hydro","CISO","physical","hydro"]
["LAGBEL_6_QF","NAN",0.35,"caiso_chp","CISO","physical","cogen"]
["LAKE","NAN",51,"ldwp_peaker","LADWP","physical","gas_ct"]
["LAKESIDE_BIOGAS_LLC","NAN",3,"caiso_biogas","CISO","physical","biogas"]
["LAKHDG_6_UNIT 1","LAKE HODGES PUMPED STORAGE-UNIT1",20,"caiso_pumped_hydro","CISO","physical","pumped_storage"]
["LAKHDG_6_UNIT 2","LAKE HODGES PUMPED STORAGE-UNIT2",20,"caiso_pumped_hydro","CISO","physical","pumped_storage"]
["LAMONT_1_SOLAR1","REGULUS SOLAR",60,"caiso_solar","CISO","physical","utility_pv"]
["LAMONT_1_SOLAR2","REDWOOD SOLAR FARM 4",20,"caiso_solar","CISO","physical","utility_pv"]
["LAMONT_1_SOLAR3","WOODMERE SOLAR FARM",14.99,"caiso_solar","CISO","physical","utility_pv"]
["LAMONT_1_SOLAR4","HAYWORTH SOLAR FARM",26.66,"caiso_solar","CISO","physical","utility_pv"]
["LAMONT_1_SOLAR5","REDCREST SOLAR FARM",16.66,"caiso_solar","CISO","physical","utility_pv"]
["LAPAC_6_UNIT","LOUISIANA PACIFIC SAMOA",20,"caiso_biomass","CISO","physical","biomass_wood"]
["LAPLMA_2_UNIT 1","LA PALOMA GENERATING PLANT UNIT #1",267,"caiso_ccgt1","CISO","physical","gas_cc"]
["LAPLMA_2_UNIT 2","LA PALOMA GENERATING PLANT UNIT #2",266,"caiso_ccgt1","CISO","physical","gas_cc"]
["LAPLMA_2_UNIT 3","LA PALOMA GENERATING PLANT UNIT #3",266,"caiso_ccgt1","CISO","physical","gas_cc"]
["LAPLMA_2_UNIT 4","LA PALOMA GENERATING PLANT, UNIT #4",267,"caiso_ccgt1","CISO","physical","gas_cc"]
["LARKSP_6_UNIT 1","LARKSPUR PEAKER UNIT 1",46.1,"caiso_peaker1","CISO","physical","gas_ct"]
["LARKSP_6_UNIT 2","LARKSPUR PEAKER UNIT 2",47.98,"caiso_peaker1","CISO","physical","gas_ct"]
["LAROA2_2_UNITA1","LR2",322,"caiso_ccgt2","CISO","physical","gas_cc"]
["LASSEN_6_UNITS","HONEY LAKE POWER",30,"caiso_biomass","CISO","physical","biomass_wood"]
["LAWRNC_7_SUNYVL","CITY OF SUNNYVALE UNIT 1 AND 2",0.3,"caiso_chp","CISO","physical","cogen"]
["LEATHERS","NAN",42,"iid_geothermal","IID","physical","geothermal"]
["LEBECS_2_UNITS","PASTORIA ENERGY FACILITY",799.47,"caiso_ccgt1","CISO","physical","gas_cc"]
["LECEF_1_UNITS","LOS ESTEROS ENERGY FACILITY AGGREGATE",309.83999999999997,"caiso_ccgt2","CISO","physical","gas_cc"]
["LECONT_2_LESBT1","LeConte Energy Storage",125,"caiso_li_battery","CISO","physical","hr_batteries"]
["LEPRFD_1_KANSAS","KANSAS",20,"caiso_solar","CISO","physical","utility_pv"]
["LGHTHP_6_ICEGEN","CARSON COGENERATION",48,"caiso_ccgt1","CISO","physical","gas_ct"]
["LHILLS_6_SOLAR1","LOST HILLS SOLAR",20,"caiso_solar","CISO","physical","utility_pv"]
["LILIAC_6_SOLAR","MESA CREST",3,"caiso_solar","CISO","physical","utility_pv"]
["LITLRK_6_GBCSR1","GREEN BEANWORKS C",3,"caiso_solar","CISO","physical","utility_pv"]
["LITLRK_6_SEPV01","GESTAMP SOLAR 1",2,"caiso_solar","CISO","physical","utility_pv"]
["LITLRK_6_SOLAR1","LANCASTER LITTLE ROCK C",5,"caiso_solar","CISO","physical","utility_pv"]
["LITLRK_6_SOLAR2","PALMDALE 18",2,"caiso_solar","CISO","physical","utility_pv"]
["LITLRK_6_SOLAR3","ONE TEN PARTNERS",2,"caiso_solar","CISO","physical","utility_pv"]
["LITLRK_6_SOLAR4","LITTLE ROCK PHAM SOLAR",3,"caiso_solar","CISO","physical","utility_pv"]
["LIVEOK_6_SOLAR","HARRIS",1.25,"caiso_solar","CISO","physical","utility_pv"]
["LIVOAK_1_UNIT 1","LIVE OAK LIMITED",49.7,"caiso_peaker2","CISO","physical","gas_ct"]
["LLAGAS","NAN",20,"caiso_li_battery","CISO","physical","hr_batteries"]
["LMBEPK_2_UNITA1","LAMBIE ENERGY CENTER, UNIT #1",47.5,"caiso_peaker2","CISO","physical","gas_ct"]
["LMBEPK_2_UNITA2","CREED ENERGY CENTER, UNIT #1",47.6,"caiso_peaker2","CISO","physical","gas_ct"]
["LMBEPK_2_UNITA3","GOOSE HAVEN ENERGY CENTER, UNIT #1",47.4,"caiso_peaker2","CISO","physical","gas_ct"]
["LMEC_1_PL1X3","LOS MEDANOS ENERGY CENTER AGGREGATE",580,"caiso_ccgt1","CISO","physical","gas_cc"]
["LNCSTR_6_CREST","NAN",5.5,"caiso_solar","CISO","physical","utility_pv"]
["LNCSTR_6_SOLAR2","SEPV SIERRA NGR",2.75,"caiso_solar","CISO","physical","utility_pv"]
["LOCKFD_1_BEARCK","BEAR CREEK SOLAR",1.5,"caiso_solar","CISO","physical","utility_pv"]
["LOCKFD_1_KSOLAR","KETTLEMAN SOLAR",1,"caiso_solar","CISO","physical","utility_pv"]
["LODI25_2_UNIT 1","LODI GAS TURBINE",25,"caiso_peaker2","CISO","physical","gas_ct"]
["LODIEC_2_PL1X2","LODI ENERGY CENTER",302.58,"caiso_ccgt1","CISO","physical","gas_cc"]
["LOTUS_6_LSFSR1","LOTUS SOLAR FARM",50,"caiso_solar","CISO","physical","utility_pv"]
["LOWGAP_1_SUPHR","MILL & SULPHUR CREEK HYDRO",0.99,"caiso_small_hydro","CISO","physical","small_hydro"]
["LOWGAP_7_QFUNTS","MATTHEWS DAM HYDRO",1.35,"caiso_hydro","CISO","physical","hydro"]
["LTBEAR_1_LB3SR3","LITTLE BEAR 3 SOLAR",20,"caiso_solar","CISO","physical","utility_pv"]
["LTBEAR_1_LB4SR4","LITTLE BEAR 4",50,"caiso_solar","CISO","physical","utility_pv"]
["LTBEAR_1_LB4SR5","LITTLE BEAR 4 SOLAR 5",50,"caiso_solar","CISO","physical","utility_pv"]
["LTBERA_1_LB1SR1","LITTLE BEAR SOLAR 1",40,"caiso_solar","CISO","physical","utility_pv"]
["MAGNLA_6_ANAHEIM","MAGNOLIA POWER PLANT ANAHEIM",109,"ldwp_ccgt","LADWP","specifiedimport","gas_cc"]
["MAGNLA_6_CERRITOS","MAGNOLIA POWER PLANT CERRITOS",12,"ldwp_ccgt","LADWP","specifiedimport","gas_cc"]
["MAGNLA_6_COLTON","MAGNOLIA POWER PROJECT",12,"caiso_ccgt1","LADWP","specifiedimport","gas_cc"]
["MAGNLA_6_PASADENA","MAGNOLIA POWER PLANT - PASADENA",18,"caiso_ccgt1","LADWP","specifiedimport","gas_cc"]
["MAGNOLIA_CC","MAGNOLIA",301,"ldwp_ccgt","LADWP","physical","gas_cc"]
["MAGUND_1_BKISR1","BAKERSFIELD INDUSTRIAL 1",1,"caiso_solar","CISO","physical","utility_pv"]
["MAGUND_1_BKSSR2","BAKERSFIELD SOLAR 1",5.25,"caiso_solar","CISO","physical","utility_pv"]
["MALAGA_1_PL1X2","MALAGA POWER AGGREGATE",96,"caiso_peaker1","CISO","physical","gas_ct"]
["MALCHQ_7_UNIT 1","MALACHA HYDRO L.P.",32.5,"caiso_hydro","CISO","physical","hydro"]
["MALIN_5_BPADYN","MALIN_5_BPADYN",250,"CAISO_Imports","BPAT","specifiedimport","n/a"]
["MALIN_5_GCPDDYN","GRANT COUNTY HYDRO FACILITIES",125,"caiso_hydro","BPAT","specifiedimport","hydro"]
["MALIN_5_HERMDYN","MALIN_5_HERMDYN",308,"nw_ccgt","BPAT","specifiedimport","gas_cc"]
["MALIN_5_IBERDR","IBERDROLA CENTROID SYTEM RESOURCE",100,"caiso_wind","BPAT","specifiedimport","out_of_state_wind_WAOR"]
["MALIN_5_INHRED","CSF COLUMBIA GORGE",50,"caiso_wind","BPAT","specifiedimport","out_of_state_wind_WAOR"]
["MALIN_5_INHRPG","BIGLOW CANYON",50,"caiso_wind","BPAT","specifiedimport","out_of_state_wind_WAOR"]
["MANTEC_1_ML1SR1","MANTECA  LAND 1",1,"caiso_solar","CISO","physical","utility_pv"]
["MANZNA_2_WIND","MANZANA WIND",189,"caiso_wind","CISO","physical","in_state_wind_south"]
["MARCPW_6_SOLAR1","MARICOPA WEST SOLAR PV",20,"caiso_solar","CISO","physical","utility_pv"]
["MARTIN_1_SUNSET","SUNSET RESERVOIR - NORTH BASIN",4.5,"caiso_solar","CISO","physical","utility_pv"]
["MCARTH_6_FRIVRB","FALL RIVER MILLS PROJECT B",1.5,"caiso_solar","CISO","physical","utility_pv"]
["MCCALL_1_QF","FISH WATER",0.52,"caiso_small_hydro","CISO","physical","small_hydro"]
["MCCLELLAN_1","NAN",74,"banc_peaker","BANC","physical","gas_ct"]
["MCCLURE_1","NAN",62,"banc_peaker","BANC","physical","gas_ct"]
["MCCLURE_2","NAN",62,"banc_peaker","BANC","physical","gas_ct"]
["MCSWAN_6_UNITS","MC SWAIN HYDRO",10,"caiso_hydro","CISO","physical","hydro"]
["MDFKRL_2_PROJCT","MIDDLE FORK AND RALSTON PSP",210,"caiso_hydro","CISO","physical","hydro"]
["MELROSESTORAGE1","NAN",20,"caiso_li_battery","CISO","physical","hr_batteries"]
["MENBIO_6_RENEW1","CALRENEW - 1(A)",5,"caiso_solar","CISO","physical","utility_pv"]
["MENBIO_6_UNIT","NAN",25,"caiso_biomass","CISO","physical","biomass_wood"]
["MERCED_1_SOLAR1","MISSION SOLAR",1.5,"caiso_solar","CISO","physical","utility_pv"]
["MERCED_1_SOLAR2","MERCED SOLAR",1.5,"caiso_solar","CISO","physical","utility_pv"]
["MERCFL_6_UNIT","MERCED FALLS POWERHOUSE",3.5,"caiso_small_hydro","CISO","physical","small_hydro"]
["MESAP_1_QF","SMALL QF AGGREGATION - SAN LUIS OBISPO",1,"caiso_chp","CISO","physical","cogen"]
["MESAS_2_QF","NAN",2.9,"caiso_chp","CISO","physical","cogen"]
["MESQUITE_RECOVERY","NAN",27,"caiso_biomass","IID","physical","biogas"]
["METEC_2_PL1X3","METCALF ENERGY CENTER",593.16,"caiso_ccgt1","CISO","physical","gas_cc"]
["MIDSUN_1_PL1X2","North Midway Cogens 5A 5B",9.6,"caiso_peaker2","CISO","physical","gas_ct"]
["MIDWD_2_WIND1","NAN",7.81,"caiso_wind","CISO","physical","in_state_wind_south"]
["MIDWD_2_WIND2","CORAM ENERGY",3,"caiso_wind","CISO","physical","in_state_wind_south"]
["MIDWD_6_WNDLND","NAN",7.45,"caiso_wind","CISO","physical","in_state_wind_south"]
["MIDWD_7_CORAMB","CELLC 7.5 MW TEHACHAPI PROJECT",7.5,"caiso_wind","CISO","physical","in_state_wind_south"]
["MIDWY3_2_MDSSR1","MIDWAY SOUTH SOLAR FARM",20,"iid_solar","IID","specifiedimport","utility_pv"]
["MIDWYS_2_MIDSL1","MIDWAY SOLAR FARM",49.9,"iid_solar","IID","specifiedimport","utility_pv"]
["MILFORD_WIND_1_1","NAN",145,"nw_wind","LADWP","physical","out_of_state_wind_WYID"]
["MILFORD_WIND_1_2","NAN",58.5,"nw_wind","LADWP","physical","out_of_state_wind_WYID"]
["MILFORD_WIND_2","NAN",100,"nw_wind","LADWP","physical","out_of_state_wind_WYID"]
["MILFRD_7_PASADENA","MILFORD I",5,"nw_wind","LADWP","specifiedimport","out_of_state_wind_WYID"]
["MIRLOM_2_CORONA","MWD CORONA HYDROELECTRIC RECOVERY PLANT",2.85,"caiso_hydro","CISO","physical","hydro"]
["MIRLOM_2_LNDFL","MILLIKEN LANDFILL SOLAR",3,"caiso_solar","CISO","physical","utility_pv"]
["MIRLOM_2_MLBBTA","MIRA LOMA BESS A",10,"caiso_li_battery","CISO","physical","hr_batteries"]
["MIRLOM_2_MLBBTB","MIRA LOMA BESS B",10,"caiso_li_battery","CISO","physical","hr_batteries"]
["MIRLOM_2_ONTARO","ONTARIO RT SOLAR",5.5,"caiso_solar","CISO","physical","utility_pv"]
["MIRLOM_2_RTS032","SPVP032",1.5,"caiso_solar","CISO","physical","utility_pv"]
["MIRLOM_2_RTS033","SPVP033",1,"caiso_solar","CISO","physical","utility_pv"]
["MIRLOM_2_TEMESC","MWD TEMESCAL HYDROELECTRIC RECOVERY PLAN",2.85,"caiso_hydro","CISO","physical","hydro"]
["MIRLOM_6_PEAKER","MIRA LOMA PEAKER",46,"caiso_peaker1","CISO","physical","gas_ct"]
["MIRLOM_7_MWDLKM","LAKE MATHEWS HYDROELECTRIC RECOVERY PLAN",5,"caiso_hydro","CISO","physical","hydro"]
["MISSIX_1_QF","SMALL QF AGGREGATION - SAB FRABCUSCI",1,"caiso_chp","CISO","physical","cogen"]
["MKTRCK_1_UNIT 1","MCKITTRICK LIMITED",47.49,"caiso_peaker2","CISO","physical","gas_ct"]
["MLPTAS_7_QFUNTS","MLPTAS_7_QFUNTS",1,"caiso_chp","CISO","physical","cogen"]
["MM_SD_MIRAMAR2","NAN",1.6,"caiso_biomass","CISO","physical","biomass_wood"]
["MNDALY_6_MCGRTH","MCGRATH BEACH PEAKER",47.2,"caiso_peaker1","CISO","physical","gas_ct"]
["MNDOTA_1_SOLAR1","NORTH STAR SOLAR 1",60,"caiso_solar","CISO","physical","utility_pv"]
["MNDOTA_1_SOLAR2","CITIZEN SOLAR B",5,"caiso_solar","CISO","physical","utility_pv"]
["MNOCAERSSTORAGE","NAN",10,"caiso_li_battery","CISO","physical","hr_batteries"]
["MOJAVE_1_SIPHON","MOJAVE SIPHON POWER PLANT",14.36,"caiso_hydro","CISO","physical","hydro"]
["MOJAVW_2_SOLAR","MOJAVE WEST",20,"caiso_solar","CISO","physical","utility_pv"]
["MONLTH_6_BATTRY","TEHACHAPI STORAGE PROJECT",7.99,"caiso_li_battery","CISO","physical","hr_batteries"]
["MONLTS_2_MONWD4","NAN",6.1432232100000004,"caiso_wind","CISO","physical","in_state_wind_south"]
["MONLTS_2_MONWD5","NAN",4.04,"caiso_wind","CISO","physical","in_state_wind_south"]
["MONLTS_2_MONWD6","NAN",5.25,"caiso_wind","CISO","physical","in_state_wind_south"]
["MONLTS_2_MONWD7","NAN",6.1561563110000002,"caiso_wind","CISO","physical","in_state_wind_south"]
["MONTPH_7_UNITS","MONTICELLO HYDRO AGGREGATE",12.5,"caiso_small_hydro","CISO","physical","small_hydro"]
["MOORPK_2_ACOBT1","ACORN I BESS",2,"caiso_li_battery","CISO","physical","hr_batteries"]
["MOORPK_2_CALABS","CALABASAS GAS-TO-ENERGY FACILITY",6.96,"caiso_biomass","CISO","physical","biomass_wood"]
["MOORPK_6_QF","MOORPARK QFS",0.8,"caiso_small_hydro","CISO","physical","small_hydro"]
["MORWD_6_QF","MORWIND",38.159999999999997,"caiso_wind","CISO","physical","in_state_wind_south"]
["MOSSLD_1_QF","SMALL QF AGGREGATION - SANTA CRUZ",1,"caiso_chp","CISO","physical","cogen"]
["MOSSLD_2_PSP1","MOSS LANDING POWER BLOCK 1",510,"caiso_ccgt1","CISO","physical","gas_cc"]
["MOSSLD_2_PSP2","MOSS LANDING POWER BLOCK 2",510,"caiso_ccgt1","CISO","physical","gas_cc"]
["MRCHNT_2_PL1X3","DESERT STAR ENERGY CENTER",494.58,"caiso_ccgt1","CISO","physical","gas_cc"]
["MRGT_6_MEF2","MIRAMAR ENERGY FACILITY II",44,"caiso_peaker1","CISO","physical","gas_ct"]
["MRGT_6_MMAREF","MIRAMAR ENERGY FACILITY",45,"caiso_peaker1","CISO","physical","gas_ct"]
["MRGT_6_TGEBT1","TOP GUN ENERGY STORAGE",30,"caiso_li_battery","CISO","physical","hr_batteries"]
["MRLSDS_6_SOLAR1","MORELOS SOLAR",15,"caiso_solar","CISO","physical","utility_pv"]
["MSHGTS_6_MMARLF","MIRAMAR LANDFILL",5,"caiso_biomass","CISO","physical","biomass_wood"]
["MSOLAR_2_SOLAR1","MESQUITE SOLAR 1",165,"caiso_solar","CISO","physical","utility_pv"]
["MSOLAR_2_SOLAR2","MESQUITE SOLAR 2",100.81,"caiso_solar","CISO","physical","utility_pv"]
["MSOLAR_2_SOLAR3","MESQUITE SOLAR 3, LLC",152,"caiso_solar","CISO","physical","utility_pv"]
["MSQUIT_5_SERDYN","MSQUIT_5_SERDYN",625,"sw_ccgt","SRP","specifiedimport","gas_ct"]
["MSSION_2_QF","SMALL QF AGGREGATION - SAN DIEGO",2,"caiso_small_hydro","CISO","physical","small_hydro"]
["MSTANG_2_MTGBT1","MUSTANG 1 BESS",75,"caiso_li_battery","CISO","physical","hr_batteries"]
["MSTANG_2_SOLAR","MUSTANG",30,"caiso_solar","CISO","physical","utility_pv"]
["MSTANG_2_SOLAR3","MUSTANG 3",40,"caiso_solar","CISO","physical","utility_pv"]
["MSTANG_2_SOLAR4","MUSTANG 4",30,"caiso_solar","CISO","physical","utility_pv"]
["MTHSE_G_38380_1","NAN",20,"banc_solar","BANC","physical","utility_pv"]
["MTNPOS_1_UNIT","MT.POSO COGENERATION CO.",46.64,"caiso_biomass","CISO","physical","cogen"]
["MTWIND_1_MVPWD1","Mountain View Power Project I Repower",66.599999999999994,"caiso_wind","CISO","physical","in_state_wind_south"]
["MTWIND_1_UNIT 1","MOUNTAIN VIEW POWER PROJECT I",44.4,"caiso_wind","CISO","physical","in_state_wind_south"]
["MTWIND_1_UNIT 2","MOUNTAIN VIEW POWER PROJECT II",22.2,"caiso_wind","CISO","physical","in_state_wind_south"]
["MTWIND_1_UNIT 3","MOUNTAIN VIEW POWER PROJECT III",22.44,"caiso_wind","CISO","physical","in_state_wind_south"]
["MURRAY_6_UNIT","GROSSMONT HOSPITAL",4.12,"caiso_chp","CISO","physical","cogen"]
["NAPA_RECYCLING_BIOMASS_PLANT","NAN",1,"caiso_biomass","CISO","physical","biomass_wood"]
["NAROW1_2_UNIT","NARROWS PH 1 UNIT",12,"caiso_small_hydro","CISO","physical","small_hydro"]
["NAROW2_2_UNIT","NARROWS POWERHOUSE UNIT 2",55,"caiso_hydro","CISO","physical","hydro"]
["NAVYII_2_UNITS","COSO POWER DEVELOPER (NAVY II) AGGREGATE",90,"caiso_geothermal","CISO","physical","geothermal"]
["NCPA_7_GP1UN1","NCPA GEO PLANT 1 UNIT 1",38.85,"caiso_geothermal","CISO","physical","geothermal"]
["NCPA_7_GP1UN2","NCPA GEO PLANT 1 UNIT 2",39.94,"caiso_geothermal","CISO","physical","geothermal"]
["NCPA_7_GP2UN3","NCPA GEO PLANT 2 UNIT 3",42.42,"caiso_geothermal","CISO","physical","geothermal"]
["NCPA_7_GP2UN4","NCPA GEO PLANT 2 UNIT 4",52.73,"caiso_geothermal","CISO","physical","geothermal"]
["NEENACH_SOLAR","NAN",3,"ldwp_solar","LADWP","physical","utility_pv"]
["NEENCH_6_SOLAR","ALPINE SOLAR",66,"caiso_solar","CISO","physical","utility_pv"]
["NEWARK_1_QF","NEWARK 1 QF",0.1,"caiso_chp","CISO","physical","cogen"]
["NGILAA_5_SDGDYN","NGILAA_5_SDGDYN",57,"sw_ct","AZPS","specifiedimport","gas_ct"]
["NHOGAN_6_UNITS","NEW HOGAN PH AGGREGATE",4,"caiso_hydro","CISO","physical","hydro"]
["NILAND_1","NAN",50,"iid_peaker","IID","physical","gas_ct"]
["NILAND_2","NAN",50,"iid_peaker","IID","physical","gas_ct"]
["NIMTG_6_NICOGN","NORTH ISLAND COGEN",4.05,"caiso_chp","CISO","physical","cogen"]
["NIMTG_6_NIQF","NAN",42.7,"caiso_chp","CISO","physical","cogen"]
["NORTH_BRAWLEY_01","NAN",16,"iid_geothermal","IID","physical","geothermal"]
["NORTH_BRAWLEY_02","NAN",16,"iid_geothermal","IID","physical","geothermal"]
["NORTH_BRAWLEY_03","NAN",16,"iid_geothermal","IID","physical","geothermal"]
["NORTH_BRAWLEY_04","NAN",16,"iid_geothermal","IID","physical","geothermal"]
["NORTH_BRAWLEY_05","NAN",16,"iid_geothermal","IID","physical","geothermal"]
["NORTH_BRAWLEY_06","NAN",16,"iid_geothermal","IID","physical","geothermal"]
["NORTH_FORK_COMMUNITY_POWER","NAN",2,"caiso_biomass","CISO","physical","biomass_wood"]
["NOVATO_6_LNDFL","REDWOOD RENEWABLE ENERGY",3.9,"caiso_biogas","CISO","physical","biogas"]
["NWCSTL_7_UNIT 1","NEWCASTLE HYDRO",12,"caiso_hydro","CISO","physical","hydro"]
["NZWIND_2_WDSTR5","WINDSTREAM 6111",6.31,"caiso_wind","CISO","physical","in_state_wind_south"]
["NZWIND_6_CALWND","WIND RESOURCE I",9,"caiso_wind","CISO","physical","in_state_wind_south"]
["NZWIND_6_WDSTR","WINDSTREAM 39",3.35,"caiso_wind","CISO","physical","in_state_wind_south"]
["NZWIND_6_WDSTR2","WINDSTREAM 6040",4.07,"caiso_wind","CISO","physical","in_state_wind_south"]
["NZWIND_6_WDSTR3","WINDSTREAM 6041",3.86,"caiso_wind","CISO","physical","in_state_wind_south"]
["NZWIND_6_WDSTR4","WINDSTREAM 6042",6.77,"caiso_wind","CISO","physical","in_state_wind_south"]
["OAK C_1_EBMUD","MWWTP PGS 1 - ENGINES",6.9,"caiso_biogas","CISO","physical","biogas"]
["OAK C_7_UNIT 1","OAKLAND STATION C GT UNIT 1",55,"caiso_peaker2","CISO","physical","gas_ct"]
["OAK C_7_UNIT 3","OAKLAND STATION C GT UNIT 3",55,"caiso_peaker2","CISO","physical","gas_ct"]
["OAK C_7_UNIT_2","OAKLAND STATION C GT UNIT 2",55,"caiso_peaker2","CISO","physical","gas_ct"]
["OAK L_1_GTG1","MWWTP PGS 2 - TURBINE",4.5999999999999996,"caiso_biomass","CISO","physical","biomass_wood"]
["OAKWD_6_QF","OAK CREEK",27.87,"caiso_wind","CISO","physical","in_state_wind_south"]
["OAKWD_6_ZEPHWD","ZEPHYR PARK",3.5,"caiso_wind","CISO","physical","in_state_wind_south"]
["OASIS_6_CREST","NAN",13.5,"caiso_solar","CISO","physical","utility_pv"]
["OASIS_6_GBDSR4","GREEN BEANWORKS D",3,"caiso_solar","CISO","physical","utility_pv"]
["OASIS_6_LPPSR1","Lancaster Psomas PV",3,"caiso_solar","CISO","physical","utility_pv"]
["OASIS_6_SOLAR1","MORGAN LANCASTER I",1.5,"caiso_solar","CISO","physical","utility_pv"]
["OASIS_6_SOLAR2","OASIS SOLAR",20,"caiso_solar","CISO","physical","utility_pv"]
["OASIS_6_SOLAR3","SOCCER CENTER",3,"caiso_solar","CISO","physical","utility_pv"]
["OCI_SOLAR_LAKESIDE","NAN",2,"caiso_solar","CISO","physical","utility_pv"]
["OCTILO_5_WIND","OCOTILLO WIND ENERGY FACILITY",265,"caiso_wind","CISO","physical","in_state_wind_south"]
["OGROVE_6_PL1X2","ORANGE GROVE ENERGY CENTER",96,"caiso_peaker2","CISO","physical","gas_ct"]
["OILFLD_7_QFUNTS","NACIMIENTO HYDROELECTRIC PLANT",3.8,"caiso_hydro","CISO","physical","hydro"]
["OLDRIV_6_BIOGAS","BIDART OLD RIVER 1",2,"caiso_biomass","CISO","physical","biomass_wood"]
["OLDRIV_6_CESDBM","CES DAIRY BIOGAS",1,"caiso_biogas","CISO","physical","biogas"]
["OLDRIV_6_LKVBM1","LAKEVIEW DAIRY BIOGAS",1,"caiso_biogas","CISO","physical","biogas"]
["OLDRV1_6_SOLAR","OLD RIVER ONE",20,"caiso_solar","CISO","physical","utility_pv"]
["OLINDA_2_COYCRK","MWD COYOTE CREEK HYDROELECTRIC RECOVERY",3.13,"caiso_hydro","CISO","physical","hydro"]
["OLINDA_2_LNDFL2","BREA POWER II",28.1,"caiso_biomass","CISO","physical","biomass_wood"]
["OLINDA_2_QF","OLINDA QFS",0.4,"caiso_small_hydro","CISO","physical","small_hydro"]
["OLINDA_7_BLKSND","BLACKSAND GENERATING FACILITY",8,"caiso_biomass","CISO","physical","biomass_wood"]
["OLINDA_7_LNDFIL","NAN",5.6,"caiso_biomass","CISO","physical","biomass_wood"]
["OLIVE_O1","NAN",44,"ldwp_st","LADWP","physical","steam"]
["OLIVE_O2","NAN",55,"ldwp_st","LADWP","physical","steam"]
["OLIVEP_1_SOLAR","WHITE RIVER SOLAR",20,"caiso_solar","CISO","physical","utility_pv"]
["OLIVEP_1_SOLAR2","WHITE RIVER WEST",19.75,"caiso_solar","CISO","physical","utility_pv"]
["OLSEN_2_UNIT","OLSEN POWER PARTNERS",5.8,"caiso_small_hydro","CISO","physical","small_hydro"]
["OMAR_2_UNIT 1","KERN RIVER COGENERATION CO. UNIT 1",78,"caiso_peaker1","CISO","physical","gas_ct"]
["OMAR_2_UNIT 2","KERN RIVER COGENERATION CO. UNIT 2",78.11,"caiso_peaker1","CISO","physical","gas_ct"]
["OMAR_2_UNIT 3","KERN RIVER COGENERATION CO. UNIT 3",81.41,"caiso_peaker1","CISO","physical","gas_ct"]
["OMAR_2_UNIT 4","KERN RIVER COGENERATION CO. UNIT 4",81.44,"caiso_peaker1","CISO","physical","cogen"]
["ONLLPP_6_UNITS","O'NEILL PUMP-GEN (AGGREGATE)",25.2,"caiso_pumped_hydro","CISO","physical","pumped_storage"]
["ORLND_6_HIGHLI","HIGH LINE CANAL HYDRO",0.5,"caiso_hydro","CISO","physical","hydro"]
["ORLND_6_SOLAR1","ENERPARC CALIFORNIA 2",1.5,"caiso_solar","CISO","physical","utility_pv"]
["ORMESA_1_E","NAN",12.9,"iid_geothermal","IID","physical","geothermal"]
["ORMESA_1_H","NAN",12.9,"iid_geothermal","IID","physical","geothermal"]
["ORMESA_I","NAN",33.5,"iid_geothermal","IID","physical","geothermal"]
["ORMESA_II_OEC21","NAN",15,"iid_geothermal","IID","physical","geothermal"]
["ORMESA_II_OEC22","NAN",15,"iid_geothermal","IID","physical","geothermal"]
["ORMOND_7_UNIT 1","ORMOND BEACH GEN STA. UNIT 1",741.27,"caiso_st","CISO","physical","steam"]
["ORMOND_7_UNIT 2","ORMOND BEACH GEN STA. UNIT 2",750,"caiso_st","CISO","physical","steam"]
["ORNI33__LLC","NAN",20,"iid_solar","IID","physical","utility_pv"]
["OROLOM_1_SOLAR1","ORO LOMA SOLAR 1",10,"caiso_solar","CISO","physical","utility_pv"]
["OROLOM_1_SOLAR2","ORO LOMA SOLAR 2",10,"caiso_solar","CISO","physical","utility_pv"]
["OROVIL_6_UNIT","OROVILLE COGENERATION, LP",7.5,"caiso_chp","CISO","physical","cogen"]
["ORTGA_6_ME1SL1","MERCED 1",3,"caiso_solar","CISO","physical","utility_pv"]
["OSO_6_NSPIN","OSO_6_NSPIN",70,"caiso_pumped_hydro","CISO","physical","pumped_storage"]
["OTAY_6_ECVBT1","EnerSmart Chula Vista 1",3,"caiso_li_battery","CISO","physical","hr_batteries"]
["OTAY_6_ECVBT2","Chula Vista 2",3,"caiso_li_battery","CISO","physical","hr_batteries"]
["OTAY_6_LNDFL5","NAN",1.5,"caiso_biogas","CISO","physical","biogas"]
["OTAY_6_LNDFL6","NAN",1.5,"caiso_biogas","CISO","physical","biogas"]
["OTAY_6_PL1X2","CHULA VISTA ENERGY CENTER, LLC",35.5,"caiso_peaker2","CISO","physical","gas_ct"]
["OTAY_6_UNITB1","NAN",3,"caiso_biogas","CISO","physical","biogas"]
["OTMESA_2_PL1X3","OTAY MESA ENERGY CENTER",603.67999999999995,"caiso_ccgt1","CISO","physical","gas_cc"]
["OXBOW_6_DRUM","OXBOW HYDRO",5.8,"caiso_hydro","CISO","physical","hydro"]
["OXMTN_6_LNDFIL","OX MOUNTAIN LANDFILL GENERATING PLANT",10.62,"caiso_biomass","CISO","physical","biomass_wood"]
["PACLUM_6_UNIT","HUMBOLDT REDWOOD",28.8,"caiso_biomass","CISO","physical","biomass_wood"]
["PADUA_2_ONTARO","ONTARIO/SIERRA HYDRO PSP",1.92,"caiso_small_hydro","CISO","physical","small_hydro"]
["PADUA_2_SOLAR1","KONA SOLAR - RANCHO DC #1",1.75,"caiso_solar","CISO","physical","utility_pv"]
["PADUA_6_MWDSDM","SAN DIMAS HYDROELECTRIC RECOVERY PLANT",9.9,"caiso_hydro","CISO","physical","hydro"]
["PADUA_6_QF","PADUA QFS",1.82,"caiso_small_hydro","CISO","physical","small_hydro"]
["PADUA_7_SDIMAS","SAN DIMAS WASH HYDRO",1.05,"caiso_small_hydro","CISO","physical","small_hydro"]
["PAIGES_6_SOLAR","PAIGE SOLAR",20,"caiso_solar","CISO","physical","utility_pv"]
["PALALT_7_COBUG","COOPERATIVELY OWNED BACK UP GENERATOR",4.5,"caiso_peaker2","CISO","physical","gas_ct"]
["PALO_VERDE_3_LADWP","NAN",407,"ldwp_nuclear","LADWP","physical","nuclear"]
["PALOMR_2_PL1X3","PALOMAR ENERGY CENTER",575,"caiso_ccgt1","CISO","physical","gas_cc"]
["PANDOL_6_UNIT","NAN",49,"caiso_biomass","CISO","physical","biomass_wood"]
["PANSEA_1_PANARO","NAN",30,"caiso_wind","CISO","physical","in_state_wind_south"]
["PARDEB_6_UNITS","PARDEE POWER HOUSE",30,"caiso_hydro","CISO","physical","hydro"]
["PARQUEEOLICO","NAN",10,"caiso_wind","CISO","physical","in_state_wind_south"]
["PBLOSM_2_SOLAR","PEARBLOSSOM",9.5,"caiso_solar","CISO","physical","utility_pv"]
["PEABDY_2_LNDFIL","G2 ENERGY HAY ROAD POWER PLANT",1.6,"caiso_biomass","CISO","physical","biomass_wood"]
["PEABDY_2_LNDFL1","POTRERO HILLS ENERGY PRODUCERS",8,"caiso_biomass","CISO","physical","biomass_wood"]
["PEARBL_2_NSPIN","PEARBL_2_NSPIN",118,"caiso_pumped_hydro","CISO","physical","pumped_storage"]
["PEASE_1_TBEBT1","Tierra Buena Energy Storage",5,"caiso_li_battery","CISO","physical","hr_batteries"]
["PEORIA_1_SOLAR","SONORA 1",1.5,"caiso_solar","CISO","physical","utility_pv"]
["PGE_BAY_BIP_DO","NAN",90,"caiso_loadmod","CISO","physical","demand_response"]
["PGE_BAY_CBP DA_NONRES","NAN",0.1,"caiso_loadmod","CISO","physical","demand_response"]
["PGE_BAY_CBP DA_RES","NAN",0.1,"caiso_loadmod","CISO","physical","demand_response"]
["PGE_BAY_PDP_NON_RES","NAN",4,"caiso_loadmod","CISO","physical","demand_response"]
["PGE_BAY_SMARTAC_NON_RES","NAN",0.1,"caiso_loadmod","CISO","physical","demand_response"]
["PGE_BAY_SMARTAC_RES","NAN",0.1,"caiso_loadmod","CISO","physical","demand_response"]
["PGE_BAY_SMARTRATE_RES","NAN",0.1,"caiso_loadmod","CISO","physical","demand_response"]
["PGE_VAL_BIP_DO","NAN",267,"caiso_loadmod","CISO","physical","demand_response"]
["PGE_VAL_CBP_DA","NAN",0.1,"caiso_loadmod","CISO","physical","demand_response"]
["PGE_VAL_CBP_DA_RES","NAN",0.1,"caiso_loadmod","CISO","physical","demand_response"]
["PGE_VAL_SMARTAC_NON_RES","NAN",0.1,"caiso_loadmod","CISO","physical","demand_response"]
["PGE_VAL_SMARTAC_RES","NAN",0.1,"caiso_loadmod","CISO","physical","demand_response"]
["PGE_VAL_SMARTRATE_RES","NAN",2,"caiso_loadmod","CISO","physical","demand_response"]
["PHOENX_1_UNIT","PHOENIX PH",2,"caiso_small_hydro","CISO","physical","small_hydro"]
["PINE_TREE_SOLAR","NAN",8.5,"ldwp_solar","LADWP","physical","utility_pv"]
["PINE_TREE_WIND","NAN",120,"ldwp_wind","LADWP","physical","out_of_state_wind_WYID"]
["PINFLT_7_UNITS","PINE FLAT HYDRO AGGREGATE",198.51,"caiso_hydro","CISO","physical","hydro"]
["PIOPIC_2_CTG1","PIO PICO UNIT 1",111.3,"caiso_peaker1","CISO","physical","gas_ct"]
["PIOPIC_2_CTG2","PIO PICO UNIT 2",112.7,"caiso_peaker1","CISO","physical","gas_ct"]
["PIOPIC_2_CTG3","PIO PICO UNIT 3",112,"caiso_peaker1","CISO","physical","gas_ct"]
["PIT1_6_FRIVRA","FALL RIVER MILLS PROJECT A",1.5,"caiso_solar","CISO","physical","utility_pv"]
["PIT1_7_UNIT 1","PIT PH 1 UNIT 1",32,"caiso_hydro","CISO","physical","hydro"]
["PIT1_7_UNIT 2","PIT PH 1 UNIT 2",32,"caiso_hydro","CISO","physical","hydro"]
["PIT3_7_PL1X3","PIT PH 3 UNITS 1, 2 & 3 AGGREGATE",70.599999999999994,"caiso_hydro","CISO","physical","hydro"]
["PIT4_7_PL1X2","PIT PH 4 UNITS 1 & 2 AGGREGATE",95,"caiso_hydro","CISO","physical","hydro"]
["PIT5_7_PL1X2","PIT PH 5 UNITS 1 & 2 AGGREGATE",82,"caiso_hydro","CISO","physical","hydro"]
["PIT5_7_PL3X4","PIT PH 5 UNITS 3 & 4 AGGREGATE",82,"caiso_hydro","CISO","physical","hydro"]
["PIT5_7_QFUNTS","GRASSHOPPER FLAT HYDRO",1.1000000000000001,"caiso_hydro","CISO","physical","hydro"]
["PIT6_7_UNIT 1","PIT PH 6 UNIT 1",39,"caiso_hydro","CISO","physical","hydro"]
["PIT6_7_UNIT 2","PIT PH 6 UNIT 2",40,"caiso_hydro","CISO","physical","hydro"]
["PIT7_7_UNIT 1","PIT PH 7 UNIT 1",55.7,"caiso_hydro","CISO","physical","hydro"]
["PIT7_7_UNIT 2","PIT PH 7 UNIT 2",54.6,"caiso_hydro","CISO","physical","hydro"]
["PIUTE_6_GNBSR1","GREEN BEANWORKS B",3,"caiso_biomass","CISO","physical","utility_pv"]
["PLACVL_1_CHILIB","CHILI BAR HYDRO",8.4,"caiso_small_hydro","CISO","physical","small_hydro"]
["PLACVL_1_RCKCRE","ROCK CREEK HYDRO",5,"caiso_small_hydro","CISO","physical","small_hydro"]
["PLAINV_6_BSOLAR","WESTERN ANTELOPE BLUE SKY RANCH A",20,"caiso_solar","CISO","physical","utility_pv"]
["PLAINV_6_DSOLAR","WESTERN ANTELOPE DRY RANCH",10,"caiso_solar","CISO","physical","utility_pv"]
["PLAINV_6_NLRSR1","NORTH LANCASTER RANCH",20,"caiso_solar","CISO","physical","utility_pv"]
["PLAINV_6_SOLAR3","SIERRA SOLAR GREENWORKS LLC",20,"caiso_solar","CISO","physical","utility_pv"]
["PLAINV_6_SOLARC","CENTRAL ANTELOPE DRY RANCH C",20,"caiso_solar","CISO","physical","utility_pv"]
["PLMSSR_6_HISIER","HIGH SIERRA COGENERATION AGGREGATE",6,"caiso_chp","CISO","physical","cogen"]
["PLSNTG_7_LNCLND","LINCOLN LANDFILL POWER PLANT",4.9800000000000004,"caiso_biomass","CISO","physical","biomass_wood"]
["PMDLET_6_SOLAR1","SEPV PALMDALE EAST, LLC",10,"caiso_solar","CISO","physical","utility_pv"]
["PMPJCK_1_RB2SLR","RIO BRAVO SOLAR 2",20,"caiso_solar","CISO","physical","utility_pv"]
["PMPJCK_1_SOLAR1","PUMPJACK SOLAR I",20,"caiso_solar","CISO","physical","utility_pv"]
["PMPJCK_1_SOLAR2","RIO BRAVO SOLAR 1",20,"caiso_solar","CISO","physical","utility_pv"]
["PNCHEG_2_PL1X4","PANOCHE ENERGY CENTER (AGGREGATED)",401,"caiso_peaker1","CISO","physical","gas_ct"]
["PNCHPP_1_PL1X2","MIDWAY PEAKING AGGREGATE",119.91,"caiso_peaker2","CISO","physical","gas_ct"]
["PNCHVS_2_SOLAR","PANOCHE VALLEY SOLAR",140,"caiso_solar","CISO","physical","utility_pv"]
["PNOCHE_1_PL1X2","PANOCHE PEAKER",49.97,"caiso_peaker2","CISO","physical","gas_ct"]
["PNOCHE_1_UNITA1","CALPEAK POWER PANOCHE UNIT 1",52.01,"caiso_peaker2","CISO","physical","gas_ct"]
["POCATELLO_WASTE","NAN",0.46,"caiso_biomass","CISO","physical","biomass_wood"]
["POEPH_7_UNIT 1","POE HYDRO UNIT 1",69,"caiso_hydro","CISO","physical","hydro"]
["POEPH_7_UNIT 2","POE HYDRO UNIT 2",68.5,"caiso_hydro","CISO","physical","hydro"]
["POINTLOMA1","NAN",2.29,"caiso_biomass","CISO","physical","biomass_wood"]
["POINTLOMA2","NAN",2.29,"caiso_biomass","CISO","physical","biomass_wood"]
["POTTER_6_UNITS","POTTER VALLEY",10.1,"caiso_small_hydro","CISO","physical","small_hydro"]
["POTTER_7_VECINO","VECINO VINEYARDS LLC",1.25,"caiso_hydro","CISO","physical","hydro"]
["PRCTVY_1_MIGBT1","MIGUEL BESS",2,"caiso_biomass","CISO","physical","hr_batteries"]
["PRIMA_PLANT1","NAN",3,"caiso_biomass","CISO","physical","biomass_wood"]
["PRIMA_PLANT2","NAN",3,"caiso_biomass","CISO","physical","biomass_wood"]
["PRIMM_2_SOLAR1","SILVER STATE SOUTH",250,"caiso_solar","CISO","physical","utility_pv"]
["PROXIMASOLAR","NAN",50,"caiso_solar","CISO","physical","utility_pv"]
["PROXIMASTORAGE","NAN",5,"caiso_li_battery","CISO","physical","hr_batteries"]
["PSWEET_1_STCRUZ","SANTA CRUZ ENERGY LLC",1.6,"caiso_biogas","CISO","physical","biogas"]
["PSWEET_7_QFUNTS","PSWEET_7_QFUNTS",1,"caiso_chp","CISO","physical","cogen"]
["PTLOMA_6_NTCCGN","NAN",2.58,"caiso_chp","CISO","physical","cogen"]
["PTLOMA_6_NTCQF","NTC/MCRD COGENERATION",22.3,"caiso_chp","CISO","physical","cogen"]
["PUTHCR_1_PCNSB1","Putah Creek Solar Farm North",3,"caiso_solar","CISO","physical","utility_pv"]
["PUTHCR_1_SOLAR1","PUTAH CREEK SOLAR FARM",1.98,"caiso_solar","CISO","physical","utility_pv"]
["PVERDE_5_SCEDYN","PVERDE_5_SCEDYN",635,"caiso_nuclear","SRP","specifiedimport","nuclear"]
["PWEST_1_UNIT","PACIFIC WEST 1 WIND GENERATION",2.1,"caiso_wind","CISO","physical","in_state_wind_south"]
["QUARANTINASTORAGE","NAN",10,"caiso_li_battery","CISO","physical","hr_batteries"]
["RABBITBRUSHSTORAGE","NAN",20,"caiso_li_battery","CISO","physical","hr_batteries"]
["RACEWAYSOLAR","NAN",125,"caiso_solar","CISO","physical","utility_pv"]
["RACEWAYSTORAGE","NAN",80,"caiso_li_battery","CISO","physical","hr_batteries"]
["RAMON_2_SCEDYN","RAMON_2_SCEDYN",106.18,"iid_geothermal","IID","specifiedimport","geothermal"]
["RANCHO_2_SMUDSYSDYN","SMUD REGULATION MARKET",124,"caiso_specified_imports","BANC","specifiedimport","n/a"]
["RATSKE_2_NROSR1","NORTH ROSAMOND SOLAR",150,"caiso_solar","CISO","physical","utility_pv"]
["RATSKE_2_RBSSB1","Rabbitbrush Solar 1",60,"caiso_solar","CISO","physical","utility_pv"]
["RATSKE_2_RBSSB2","Rabbitbrush Solar 2",40,"caiso_solar","CISO","physical","utility_pv"]
["RCKCRK_7_UNIT 1","ROCK CREEK HYDRO UNIT 1",57,"caiso_hydro","CISO","physical","hydro"]
["RCKCRK_7_UNIT 2","ROCK CREEK HYDRO UNIT 2",56.9,"caiso_hydro","CISO","physical","hydro"]
["RDWAY_1_CREST","NAN",6.5,"caiso_solar","CISO","physical","utility_pv"]
["RE_BR1_26960_1","NAN",61.1,"ldwp_solar","LADWP","physical","utility_pv"]
["RE_GASKELL_WEST_3","NAN",20,"caiso_solar","CISO","physical","utility_pv"]
["RE_GASKELL_WEST_4","NAN",20,"caiso_solar","CISO","physical","utility_pv"]
["RE_GASKELL_WEST_5","NAN",20,"caiso_solar","CISO","physical","utility_pv"]
["RECTOR_2_CREST","NAN",14,"caiso_solar","CISO","physical","utility_pv"]
["RECTOR_2_IVANPV","IVANHOE TULARE PV",3.5,"caiso_solar","CISO","physical","utility_pv"]
["RECTOR_2_KAWEAH","KAWEAH PH 2 & 3 PSP AGGREGATE",6.55,"caiso_small_hydro","CISO","physical","small_hydro"]
["RECTOR_2_KAWH 1","KAWEAH PH 1 UNIT 1",2.25,"caiso_hydro","CISO","physical","hydro"]
["RECTOR_2_QF","KAWEAH UNIT 1",20.09,"caiso_small_hydro","CISO","physical","small_hydro"]
["RECTOR_2_TFDBM1","TWO FIETS DAIRY DIGESTER",0.8,"caiso_biomass","CISO","physical","biomass_wood"]
["RECTOR_7_TULARE","MM TULARE",1.5,"caiso_biomass","CISO","physical","biomass_wood"]
["REDBLF_6_UNIT","RED BLUFF PEAKER PLANT",44,"caiso_reciprocating_engine","CISO","physical","ice"]
["REDDING_POWER_1","NAN",17.03,"banc_peaker","BANC","physical","gas_ct"]
["REDDING_POWER_2","NAN",25.03,"banc_peaker","BANC","physical","gas_ct"]
["REDDING_POWER_3","NAN",25.03,"banc_peaker","BANC","physical","gas_ct"]
["REDDING_POWER_CC","NAN",121,"banc_ccgt","BANC","physical","gas_cc"]
["REDMAN_2_SOLAR","LANCASTER EAST AVENUE F",3.75,"caiso_solar","CISO","physical","utility_pv"]
["REDMAN_6_AVSSR1","ANTELOPE VALLEY SOLAR",3,"caiso_solar","CISO","physical","utility_pv"]
["REDOND_7_UNIT 5","REDONDO GEN STA. UNIT 5",178.87,"caiso_st","CISO","physical","steam"]
["REDOND_7_UNIT 6","REDONDO GEN STA. UNIT 6",175,"caiso_st","CISO","physical","steam"]
["REDOND_7_UNIT 8","REDONDO GEN STA. UNIT 8",480,"caiso_st","CISO","physical","steam"]
["REEDLY_6_SOLAR","TERZIAN",1.23,"caiso_solar","CISO","physical","utility_pv"]
["RENWD_1_QF","RENWIND RE-POWERING PROJECT",10,"caiso_wind","CISO","physical","in_state_wind_south"]
["REXFORDSOLAR","NAN",300,"caiso_solar","CISO","physical","utility_pv"]
["REXFORDSTORAGE","NAN",180,"caiso_li_battery","CISO","physical","hr_batteries"]
["RHONDO_6_PUENTE","NAN",4,"caiso_biogas","CISO","physical","biogas"]
["RICHMN_1_CHVSR2","CHEVRON 8.5",8.5,"caiso_solar","CISO","physical","utility_pv"]
["RICHMN_1_SOLAR","CHEVRON 2",2,"caiso_solar","CISO","physical","utility_pv"]
["RICHMN_7_BAYENV","BAY ENVIRONMENTAL (NOVE POWER)",2.5,"caiso_biomass","CISO","physical","biomass_wood"]
["RIOBRV_6_UNIT 1","RIO BRAVO HYDRO",14,"caiso_hydro","CISO","physical","hydro"]
["RIOOSO_1_QF","SMALL QF AGGREGATION - GRASS VALLEY",1.1100000000000001,"caiso_small_hydro","CISO","physical","small_hydro"]
["RIPON_1","NAN",50,"banc_peaker","BANC","physical","gas_ct"]
["RIPON_2","NAN",50,"banc_peaker","BANC","physical","gas_ct"]
["RNDMTN_2_SLSPHY1","SILVER SPRINGS",0.6,"caiso_hydro","CISO","physical","hydro"]
["RNDSBG_1_HZASR1","HAZEL A",2.99,"caiso_solar","CISO","physical","utility_pv"]
["ROCKWOOD_1","NAN",25,"iid_peaker","IID","physical","gas_ct"]
["ROCKWOOD_2","NAN",25,"iid_peaker","IID","physical","gas_ct"]
["ROLLIN_6_UNIT","ROLLINS HYDRO",13.5,"caiso_hydro","CISO","physical","hydro"]
["ROSEVILLE_1","NAN",25.6,"banc_peaker","BANC","physical","gas_ct"]
["ROSEVILLE_2","NAN",25.6,"banc_peaker","BANC","physical","gas_ct"]
["ROSMDW_2_WIND1","PACIFIC WIND - PHASE 1",140,"caiso_wind","CISO","physical","in_state_wind_south"]
["ROSMND_6_SOLAR","LANCASTER B",3,"caiso_solar","CISO","physical","utility_pv"]
["RSMSLR_6_SOLAR1","ROSAMOND ONE",20,"caiso_solar","CISO","physical","utility_pv"]
["RSMSLR_6_SOLAR2","ROSAMOND TWO",20,"caiso_solar","CISO","physical","utility_pv"]
["RTEDDY_2_SC1SR3","ROSAMOND WEST SOLAR CLEAN",40,"caiso_solar","CISO","physical","utility_pv"]
["RTEDDY_2_SEBSR3","ROSAMOND WEST SOLAR EAST BAY 3",56,"caiso_solar","CISO","physical","utility_pv"]
["RTEDDY_2_SEBSR4","ROSAMOND WEST SOLAR EAST BAY 4",56,"caiso_solar","CISO","physical","utility_pv"]
["RTEDDY_2_SOLAR1","ROSAMOND WEST SOLAR 1",54,"caiso_solar","CISO","physical","utility_pv"]
["RTEDDY_2_SOLAR2","ROSAMOND WEST SOLAR 2",54,"caiso_solar","CISO","physical","utility_pv"]
["RTEDDY_2_SPASR4","ROSAMOND WEST SOLAR PALO ALTO",26,"caiso_solar","CISO","physical","utility_pv"]
["RTEDDY_2_SRXSR4","ROSAMOND WEST SOLAR ROSIE X",13.6,"caiso_solar","CISO","physical","utility_pv"]
["RTREE_2_WIND1","RISING TREE 1",79.2,"caiso_wind","CISO","physical","in_state_wind_south"]
["RTREE_2_WIND2","RISING TREE 2",19.8,"caiso_wind","CISO","physical","in_state_wind_south"]
["RTREE_2_WIND3","RISING TREE 3",99,"caiso_wind","CISO","physical","in_state_wind_south"]
["RUSCTY_2_UNITS","RUSSELL CITY ENERGY CENTER",615.17999999999995,"caiso_ccgt2","CISO","physical","gas_cc"]
["RVRVEW_1_UNITA1","RIVERVIEW ENERGY CENTER (GP ANTIOCH)",47.6,"caiso_peaker2","CISO","physical","gas_ct"]
["RVSIDE_2_RERCU3","RIVERSIDE ENERGY RES. CTR UNIT 3",49,"caiso_peaker1","CISO","physical","gas_ct"]
["RVSIDE_2_RERCU4","RIVERSIDE ENERGY RES. CTR UNIT 4",49,"caiso_peaker1","CISO","physical","gas_ct"]
["RVSIDE_6_RERCU1","RIVERSIDE ENERGY RES. CTR UNIT 1",48.35,"caiso_peaker1","CISO","physical","gas_ct"]
["RVSIDE_6_RERCU2","RIVERSIDE ENERGY RES. CTR UNIT 2",48.5,"caiso_peaker2","CISO","physical","gas_ct"]
["RVSIDE_6_SOLAR1","TEQUESQUITE LANDFILL SOLAR PROJECT",7.5,"caiso_solar","CISO","physical","utility_pv"]
["RVSIDE_6_SPRING","SPRINGS GENERATION PROJECT AGGREGATE",36,"caiso_peaker1","CISO","physical","gas_ct"]
["S_RITA_6_SOLAR1","SUN HARVEST SOLAR",1.5,"caiso_solar","CISO","physical","utility_pv"]
["SALIRV_2_UNIT","SALINAS RIVER COGENERATION",39,"caiso_chp","CISO","physical","cogen"]
["SALTON_SEA_4","NAN",42,"iid_geothermal","IID","physical","geothermal"]
["SALTON_SEA_5","NAN",50,"iid_geothermal","IID","physical","geothermal"]
["SALTON_SEA_UNIT_2_G1","NAN",10,"iid_geothermal","IID","physical","geothermal"]
["SALTON_SEA_UNIT_2_G2","NAN",5,"iid_geothermal","IID","physical","geothermal"]
["SALTON_SEA_UNIT_2_G3","NAN",5,"iid_geothermal","IID","physical","geothermal"]
["SALTSP_7_UNITS","SALT SPRINGS HYDRO AGGREGATE",46,"caiso_hydro","CISO","physical","hydro"]
["SAMPSN_6_KELCO1","KELCO QUALIFYING FACILITY",25,"caiso_chp","CISO","physical","cogen"]
["SANBRN_2_EESSB2","EdSan 1 Edwards 0",166,"caiso_solar","CISO","physical","utility_pv"]
["SANBRN_2_ES1BT3","EdSan 1 Edwards 1",51,"caiso_solar","CISO","physical","utility_pv"]
["SANBRN_2_ES2SB3","EdSan 2 Sanborn 3",42,"caiso_solar","CISO","physical","utility_pv"]
["SANBRN_2_ESABT1","EDSAN 1A",100,"caiso_li_battery","CISO","physical","hr_batteries"]
["SANBRN_2_ESBBT1","EDSAN 1B",100,"caiso_li_battery","CISO","physical","hr_batteries"]
["SANBRN_2_SS2SB4","EdSan 2 Sanborn 4",36,"caiso_solar","CISO","physical","utility_pv"]
["SANDHILLCWIND","NAN",80,"caiso_wind","CISO","physical","in_state_wind_south"]
["SANDLT_2_SUNITS","MOJAVE SOLAR",275,"caiso_solar","CISO","physical","utility_pv"]
["SANDRINISOL","NAN",100,"caiso_solar","CISO","physical","utility_pv"]
["SANITR_6_UNITS","LACSD CARSON WATER POLLUTION AGGREGATE",8,"caiso_biogas","CISO","physical","biogas"]
["SANLOB_1_LNDFIL","COLD CANYON",1.5,"caiso_biomass","CISO","physical","biomass_wood"]
["SANLOB_1_OSFBM1","OLD SANTA FE ROAD",0.85,"caiso_biomass","CISO","physical","biomass_wood"]
["SANTA_BARBARA_COUNTY_PUBLIC_WORKS_DEPARTMENT","NAN",2.274,"caiso_biogas","CISO","physical","biogas"]
["SANTFG_7_UNITS","GEYSERS CALISTOGA AGGREGATE",72,"caiso_geothermal","CISO","physical","geothermal"]
["SANTGO_2_LNDFL1","BOWERMAN POWER",19.600000000000001,"caiso_biogas","CISO","physical","biogas"]
["SANTGO_2_MABBT1","MILLIKAN AVENUE BESS",2,"caiso_li_battery","CISO","physical","hr_batteries"]
["SANWD_1_QF","SAN GORGONIO FARMS WIND FARM",31,"caiso_wind","CISO","physical","in_state_wind_south"]
["SAUGUS_2_TOLAND","NAN",1.57,"caiso_biogas","CISO","physical","biogas"]
["SAUGUS_6_MWDFTH","FOOTHILL HYDROELECTRIC RECOVERY PLANT",9.1,"caiso_hydro","CISO","physical","hydro"]
["SAUGUS_6_PTCHGN","NAN",20.78,"caiso_chp","CISO","physical","cogen"]
["SAUGUS_6_QF","SAUGUS QFS",2.19,"caiso_small_hydro","CISO","physical","small_hydro"]
["SAUGUS_7_CHIQCN","CHIQUITA CANYON LANDFILL FAC",8,"caiso_biomass","CISO","physical","biomass_wood"]
["SAUGUS_7_LOPEZ","MM LOPEZ ENERGY",6.1,"caiso_biomass","CISO","physical","biomass_wood"]
["SBERDO_2_PSP3","MOUNTAINVIEW GEN STA. UNIT 3",555,"caiso_ccgt1","CISO","physical","gas_cc"]
["SBERDO_2_PSP4","MOUNTAINVIEW GEN STA. UNIT 4",555,"caiso_ccgt1","CISO","physical","gas_cc"]
["SBERDO_2_QF","NAN",10.6,"caiso_chp","CISO","physical","cogen"]
["SBERDO_2_REDLND","REDLANDS RT SOLAR",2,"caiso_solar","CISO","physical","utility_pv"]
["SBERDO_2_RTS005","SPVP005 REDLANDS RT SOLAR",2.5,"caiso_solar","CISO","physical","utility_pv"]
["SBERDO_2_RTS007","SPVP007 REDLANDS RT SOLAR",2.5,"caiso_solar","CISO","physical","utility_pv"]
["SBERDO_2_RTS011","SPVP011",3.5,"caiso_solar","CISO","physical","utility_pv"]
["SBERDO_2_RTS013","SPVP013",3.5,"caiso_solar","CISO","physical","utility_pv"]
["SBERDO_2_RTS016","SPVP016 REDLANDS RT SOLAR",1.5,"caiso_solar","CISO","physical","utility_pv"]
["SBERDO_2_RTS048","SPVP048",5,"caiso_solar","CISO","physical","utility_pv"]
["SBERDO_2_SNTANA","SANTA ANA PSP",6.95,"caiso_small_hydro","CISO","physical","small_hydro"]
["SBERDO_6_MILLCK","MILL CREEK PSP",3.93,"caiso_small_hydro","CISO","physical","small_hydro"]
["SCACOGEN2_CC","NAN",65.599999999999994,"banc_ccgt","BANC","physical","gas_cc"]
["SCACOGEN2GT","NAN",49,"banc_peaker","BANC","physical","gas_ct"]
["SCATTERGOOD_1","NAN",174,"ldwp_st","LADWP","physical","steam"]
["SCATTERGOOD_2","NAN",177,"ldwp_st","LADWP","physical","steam"]
["SCATTERGOOD_4","NAN",300,"ldwp_peaker","LADWP","physical","gas_ct"]
["SCATTERGOOD_5","NAN",100,"ldwp_peaker","LADWP","physical","gas_ct"]
["SCATTERGOOD_6","NAN",89,"ldwp_peaker","LADWP","physical","gas_ct"]
["SCATTERGOOD_7","NAN",89,"ldwp_peaker","LADWP","physical","gas_ct"]
["SCE_AP_I","NAN",19,"caiso_loadmod","CISO","physical","demand_response"]
["SCE_BIP_15","NAN",212,"caiso_loadmod","CISO","physical","demand_response"]
["SCE_BIP_30","NAN",606,"caiso_loadmod","CISO","physical","demand_response"]
["SCE_CBP_DA","NAN",0.1,"caiso_loadmod","CISO","physical","demand_response"]
["SCE_CBP_DO","NAN",1,"caiso_loadmod","CISO","physical","demand_response"]
["SCE_SDP_COMM","NAN",3,"caiso_loadmod","CISO","physical","demand_response"]
["SCE_SDP_RESD","NAN",1,"caiso_loadmod","CISO","physical","demand_response"]
["SCEHOV_2_HOOVER","SCEHOV_2_HOOVER",287.01,"caiso_hydro","WALC","specifiedimport","hydro"]
["SCHLTE_1_PL1X3","TRACY COMBINED CYCLE POWER PLANT",336.04,"caiso_ccgt2","CISO","physical","gas_cc"]
["SCHNDR_1_FIVPTS","FIVE POINTS SOLAR STATION",15,"caiso_solar","CISO","physical","utility_pv"]
["SCHNDR_1_OS2BM2","OPEN SKY DIGESTER GENSET 2",0.8,"caiso_biogas","CISO","physical","biogas"]
["SCHNDR_1_WSTSDE","WESTSIDE SOLAR STATION",15,"caiso_solar","CISO","physical","utility_pv"]
["SDGE_BIP","NAN",2,"caiso_loadmod","CISO","physical","demand_response"]
["SDGE_CBP_DA","NAN",0.1,"caiso_loadmod","CISO","physical","demand_response"]
["SDGE_CBP_DO","NAN",0.1,"caiso_loadmod","CISO","physical","demand_response"]
["SDGE_SUMM_SAV_RESD","NAN",0.1,"caiso_loadmod","CISO","physical","demand_response"]
["SDGE_SUMMER_SAVER_COM","NAN",0.1,"caiso_loadmod","CISO","physical","demand_response"]
["SDGEAC_SAVER_DA_COMM","NAN",0.1,"caiso_loadmod","CISO","physical","demand_response"]
["SDGEAC_SAVER_DA_RES","NAN",0.1,"caiso_loadmod","CISO","physical","demand_response"]
["SDGEAC_SAVER_DO_COMM","NAN",0.1,"caiso_loadmod","CISO","physical","demand_response"]
["SDGEAC_SAVER_DO_RES","NAN",0.1,"caiso_loadmod","CISO","physical","demand_response"]
["SDSU_GEN","NAN",7,"iid_solar","IID","physical","utility_pv"]
["SEARLS_7_ARGUS","ARGUS COGENERATION",19,"caiso_chp","CISO","physical","cogen"]
["SEAWST_6_LAPOS","SEA WEST ENERGY - SEAWEST",13,"caiso_wind","CISO","physical","in_state_wind_south"]
["SECOND_IMPERIAL01_12","NAN",33,"iid_geothermal","IID","physical","geothermal"]
["SEGS_1_SR2SL2","SUNRAY 2",20,"caiso_solar","CISO","physical","utility_pv"]
["SENTNL_2_CTG1","SENTINEL UNIT 1",107.68,"caiso_peaker1","CISO","physical","gas_ct"]
["SENTNL_2_CTG2","SENTINEL UNIT 2",102.5,"caiso_peaker1","CISO","physical","gas_ct"]
["SENTNL_2_CTG3","SENTINEL UNIT 3",105.69,"caiso_peaker1","CISO","physical","gas_ct"]
["SENTNL_2_CTG4","SENTINEL UNIT 4",106.55,"caiso_peaker1","CISO","physical","gas_ct"]
["SENTNL_2_CTG5","SENTINEL UNIT 5",107.52,"caiso_peaker1","CISO","physical","gas_ct"]
["SENTNL_2_CTG6","SENTINEL UNIT 6",105,"caiso_peaker1","CISO","physical","gas_ct"]
["SENTNL_2_CTG7","SENTINEL UNIT 7",106.73,"caiso_peaker1","CISO","physical","gas_ct"]
["SENTNL_2_CTG8","SENTINEL UNIT 8",106.85,"caiso_peaker1","CISO","physical","gas_ct"]
["SEPV_BOULEVARD_2","NAN",2.9,"caiso_solar","CISO","physical","utility_pv"]
["SEVILLE_2","NAN",32.5,"iid_solar","IID","physical","utility_pv"]
["SGREGY_6_SANGER","ALGONQUIN POWER SANGER 2",48.3,"caiso_chp","CISO","physical","cogen"]
["SHANDN_2_SBBBM1","SAN BERNARDINO BIOGAS",2.6,"caiso_biomass","CISO","physical","biomass_wood"]
["SHEEP_CREEK_ROAD_SOLAR_GENERATION_FACILITY_PROJECT","NAN",3,"caiso_solar","CISO","physical","utility_pv"]
["SHELRF_1_UNITS","SHELL OIL REFINERY AGGREGATE",100,"caiso_peaker2","CISO","physical","gas_ct"]
["SHUTLE_6_CREST","NAN",4,"caiso_solar","CISO","physical","utility_pv"]
["SIERRA_1_UNITS","HIGH SIERRA LIMITED",52.43,"caiso_peaker2","CISO","physical","gas_ct"]
["SIERRASTORAGE","NAN",10,"caiso_li_battery","CISO","physical","hr_batteries"]
["SIGHEB_6_MIRDYN","Heber South",17,"iid_geothermal","IID","specifiedimport","geothermal"]
["SISQUC_1_SMARIA","SANTA MARIA II LFG POWER PLANT",1.42,"caiso_biomass","CISO","physical","biomass_wood"]
["SKERN_6_SOLAR1","SOUTH KERN SOLAR PV PLANT",20,"caiso_solar","CISO","physical","utility_pv"]
["SKERN_6_SOLAR2","SKIC SOLAR",10,"caiso_solar","CISO","physical","utility_pv"]
["SLATE_2_SLASR1","SLATE",50.5,"caiso_solar","CISO","physical","utility_pv"]
["SLATE_2_SLASR2_SUN","Slate_2",46.5,"caiso_solar","CISO","physical","utility_pv"]
["SLATE_2_SLASR2_LESR","Slate_2",46.5,"caiso_li_battery","CISO","physical","hr_batteries"]
["SLATE_2_SLASR3_LESR","SLATE_3",33.799999999999997,"caiso_li_battery","CISO","physical","hr_batteries"]
["SLATE_2_SLASR3_SUN","SLATE_3",33.700000000000003,"caiso_solar","CISO","physical","utility_pv"]
["SLATE_2_SLASR4","SLATE_4",63,"caiso_solar","CISO","physical","utility_pv"]
["SLATE_2_SLASR5_LESR","Slate 5",10,"caiso_li_battery","CISO","physical","hr_batteries"]
["SLATE_2_SLASR5_SUN","Slate 5",16,"caiso_solar","CISO","physical","utility_pv"]
["SLRMS3_2_SRMSR1","SILVER RIDGE MOUNT SIGNAL 3",250,"caiso_solar","CISO","physical","utility_pv"]
["SLST13_2_SOLAR1","QUINTO SOLAR PV PROJECT",107.6,"caiso_solar","CISO","physical","utility_pv"]
["SLSTR1_2_SOLAR1","SOLAR STAR 1",310,"caiso_solar","CISO","physical","utility_pv"]
["SLSTR2_2_SOLAR2","SOLAR STAR 2",276,"caiso_solar","CISO","physical","utility_pv"]
["SLUISP_2_UNITS","SAN LUIS (GIANELLI) PUMP-GEN (AGGREGATE)",374.43,"caiso_pumped_hydro","CISO","physical","pumped_storage"]
["SLYCRK_1_UNIT 1","SLY CREEK HYDRO",13,"caiso_hydro","CISO","physical","hydro"]
["SMPRIP_1_SMPSON","RIPON COGENERATION UNIT 1",46.05,"caiso_peaker1","CISO","physical","cogen"]
["SMRCOS_6_LNDFIL","SAN MARCOS ENERGY",1.5,"caiso_biomass","CISO","physical","biomass_wood"]
["SMUDGO_7_UNIT 1","SONOMA POWER PLANT",64.8,"caiso_geothermal","CISO","physical","geothermal"]
["SMYRNA_1_DL1SR1","DELANO LAND 1",1,"caiso_solar","CISO","physical","utility_pv"]
["SNCLRA_2_HOWLNG","HOUWELINGS NURSERIES OXNARD, INC",13,"caiso_biomass","CISO","physical","biomass_wood"]
["SNCLRA_2_SILBT1","SILVERSTRAND BESS",11,"caiso_li_battery","CISO","physical","hr_batteries"]
["SNCLRA_2_SPRHYD","SPRINGVILLE HYDROELECTRIC GENERATOR",1,"caiso_small_hydro","CISO","physical","small_hydro"]
["SNCLRA_2_UNIT","CHANNEL ISLANDS POWER",27.5,"caiso_chp","CISO","physical","cogen"]
["SNCLRA_2_UNIT1","NEW INDY OXNARD",27.8,"caiso_chp","CISO","physical","cogen"]
["SNCLRA_2_VESBT1","VENTURA ENERGY STORAGE",100,"caiso_li_battery","CISO","physical","hr_batteries"]
["SNCLRA_6_OXGEN","OXGEN",47.7,"caiso_chp","CISO","physical","cogen"]
["SNCLRA_6_PROCGN","PROCTER AND GAMBLE OXNARD 2",47.9,"caiso_chp","CISO","physical","cogen"]
["SNCLRA_6_QF","SANTA CLARA QFS",1.65,"caiso_small_hydro","CISO","physical","small_hydro"]
["SNDBAR_7_UNIT 1","SANDBAR",16.2,"caiso_hydro","CISO","physical","hydro"]
["SNMALF_6_UNITS","SONOMA COUNTY LANDFILL",5,"caiso_biomass","CISO","physical","biomass_wood"]
["SNORA_2_SNRSLR","SG SORRENTO",50,"iid_solar","IID","specifiedimport","utility_pv"]
["SOL_GEN","NAN",20,"iid_solar","IID","physical","utility_pv"]
["SONRISASOLAR","NAN",100,"caiso_solar","CISO","physical","utility_pv"]
["SONRISASTORAGE","NAN",30,"caiso_li_battery","CISO","physical","hr_batteries"]
["SOUTH_2_UNIT","SOUTH HYDRO",7.1,"caiso_small_hydro","CISO","physical","small_hydro"]
["SPA_COGEN_3_CC","NAN",157,"banc_ccgt","BANC","physical","gas_cc"]
["SPANSH_6_FBEHY1","FIVE BEARS HYDROELECTRIC",0.99,"caiso_hydro","CISO","physical","hydro"]
["SPAULD_6_UNIT 3","SPAULDING HYDRO PH 3 UNIT",6.5,"caiso_hydro","CISO","physical","hydro"]
["SPAULD_6_UNIT12","SPAULDING HYDRO PH 1 & 2 AGGREGATE",11.4,"caiso_hydro","CISO","physical","hydro"]
["SPBURN_2_UNIT 1","BURNEY BIOMASS",22,"caiso_biomass","CISO","physical","biomass_wood"]
["SPBURN_7_SNOWMT","BURNEY CREEK HYDRO",3,"caiso_small_hydro","CISO","physical","small_hydro"]
["SPI LI_2_UNIT 1","LINCOLN BIOMASS",17.2,"caiso_biomass","CISO","physical","biomass_wood"]
["SPIAND_1_ANDSN2","SPI ANDERSON 2",27.15,"caiso_biomass","CISO","physical","biomass_wood"]
["SPICER_1_UNITS","SPICER HYDRO UNITS 1-3 AGGREGATE",6,"caiso_small_hydro","CISO","physical","small_hydro"]
["SPIFBD_1_PL1X2","SIERRA PACIFIC IND. (SONORA)",7.5,"caiso_biomass","CISO","physical","biomass_wood"]
["SPOINT_2_MEADDYN","SPOINT_2_MEADDYN",325,"SW_CCGT","WALC","specifiedimport","gas_cc"]
["SPOINT_2_PARKERDYN","SOUTHPOINT ENERGY CENTER",200,"SW_CCGT","WALC","specifiedimport","gas_cc"]
["SPQUIN_6_SRPCQU","QUINCY BIOMASS",24,"caiso_biomass","CISO","physical","biomass_wood"]
["SPRGAP_1_UNIT 1","SPRING GAP HYDRO",7,"caiso_hydro","CISO","physical","hydro"]
["SPRGVL_2_CREST","NAN",14,"caiso_solar","CISO","physical","utility_pv"]
["SPRGVL_2_EXETPV","EXETER TULARE PV",3.5,"caiso_solar","CISO","physical","utility_pv"]
["SPRGVL_2_LINDPV","LINDSAY TULARE PV",4,"caiso_solar","CISO","physical","utility_pv"]
["SPRGVL_2_PORTPV","PORTERVILLE TULARE PV",3.5,"caiso_solar","CISO","physical","utility_pv"]
["SPRGVL_2_QF","SPRINGVILLE QFS",0.18,"caiso_small_hydro","CISO","physical","cogen"]
["SPRGVL_2_TULE","TULE RIVER HYDRO PLANT (PG&E)",6.4,"caiso_small_hydro","CISO","physical","small_hydro"]
["SPRGVL_2_TULESC","TULE RIVER HYDRO PLANT (SCE)",2.5,"caiso_small_hydro","CISO","physical","small_hydro"]
["SPRINGBOK_1","NAN",108,"ldwp_solar","LADWP","physical","utility_pv"]
["SPRINGBOK_2","NAN",165,"ldwp_solar","LADWP","physical","utility_pv"]
["SPRINGBOK_3","NAN",90,"ldwp_solar","LADWP","physical","utility_pv"]
["SRINTL_6_UNIT","SRI INTERNATIONAL",6.9,"caiso_chp","CISO","physical","cogen"]
["STANIS_7_UNIT 1","STANISLAUS HYDRO",91,"caiso_hydro","CISO","physical","hydro"]
["STANTN_2_STAGT1","STANTON 1",49.65,"caiso_peaker1","CISO","physical","gas_ct"]
["STANTN_2_STAGT2","STANTON 2",49.65,"caiso_peaker1","CISO","physical","gas_ct"]
["STAUFF_1_UNIT","NAN",4.5999999999999996,"caiso_chp","CISO","physical","cogen"]
["STIGCT_2_LODI","LODI STIG UNIT",49.9,"caiso_peaker2","CISO","physical","gas_ct"]
["STNRES_1_UNIT","COVANTA STANISLAUS",19.899999999999999,"caiso_biomass","CISO","physical","biomass_wood"]
["STOILS_1_UNITS","CHEVRON RICHMOND REFINERY",56.2,"caiso_chp","CISO","physical","cogen"]
["STOREY_2_MDRCH2","MADERA CHOWCHILLA 2",0.56000000000000005,"caiso_small_hydro","CISO","physical","small_hydro"]
["STOREY_2_MDRCH3","MADERA CHOWCHILLA 3",0.42,"caiso_small_hydro","CISO","physical","small_hydro"]
["STOREY_2_MDRCH4","MADERA CHOWCHILLA 4",0.92,"caiso_small_hydro","CISO","physical","small_hydro"]
["STOREY_7_MDRCHW","MADERA CANAL SITE 980",1.84,"caiso_small_hydro","CISO","physical","small_hydro"]
["STRAUSSWIND","NAN",99,"caiso_wind","CISO","physical","in_state_wind_south"]
["STROUD_6_SOLAR","STROUD SOLAR STATION",20,"caiso_solar","CISO","physical","utility_pv"]
["STROUD_6_WWHSR1","WINTER WHEAT SOLAR FARM",1.5,"caiso_solar","CISO","physical","utility_pv"]
["SUMWHT_6_SWSSR1","SUMMER WHEAT SOLAR FARM",18.5,"caiso_solar","CISO","physical","utility_pv"]
["SUN_EDISON_VICTORVILLE_SOLAR","NAN",10,"caiso_solar","CISO","physical","utility_pv"]
["SUNCAT_2_A1ABT1","Arlington Solar Unit 1A BESS",43,"caiso_li_battery","CISO","physical","hr_batteries"]
["SUNCAT_2_A1BBT1","Arlington Solar Unit 1B BESS",67,"caiso_li_battery","CISO","physical","hr_batteries"]
["SUNCAT_2_A2ABT2","Arlington Solar Unit 2A BESS",132,"caiso_li_battery","CISO","physical","hr_batteries"]
["SUNPEAK_IID","NAN",23,"iid_solar","IID","physical","utility_pv"]
["SUNRIS_2_PL1X3","SUNRISE POWER PROJECT AGGREGATE II",586.02,"caiso_ccgt1","CISO","physical","gas_cc"]
["SUNSET_2_UNITS","MIDWAY SUNSET COGENERATION PLANT",248,"caiso_peaker1","CISO","physical","cogen"]
["SUNSHN_2_LNDFL","SUNSHINE GAS PRODUCERS",20,"caiso_biomass","CISO","physical","biomass_wood"]
["SUNSLR_1_SSVSR1","SUNSHINE VALLEY SOLAR 1",100,"caiso_solar","CISO","physical","utility_pv"]
["SUNSPT_2_WNASR1","WINDHUB SOLAR A",20,"caiso_solar","CISO","physical","utility_pv"]
["SUNST2_5_SS2SR1","SUN STREAMS SOLAR 2",150,"caiso_solar","CISO","physical","utility_pv"]
["SUNSTR_5_SS1SCEDYN","SUNSTREAM SOLAR 1",150,"SW_SOLAR","AZPS","specifiedimport","out_of_state_wind_AZNM"]
["SUTTER_2_CISO","SUTTER POWER PLANT PSEUDO-CISO",275,"caiso_ccgt1","BANC","specifiedimport","gas_cc"]
["SUTTERENERGYCC_TOTAL","SUTTER POWER PLANT",250,"banc_ccgt","BANC","physical","gas_cc"]
["SWIFT_1_NAS","YERBA BUENA BATTERY",4.8,"caiso_li_battery","CISO","physical","hr_batteries"]
["SYCAMR_2_UNIT 1","SYCAMORE COGENERATION UNIT 1",86,"caiso_chp","CISO","physical","cogen"]
["SYCAMR_2_UNIT 2","SYCAMORE COGENERATION UNIT 2",78,"caiso_peaker1","CISO","physical","gas_ct"]
["SYCAMR_2_UNIT 3","SYCAMORE COGENERATION UNIT 3",78,"caiso_chp","CISO","physical","cogen"]
["SYCAMR_2_UNIT 4","SYCAMORE COGENERATION UNIT 4",78,"caiso_peaker1","CISO","physical","gas_ct"]
["TANHIL_6_SOLART","BERRY COGEN 18",17,"caiso_chp","CISO","physical","cogen"]
["TBLMTN_6_QF","SMALL QF AGGREGATION - PARADISE",1.7,"caiso_small_hydro","CISO","physical","small_hydro"]
["TECOLOTE_3_WBDYN","TECOLOTE WIND",271.68,"caiso_wind","PNM","specifiedimport","out_of_state_wind_AZNM"]
["TEHAPI_2_PW1WD1","POINT WIND 1",47.49,"caiso_wind","CISO","physical","in_state_wind_south"]
["TEHAPI_2_PW2WD2","POINT WIND 2",14.4,"caiso_wind","CISO","physical","in_state_wind_south"]
["TEHAPI_2_WIND1","WIND WALL MONOLITH 1",19.850000000000001,"caiso_wind","CISO","physical","in_state_wind_south"]
["TEHAPI_2_WIND2","WIND WALL MONOLITH 2",23.66,"caiso_wind","CISO","physical","in_state_wind_south"]
["TENGEN_2_PL1X2","BERRY COGEN 42",40.200000000000003,"caiso_chp","CISO","physical","cogen"]
["TERMEX_2_PL1X3","TDM",625,"caiso_ccgt1","CISO","physical","gas_cc"]
["TESLA_1_QF","SMALL QF AGGREGATION - STOCKTON",2,"caiso_small_hydro","CISO","physical","small_hydro"]
["THERMONO1_2","NAN",14,"caiso_geothermal","CISO","physical","geothermal"]
["THREE_MILE_CANYON","NAN",9.9,"nw_wind","PACW","physical","out_of_state_wind_WAOR"]
["TIDWTR_2_UNITS","MARTINEZ COGEN LIMITED PARTNERSHIP",114.8,"caiso_chp","CISO","physical","cogen"]
["TIERRA_DEL_SOL__SOLAR_FARM","NAN",45,"iid_solar","IID","physical","utility_pv"]
["TIFFNY_1_DILLON","TIFFNY_1_DILLON",45,"caiso_wind","CISO","physical","in_state_wind_south"]
["TIGRCK_7_UNITS","TIGER CREEK HYDRO AGGREGATE",62,"caiso_hydro","CISO","physical","hydro"]
["TITANS_2_TTSSR1","TITAN SOLAR 1 PSEUDO",70,"caiso_solar","IID","specifiedimport","utility_pv"]
["TKOPWR_6_HYDRO","BEAR CREEK HYDROELECTRIC PROJECT",2.83,"caiso_small_hydro","CISO","physical","small_hydro"]
["TMPLTN_2_SOLAR","VINTNER SOLAR",1.5,"caiso_solar","CISO","physical","utility_pv"]
["TOADTW_6_UNIT","TOAD TOWN",1.5,"caiso_small_hydro","CISO","physical","small_hydro"]
["TOPAZ_2_SOLAR","TOPAZ SOLAR FARMS",550,"caiso_solar","CISO","physical","utility_pv"]
["TORTLA_1_SOLAR","LONGBOAT SOLAR",20,"caiso_solar","CISO","physical","utility_pv"]
["TOWNSITE_2_MEADDYN_LESR","Townsite Solar BESS",90,"caiso_li_battery","CISO","physical","hr_batteries"]
["TOWNSITE_2_MEADDYN_SUN","Townsite Solar BESS",90,"caiso_solar","CISO","physical","utility_pv"]
["TRNQL8_2_AMASR1","TRANQUILLITY 8 AMARILLO",20,"caiso_solar","CISO","physical","utility_pv"]
["TRNQL8_2_AZUSR1","TRANQUILLITY 8 AZUL",20,"caiso_solar","CISO","physical","utility_pv"]
["TRNQL8_2_ROJSR1","TRANQUILLITY 8 ROJO",100,"caiso_solar","CISO","physical","utility_pv"]
["TRNQL8_2_VERSR1","TRANQUILLITY 8 VERDE",60,"caiso_solar","CISO","physical","utility_pv"]
["TRNQLT_2_RETBT1","NAN",72,"caiso_li_battery","CISO","physical","hr_batteries"]
["TRNQLT_2_SOLAR","TRANQUILLITY",200,"caiso_solar","CISO","physical","utility_pv"]
["TRNSWD_1_QF","FPL ENERGY C WIND",38.97,"caiso_wind","CISO","physical","in_state_wind_south"]
["TULARE_2_TULBM1","TULARE BIOMAT FUEL CELL",2.8,"caiso_biomass","CISO","physical","biomass_wood"]
["TULEWD_1_TULWD1","TULE WIND",130.5,"caiso_wind","CISO","physical","in_state_wind_south"]
["TULLCK_7_UNITS","TULLOCK HYDRO",25.9,"caiso_hydro","CISO","physical","hydro"]
["TUPMAN_1_BIOGAS","ABEC BIDART-STOCKALE #1",0.6,"caiso_biomass","CISO","physical","biomass_wood"]
["TVYVLY_6_KRSHY1","Kings River Syphon",1.3,"caiso_hydro","CISO","physical","hydro"]
["TWISSL_6_SOLAR","NICKEL 1 (\"NLH1\")",1.5,"caiso_solar","CISO","physical","utility_pv"]
["TWISSL_6_SOLAR1","CORONAL LOST HILLS",20,"caiso_solar","CISO","physical","utility_pv"]
["TX_ELK_6_SOLAR1","CASTOR",1.5,"caiso_solar","CISO","physical","utility_pv"]
["TX-ELK_6_ECKSR2","EAGLE CREEK",3,"caiso_solar","CISO","physical","utility_pv"]
["TXMCKT_6_UNIT","MCKITTRICK COGEN",11.2,"caiso_chp","CISO","physical","cogen"]
["UC_DAVIS_MC","NAN",27,"banc_ccgt","BANC","physical","gas_cc"]
["UKIAH_7_LAKEMN","UKIAH LAKE MENDOCINO HYDRO",3.5,"caiso_small_hydro","CISO","physical","small_hydro"]
["ULTPCH_1_UCSBT1","Ultrapower Chinese Station BESS",10,"caiso_li_battery","CISO","physical","hr_batteries"]
["ULTPCH_1_UNIT 1","PACIFIC ULTRAPOWER CHINESE STATION",18,"caiso_biomass","CISO","physical","biomass_wood"]
["ULTPFR_1_UNIT 1","RIO BRAVO FRESNO",24.3,"caiso_biomass","CISO","physical","biomass_wood"]
["ULTRCK_2_UNIT","RIO BRAVO ROCKLIN",24.4,"caiso_biomass","CISO","physical","biomass_wood"]
["UNCHEM_1_UNIT","CONTRA COSTA CARBON PLANT",19,"caiso_chp","CISO","physical","cogen"]
["UNOCAL_1_UNITS","TOSCO (RODEO PLANT)",49.85,"caiso_chp","CISO","physical","cogen"]
["UNVRSY_1_UNIT 1","BERRY COGEN 38 - UNIT 1",38,"caiso_chp","CISO","physical","cogen"]
["USWND2_1_WIND1","GOLDEN HILLS A",42.96,"caiso_wind","CISO","physical","in_state_wind_north"]
["USWND2_1_WIND2","GOLDEN HILLS B",42.96,"caiso_wind","CISO","physical","in_state_wind_north"]
["USWND2_1_WIND3","GOLDEN HILLS C",46,"caiso_wind","CISO","physical","in_state_wind_north"]
["USWND4_2_UNIT2","ALTAMONT LANDFILL GAS TO ENERGY",7.4,"caiso_biogas","CISO","physical","biogas"]
["USWNDR_2_LABWD1","LABRISA WIND PROJECT",9,"caiso_wind","CISO","physical","in_state_wind_north"]
["USWNDR_2_SMUD","SOLANO WIND FARM",102.18,"caiso_wind","CISO","physical","in_state_wind_north"]
["USWNDR_2_SMUD2","SOLANO WIND PROJECT PHASE 3",127.8,"caiso_wind","CISO","physical","in_state_wind_north"]
["USWNDR_2_UNITS","NAN",8,"caiso_wind","CISO","physical","in_state_wind_south"]
["USWPFK_6_FRICK","FRICK SUMMIT WIND REPOWER",10,"caiso_wind","CISO","physical","in_state_wind_north"]
["USWPJR_2_UNITS","VASCO WIND",78.2,"caiso_wind","CISO","physical","in_state_wind_north"]
["V2_GEN","NAN",3.1,"iid_solar","IID","physical","utility_pv"]
["V3_GEN","NAN",3.1,"iid_solar","IID","physical","utility_pv"]
["VACADX_1_NAS","VACA-DIXON BATTERY",0.7,"caiso_li_battery","CISO","physical","hr_batteries"]
["VACADX_1_SOLAR","VACA-DIXON SOLAR STATION",2.5,"caiso_solar","CISO","physical","utility_pv"]
["VACADX_1_UNITA1","CALPEAK POWER VACA DIXON UNIT 1",50.61,"caiso_peaker2","CISO","physical","gas_ct"]
["VALLEY_5_PERRIS","MWD PERRIS HYDROELECTRIC RECOVERY PLANT",7.94,"caiso_small_hydro","CISO","physical","small_hydro"]
["VALLEY_5_REDMTN","MWD RED MOUNTAIN HYDROELECTRIC RECOVERY",5.9,"caiso_hydro","CISO","physical","hydro"]
["VALLEY_5_RTS044","NAN",8,"caiso_solar","CISO","physical","utility_pv"]
["VALLEY_5_SOLAR1","KONA SOLAR - MERIDIAN #1",1.49,"caiso_solar","CISO","physical","utility_pv"]
["VALLEY_5_SOLAR2","AP NORTH LAKE SOLAR",20,"caiso_solar","CISO","physical","utility_pv"]
["VALLEY_CC","NAN",529,"ldwp_ccgt","LADWP","physical","gas_cc"]
["VALLEY_UNIT_5","NAN",47,"ldwp_peaker","LADWP","physical","gas_ct"]
["VALTNE_2_AVASR1","VALENTINE SOLAR",100,"caiso_solar","CISO","physical","utility_pv"]
["VALTNE_2_TBBBT1","NAN",128,"caiso_solar","CISO","physical","utility_pv"]
["VALTNE_2_TRSBT1","Tropico Solar",70,"caiso_li_battery","CISO","physical","hr_batteries"]
["VAN_DER_KOOI_DAIRY_DIGESTER","NAN",0.8,"caiso_biogas","CISO","physical","biogas"]
["VEAVST_1_SOLAR","COMMUNITY SOLAR",14.4,"caiso_solar","CISO","physical","utility_pv"]
["VEDDER_1_SEKERN","TEXACO EXPLORATION & PROD (SE KERN RIVER",34.47,"caiso_chp","CISO","physical","cogen"]
["VEGA_6_SOLAR1","VEGA SOLAR",20,"caiso_solar","CISO","physical","utility_pv"]
["VENWD_1_WIND1","Windpark Unlimited 1",12.19591471,"caiso_wind","CISO","physical","in_state_wind_south"]
["VENWD_1_WIND2","Windpark Unlimited 2",16,"caiso_wind","CISO","physical","in_state_wind_south"]
["VENWD_1_WIND3","PAINTED HILLS",44.53,"caiso_wind","CISO","physical","in_state_wind_south"]
["VERNON_6_GONZL1","H. GONZALES UNIT #1",5.75,"caiso_peaker1","CISO","physical","gas_ct"]
["VERNON_6_GONZL2","H. GONZALES UNIT #2",5.75,"caiso_peaker1","CISO","physical","gas_ct"]
["VERNON_6_MALBRG","MALBURG GENERATING STATION",134,"caiso_ccgt2","CISO","physical","gas_cc"]
["VESTAL_2_KERN","KERN RIVER PH 3 UNITS 1 & 2 AGGREGATE",36.799999999999997,"caiso_hydro","CISO","physical","hydro"]
["VESTAL_2_RTS042","SPVP042 PORTERVILLE SOLAR",5,"caiso_solar","CISO","physical","utility_pv"]
["VESTAL_2_SOLAR1","NICOLIS",20,"caiso_solar","CISO","physical","utility_pv"]
["VESTAL_2_SOLAR2","TROPICO",14,"caiso_solar","CISO","physical","utility_pv"]
["VESTAL_2_TS5SR1","TULARE SOLAR 5",55.8,"caiso_solar","CISO","physical","utility_pv"]
["VESTAL_2_UNIT1","CALGREN-PIXLEY",5,"caiso_chp","CISO","physical","cogen"]
["VESTAL_2_WELLHD","WELLHEAD POWER DELANO",49,"caiso_peaker1","CISO","physical","gas_ct"]
["VESTAL_6_QF","ISABELLA HYDRO DAM 1",11.95,"caiso_small_hydro","CISO","physical","small_hydro"]
["VICTOR_1_CREST","NAN",24.49,"caiso_solar","CISO","physical","utility_pv"]
["VICTOR_1_EXSLRA","EXPRESSWAY SOLAR A",2,"caiso_solar","CISO","physical","utility_pv"]
["VICTOR_1_EXSLRB","EXPRESSWAY SOLAR B",2,"caiso_solar","CISO","physical","utility_pv"]
["VICTOR_1_LVSLR1","LONE VALLEY SOLAR PARK 1",10,"caiso_solar","CISO","physical","utility_pv"]
["VICTOR_1_LVSLR2","LONE VALLEY SOLAR PARK 2",20,"caiso_solar","CISO","physical","utility_pv"]
["VICTOR_1_SLRHES","SUNEDISON - HESPERIA",1.5,"caiso_solar","CISO","physical","utility_pv"]
["VICTOR_1_SOLAR1","VICTOR PHELAN SOLAR ONE",17.5,"caiso_solar","CISO","physical","utility_pv"]
["VICTOR_1_SOLAR2","ALAMO SOLAR",20,"caiso_solar","CISO","physical","utility_pv"]
["VICTOR_1_SOLAR3","ADELANTO SOLAR 2",7,"caiso_solar","CISO","physical","utility_pv"]
["VICTOR_1_SOLAR4","ADELANTO SOLAR",20,"caiso_solar","CISO","physical","utility_pv"]
["VICTOR_1_VDRYFA","VICTOR DRY FARM RANCH A",5,"caiso_solar","CISO","physical","utility_pv"]
["VICTOR_1_VDRYFB","VICTOR DRY FARM RANCH B",5,"caiso_solar","CISO","physical","utility_pv"]
["VILLPK_2_VALLYV","MWD VALLEY VIEW HYDROELECTRIC RECOVERY P",4.0999999999999996,"caiso_hydro","CISO","physical","hydro"]
["VILLPK_6_MWDYOR","YORBA LINDA HYDROELECTRIC RECOVERY PLANT",5.0999999999999996,"caiso_hydro","CISO","physical","hydro"]
["VINCNT_2_QF","NAN",207,"caiso_wind","CISO","physical","in_state_wind_south"]
["VINCNT_2_WESTWD","NAN",59,"caiso_wind","CISO","physical","in_state_wind_south"]
["VISTA_2_FCELL","CSUSB FUEL CELL",1.4,"caiso_chp","CISO","physical","cogen"]
["VISTA_2_RIALTO","RIALTO RT SOLAR",1,"caiso_solar","CISO","physical","utility_pv"]
["VISTA_2_RTS028","SPVP028",3.5,"caiso_solar","CISO","physical","utility_pv"]
["VISTA_6_QF","VISTA QFS",0.18,"caiso_small_hydro","CISO","physical","small_hydro"]
["VISTRA_5_DALBT1","DALLAS ENERGY STORAGE",100,"caiso_li_battery","CISO","physical","hr_batteries"]
["VISTRA_5_DALBT2","DALLAS ENERGY STORAGE 2",100,"caiso_li_battery","CISO","physical","hr_batteries"]
["VISTRA_5_DALBT3","DALLAS ENERGY STORAGE 3",100,"caiso_li_battery","CISO","physical","hr_batteries"]
["VISTRA_5_DALBT4","DALLAS ENERGY STORAGE 4",100,"caiso_li_battery","CISO","physical","hr_batteries"]
["VLCNTR_6_VCEBT1","Valley Center Energy Storage",54,"caiso_li_battery","CISO","physical","hr_batteries"]
["VLCNTR_6_VCEBT2","Valley Center Energy Storage B",50,"caiso_li_battery","CISO","physical","hr_batteries"]
["VLCNTR_6_VCSLR","COLE GRADE",2.33,"caiso_solar","CISO","physical","utility_pv"]
["VLCNTR_6_VCSLR1","VALLEY CENTER 1",2.5,"caiso_solar","CISO","physical","utility_pv"]
["VLCNTR_6_VCSLR2","VALLEY CENTER 2",5,"caiso_solar","CISO","physical","utility_pv"]
["VLYHOM_7_SSJID","WOODWARD POWER PLANT",3,"caiso_small_hydro","CISO","physical","small_hydro"]
["VOLTA_2_UNIT 1","VOLTA HYDRO UNIT 1",9.1,"caiso_hydro","CISO","physical","hydro"]
["VOLTA_2_UNIT 2","VOLTA HYDRO UNIT 2",1,"caiso_hydro","CISO","physical","hydro"]
["VOLTA_6_BAILCK","BAILEY CREEK RANCH",0.63,"caiso_hydro","CISO","physical","hydro"]
["VOLTA_6_DIGHYD","DIGGER CREEK RANCH HYDRO",0.6,"caiso_small_hydro","CISO","physical","small_hydro"]
["VOLTA_7_PONHY1","VOLTA_7_PONHY1",1.25,"caiso_hydro","CISO","physical","hydro"]
["VOLTA_7_QFUNTS","VOLTA_7_QFUNTS",0.15,"caiso_small_hydro","CISO","physical","small_hydro"]
["VOYAGR_2_VOAWD5","VOYAGER WIND OASIS ALTA",13.98,"caiso_wind","CISO","physical","in_state_wind_south"]
["VOYAGR_2_VOYWD1","VOYAGER 1",128.91,"caiso_wind","CISO","physical","in_state_wind_south"]
["VOYAGR_2_VOYWD2","VOYAGER WIND 2",126.35,"caiso_wind","CISO","physical","in_state_wind_south"]
["VOYAGR_2_VOYWD3","VOYAGER WIND 3",42.45,"caiso_wind","CISO","physical","in_state_wind_south"]
["VOYAGR_2_VOYWD4","VOYAGER WIND 4",21.01,"caiso_wind","CISO","physical","in_state_wind_south"]
["VSTAES_6_VESBT1","VISTA ENERGY STORAGE",40,"caiso_li_battery","CISO","physical","hr_batteries"]
["VULCAN_1","NAN",38,"iid_geothermal","IID","physical","geothermal"]
["VULCAN_2","NAN",10.74,"iid_geothermal","IID","physical","geothermal"]
["VULCAN_EXPANDER","NAN",10.5,"iid_geothermal","IID","physical","geothermal"]
["WADHAM_6_UNIT","WADHAM ENERGY LP",29.07,"caiso_biomass","CISO","physical","biomass_wood"]
["WALCRK_2_CTG1","WALNUT CREEK ENERGY PARK UNIT 1",96.43,"caiso_peaker1","CISO","physical","gas_ct"]
["WALCRK_2_CTG2","WALNUT CREEK ENERGY PARK UNIT 2",96.91,"caiso_peaker1","CISO","physical","gas_ct"]
["WALCRK_2_CTG3","WALNUT CREEK ENERGY PARK UNIT 3",96.65,"caiso_peaker1","CISO","physical","gas_ct"]
["WALCRK_2_CTG4","WALNUT CREEK ENERGY PARK UNIT 4",96.49,"caiso_peaker1","CISO","physical","gas_ct"]
["WALCRK_2_CTG5","WALNUT CREEK ENERGY PARK UNIT 5",96.65,"caiso_peaker1","CISO","physical","gas_ct"]
["WALNUT_2_SOLAR","INDUSTRY METROLINK PV 1",1.5,"caiso_solar","CISO","physical","utility_pv"]
["WALNUT_6_HILLGEN","PUENTE HILLS",47,"caiso_biomass","CISO","physical","biomass_wood"]
["WALNUT_7_WCOVCT","NAN",0.2,"caiso_geothermal","CISO","physical","geothermal"]
["WALNUT_7_WCOVST","MM WEST COVINA - ST UNIT",6.5,"caiso_biomass","CISO","physical","biomass_wood"]
["WARNE_2_UNIT","WARNE HYDRO AGGREGATE",76,"caiso_hydro","CISO","physical","hydro"]
["WAUKNA_1_SOLAR","CORCORAN SOLAR",20,"caiso_solar","CISO","physical","utility_pv"]
["WAUKNA_1_SOLAR2","CORCORAN 2",19.75,"caiso_solar","CISO","physical","utility_pv"]
["WDLEAF_7_UNIT 1","WOODLEAF HYDRO",60,"caiso_hydro","CISO","physical","hydro"]
["WEBER_6_FORWRD","FORWARD",4.2,"caiso_biomass","CISO","physical","biomass_wood"]
["WESTLANDSSOLAR","NAN",19.88,"caiso_solar","CISO","physical","utility_pv"]
["WESTPT_2_UNIT","WEST POINT HYDRO PLANT",14,"caiso_small_hydro","CISO","physical","small_hydro"]
["WFRESN_1_SOLAR","JOYA DEL SOL",1.5,"caiso_solar","CISO","physical","utility_pv"]
["WHEATL_6_LNDFIL","G2 ENERGY, OSTROM ROAD LLC",3.55,"caiso_biomass","CISO","physical","biomass_wood"]
["WHITEH_2_MEADDYN1","WHITE HILLS A",50,"caiso_wind","WALC","specifiedimport","out_of_state_wind_AZNM"]
["WHITEH_2_MEADDYN2","WHITE HILLS B",300,"caiso_wind","WALC","specifiedimport","out_of_state_wind_AZNM"]
["WHITNY_6_SOLAR","WHITNEY POINT SOLAR",20,"caiso_solar","CISO","physical","utility_pv"]
["WHTWTR_1_WINDA1","WHITEWATER HILL WIND PROJECT",61.5,"caiso_wind","CISO","physical","in_state_wind_south"]
["WILLMS_6_ARBBM1","Abel Road Bioenergy",3,"caiso_biomass","CISO","physical","biogas"]
["WILSONASOLAR","NAN",14,"caiso_solar","CISO","physical","utility_pv"]
["WISE_1_UNIT 1","WISE HYDRO UNIT 1",14.5,"caiso_hydro","CISO","physical","hydro"]
["WISE_1_UNIT 2","WISE HYDRO UNIT 2",3.2,"caiso_hydro","CISO","physical","hydro"]
["WISHON_6_UNITS","WISHON/SAN JOAQUIN  #1-A AGGREGATE",18.399999999999999,"caiso_small_hydro","CISO","physical","small_hydro"]
["WISTER_2_WISSR1","Wister Solar",20,"caiso_solar","CISO","physical","utility_pv"]
["WISTRA_2_WRSSR1","WISTARIA RANCH SOLAR",100,"caiso_solar","CISO","physical","utility_pv"]
["WLDWD_1_SOLAR1","WILDWOOD SOLAR I",20,"caiso_solar","CISO","physical","utility_pv"]
["WLDWD_1_SOLAR2","WILDWOOD SOLAR 2",15,"caiso_solar","CISO","physical","utility_pv"]
["WNDMAS_2_UNIT 1","BUENA VISTA ENERGY, LLC",38,"caiso_wind","CISO","physical","in_state_wind_north"]
["WNDSTR_2_WIND","WINDSTAR",120,"caiso_wind","CISO","physical","in_state_wind_south"]
["WOLFSK_1_UNITA1","WOLFSKILL ENERGY CENTER",46.9,"caiso_peaker2","CISO","physical","gas_ct"]
["WOODLAND_1","NAN",49,"banc_peaker","BANC","physical","gas_ct"]
["WOODLAND_3A","NAN",8.1999999999999993,"banc_reciprocating_engine","BANC","physical","ice"]
["WOODLAND_3B","NAN",8.1999999999999993,"banc_reciprocating_engine","BANC","physical","ice"]
["WOODLAND_3C","NAN",8.1999999999999993,"banc_reciprocating_engine","BANC","physical","ice"]
["WOODLAND_3D","NAN",8.1999999999999993,"banc_reciprocating_engine","BANC","physical","ice"]
["WOODLAND_3E","NAN",8.1999999999999993,"banc_reciprocating_engine","BANC","physical","ice"]
["WOODLAND_3F","NAN",8.1999999999999993,"banc_reciprocating_engine","BANC","physical","ice"]
["WOODLAND_CC","NAN",84.2,"banc_ccgt","BANC","physical","gas_cc"]
["WOODWR_1_HYDRO","QUINTEN LUALLEN",7.3,"caiso_hydro","CISO","physical","hydro"]
["WRGHTP_7_AMENGY","SMALL QF AGGREGATION - LOS BANOS",2.5,"caiso_hydro","CISO","physical","hydro"]
["WRGTSR_2_WSFSR1","WRIGHT SOLAR FREEMAN",200,"caiso_solar","CISO","physical","utility_pv"]
["WRIGHTFREEMANSTORAGE","NAN",80,"caiso_li_battery","CISO","physical","hr_batteries"]
["WSENGY_1_UNIT 1","WHEELABRATOR SHASTA",50,"caiso_biomass","CISO","physical","biomass_wood"]
["WSNR_2_CVPDYN","CENTRAL VALLEY 1",10,"caiso_hydro","BANC","specifiedimport","hydro"]
["WSNR_2_TESLADYN","CENTRAL VALLEY TESLA",10,"caiso_hydro","BANC","specifiedimport","hydro"]
["WSNR_5_TRCYDYN","CENTRAL VALLEY TRACY",10,"caiso_hydro","BANC","specifiedimport","hydro"]
["WSTWND_2_M89WD1_LESR","Mojave 89",70.599999999999994,"caiso_li_battery","CISO","physical","hr_batteries"]
["WSTWND_2_M89WD1_WIND","Mojave 89",82.65,"caiso_wind","CISO","physical","in_state_wind_south"]
["WSTWND_2_M90BT1","MOJAVE 90 BESS 1A",15.71,"caiso_li_battery","CISO","physical","hr_batteries"]
["WSTWND_2_M90WD2","MOJAVE 90",48.85,"caiso_wind","CISO","physical","in_state_wind_south"]
["WSTWND_2_SBSBT1","Sagebrush Solar 2",80,"caiso_li_battery","CISO","physical","hr_batteries"]
["YUBACT_1_SUNSWT","YUBA CITY COGEN",49.97,"caiso_chp","CISO","physical","cogen"]
["YUBACT_6_UNITA1","YUBA CITY ENERGY CENTER (CALPINE)",47.6,"caiso_peaker2","CISO","physical","gas_ct"]
["YUCCA_GT21","NAN",22,"iid_peaker","IID","physical","gas_ct"]
["YUCCA_ST1","NAN",75,"iid_st","IID","physical","steam"]
["ZOND_6_UNIT","ZOND WINDSYSTEMS INC.",17.100000000000001,"caiso_wind","CISO","physical","in_state_wind_north"]
["_BRANCH_GENERIC_AMARGO_ITC","AMARGOSA230",null,"nan","NAN","unspecifiedimport","n/a"]
["_BRANCH_GENERIC_BLYTHE_ITC","BLYTHE161",null,"nan","NAN","unspecifiedimport","n/a"]
["_BRANCH_GENERIC_CASCADE_ITC","CRAG",null,"nan","NAN","unspecifiedimport","n/a"]
["_BRANCH_GENERIC_CFE_ITC","CFETIJ & CFEROA",null,"nan","NAN","unspecifiedimport","n/a"]
["_BRANCH_GENERIC_COTPISO_ITC","TRCYCOTPISO",null,"nan","NAN","unspecifiedimport","n/a"]
["_BRANCH_GENERIC_CTW230_ITC","CTW230",null,"nan","NAN","unspecifiedimport","n/a"]
["_BRANCH_GENERIC_ELDORADO_ITC","WILLOWBEACH",null,"nan","NAN","unspecifiedimport","n/a"]
["_BRANCH_GENERIC_GONDIPPDC_ITC","GONIPP",null,"nan","NAN","unspecifiedimport","n/a"]
["_BRANCH_GENERIC_IID-SCE_ITC","MIR2",null,"nan","NAN","unspecifiedimport","n/a"]
["_BRANCH_GENERIC_IID-SDGE_ITC","IVLY2",null,"nan","NAN","unspecifiedimport","n/a"]
["_BRANCH_GENERIC_IPPDCADLN_ITC","IPP & IPPUTAH",null,"nan","NAN","unspecifiedimport","n/a"]
["_BRANCH_GENERIC_LAUGHLIN_ITC","MOHAVE500",null,"nan","NAN","unspecifiedimport","n/a"]
["_BRANCH_GENERIC_LLNL_ITC","LLL115",null,"nan","NAN","unspecifiedimport","n/a"]
["_BRANCH_GENERIC_MALIN500_ISL","MALIN500",null,"nan","NAN","unspecifiedimport","n/a"]
["_BRANCH_GENERIC_MARBLE_ITC","MARBLE60",null,"nan","NAN","unspecifiedimport","n/a"]
["_BRANCH_GENERIC_MCCLMKTPC_ITC","MCCULLOUG500",null,"nan","NAN","unspecifiedimport","n/a"]
["_BRANCH_GENERIC_MCCULLGH_ITC","ELDORADO500",null,"nan","NAN","unspecifiedimport","n/a"]
["_BRANCH_GENERIC_MEADMKTPC_ITC","MEAD5MSCHD",null,"nan","NAN","unspecifiedimport","n/a"]
["_BRANCH_GENERIC_MEADTMEAD_ITC","MEAD2MSCHD",null,"nan","NAN","unspecifiedimport","n/a"]
["_BRANCH_GENERIC_MEAD_ITC","MEAD230",null,"nan","NAN","unspecifiedimport","n/a"]
["_BRANCH_GENERIC_MERCHANT_ITC","ELDORADO230",null,"nan","NAN","unspecifiedimport","n/a"]
["_BRANCH_GENERIC_MERCURY_ITC","MERCURY138",null,"nan","NAN","unspecifiedimport","n/a"]
["_BRANCH_GENERIC_MKTPCADLN_ITC","MARKETPLACE",null,"nan","NAN","unspecifiedimport","n/a"]
["_BRANCH_GENERIC_MONAIPPDC_ITC","MDWP",null,"nan","NAN","unspecifiedimport","n/a"]
["_BRANCH_GENERIC_NEWMELONP_ITC","NML230",null,"nan","NAN","unspecifiedimport","n/a"]
["_BRANCH_GENERIC_NOB_ITC","NOB",null,"nan","NAN","unspecifiedimport","n/a"]
["_BRANCH_GENERIC_NORTHGILA500_ITC","NORTHGILA500",null,"nan","NAN","unspecifiedimport","n/a"]
["_BRANCH_GENERIC_NWEST230_ITC","NWEST",null,"nan","NAN","unspecifiedimport","n/a"]
["_BRANCH_GENERIC_OAKDALE_ITC","OAKDALE",null,"nan","NAN","unspecifiedimport","n/a"]
["_BRANCH_GENERIC_PALOVRDE_ITC","PVWEST",null,"nan","NAN","unspecifiedimport","n/a"]
["_BRANCH_GENERIC_PARKER_ITC","PARKER230",null,"nan","NAN","unspecifiedimport","n/a"]
["_BRANCH_GENERIC_RDM230_ITC","RDM230",null,"nan","NAN","unspecifiedimport","n/a"]
["_BRANCH_GENERIC_RNCHLAKE_ITC","LAKE & RANCHOSECO",null,"nan","NAN","unspecifiedimport","n/a"]
["_BRANCH_GENERIC_SILVERPK_ITC","SILVERPEAK55",null,"nan","NAN","unspecifiedimport","n/a"]
["_BRANCH_GENERIC_STANDIFORD_ITC","STANDIFORD",null,"nan","NAN","unspecifiedimport","n/a"]
["_BRANCH_GENERIC_SUMMIT_ITC","SUMMIT120",null,"nan","NAN","unspecifiedimport","n/a"]
["_BRANCH_GENERIC_SYLMAR-AC_ITC","SYLMAR",null,"nan","NAN","unspecifiedimport","n/a"]
["_BRANCH_GENERIC_TRACY230_ITC","TESLA230",null,"nan","NAN","unspecifiedimport","n/a"]
["_BRANCH_GENERIC_TRACY500_ITC","TRCYPGAE & TRCYCOTP",null,"nan","NAN","unspecifiedimport","n/a"]
["_BRANCH_GENERIC_TRCYTEA_ITC","TRCYTEA",null,"nan","NAN","unspecifiedimport","n/a"]
["_BRANCH_GENERIC_VICTVL_ITC","LUGO",null,"nan","NAN","unspecifiedimport","n/a"]
["_BRANCH_GENERIC_WESTLYLBNS_ITC","WESTLYQNTO",null,"nan","NAN","unspecifiedimport","n/a"]
["_BRANCH_GENERIC_WESTLYTSLA_ITC","WESTLYTSLA",null,"nan","NAN","unspecifiedimport","n/a"]
["_BRANCH_GENERIC_WSTWGMEAD_ITC","WESTWING500",null,"nan","NAN","unspecifiedimport","n/a"]
["_CREZ_GENERIC_ARIZONA_SOLAR","NAN",null,"caiso_solar","NAN","newresolve","utility_pv"]
["_CREZ_GENERIC_ARIZONA_WIND","NAN",null,"caiso_wind","NAN","newresolve","out_of_state_wind_AZNM"]
["_CREZ_GENERIC_BAJA_CALIFORNIA_SOLAR","NAN",null,"caiso_solar","NAN","newresolve","utility_pv"]
["_CREZ_GENERIC_BAJA_CALIFORNIA_WIND","NAN",null,"caiso_wind","NAN","newresolve","in_state_wind_south"]
["_CREZ_GENERIC_CAPE_MENDOCINO_OFFSHORE_WIND","NAN",null,"caiso_wind","NAN","newresolve","offshore_wind"]
["_CREZ_GENERIC_CARRIZO_SOLAR","NAN",null,"caiso_solar","NAN","newresolve","utility_pv"]
["_CREZ_GENERIC_CARRIZO_WIND","NAN",null,"caiso_wind","NAN","newresolve","in_state_wind_north"]
["_CREZ_GENERIC_CENTRAL_VALLEY_NORTH_LOS_BANOS_SOLAR","NAN",null,"caiso_solar","NAN","newresolve","utility_pv"]
["_CREZ_GENERIC_CENTRAL_VALLEY_NORTH_LOS_BANOS_WIND","NAN",null,"caiso_wind","NAN","newresolve","in_state_wind_north"]
["_CREZ_GENERIC_DEL_NORTE_OFFSHORE_WIND","NAN",null,"caiso_wind","NAN","newresolve","offshore_wind"]
["_CREZ_GENERIC_DIABLO_CANYON_EXT_TX_OFFSHORE_WIND","NAN",null,"caiso_wind","NAN","newresolve","offshore_wind"]
["_CREZ_GENERIC_DIABLO_CANYON_OFFSHORE_WIND","NAN",null,"caiso_wind","NAN","newresolve","offshore_wind"]
["_CREZ_GENERIC_DISTRIBUTED_SOLAR","NAN",null,"caiso_solar","NAN","newresolve","utility_pv"]
["_CREZ_GENERIC_DISTRIBUTED_WIND","NAN",null,"caiso_wind","NAN","newresolve","in_state_wind_south"]
["_CREZ_GENERIC_GREATER_IMPERIAL_GEOTHERMAL","NAN",null,"caiso_geothermal","NAN","newresolve","geothermal"]
["_CREZ_GENERIC_GREATER_IMPERIAL_SOLAR","NAN",null,"caiso_solar","NAN","newresolve","utility_pv"]
["_CREZ_GENERIC_GREATER_IMPERIAL_WIND","NAN",null,"caiso_wind","NAN","newresolve","in_state_wind_south"]
["_CREZ_GENERIC_GREATER_KRAMER_SOLAR","NAN",null,"caiso_solar","NAN","newresolve","utility_pv"]
["_CREZ_GENERIC_GREATER_KRAMER_WIND","NAN",null,"caiso_wind","NAN","newresolve","in_state_wind_south"]
["_CREZ_GENERIC_HUMBOLDT_BAY_OFFSHORE_WIND","NAN",null,"caiso_wind","NAN","newresolve","offshore_wind"]
["_CREZ_GENERIC_HUMBOLDT_WIND","NAN",null,"caiso_wind","NAN","newresolve","in_state_wind_north"]
["_CREZ_GENERIC_IDAHO_WIND","NAN",null,"caiso_wind","NAN","newresolve","out_of_state_wind_WYID"]
["_CREZ_GENERIC_INSTATE_BIOMASS","NAN",null,"caiso_biomass","NAN","newresolve","biomass_wood"]
["_CREZ_GENERIC_INYOKERN_NORTH_KRAMER_GEOTHERMAL","NAN",null,"caiso_geothermal","NAN","newresolve","geothermal"]
["_CREZ_GENERIC_INYOKERN_NORTH_KRAMER_SOLAR","NAN",null,"caiso_solar","NAN","newresolve","utility_pv"]
["_CREZ_GENERIC_KERN_GREATER_CARRIZO_SOLAR","NAN",null,"caiso_solar","NAN","newresolve","utility_pv"]
["_CREZ_GENERIC_KERN_GREATER_CARRIZO_WIND","NAN",null,"caiso_wind","NAN","newresolve","in_state_wind_north"]
["_CREZ_GENERIC_KRAMER_INYOKERN_EX_SOLAR","NAN",null,"caiso_solar","NAN","newresolve","utility_pv"]
["_CREZ_GENERIC_KRAMER_INYOKERN_EX_WIND","NAN",null,"caiso_wind","NAN","newresolve","in_state_wind_south"]
["_CREZ_GENERIC_MORRO_BAY_OFFSHORE_WIND","NAN",null,"caiso_wind","NAN","newresolve","offshore_wind"]
["_CREZ_GENERIC_MOUNTAIN_PASS_EL_DORADO_SOLAR","NAN",null,"caiso_solar","NAN","newresolve","utility_pv"]
["_CREZ_GENERIC_NEW_MEXICO_SOLAR","NAN",null,"caiso_solar","NAN","newresolve","utility_pv"]
["_CREZ_GENERIC_NEW_MEXICO_WIND","NAN",null,"caiso_wind","NAN","newresolve","out_of_state_wind_AZNM"]
["_CREZ_GENERIC_NORTHERN_CALIFORNIA_EX_GEOTHERMAL","NAN",null,"caiso_geothermal","NAN","newresolve","geothermal"]
["_CREZ_GENERIC_NORTHERN_CALIFORNIA_EX_SOLAR","NAN",null,"caiso_solar","NAN","newresolve","utility_pv"]
["_CREZ_GENERIC_NORTHERN_CALIFORNIA_EX_WIND","NAN",null,"caiso_wind","NAN","newresolve","in_state_wind_north"]
["_CREZ_GENERIC_NORTH_VICTOR_SOLAR","NAN",null,"caiso_solar","NAN","newresolve","utility_pv"]
["_CREZ_GENERIC_NW_BIOMASS","NAN",null,"caiso_biomass","NAN","newresolve","biomass_wood"]
["_CREZ_GENERIC_NW_EXT_TX_WIND","NAN",null,"caiso_wind","NAN","newresolve","in_state_wind_north"]
["_CREZ_GENERIC_NW_SMALL_HYDRO","NAN",null,"caiso_small_hydro","NAN","newresolve","small_hydro"]
["_CREZ_GENERIC_PACIFIC_NORTHWEST_GEOTHERMAL","NAN",null,"caiso_geothermal","NAN","newresolve","geothermal"]
["_CREZ_GENERIC_PACIFIC_NORTHWEST_WIND","NAN",null,"caiso_wind","NAN","newresolve","out_of_state_wind_WAOR"]
["_CREZ_GENERIC_RIVERSIDE_PALM_SPRINGS_GEOTHERMAL","NAN",null,"caiso_geothermal","NAN","newresolve","geothermal"]
["_CREZ_GENERIC_RIVERSIDE_PALM_SPRINGS_SOLAR","NAN",null,"caiso_solar","NAN","newresolve","utility_pv"]
["_CREZ_GENERIC_SACRAMENTO_RIVER_SOLAR","NAN",null,"caiso_solar","NAN","newresolve","utility_pv"]
["_CREZ_GENERIC_SACRAMENTO_RIVER_WIND","NAN",null,"caiso_wind","NAN","newresolve","in_state_wind_north"]
["_CREZ_GENERIC_SCADSNV_SOLAR","NAN",null,"caiso_solar","NAN","newresolve","utility_pv"]
["_CREZ_GENERIC_SCADSNV_WIND","NAN",null,"caiso_wind","NAN","newresolve","in_state_wind_south"]
["_CREZ_GENERIC_SOLANO_GEOTHERMAL","NAN",null,"caiso_geothermal","NAN","newresolve","geothermal"]
["_CREZ_GENERIC_SOLANO_SOLAR","NAN",null,"caiso_solar","NAN","newresolve","utility_pv"]
["_CREZ_GENERIC_SOLANO_SUBZONE_SOLAR","NAN",null,"caiso_solar","NAN","newresolve","utility_pv"]
["_CREZ_GENERIC_SOLANO_SUBZONE_WIND","NAN",null,"caiso_wind","NAN","newresolve","in_state_wind_north"]
["_CREZ_GENERIC_SOLANO_WIND","NAN",null,"caiso_wind","NAN","newresolve","in_state_wind_north"]
["_CREZ_GENERIC_SOUTHERN_CALIFORNIA_DESERT_EX_SOLAR","NAN",null,"caiso_solar","NAN","newresolve","utility_pv"]
["_CREZ_GENERIC_SOUTHERN_CALIFORNIA_DESERT_EX_WIND","NAN",null,"caiso_wind","NAN","newresolve","in_state_wind_south"]
["_CREZ_GENERIC_SOUTHERN_CA_DESERT_SOUTHERN_NV_SOLAR","NAN",null,"caiso_solar","NAN","newresolve","utility_pv"]
["_CREZ_GENERIC_SOUTHERN_CA_DESERT_SOUTHERN_NV_WIND","NAN",null,"caiso_wind","NAN","newresolve","in_state_wind_south"]
["_CREZ_GENERIC_SOUTHERN_NEVADA_GEOTHERMAL","NAN",null,"caiso_geothermal","NAN","newresolve","geothermal"]
["_CREZ_GENERIC_SOUTHERN_NEVADA_SOLAR","NAN",null,"caiso_solar","NAN","newresolve","utility_pv"]
["_CREZ_GENERIC_SOUTHERN_NEVADA_WIND","NAN",null,"caiso_wind","NAN","newresolve","in_state_wind_south"]
["_CREZ_GENERIC_SW_BIOMASS","NAN",null,"caiso_biomass","NAN","newresolve","biomass_wood"]
["_CREZ_GENERIC_SW_EXT_TX_WIND","NAN",null,"caiso_wind","NAN","newresolve","out_of_state_wind_AZNM"]
["_CREZ_GENERIC_TEHACHAPI_EX_SOLAR","NAN",null,"caiso_solar","NAN","newresolve","utility_pv"]
["_CREZ_GENERIC_TEHACHAPI_SOLAR","NAN",null,"caiso_solar","NAN","newresolve","utility_pv"]
["_CREZ_GENERIC_TEHACHAPI_WIND","NAN",null,"caiso_wind","NAN","newresolve","in_state_wind_south"]
["_CREZ_GENERIC_UTAH_SOLAR","NAN",null,"caiso_solar","NAN","newresolve","utility_pv"]
["_CREZ_GENERIC_UTAH_WIND","NAN",null,"caiso_wind","NAN","newresolve","out_of_state_wind_AZNM"]
["_CREZ_GENERIC_WESTLANDS_EX_SOLAR","NAN",null,"caiso_solar","NAN","newresolve","utility_pv"]
["_CREZ_GENERIC_WESTLANDS_EX_WIND","NAN",null,"caiso_wind","NAN","newresolve","in_state_wind_north"]
["_CREZ_GENERIC_WESTLANDS_SOLAR","NAN",null,"caiso_solar","NAN","newresolve","utility_pv"]
["_CREZ_GENERIC_WYOMING_WIND","NAN",null,"caiso_wind","NAN","newresolve","out_of_state_wind_WYID"]
["_CREZ_UNBUNDLEDREC_ARIZONA_SOLAR","NAN",null,"caiso_solar","NAN","unbundledrec","n/a"]
["_CREZ_UNBUNDLEDREC_ARIZONA_WIND","NAN",null,"caiso_wind","NAN","unbundledrec","n/a"]
["_CREZ_UNBUNDLEDREC_BAJA_CALIFORNIA_SOLAR","NAN",null,"caiso_solar","NAN","unbundledrec","n/a"]
["_CREZ_UNBUNDLEDREC_BAJA_CALIFORNIA_WIND","NAN",null,"caiso_wind","NAN","unbundledrec","n/a"]
["_CREZ_UNBUNDLEDREC_CAPE_MENDOCINO_OFFSHORE_WIND","NAN",null,"caiso_wind","NAN","unbundledrec","n/a"]
["_CREZ_UNBUNDLEDREC_CARRIZO_SOLAR","NAN",null,"caiso_solar","NAN","unbundledrec","n/a"]
["_CREZ_UNBUNDLEDREC_CARRIZO_WIND","NAN",null,"caiso_wind","NAN","unbundledrec","n/a"]
["_CREZ_UNBUNDLEDREC_CENTRAL_VALLEY_NORTH_LOS_BANOS_SOLAR","NAN",null,"caiso_solar","NAN","unbundledrec","n/a"]
["_CREZ_UNBUNDLEDREC_CENTRAL_VALLEY_NORTH_LOS_BANOS_WIND","NAN",null,"caiso_wind","NAN","unbundledrec","n/a"]
["_CREZ_UNBUNDLEDREC_DEL_NORTE_OFFSHORE_WIND","NAN",null,"caiso_wind","NAN","unbundledrec","n/a"]
["_CREZ_UNBUNDLEDREC_DIABLO_CANYON_EXT_TX_OFFSHORE_WIND","NAN",null,"caiso_wind","NAN","unbundledrec","n/a"]
["_CREZ_UNBUNDLEDREC_DIABLO_CANYON_OFFSHORE_WIND","NAN",null,"caiso_wind","NAN","unbundledrec","n/a"]
["_CREZ_UNBUNDLEDREC_DISTRIBUTED_SOLAR","NAN",null,"caiso_solar","NAN","unbundledrec","n/a"]
["_CREZ_UNBUNDLEDREC_DISTRIBUTED_WIND","NAN",null,"caiso_wind","NAN","unbundledrec","n/a"]
["_CREZ_UNBUNDLEDREC_GREATER_IMPERIAL_GEOTHERMAL","NAN",null,"caiso_geothermal","NAN","unbundledrec","n/a"]
["_CREZ_UNBUNDLEDREC_GREATER_IMPERIAL_SOLAR","NAN",null,"caiso_solar","NAN","unbundledrec","n/a"]
["_CREZ_UNBUNDLEDREC_GREATER_IMPERIAL_WIND","NAN",null,"caiso_wind","NAN","unbundledrec","n/a"]
["_CREZ_UNBUNDLEDREC_GREATER_KRAMER_SOLAR","NAN",null,"caiso_solar","NAN","unbundledrec","n/a"]
["_CREZ_UNBUNDLEDREC_GREATER_KRAMER_WIND","NAN",null,"caiso_wind","NAN","unbundledrec","n/a"]
["_CREZ_UNBUNDLEDREC_HUMBOLDT_BAY_OFFSHORE_WIND","NAN",null,"caiso_wind","NAN","unbundledrec","n/a"]
["_CREZ_UNBUNDLEDREC_HUMBOLDT_WIND","NAN",null,"caiso_wind","NAN","unbundledrec","n/a"]
["_CREZ_UNBUNDLEDREC_IDAHO_WIND","NAN",null,"caiso_wind","NAN","unbundledrec","n/a"]
["_CREZ_UNBUNDLEDREC_INSTATE_BIOMASS","NAN",null,"caiso_biomass","NAN","unbundledrec","n/a"]
["_CREZ_UNBUNDLEDREC_INYOKERN_NORTH_KRAMER_GEOTHERMAL","NAN",null,"caiso_geothermal","NAN","unbundledrec","n/a"]
["_CREZ_UNBUNDLEDREC_INYOKERN_NORTH_KRAMER_SOLAR","NAN",null,"caiso_solar","NAN","unbundledrec","n/a"]
["_CREZ_UNBUNDLEDREC_KERN_GREATER_CARRIZO_SOLAR","NAN",null,"caiso_solar","NAN","unbundledrec","n/a"]
["_CREZ_UNBUNDLEDREC_KERN_GREATER_CARRIZO_WIND","NAN",null,"caiso_wind","NAN","unbundledrec","n/a"]
["_CREZ_UNBUNDLEDREC_KRAMER_INYOKERN_EX_SOLAR","NAN",null,"caiso_solar","NAN","unbundledrec","n/a"]
["_CREZ_UNBUNDLEDREC_KRAMER_INYOKERN_EX_WIND","NAN",null,"caiso_wind","NAN","unbundledrec","n/a"]
["_CREZ_UNBUNDLEDREC_MORRO_BAY_OFFSHORE_WIND","NAN",null,"caiso_wind","NAN","unbundledrec","n/a"]
["_CREZ_UNBUNDLEDREC_MOUNTAIN_PASS_EL_DORADO_SOLAR","NAN",null,"caiso_solar","NAN","unbundledrec","n/a"]
["_CREZ_UNBUNDLEDREC_NEW_MEXICO_SOLAR","NAN",null,"caiso_solar","NAN","unbundledrec","n/a"]
["_CREZ_UNBUNDLEDREC_NEW_MEXICO_WIND","NAN",null,"caiso_wind","NAN","unbundledrec","n/a"]
["_CREZ_UNBUNDLEDREC_NORTHERN_CALIFORNIA_EX_GEOTHERMAL","NAN",null,"caiso_geothermal","NAN","unbundledrec","n/a"]
["_CREZ_UNBUNDLEDREC_NORTHERN_CALIFORNIA_EX_SOLAR","NAN",null,"caiso_solar","NAN","unbundledrec","n/a"]
["_CREZ_UNBUNDLEDREC_NORTHERN_CALIFORNIA_EX_WIND","NAN",null,"caiso_wind","NAN","unbundledrec","n/a"]
["_CREZ_UNBUNDLEDREC_NORTH_VICTOR_SOLAR","NAN",null,"caiso_solar","NAN","unbundledrec","n/a"]
["_CREZ_UNBUNDLEDREC_NW_BIOMASS","NAN",null,"caiso_biomass","NAN","unbundledrec","n/a"]
["_CREZ_UNBUNDLEDREC_NW_EXT_TX_WIND","NAN",null,"caiso_wind","NAN","unbundledrec","n/a"]
["_CREZ_UNBUNDLEDREC_NW_SMALL_HYDRO","NAN",null,"caiso_small_hydro","NAN","unbundledrec","n/a"]
["_CREZ_UNBUNDLEDREC_PACIFIC_NORTHWEST_GEOTHERMAL","NAN",null,"caiso_geothermal","NAN","unbundledrec","n/a"]
["_CREZ_UNBUNDLEDREC_PACIFIC_NORTHWEST_WIND","NAN",null,"caiso_wind","NAN","unbundledrec","n/a"]
["_CREZ_UNBUNDLEDREC_RIVERSIDE_PALM_SPRINGS_GEOTHERMAL","NAN",null,"caiso_geothermal","NAN","unbundledrec","n/a"]
["_CREZ_UNBUNDLEDREC_RIVERSIDE_PALM_SPRINGS_SOLAR","NAN",null,"caiso_solar","NAN","unbundledrec","n/a"]
["_CREZ_UNBUNDLEDREC_SACRAMENTO_RIVER_SOLAR","NAN",null,"caiso_solar","NAN","unbundledrec","n/a"]
["_CREZ_UNBUNDLEDREC_SACRAMENTO_RIVER_WIND","NAN",null,"caiso_wind","NAN","unbundledrec","n/a"]
["_CREZ_UNBUNDLEDREC_SCADSNV_SOLAR","NAN",null,"caiso_solar","NAN","unbundledrec","n/a"]
["_CREZ_UNBUNDLEDREC_SCADSNV_WIND","NAN",null,"caiso_wind","NAN","unbundledrec","n/a"]
["_CREZ_UNBUNDLEDREC_SOLANO_GEOTHERMAL","NAN",null,"caiso_geothermal","NAN","unbundledrec","n/a"]
["_CREZ_UNBUNDLEDREC_SOLANO_SOLAR","NAN",null,"caiso_solar","NAN","unbundledrec","n/a"]
["_CREZ_UNBUNDLEDREC_SOLANO_SUBZONE_SOLAR","NAN",null,"caiso_solar","NAN","unbundledrec","n/a"]
["_CREZ_UNBUNDLEDREC_SOLANO_SUBZONE_WIND","NAN",null,"caiso_wind","NAN","unbundledrec","n/a"]
["_CREZ_UNBUNDLEDREC_SOLANO_WIND","NAN",null,"caiso_wind","NAN","unbundledrec","n/a"]
["_CREZ_UNBUNDLEDREC_SOUTHERN_CALIFORNIA_DESERT_EX_SOLAR","NAN",null,"caiso_solar","NAN","unbundledrec","n/a"]
["_CREZ_UNBUNDLEDREC_SOUTHERN_CALIFORNIA_DESERT_EX_WIND","NAN",null,"caiso_wind","NAN","unbundledrec","n/a"]
["_CREZ_UNBUNDLEDREC_SOUTHERN_CA_DESERT_SOUTHERN_NV_SOLAR","NAN",null,"caiso_solar","NAN","unbundledrec","n/a"]
["_CREZ_UNBUNDLEDREC_SOUTHERN_CA_DESERT_SOUTHERN_NV_WIND","NAN",null,"caiso_wind","NAN","unbundledrec","n/a"]
["_CREZ_UNBUNDLEDREC_SOUTHERN_NEVADA_GEOTHERMAL","NAN",null,"caiso_geothermal","NAN","unbundledrec","n/a"]
["_CREZ_UNBUNDLEDREC_SOUTHERN_NEVADA_SOLAR","NAN",null,"caiso_solar","NAN","unbundledrec","n/a"]
["_CREZ_UNBUNDLEDREC_SOUTHERN_NEVADA_WIND","NAN",null,"caiso_wind","NAN","unbundledrec","n/a"]
["_CREZ_UNBUNDLEDREC_SW_BIOMASS","NAN",null,"caiso_biomass","NAN","unbundledrec","n/a"]
["_CREZ_UNBUNDLEDREC_SW_EXT_TX_WIND","NAN",null,"caiso_wind","NAN","unbundledrec","n/a"]
["_CREZ_UNBUNDLEDREC_TEHACHAPI_EX_SOLAR","NAN",null,"caiso_solar","NAN","unbundledrec","n/a"]
["_CREZ_UNBUNDLEDREC_TEHACHAPI_SOLAR","NAN",null,"caiso_solar","NAN","unbundledrec","n/a"]
["_CREZ_UNBUNDLEDREC_TEHACHAPI_WIND","NAN",null,"caiso_wind","NAN","unbundledrec","n/a"]
["_CREZ_UNBUNDLEDREC_UTAH_SOLAR","NAN",null,"caiso_solar","NAN","unbundledrec","n/a"]
["_CREZ_UNBUNDLEDREC_UTAH_WIND","NAN",null,"caiso_wind","NAN","unbundledrec","n/a"]
["_CREZ_UNBUNDLEDREC_WESTLANDS_EX_SOLAR","NAN",null,"caiso_solar","NAN","unbundledrec","n/a"]
["_CREZ_UNBUNDLEDREC_WESTLANDS_EX_WIND","NAN",null,"caiso_wind","NAN","unbundledrec","n/a"]
["_CREZ_UNBUNDLEDREC_WESTLANDS_SOLAR","NAN",null,"caiso_solar","NAN","unbundledrec","n/a"]
["_CREZ_UNBUNDLEDREC_WYOMING_WIND","NAN",null,"caiso_wind","NAN","unbundledrec","n/a"]
["_EXISTING_GENERIC_BATTERY_STORAGE","NAN",null,"caiso_battery","NAN","existinggeneric","hr_batteries"]
["_EXISTING_GENERIC_BIOGAS_LANDFILLGAS","NAN",null,"caiso_biomass","NAN","existinggeneric","biomass_wood"]
["_EXISTING_GENERIC_BIOMASS/WOOD","NAN",null,"caiso_biomass","NAN","existinggeneric","biomass_wood"]
["_EXISTING_GENERIC_COAL","NAN",null,"caiso_coal","NAN","existinggeneric","coal"]
["_EXISTING_GENERIC_COGEN","NAN",null,"caiso_chp","NAN","existinggeneric","cogen"]
["_EXISTING_GENERIC_COMBINED_CYCLE","NAN",null,"caiso_ccgt1","NAN","existinggeneric","gas_cc"]
["_EXISTING_GENERIC_DR","NAN",null,"caiso_dr","NAN","existinggeneric","demand_response"]
["_EXISTING_GENERIC_GEOTHERMAL","NAN",null,"caiso_geothermal","NAN","existinggeneric","geothermal"]
["_EXISTING_GENERIC_ICE","NAN",null,"caiso_reciprocating_engine","NAN","existinggeneric","ice"]
["_EXISTING_GENERIC_INSTATE_LARGE_HYDRO","NAN",null,"caiso_hydro","NAN","existinggeneric","hydro"]
["_EXISTING_GENERIC_INSTATE_SMALL_HYDRO","NAN",null,"caiso_hydro","NAN","existinggeneric","hydro"]
["_EXISTING_GENERIC_NUCLEAR","NAN",null,"caiso_nuclear","NAN","existinggeneric","nuclear"]
["_EXISTING_GENERIC_NW_HYDRO","NAN",null,"caiso_hydro","NAN","existinggeneric","hydro"]
["_EXISTING_GENERIC_PEAKER","NAN",null,"caiso_peaker1","NAN","existinggeneric","gas_ct"]
["_EXISTING_GENERIC_PUMPED_STORAGE_HYDRO","NAN",null,"caiso_pumped_hydro","NAN","existinggeneric","pumped_storage"]
["_EXISTING_GENERIC_SOLAR_1AXIS","NAN",null,"caiso_solar","NAN","existinggeneric","utility_pv"]
["_EXISTING_GENERIC_SOLAR_2AXIS","NAN",null,"caiso_solar","NAN","existinggeneric","utility_pv"]
["_EXISTING_GENERIC_SOLAR_FIXED","NAN",null,"caiso_solar","NAN","existinggeneric","utility_pv"]
["_EXISTING_GENERIC_SOLAR_THERMAL","NAN",null,"caiso_solar","NAN","existinggeneric","utility_pv"]
["_EXISTING_GENERIC_STEAM","NAN",null,"caiso_steam","NAN","existinggeneric","steam"]
["_EXISTING_GENERIC_UNKNOWN","NAN",null,"caiso_unknown","NAN","existinggeneric","n/a"]
["_EXISTING_GENERIC_WIND","NAN",null,"caiso_wind","NAN","existinggeneric","in_state_wind_south"]
["_NEW_BTM_DR","NAN",null,"caiso_loadmod","NAN","newloadmod","demand_response"]
["_NEW_BTM_EE","NAN",null,"caiso_loadmod","NAN","newloadmod","demand_response"]
["_NEW_BTM_RESOURCE","NAN",null,"caiso_loadmod","NAN","newloadmod","demand_response"]
["_NEW_DG","NAN",null,"caiso_loadmod","NAN","newloadmod","btm_pv"]
["_NEW_EV","NAN",null,"caiso_loadmod","NAN","newloadmod","demand_response"]
["_NEW_GENERIC_BATTERY_STORAGE","NAN",null,"caiso_battery","NAN","newgeneric","hr_batteries"]
["_NEW_GENERIC_BIOGAS_LANDFILLGAS","NAN",null,"caiso_biomass","NAN","newgeneric","biomass_wood"]
["_NEW_GENERIC_BIOMASS/WOOD","NAN",null,"caiso_biomass","NAN","newgeneric","biomass_wood"]
["_NEW_GENERIC_COAL","NAN",null,"caiso_coal","NAN","newgeneric","coal"]
["_NEW_GENERIC_COGEN","NAN",null,"caiso_chp","NAN","newgeneric","cogen"]
["_NEW_GENERIC_COMBINED_CYCLE","NAN",null,"caiso_ccgt1","NAN","newgeneric","gas_cc"]
["_NEW_GENERIC_DR","NAN",null,"caiso_dr","NAN","newgeneric","demand_response"]
["_NEW_GENERIC_GEOTHERMAL","NAN",null,"caiso_geothermal","NAN","newgeneric","geothermal"]
["_NEW_GENERIC_ICE","NAN",null,"caiso_reciprocating_engine","NAN","newgeneric","ice"]
["_NEW_GENERIC_INSTATE_LARGE_HYDRO","NAN",null,"caiso_hydro","NAN","newgeneric","hydro"]
["_NEW_GENERIC_INSTATE_SMALL_HYDRO","NAN",null,"caiso_hydro","NAN","newgeneric","hydro"]
["_NEW_GENERIC_NUCLEAR","NAN",null,"caiso_nuclear","NAN","newgeneric","nuclear"]
["_NEW_GENERIC_NW_HYDRO","NAN",null,"caiso_hydro","NAN","newgeneric","hydro"]
["_NEW_GENERIC_PEAKER","NAN",null,"caiso_peaker1","NAN","newgeneric","gas_ct"]
["_NEW_GENERIC_PUMPED_STORAGE_HYDRO","NAN",null,"caiso_pumped_hydro","NAN","newgeneric","pumped_storage"]
["_NEW_GENERIC_SOLAR_1AXIS","NAN",null,"caiso_solar","NAN","newgeneric","utility_pv"]
["_NEW_GENERIC_SOLAR_2AXIS","NAN",null,"caiso_solar","NAN","newgeneric","utility_pv"]
["_NEW_GENERIC_SOLAR_FIXED","NAN",null,"caiso_solar","NAN","newgeneric","utility_pv"]
["_NEW_GENERIC_SOLAR_THERMAL","NAN",null,"caiso_solar","NAN","newgeneric","utility_pv"]
["_NEW_GENERIC_STEAM","NAN",null,"caiso_steam","NAN","newgeneric","steam"]
["_NEW_GENERIC_UNKNOWN","NAN",null,"caiso_unknown","NAN","newgeneric","n/a"]
["_NEW_GENERIC_WIND","NAN",null,"caiso_wind","NAN","newgeneric","in_state_wind_south"]
["_NEW_TOU","NAN",null,"caiso_loadmod","NAN","newloadmod","demand_response"]
["_SUPPLIERS_CHOICE","NAN",null,"suppliers_choice","NAN","supplierschoice","n/a"]
["_UNSPECIFIED_NON_IMPORT","NAN",null,"unspecified_non_import","NAN","unspecifiednonimport","n/a"]

{"sheet":"lse_names","index":5,"n_rows":104,"n_cols":3,"rows_kept":104,"cut":false,"hidden":false,"merged":[]}
["lse","NAME","lse_type"]
["3PR","3 Phases Renewables","ESP"]
["APN","American PowerNet Management","ESP"]
["AVCE","Apple Valley Choice Energy","CCA"]
["CEI","Just Energy Solutions","ESP"]
["CES","Commercial Energy of Montana","ESP"]
["CNE","Constellation New Energy","ESP"]
["COBP","City of Baldwin Park","CCA"]
["COSB","City of Solana Beach","CCA"]
["CPA","Calpine Power America","ESP"]
["CPASC","Clean Power Alliance of Southern California","CCA"]
["CPSF","CleanPowerSF","CCA"]
["DCE","Desert Community Energy","CCA"]
["DEB","Direct Energy Business","ESP"]
["EBCE","East Bay Community Energy","CCA"]
["EIPS","EDF Industrial Power Services","ESP"]
["HANFORD","City of Hanford","CCA"]
["KCCP","King City Community Power","CCA"]
["LCE","Lancaster Choice Energy","CCA"]
["LPH","Liberty Power Holdings","ESP"]
["CCCE","Monterey Bay Community Power Authority","CCA"]
["MCE","Marin Clean Energy","CCA"]
["NES","Calpine Energy Solutions","ESP"]
["PALMDALE","City of Palmdale","CCA"]
["PCEA","Peninsula Clean Energy Authority","CCA"]
["PGE","Pacific Gas & Electric","IOU"]
["PIONEER","Pioneer Community Energy","CCA"]
["POMONA","City of Pomona","CCA"]
["PPG","Pilot Power Group","ESP"]
["PRIME","Pico Rivera Innovative Municipal Energy","CCA"]
["RCEA","Redwood Coast Energy Authority","CCA"]
["RMEA","Rancho Mirage Energy Authority","CCA"]
["SCE","Southern California Edison","IOU"]
["SDGE","San Diego Gas & Electric","IOU"]
["SENA","Shell Energy North America","ESP"]
["SJCE","San Jose Clean Energy","CCA"]
["SJP","San Jacinto Power","CCA"]
["SOMA","Sonoma Clean Power Authority","CCA"]
["SVCE","Silicon Valley Clean Energy Authority","CCA"]
["TNG","Tiger Natural Gas","ESP"]
["UC","University of California","ESP"]
["VCEA","Valley Clean Energy Alliance","CCA"]
["WCE","Western Community Energy","CCA"]
["PCORP","PacifiCorp","POU"]
["BVES","Bear Valley Electric Service","IOU"]
["LIB","Liberty Utilities","IOU"]
["BCE","Butte Choice Energy","CCA"]
["CEA","Clean Energy Alliance","CCA"]
["COM","City of Commerce","CCA"]
["SDCP","San Diego Community Power","CCA"]
["SBCE","Santa Barbara Clean Energy","CCA"]
["AGERA","Agera Energy, LLC","ESP"]
["GEXA","Gexa Energy California, LLC","ESP"]
["LPD","Liberty Power Delaware, LLC","ESP"]
["PALMCO","Palmco Power CA","ESP"]
["PRAX","Praxair Plainfield, Inc.","ESP"]
["TENA","Tenaska Power Services Co.","ESP"]
["YEP","Yep Energy","ESP"]
["ANZA","Anza Electric Cooperative","COOP"]
["PLUMAS","Plumas Sierra Rural Electric Cooperative","COOP"]
["SURPRISE","Surprise Valley Electrification Corporation","POU"]
["VEA","Valley Electric Association","COOP"]
["ANHM","Anaheim","CAISOPOU"]
["AZCO","Arizona Electric Power Cooperative","POU"]
["AZUA","Azusa","CAISOPOU"]
["BAN1","Banning","CAISOPOU"]
["BWPM","Burbank","POU"]
["CCSF","City and County San Francisco","CAISOPOU"]
["CLTN","Colton","CAISOPOU"]
["COR1","Corona","CAISOPOU"]
["CRCL","Cerritos","CAISOPOU"]
["GLEN","Glendale","POU"]
["IIDE","Imperial Irrigation District","POU"]
["INDU","Industry","CAISOPOU"]
["KIRK","Kirkwood","POU"]
["LADWP","LADWP","POU"]
["LASS","Lassen","CAISOPOU"]
["MEID","Merced","POU"]
["MID","Modesto Irrigation District","POU"]
["MVAL","Moreno Valley","CAISOPOU"]
["NCPA","Northern California Power Agency","CAISOPOU"]
["NEED","Needles","POU"]
["PASA","Pasadena","CAISOPOU"]
["PITT","Pittsburg","CAISOPOU"]
["PSTN","Stockton","CAISOPOU"]
["PWRPA","Power Water Resources Pooling Authority","CAISOPOU"]
["RCMU","Rancho Cucamonga","CAISOPOU"]
["RDG1","Redding","POU"]
["RSVL","Roseville","POU"]
["RVSD","Riverside","CAISOPOU"]
["SCOV","Shelter Cove","CAISOPOU"]
["SLAK","Shasta Lake","POU"]
["SMUD","SMUD","POU"]
["SNCL","Silicon Valley Power","CAISOPOU"]
["TIDM","Turlock Irrigation District","POU"]
["TRIN","Trinity","CAISOPOU"]
["TRUC","Truckee","POU"]
["VERN","Vernon","CAISOPOU"]
["VMUS","Victorville","CAISOPOU"]
["WEPA","Eastside Power Authority","CAISOPOU"]
["_OTHER","Multiple non-IOU LSEs"]
["_OTHER","Multiple LSEs"]
["_OTHER","Multiple IOUs"]
["_OTHER","non-LSE supplier","_OTHER"]

{"sheet":"misc","index":6,"n_rows":93,"n_cols":74,"rows_kept":93,"cut":false,"hidden":false,"merged":[]}
["contract_status","bool","yes_no","Year","int_count","transact","cap_areas","cap_sub_areas","state_county","d1911016_tranches","d2106035_tranche ","energy_capacity_from_resource","is_hybrid_paired","csp_cat","solar_Technology_sub_type","storage_Technology_sub_type","nqc_reporting_source","cam_d1911016_vamo_pcia",null,"25MMT ELCC (%)",null,null,null,null,null,null,null,null,null,null,null,null,null,"30MMT ELCC (%)",null,null,null,null,null,null,null,null,null,null,null,null,null,"25MMT MRN/TRN ratio",null,null,null,null,null,null,null,null,null,null,null,null,null,"30MMT MRN/TRN ratio"]
["Online",0,"YES","NA","NA","Buy","Humboldt","North Coast  Eagle Rock","NA","NA","NA","EnergyCapacity","NotHybrid","NA","Fixed","Li","In the contract","CAM",null,"elcc_type",2024,2025,2026,2027,2028,2029,2030,2031,2032,2033,2034,2035,null,"elcc_type",2024,2025,2026,2027,2028,2029,2030,2031,2032,2033,2034,2035,null,null,2024,2025,2026,2027,2028,2029,2030,2031,2032,2033,2034,2035,null,null,2024,2025,2026,2027,2028,2029,2030,2031,2032,2033,2034,2035]
["Review",1,"NO",1970,1,"Sell","NorthCoastNorthBay","North Coast  Fulton","AlpineCounty",1,"firm_ZE","EnergyOnly","ExistingBiomassExistingStorage","Large Hydro (GWh)","SolarThermal","Flow","Calculated","D.19-11-016",null,"in_state_wind_south",0.11841355076102321,0.13636070685128646,0.15430786294154972,0.10693659222396304,5.9565321506376369E-2,7.7201442724824779E-2,9.4837563943273195E-2,8.4644753263379724E-2,7.4451942583486252E-2,6.4259131903592781E-2,5.406632122369931E-2,4.3873510543805838E-2,null,"in_state_wind_south",0.15102941403529452,0.15178846902809942,0.15254752402090432,0.11848326121551586,8.4418998410127413E-2,8.3416882718990337E-2,8.2414767027853275E-2,7.4829691124404837E-2,6.72446152209564E-2,5.9659539317507955E-2,5.207446341405951E-2,4.4489387510611059E-2,null,null,0.77201871279722722,0.78867470616438251,0.80390270140610376,0.77610409059689334,0.75027694884377893,0.76246521023924085,0.77457060149091872,0.74274625791973614,0.71261162813758272,0.6827328847380274,0.65390251423413703,0.62577079443506212,null,null,0.80029848011116889,0.81896333891271367,0.83611438362607471,0.79544567238840358,0.75709177033813169,0.73673303550177849,0.71703757483484865,0.69918925792169562,0.68264892770624752,0.66607760402249072,0.65025016398978508,0.63484459547384975]
["PlannedExisting",null,"NA",1971,2,"Owned","Sierra","Sierra  Placer","AmadorCounty","1&2","firm_ZE_&_firm_ZE_ext","CapacityOnly","ExistingBiomassNewStorage","Imported Hydro (GWh)","1Axis","PSH",null,"VAMO",null,"in_state_wind_north",0.23682710152204642,0.27272141370257291,0.30861572588309943,0.21387318444792608,0.11913064301275274,0.15440288544964956,0.18967512788654639,0.16928950652675945,0.1489038851669725,0.12851826380718556,0.10813264244739862,8.7747021087611676E-2,null,"in_state_wind_north",0.30205882807058904,0.30357693805619884,0.30509504804180865,0.23696652243103172,0.16883799682025483,0.16683376543798067,0.16482953405570655,0.14965938224880967,0.1344892304419128,0.11931907863501591,0.10414892682811902,8.8978775021222117E-2]
["Development",null,null,1972,3,null,"Stockton","Sierra  Pease","AlamedaCounty",2,"firm_ZE_ext",null,"ExistingGeothermalExistingStorage","Asset Controlling Supplier (GWh)","2Axis","Other",null,"GHG-free PCIA",null,"out_of_state_wind_WYID",0.46897827577694978,0.45359083280372914,0.43820338983050844,0.38080451179552754,0.3234056337605466,0.32954852469028811,0.33569141562002963,0.32866160707229491,0.3216317985245602,0.31460198997682548,0.30757218142909076,0.30054237288135593,null,"out_of_state_wind_WYID",0.42559322033898306,0.39180370915668034,0.35801419797437761,0.37372282962154058,0.38943146126870348,0.31241064588858902,0.23538983050847456,0.24842033898305083,0.26145084745762709,0.27448135593220335,0.28751186440677962,0.30054237288135593]
["PlannedNew",null,null,1973,4,null,"GreaterBay","Sierra  Gold Hill-Drum","ButteCounty","2&3","general",null,"ExistingGeothermalNewStorage","Nuclear (GWh)",null,null,null,null,null,"out_of_state_wind_WAOR",0.28743829805684018,0.27800728462164043,0.26857627118644067,0.23339631368112979,0.19821635617581887,0.20198135384243465,0.20574635150905043,0.20143775917334206,0.19712916683763368,0.1928205745019253,0.18851198216621692,0.18420338983050849,null,"out_of_state_wind_WAOR",0.26084745762711864,0.24013775722506214,0.21942805682300565,0.22905592783255713,0.23868379884210861,0.1914774926413933,0.14427118644067796,0.15225762711864407,0.16024406779661018,0.1682305084745763,0.17621694915254241,0.18420338983050849]
[null,null,null,1974,5,null,"GreaterFresno","Stockton  Lockeford","CalaverasCounty","1&3","general_&_firm_ZE",null,"ExistingSolarExistingStorage","Biogas (GWh)",null,null,null,null,null,"out_of_state_wind_AZNM",0.42359328134692242,0.40969494575820697,0.39579661016949158,0.34395246226692811,0.29210831436436469,0.29765673197832476,0.30320514959228489,0.29685564509755674,0.29050614060282859,0.28415663610810044,0.27780713161337228,0.27145762711864413,null,"out_of_state_wind_AZNM",0.384406779661017,0.3538872211737758,0.32336766268653466,0.33755610417429471,0.35174454566205482,0.28217735757679013,0.21261016949152545,0.22437966101694917,0.2361491525423729,0.24791864406779662,0.25968813559322035,0.27145762711864413]
[null,null,null,1975,6,null,"Kern","Stockton  Tesla-Bellota","ColusaCounty",3,"general_&_firm_ZE_ext",null,"ExistingSolarNewStorage","Biomass (GWh)",null,null,null,null,null,"offshore_wind",0.66745107707355167,0.61580710432933394,0.56416313158511622,0.55718196245584084,0.55020079332656546,0.5803035093936455,0.61040622546072543,0.55232498036858035,0.49424373527643528,0.43616249018429021,0.37808124509214514,0.32,null,"offshore_wind",0.54900000000000004,0.50668405182051957,0.46436810364103909,0.48659667347489211,0.50882524330874512,0.46741262165437258,0.42599999999999999,0.40479999999999999,0.3836,0.3624,0.3412,0.32]
[null,null,null,1976,7,null,"BigCreekVentura","Greater Bay   Llagas","ContraCostaCounty","1&2&3","general_&_long_duration_storage",null,"ExistingThermalExistingStorage","Geothermal (GWh)",null,null,null,null,null,"utility_pv",0.12434584155282009,0.12102944303332039,0.11771304451382068,0.1001620473979912,8.261105028216173E-2,7.6604612550074003E-2,7.0598174817986262E-2,6.9278539854389004E-2,6.7958904890791746E-2,6.6639269927194489E-2,6.5319634963597231E-2,6.4000000000000001E-2,null,"utility_pv",9.6000000000000002E-2,0.10220064352589828,0.10840128705179657,0.1016803220430352,9.4959357034273828E-2,7.7479678517136913E-2,0.06,6.08E-2,6.1600000000000002E-2,6.2400000000000004E-2,6.3200000000000006E-2,6.4000000000000001E-2]
[null,null,null,1977,8,null,"LABasin","Greater Bay   San Jose","DelNorteCounty",null,"general_&_long_duration_storage_ext",null,"ExistingThermalNewStorage","Small Hydro (GWh)",null,null,null,null,null,"btm_pv",5.3182100841591383E-2,4.865045278619004E-2,4.4118804730788705E-2,5.2547949194918675E-2,6.0977093659048652E-2,5.4040407611745077E-2,4.7103721564441502E-2,4.8882977251553203E-2,5.0662232938664904E-2,5.2441488625776606E-2,5.4220744312888307E-2,5.6000000000000001E-2,null,"btm_pv",8.8999999999999996E-2,9.3703365409453621E-2,9.8406730818907232E-2,8.2703365409453611E-2,6.7000000000000004E-2,5.6000000000000001E-2,4.4999999999999998E-2,4.7199999999999999E-2,4.9399999999999999E-2,5.16E-2,5.3800000000000001E-2,5.6000000000000001E-2]
[null,null,null,1978,9,null,"SanDiegoImperialValley","Greater Bay   South Bay  Moss Landing","ElDoradoCounty",null,"general_&_ZE_gen_paired_dr",null,"ExistingWindExistingStorage","Wind Baseline California (GWh)",null,null,null,null,null,"4hr_batteries",0.85399999999999998,0.86399999999999999,0.874,0.84499999999999997,0.81599999999999995,0.85299999999999998,0.89,0.79220000000000002,0.69440000000000002,0.59660000000000002,0.49880000000000002,0.40100000000000002,null,"4hr_batteries",0.88500000000000001,0.90149999999999997,0.91800000000000004,0.84550000000000003,0.77300000000000002,0.75900000000000001,0.745,0.67620000000000002,0.60740000000000005,0.53860000000000008,0.46980000000000011,0.40100000000000002]
[null,null,null,1979,10,null,"PacGE","Greater Bay  Oakland","FresnoCounty",null,"long_duration_storage",null,"ExistingWindNewStorage","Wind New PG&E (GWh)",null,null,null,null,null,"5hr_batteries",0.86399999999999999,0.86962499999999998,0.87524999999999997,0.85087500000000005,0.82650000000000001,0.85824999999999996,0.89,0.80695000000000006,0.72389999999999999,0.64084999999999992,0.55779999999999996,0.47475000000000001,null,"5hr_batteries",0.88675000000000004,0.90387499999999998,0.92100000000000004,0.85887500000000006,0.79675000000000007,0.78362500000000002,0.77049999999999996,0.71135000000000004,0.6522,0.59305000000000008,0.53390000000000004,0.47475000000000001]
[null,null,null,1980,11,null,"SCE","Greater Fresno  Panoche","GlennCounty",null,"long_duration_storage_&_firm_ZE",null,"NewBiomassExistingStorage","Wind New SCE SDG&E (GWh)",null,null,null,null,null,"6hr_batteries",0.874,0.87524999999999997,0.87649999999999995,0.85675000000000012,0.83699999999999997,0.86349999999999993,0.89,0.8217000000000001,0.75339999999999996,0.68509999999999982,0.6167999999999999,0.54849999999999999,null,"6hr_batteries",0.88850000000000007,0.90625,0.92400000000000004,0.87225000000000008,0.82050000000000001,0.80825000000000002,0.79599999999999993,0.74650000000000005,0.69699999999999995,0.64750000000000008,0.59799999999999998,0.54849999999999999]
[null,null,null,1981,12,null,"SDGE","Greater Fresno  Herndon","HumboldtCounty",null,"long_duration_storage_&_firm_ZE_ext",null,"NewBiomassNewStorage","Wind Pacific Northwest (GWh)",null,null,null,null,null,"7hr_batteries",0.88400000000000001,0.88087499999999996,0.87774999999999992,0.8626250000000002,0.84749999999999992,0.86874999999999991,0.89,0.83645000000000014,0.78289999999999993,0.72934999999999972,0.67579999999999985,0.62224999999999997,null,"7hr_batteries",0.8902500000000001,0.90862500000000002,0.92700000000000005,0.88562500000000011,0.84424999999999994,0.83287500000000003,0.8214999999999999,0.78165000000000007,0.7417999999999999,0.70195000000000007,0.66209999999999991,0.62224999999999997]
[null,null,null,1982,13,null,"AVA","Greater Fresno  Hanford","ImperialCounty",null,"long_duration_storage_&_long_duration_storage_ext",null,"NewGeothermalExistingStorage","Wind Wyoming (GWh)",null,null,null,null,null,"8hr_batteries",0.89400000000000002,0.88650000000000007,0.879,0.86850000000000005,0.85799999999999998,0.874,0.89,0.85119999999999996,0.8123999999999999,0.77359999999999984,0.73479999999999979,0.69599999999999995,null,"8hr_batteries",0.89200000000000002,0.91100000000000003,0.93,0.89900000000000002,0.86799999999999999,0.85749999999999993,0.84699999999999998,0.81679999999999997,0.78659999999999997,0.75639999999999996,0.72619999999999996,0.69599999999999995]
[null,null,null,1983,14,null,"AVRN","Greater Fresno  Coalinga","InyoCounty",null,"long_duration_storage_ext",null,"NewGeothermalNewStorage","Wind New Mexico (GWh)",null,null,null,null,null,"pumped_storage",0.90100000000000002,0.89,0.879,0.86850000000000005,0.85799999999999998,0.874,0.89,0.85860000000000003,0.82720000000000005,0.79580000000000006,0.76440000000000008,0.73299999999999998,null,"pumped_storage",0.89400000000000002,0.91400000000000003,0.93400000000000005,0.91300000000000003,0.89200000000000002,0.89050000000000007,0.88900000000000001,0.85780000000000001,0.8266,0.7954,0.76419999999999999,0.73299999999999998]
[null,null,null,1984,15,null,"AZPS","Greater Fresno  Borden","KernCounty",null,"long_duration_storage_ext_&_firm_ZE",null,"NewSolarExistingStorage","Wind Offshore Morro Bay (GWh)",null,null,null,null,null,"demand_response",0.7724039633086085,0.79750142153712067,0.82259887976563284,0.77486011512236863,0.72712135047910442,0.79507732791389651,0.86303330534868861,0.71922664427895089,0.57541998320921317,0.43161332213947545,0.28780666106973773,0.14399999999999999,null,"demand_response",0.89300000000000002,0.9083512608449148,0.92370252168982958,0.77235126084491479,0.621,0.60599999999999998,0.59099999999999997,0.50159999999999993,0.41219999999999996,0.32279999999999998,0.2334,0.14399999999999999]
[null,null,null,1985,16,null,"BANC","Greater Fresno  Reedley","KingsCounty",null,"long_duration_storage_ext_&_firm_ZE_ext",null,"NewSolarNewStorage","Wind Offshore Humboldt (GWh)",null,null,null,null,null,"hydro",0.50808542614523622,0.52136584004877395,0.53464625395231169,0.52463421830816248,0.51462218266401338,0.52965938625731068,0.54469658985060787,0.52172491439930901,0.4987532389480101,0.47578156349671119,0.45280988804541228,0.42983821259411337,null,"hydro",0.56660491660133128,0.5639186026863886,0.56123228877144593,0.53191654140391154,0.50260079403637703,0.49249487994717378,0.48238896585797048,0.47187881520519903,0.46136866455242759,0.45085851389965614,0.4403483632468847,0.42983821259411337]
[null,null,null,1986,17,null,"BPAT","Kern  Westpark","LakeCounty",null,"ZE_gen_paired_dr",null,"NewThermalExistingStorage","Solar Baseline California(GWh)",null,null,null,null,null,"small_hydro",0.36439596011147751,0.37392059696589919,0.38344523382032081,0.37626465915023138,0.36908408448014196,0.37986868084682657,0.39065327721351117,0.37417812303529918,0.35770296885708719,0.3412278146788752,0.3247526605006632,0.3082775063224511,null,"small_hydro",0.40636580378868559,0.40443919482132551,0.40251258585396549,0.38148749960139383,0.36046241334882212,0.35321450959515949,0.34596660584149685,0.33842878593768772,0.33089096603387858,0.32335314613006944,0.3158153262262603,0.3082775063224511]
[null,null,null,1987,18,null,"CHPD","Kern  Kern Power-Tevis","LassenCounty",null,"ZE_gen_paired_dr_&_firm_ZE",null,"NewThermalNewStorage","Solar New PG&E (GWh)",null,null,null,null,null,"geothermal",0.86035735395693558,0.88845422376818506,0.91655109357943454,0.92141545041207906,0.92627980724472359,0.91906618301364429,0.91185255878256499,0.91955797078363211,0.92726338278469922,0.93496879478576633,0.94267420678683345,0.95037961878790056,null,"geothermal",0.86400365575892546,0.8782620417931235,0.89252042782732166,0.91001836007896375,0.92751629233060595,0.92280590133888829,0.91809551034717063,0.92538472229861102,0.93267393425005141,0.93996314620149179,0.94725235815293218,0.95454157010437257]
[null,null,null,1988,19,null,"CSTO","Kern  Kern Oil","LosAngelesCounty",null,"ZE_gen_paired_dr_&_firm_ZE_ext",null,"NewWindExistingStorage","Solar New SCE SDG&E (GWh)",null,null,null,null,null,"biomass_wood",0.7760796336578174,0.79410595910163018,0.81213228454544306,0.81927788031425353,0.82642347608306399,0.81498790039485203,0.80355232470664006,0.81956505086438813,0.8355777770221362,0.85159050317988427,0.86760322933763234,0.88361595549538019,null,"biomass_wood",0.78777252109464602,0.80873519104432079,0.82969786099399567,0.83028460488270484,0.83087134877141389,0.82344593040995451,0.81602051204849513,0.83149916107410415,0.84697781009971318,0.86245645912532221,0.87793510815093123,0.89341375717654026]
[null,null,null,1989,20,null,"DEAA","Kern  South Kern PP","MaderaCounty",null,"ZE_gen_paired_dr_&_long_duration_storage",null,"NewWindNewStorage","Solar Distributed (GWh)",null,null,null,null,null,"biogas",0.74993508538984277,0.76621477432747476,0.78249446326510674,0.78556571387656016,0.78863696448801368,0.77725397013863851,0.76587097578926322,0.78423035140973241,0.80258972703020159,0.82094910265067078,0.83930847827113997,0.85766785389160938,null,"biogas",0.75849976538356267,0.77833009661414909,0.79816042784473562,0.79513379797889616,0.7921071681130567,0.78251806948180391,0.77292897085055123,0.79192907385472411,0.81092917685889698,0.82992927986306986,0.84892938286724273,0.86792948587141583]
[null,null,null,1990,21,null,"DOPD","Big Creek/Ventura - Vesta","MarinCounty",null,"ZE_gen_paired_dr_&_long_duration_storage_ext",null,null,"Hybrid_or_Paired_Solar_and_Battery (GWh)",null,null,null,null,null,"nuclear",0.93356208910726446,0.93542040714074237,0.93727872517422017,0.93803958722410496,0.93880044927398987,0.93205531633495187,0.92531018339591387,0.93233873256863709,0.9393672817413603,0.94639583091408352,0.95342438008680674,0.96045292925952974,null,"nuclear",0.93139197880214852,0.93996144395127801,0.9485309091004076,0.94333376244952838,0.93813661579864904,0.93575640725694242,0.93337619871523581,0.93933118321638243,0.94528616771752905,0.95124115221867567,0.95719613671982229,0.96315112122096869]
[null,null,null,1991,22,null,"EPE","Big Creek/Ventura - Santa Clara","MariposaCounty",null,null,null,null,"Shed DR (MW)",null,null,null,null,null,"gas_cc",0.84405545915455138,0.85378805932691004,0.86352065949926871,0.86634980076266022,0.86917894202605173,0.85956321379360601,0.84994748556116018,0.86140444290247919,0.87286140024379821,0.88431835758511723,0.89577531492643625,0.90723227226775538,null,"gas_cc",0.84814757974875532,0.86263887009961904,0.87713016045048275,0.87417936920023021,0.87122857794997766,0.86089172285515003,0.85055486776032241,0.86298372454380101,0.87541258132727962,0.88784143811075822,0.90027029489423682,0.91269915167771554]
[null,null,null,1992,23,null,"GCPD","LA Basin  Eastern","MendocinoCounty",null,null,null,null,"Pumped Storage (MW)",null,null,null,null,null,"gas_ct",0.81237441831218216,0.83458266364683165,0.85679090898148114,0.84024564289456083,0.82370037680764052,0.80688071641969916,0.7900610560317578,0.80257508455656523,0.81508911308137266,0.82760314160618009,0.84011717013098752,0.85263119865579484,null,"gas_ct",0.80210397441153047,0.8164055166331512,0.83070705885477203,0.82614281229582409,0.82157856573687627,0.80581095377983025,0.79004334182278424,0.79962832305535969,0.80921330428793514,0.81879828552051059,0.82838326675308604,0.83796824798566139]
[null,null,null,1993,24,null,"GRIF","LA Basin  Western","MercedCounty",null,null,null,null,"Battery Storage (MWh Energy Capacity)",null,null,null,null,null,"cogen",0.93171659158246634,0.92982721151899872,0.9279378314555311,0.93426748239376611,0.94059713333200112,0.93177611621028944,0.92295509908857776,0.92509715629415346,0.92723921349972915,0.92938127070530485,0.93152332791088055,0.93366538511645647,null,"cogen",0.89510595870195142,0.92080923604040321,0.94651251337885489,0.91922536104575825,0.89193820871266161,0.89034739869657353,0.88875658868048535,0.89657566327297322,0.9043947378654611,0.91221381245794897,0.92003288705043684,0.92785196164292472]
[null,null,null,1994,25,null,"GRIS","LA Basin  El Nido","ModocCounty",null,null,null,null,"Storage Resource Custom Profile (MW)",null,null,null,null,null,"ice",0.93417725494886394,0.93953702885460977,0.94489680276035559,0.94420958116215314,0.94352235956395081,0.94551881178594521,0.94751526400793951,0.93432127731937176,0.92112729063080401,0.90793330394223626,0.89473931725366851,0.88154533056510087,null,"ice",0.92925750703154864,0.90155388721725416,0.87385026740295979,0.89802819899977204,0.92220613059658441,0.91831713786770974,0.91442814513883497,0.90430189637815794,0.89417564761748092,0.88404939885680389,0.87392315009612687,0.86379690133544973]
[null,null,null,1995,26,null,"GRMA","San Diego/Imperial Valley  San Diego","MonoCounty",null,null,null,null,"RPS Resource Custom Profile (GWh)",null,null,null,null,null,"coal",0.68780333538830307,0.70728773218306451,0.72677212897782595,0.72091463332629768,0.71505713767476942,0.68678495655552108,0.65851277543627273,0.68894203468715276,0.71937129393803279,0.74980055318891281,0.78022981243979284,0.81065907169067308,null,"coal",0.6905015932630254,0.71720881804551684,0.74391604282800827,0.73721266741320757,0.73050929199840686,0.71015565906334177,0.68980202612827657,0.71688684336924113,0.7439716606102057,0.77105647785117026,0.79814129509213483,0.82522611233309917]
[null,null,null,1996,27,null,"GWA","San Diego/Imperial Valley  El Cajon","MontereyCounty",null,null,null,null,"GHG-free non-RPS Resource Custom Profile (GWh)",null,null,null,null,null,"steam",0.77854029702421501,0.79236174105596691,0.80618318508771891,0.80202811428072351,0.79787304347372801,0.77781790021672426,0.75776275695972062,0.77934804431009863,0.80093333166047664,0.82251861901085466,0.84410390636123267,0.86568919371161046,null,"steam",0.7804543321668751,0.79939935861356859,0.81834438506026208,0.81358928131774333,0.80883417757522458,0.79439613253754293,0.77995808749986129,0.79917096278409228,0.81838383806832327,0.83759671335255426,0.85680958863678525,0.87602246392101613]
[null,null,null,1997,28,null,"HGMA","San Diego/Imperial Valley  Border","NapaCounty",null,null,null,null,"Coal (GWh)",null,null,null,null,null,"unspecified_import",1,1,1,1,1,1,1,1,1,1,1,1,null,"unspecified_import",1,1,1,1,1,1,1,1,1,1,1,1]
[null,null,null,1998,29,null,"IID","No_sub_area","NevadaCounty"]
[null,null,null,1999,30,null,"IPCO",null,"OrangeCounty"]
[null,null,null,2000,31,null,"LDWP",null,"PlacerCounty"]
[null,null,null,2001,null,null,"NEVP",null,"PlumasCounty"]
[null,null,null,2002,null,null,"NWMT",null,"RiversideCounty"]
[null,null,null,2003,null,null,"PACE",null,"SacramentoCounty"]
[null,null,null,2004,null,null,"PACW",null,"SanBenitoCounty"]
[null,null,null,2005,null,null,"PortGE",null,"SanBernardinoCounty"]
[null,null,null,2006,null,null,"PNM",null,"SanDiegoCounty"]
[null,null,null,2007,null,null,"PSCO",null,"SanFrancisco"]
[null,null,null,2008,null,null,"PSEI",null,"SanJoaquinCounty"]
[null,null,null,2009,null,null,"SCL",null,"SanLuisObispoCounty"]
[null,null,null,2010,null,null,"SRP",null,"SanMateoCounty"]
[null,null,null,2011,null,null,"SWPP",null,"SantaBarbaraCounty"]
[null,null,null,2012,null,null,"TEPC",null,"SantaClaraCounty"]
[null,null,null,2013,null,null,"TIDC",null,"SantaCruzCounty"]
[null,null,null,2014,null,null,"TPWR",null,"ShastaCounty"]
[null,null,null,2015,null,null,"WACM",null,"SierraCounty"]
[null,null,null,2016,null,null,"WALC",null,"SiskiyouCounty"]
[null,null,null,2017,null,null,"WAUW",null,"SolanoCounty"]
[null,null,null,2018,null,null,"WWA",null,"SonomaCounty"]
[null,null,null,2019,null,null,null,null,"StanislausCounty"]
[null,null,null,2020,null,null,null,null,"SutterCounty"]
[null,null,null,2021,null,null,null,null,"TehamaCounty"]
[null,null,null,2022,null,null,null,null,"TrinityCounty"]
[null,null,null,2023,null,null,null,null,"TulareCounty"]
[null,null,null,2024,null,null,null,null,"TuolumneCounty"]
[null,null,null,2025,null,null,null,null,"VenturaCounty"]
[null,null,null,2026,null,null,null,null,"YoloCounty"]
[null,null,null,2027,null,null,null,null,"YubaCounty"]
[null,null,null,2028,null,null,null,null,"Washington"]
[null,null,null,2029,null,null,null,null,"Oregon"]
[null,null,null,2030,null,null,null,null,"California"]
[null,null,null,2031,null,null,null,null,"Idaho"]
[null,null,null,2032,null,null,null,null,"Nevada"]
[null,null,null,2033,null,null,null,null,"Utah"]
[null,null,null,2034,null,null,null,null,"Arizona"]
[null,null,null,2035,null,null,null,null,"Colorado"]
[null,null,null,2036,null,null,null,null,"Wyoming"]
[null,null,null,2037,null,null,null,null,"Montana"]
[null,null,null,2038,null,null,null,null,"SouthDakota"]
[null,null,null,2039,null,null,null,null,"NewMexico"]
[null,null,null,2040,null,null,null,null,"Texas"]
[null,null,null,2041,null,null,null,null,"BritishColumbiaCanada"]
[null,null,null,2042,null,null,null,null,"AlbertaCanada"]
[null,null,null,2043,null,null,null,null,"BajaCaliforniaMexico"]
[null,null,null,2044]
[null,null,null,2045]
[null,null,null,2046]
[null,null,null,2047]
[null,null,null,2048]
[null,null,null,2049]
[null,null,null,2050]
[null,null,null,2051]
[null,null,null,2052]
[null,null,null,2053]
[null,null,null,2054]
[null,null,null,2055]
[null,null,null,2056]
[null,null,null,2057]
[null,null,null,2058]
[null,null,null,2059]
[null,null,null,2060]

{"sheet":"btm_pv_forecast","index":7,"n_rows":43,"n_cols":17,"rows_kept":43,"cut":false,"hidden":false,"merged":[]}
[]
[null,null,null,null,null,"Capacity (MW)"]
[null,"Service Area","Type","LSE CPUC ID","LSE Name",2024,2025,2026,2027,2028,2029,2030,2031,2032,2033,2034,2035]
[]
[null,"PGE","IOU","PGE","Pacific Gas and Electric (Bundled)",2483.8068589790723,2670.6038103689802,2858.9074246620553,3056.0035900636071,3256.6374079561342,3468.7628407033926,3666.9481221821034,3882.9316452981288,4089.8779554219054,4313.371000375545,4525.9710006049063,4733.5943482356379]
[null,"PGE","ESP",null,"Pacific Gas and Electric (Direct Access)",1044.2812727718472,1116.2856772500425,1188.7877162783418,1263.803082966863,1341.8643229155455,1417.5187133768627,1491.0134772441515,1560.1180533957549,1628.5101143427687,1691.9805408676923,1751.8540669200165,1806.595437887127]
[null,"PGE","CCA","3CE","Central Coast Community Energy",421.15158866235947,452.41756345284011,484.24656690264459,518.26131780701587,553.24666760565185,588.40650611030662,623.01932056784142,657.26665772916772,690.27502269615002,722.39237653960083,753.19576332979227,782.63020991442545]
[null,"PGE","CCA","CPSF","CleanPowerSF",272.19416399859608,293.24422043725548,314.64319486101334,337.11583948832134,360.59438348444075,384.43336439847536,408.20763606432604,431.73764612373708,454.71495834668525,477.48365101121402,499.30993106673799,522.15571416344596]
[null,"PGE","CCA","EBCE","East Bay Community Energy",617.76959431414195,667.81996111621743,718.63308662617487,771.46593233074759,827.57953531612543,883.45521722999354,939.61924241275983,994.0497540750838,1047.1904037722193,1098.0250495756795,1147.2771116564363,1195.6178051162908]
[null,"PGE","CCA","KCCP","King City Community Power",3.1274358840494534,3.3636520056169532,3.6050746596521281,3.8602955575569933,4.1281791027990744,4.4032289358735328,4.6760213764533942,4.9529948206200691,5.2230105835236342,5.4948898457039075,5.7600678791208466,6.0177562422379056]
[null,"PGE","CCA","MCE","Marin Clean Energy",527.86388071769511,563.93443402414778,600.94246843265171,639.69312653983377,682.55819738465698,725.04097687911815,779.38139222076563,819.26259007070894,863.34478143792842,897.0318566789806,932.88804641092975,967.05580668741084]
[null,"PGE","CCA","PCEA","Peninsula Clean Energy Authority",316.75083019541813,339.10983202487694,364.76233374423686,394.23905047890116,426.38292831492276,456.14532228889948,487.03461529488857,517.71009069627598,550.01922490357629,578.78887456209941,609.02186232936469,639.46893059021602]
[null,"PGE","CCA","PIONEER","Pioneer Community Energy",174.58370029279465,187.74625877084296,201.05464856586698,215.08391009554981,229.8694970939209,244.8625782047807,259.97134575100404,274.72346527719623,289.20527157432571,303.56593207859419,317.5371963463985,331.39997696384302]
[null,"PGE","CCA","RCEA","Redwood Coast Energy Authority",62.138081316377651,66.496059034432207,71.017362202773811,75.665120769114964,80.48241444552616,85.149414717258253,89.681980650495873,93.946685834520423,98.166583975000705,102.08317249026896,105.78473833742601,109.17589388091692]
[null,"PGE","CCA","SJCE","San José Clean Energy",350.21324007670898,376.68297404818878,403.56176136508725,432.00922554326763,461.8896518316966,492.40267793259045,522.9226245202517,553.27567634329318,583.10753624593087,612.88219212544936,641.84777737179513,670.34157413534956]
[null,"PGE","CCA","SVCEA","Silicon Valley Clean Energy Authority",337.44318241651644,362.59051649013793,388.24515038707466,415.37112983413044,443.77395346360737,472.77166743521479,501.68487615834687,530.5496873902905,558.89072034388994,587.07254600964177,614.43748105219868,641.20263112945668]
[null,"PGE","CCA","SOMA","Sonoma Clean Power",204.13485296036629,219.59562436786734,235.2439036449297,251.77557565799594,269.1820112432012,286.89668003285396,304.69389780741091,322.21442833329922,339.42850634791262,356.56934250918135,373.249630782145,389.75397688857419]
[null,"PGE","CCA","VCEA","Valley Clean Energy Alliance",65.848531141168294,71.437151445058674,77.281773889539011,83.386448610861379,90.055275571140967,96.31582884604012,102.91328573756282,109.38630667423828,116.1331870201184,122.13662570100729,128.23331103435945,134.24818004623634]
[]
[null,"SCE","IOU","SCE","Southern California Edison (Bundled)",3045.6552922272008,3285.9745840143787,3536.1960292967306,3798.2790020660741,4067.7244055505175,4348.1989093430002,4638.7565959445928,4940.7488752548306,5249.1653779558428,5563.6355709265245,5882.7329697236801,6204.3137106902432]
[null,"SCE","ESP",null,"Southern California Edison (Direct Access)",258.95906146369924,277.62600208478869,297.02638527422238,316.37784858260233,336.86391331946299,357.73704018578508,379.46587953282386,401.31059926563461,424.5472950956584,447.79511993059907,471.39999159290011,494.98519838813047]
[null,"SCE","CCA","AVCE","Apple Valley Choice Energy",30.105810709839815,32.504098777569489,34.999640542766912,37.614739331637956,40.333183111954085,43.12310859058897,46.028780876911163,48.950928205180396,51.950231455221179,54.992953646411216,58.077081456034364,61.221541257178046]
[null,"SCE","CCA","COBP","Baldwin Park, City of",0,0,0,0,0,0,0,0,0,0,0,0]
[null,"SCE","CCA","3CE","Central Coast Community Energy",32.356121861904604,34.517261561131555,36.74543728673023,38.944289016766014,41.258232396243102,43.594883574977111,46.011355626132783,48.418939402345309,50.967377906025639,54.12182524707773,57.34463397329494,60.639115401868459]
[null,"SCE","CCA","CPASC","Clean Power Alliance",450.60008333015799,486.24333359056698,523.36965046983676,562.17382235511957,602.420790304913,644.08973111529235,687.34816420565483,731.74792995995642,777.23741380376975,823.60382235055727,870.65873870250994,918.28722226338766]
[null,"SCE","CCA","DCE","Desert Community Energy",40.155911659818344,43.376864736966027,46.551308586475862,49.762575063189573,53.202232925325021,56.760100194548706,60.514505244911582,64.356704712958205,68.498466385423498,72.722493312596029,77.094043174101955,81.556600946759119]
[null,"SCE","CCA","PALMDALE","Energy for Palmdale’s Independent Choice",35.840654395407483,38.717773668025728,41.714924374379962,44.850035603148278,48.132406508891798,51.552254902433695,55.097841856349895,58.736857126406697,62.472700596974533,66.296201333130981,70.17896164272689,74.107870100483552]
[null,"SCE","CCA","LCE","Lancaster Choice Energy",73.470263496767444,79.311062182652734,85.390813960405325,91.755651295259938,98.367589469997796,105.19021935636306,112.28423354088909,119.49346715710085,126.88751642609698,134.41155535925506,142.04239713646993,149.7950010427553]
[null,"SCE","CCA","OCPA","Orange County Power Authority",231.53585360591782,250.12237441144057,269.48587689828724,289.73591928475497,310.94494346993008,333.03473425891934,355.94026056294121,379.44347029814105,403.57843760413255,428.2826627755893,453.3604768777987,478.74445052111685]
[null,"SCE","CCA","PRIME","Pico Rivera Innovative Municipal Energy",8.8923952763280738,9.5957720828242277,10.329020981488155,11.094986170340906,11.890104778081755,12.7158536019785,13.572318905283026,14.456504282250519,15.362060028030079,16.286996387416579,17.225860469836483,18.174285396629735]
[null,"SCE","CCA","POMONA","Pomona Choice Energy",7.2880577587742517,7.869595336699347,8.4749206298659043,9.1074951868775251,9.7690306633408159,10.455502185043979,11.16817613280136,11.894906469915695,12.641736220282057,13.404609790860244,14.178771151478042,14.963381478955935]
[null,"SCE","CCA","RMEA","Rancho Mirage Energy Authority",44.304687302455967,47.783423522818374,51.405954035538571,55.192667652781736,59.09813217013734,63.110057941521113,67.284832930406395,71.54118224157564,75.896386230828227,80.314746259163087,84.796122325001576,89.343601107090407]
[null,"SCE","CCA","SJP","San Jacinto Power",23.281495073276332,25.128685117914753,27.048137450882894,29.059803227878838,31.144702770405633,33.284659804525489,35.513193930581281,37.763581278087678,40.069242217898221,42.410318278891964,44.783120013682392,47.199221443893258]
[null,"SCE","CCA","SBCE","Santa Barbara Clean Energy",20.201907875010075,21.809132762762086,23.482680952108943,25.230641871321733,27.053917088533282,28.949848210270375,30.916659468529414,32.936290369029237,35.010241508733159,37.128698349933728,39.280056954004472,41.455877888372136]
[null,"SCE","CCA","WCE","Western Community Energy",0,0,0,0,0,0,0,0,0,0,0,0]
[]
[null,"SDGE","IOU","SDGE","San Diego Gas and Electric (Bundled)",437.78139682417225,467.84549294613203,499.56400126858233,532.59835107237791,565.47146178385049,599.19856840421085,633.04840821344931,667.18813196577651,701.33795975777446,735.50607155309069,769.22680036509394,801.97027864891277]
[null,"SDGE","ESP",null,"San Diego Gas and Electric (Direct Access)",474.14911934452368,506.55513983092959,539.92689089440546,573.93568311217416,608.14132180584556,641.9135161361578,675.20239358561423,707.35052775049087,740.02850320637583,771.59934018399008,803.32713088815751,834.28002302904827]
[null,"SDGE","CCA","CEA","Clean Energy Alliance",178.97203776598533,192.34463513481677,206.13388660007689,220.27452020315263,234.63608054337388,249.07499241226589,263.71028109593857,278.52035746155553,293.15367068089392,307.76427610454715,322.15944295728002,336.53779574392155]
[null,"SDGE","CCA","OCPA","Orange County Power Authority",20.393470210252048,21.917223852047211,23.488452385250447,25.099860562123684,26.736216456575136,28.381537126609626,30.049136316445441,31.736835651642885,33.404204025123718,35.069105858886168,36.709327592816699,38.347653727019953]
[null,"SDGE","CCA","SDCP","San Diego Community Power",954.55604432506641,1025.878297666075,1099.4227056516845,1174.8478000201712,1251.440620840355,1328.4530554207558,1406.5082794585526,1485.5043299005342,1563.5487501298323,1641.4777191694861,1718.2514881266513,1794.9365298510979]
[null," "," "," "," "," "," "," "," "," "," "," "," "," "," "," "," "]
[null,"BEAR","SMJ","BEAR","Bear Valley Electric Services",6.7720883629999999,7.3201908690000002,7.8906317369999996,8.4904644180000002,9.1160487989999996,9.7639140199999996,10.437312873,11.12148865,11.821896943,12.537238436999999,13.262848098999999,14.001250491]

{"sheet":"Reliability","index":8,"n_rows":257,"n_cols":16,"rows_kept":257,"cut":false,"hidden":false,"merged":[]}
["LSE Input"]
[null,null,30,"MMT"]
[]
[]
[null,null,"Reliability Need"]
[null,null,null,null,2024,2025,2026,2027,2028,2029,2030,2031,2032,2033,2034,2035]
[null,null,"CAISO gross peak (MW)",null,53530,54113,54769,55494,56125,56797,57454,58178,58827,59511,60161,60803]
[null,null,"PRM (%)",null,0.14000000000000001,0.14000000000000001,0.14000000000000001,0.14000000000000001,0.14000000000000001,0.14000000000000001,0.14000000000000001,0.14000000000000001,0.14000000000000001,0.14000000000000001,0.14000000000000001,0.14000000000000001]
[null,null,"CAISO total reliability need (TRN) (MW)",null,{"$f":"E7*(1+E8)","v":61024.200000000004},{"$f":"F7*(1+F8)","v":61688.820000000007},62436.66,63263.16,63982.500000000007,64748.580000000009,65497.560000000005,66322.920000000013,67062.780000000013,67842.540000000008,68583.540000000008,69315.420000000013]
[null,null,"MRN/TRN ratio",null,{"$f":"IF($C$2=25,misc!AW3,misc!BK3)","v":0.80029848011116889},{"$f":"IF($C$2=25,misc!AX3,misc!BL3)","v":0.81896333891271367},{"$f":"IF($C$2=25,misc!AY3,misc!BM3)","v":0.83611438362607471},{"$f":"IF($C$2=25,misc!AZ3,misc!BN3)","v":0.79544567238840358},{"$f":"IF($C$2=25,misc!BA3,misc!BO3)","v":0.75709177033813169},{"$f":"IF($C$2=25,misc!BB3,misc!BP3)","v":0.73673303550177849},{"$f":"IF($C$2=25,misc!BC3,misc!BQ3)","v":0.71703757483484865},{"$f":"IF($C$2=25,misc!BD3,misc!BR3)","v":0.69918925792169562},{"$f":"IF($C$2=25,misc!BE3,misc!BS3)","v":0.68264892770624752},{"$f":"IF($C$2=25,misc!BF3,misc!BT3)","v":0.66607760402249072},{"$f":"IF($C$2=25,misc!BG3,misc!BU3)","v":0.65025016398978508},{"$f":"IF($C$2=25,misc!BH3,misc!BV3)","v":0.63484459547384975}]
[null,null,"CAISO marginal reliability need (MRN) (MW)",null,{"$f":"E9*E10","v":48837.574509999999},{"$f":"F9*F10","v":50520.882000785394},52204.189491570796,50322.406843615157,48440.624195659519,47702.417887829753,46964.211579999996,46372.273217999995,45780.334855999994,45188.396493999993,44596.458131999992,44004.519769999999]
[null,null,"LSE managed peak share (%)"]
[null,null,"LSE MRN (MW)"]
[]
[]
[null,null,"BTM PV"]
[null,null,null,null,2024,2025,2026,2027,2028,2029,2030,2031,2032,2033,2034,2035]
[null,null,"Capacity (MW)",null,437.78139682417225,467.84549294613203,499.56400126858233,532.59835107237791,565.47146178385049,599.19856840421085,633.04840821344931,667.18813196577651,701.33795975777446,735.50607155309069,769.22680036509394,801.97027864891277]
[]
[]
[null,null,"ELCC (%)"]
[null,null,"Resource Type",null,2024,2025,2026,2027,2028,2029,2030,2031,2032,2033,2034,2035]
[null,null,"in_state_wind_south",null,{"$f":"IF($C$2=25,misc!U3,misc!AI3)","v":0.15102941403529452},{"$f":"IF($C$2=25,misc!V3,misc!AJ3)","v":0.15178846902809942},{"$f":"IF($C$2=25,misc!W3,misc!AK3)","v":0.15254752402090432},{"$f":"IF($C$2=25,misc!X3,misc!AL3)","v":0.11848326121551586},{"$f":"IF($C$2=25,misc!Y3,misc!AM3)","v":8.4418998410127413E-2},{"$f":"IF($C$2=25,misc!Z3,misc!AN3)","v":8.3416882718990337E-2},{"$f":"IF($C$2=25,misc!AA3,misc!AO3)","v":8.2414767027853275E-2},{"$f":"IF($C$2=25,misc!AB3,misc!AP3)","v":7.4829691124404837E-2},{"$f":"IF($C$2=25,misc!AC3,misc!AQ3)","v":6.72446152209564E-2},{"$f":"IF($C$2=25,misc!AD3,misc!AR3)","v":5.9659539317507955E-2},{"$f":"IF($C$2=25,misc!AE3,misc!AS3)","v":5.207446341405951E-2},{"$f":"IF($C$2=25,misc!AF3,misc!AT3)","v":4.4489387510611059E-2}]
[null,null,"in_state_wind_north",null,{"$f":"IF($C$2=25,misc!U4,misc!AI4)","v":0.30205882807058904},{"$f":"IF($C$2=25,misc!V4,misc!AJ4)","v":0.30357693805619884},{"$f":"IF($C$2=25,misc!W4,misc!AK4)","v":0.30509504804180865},{"$f":"IF($C$2=25,misc!X4,misc!AL4)","v":0.23696652243103172},{"$f":"IF($C$2=25,misc!Y4,misc!AM4)","v":0.16883799682025483},{"$f":"IF($C$2=25,misc!Z4,misc!AN4)","v":0.16683376543798067},{"$f":"IF($C$2=25,misc!AA4,misc!AO4)","v":0.16482953405570655},{"$f":"IF($C$2=25,misc!AB4,misc!AP4)","v":0.14965938224880967},{"$f":"IF($C$2=25,misc!AC4,misc!AQ4)","v":0.1344892304419128},{"$f":"IF($C$2=25,misc!AD4,misc!AR4)","v":0.11931907863501591},{"$f":"IF($C$2=25,misc!AE4,misc!AS4)","v":0.10414892682811902},{"$f":"IF($C$2=25,misc!AF4,misc!AT4)","v":8.8978775021222117E-2}]
[null,null,"out_of_state_wind_WYID",null,{"$f":"IF($C$2=25,misc!U5,misc!AI5)","v":0.42559322033898306},{"$f":"IF($C$2=25,misc!V5,misc!AJ5)","v":0.39180370915668034},{"$f":"IF($C$2=25,misc!W5,misc!AK5)","v":0.35801419797437761},{"$f":"IF($C$2=25,misc!X5,misc!AL5)","v":0.37372282962154058},{"$f":"IF($C$2=25,misc!Y5,misc!AM5)","v":0.38943146126870348},{"$f":"IF($C$2=25,misc!Z5,misc!AN5)","v":0.31241064588858902},{"$f":"IF($C$2=25,misc!AA5,misc!AO5)","v":0.23538983050847456},{"$f":"IF($C$2=25,misc!AB5,misc!AP5)","v":0.24842033898305083},{"$f":"IF($C$2=25,misc!AC5,misc!AQ5)","v":0.26145084745762709},{"$f":"IF($C$2=25,misc!AD5,misc!AR5)","v":0.27448135593220335},{"$f":"IF($C$2=25,misc!AE5,misc!AS5)","v":0.28751186440677962},{"$f":"IF($C$2=25,misc!AF5,misc!AT5)","v":0.30054237288135593}]
[null,null,"out_of_state_wind_WAOR",null,{"$f":"IF($C$2=25,misc!U6,misc!AI6)","v":0.26084745762711864},{"$f":"IF($C$2=25,misc!V6,misc!AJ6)","v":0.24013775722506214},{"$f":"IF($C$2=25,misc!W6,misc!AK6)","v":0.21942805682300565},{"$f":"IF($C$2=25,misc!X6,misc!AL6)","v":0.22905592783255713},{"$f":"IF($C$2=25,misc!Y6,misc!AM6)","v":0.23868379884210861},{"$f":"IF($C$2=25,misc!Z6,misc!AN6)","v":0.1914774926413933},{"$f":"IF($C$2=25,misc!AA6,misc!AO6)","v":0.14427118644067796},{"$f":"IF($C$2=25,misc!AB6,misc!AP6)","v":0.15225762711864407},{"$f":"IF($C$2=25,misc!AC6,misc!AQ6)","v":0.16024406779661018},{"$f":"IF($C$2=25,misc!AD6,misc!AR6)","v":0.1682305084745763},{"$f":"IF($C$2=25,misc!AE6,misc!AS6)","v":0.17621694915254241},{"$f":"IF($C$2=25,misc!AF6,misc!AT6)","v":0.18420338983050849}]
[null,null,"out_of_state_wind_AZNM",null,{"$f":"IF($C$2=25,misc!U7,misc!AI7)","v":0.384406779661017},{"$f":"IF($C$2=25,misc!V7,misc!AJ7)","v":0.3538872211737758},{"$f":"IF($C$2=25,misc!W7,misc!AK7)","v":0.32336766268653466},{"$f":"IF($C$2=25,misc!X7,misc!AL7)","v":0.33755610417429471},{"$f":"IF($C$2=25,misc!Y7,misc!AM7)","v":0.35174454566205482},{"$f":"IF($C$2=25,misc!Z7,misc!AN7)","v":0.28217735757679013},{"$f":"IF($C$2=25,misc!AA7,misc!AO7)","v":0.21261016949152545},{"$f":"IF($C$2=25,misc!AB7,misc!AP7)","v":0.22437966101694917},{"$f":"IF($C$2=25,misc!AC7,misc!AQ7)","v":0.2361491525423729},{"$f":"IF($C$2=25,misc!AD7,misc!AR7)","v":0.24791864406779662},{"$f":"IF($C$2=25,misc!AE7,misc!AS7)","v":0.25968813559322035},{"$f":"IF($C$2=25,misc!AF7,misc!AT7)","v":0.27145762711864413}]
[null,null,"offshore_wind",null,{"$f":"IF($C$2=25,misc!U8,misc!AI8)","v":0.54900000000000004},{"$f":"IF($C$2=25,misc!V8,misc!AJ8)","v":0.50668405182051957},{"$f":"IF($C$2=25,misc!W8,misc!AK8)","v":0.46436810364103909},{"$f":"IF($C$2=25,misc!X8,misc!AL8)","v":0.48659667347489211},{"$f":"IF($C$2=25,misc!Y8,misc!AM8)","v":0.50882524330874512},{"$f":"IF($C$2=25,misc!Z8,misc!AN8)","v":0.46741262165437258},{"$f":"IF($C$2=25,misc!AA8,misc!AO8)","v":0.42599999999999999},{"$f":"IF($C$2=25,misc!AB8,misc!AP8)","v":0.40479999999999999},{"$f":"IF($C$2=25,misc!AC8,misc!AQ8)","v":0.3836},{"$f":"IF($C$2=25,misc!AD8,misc!AR8)","v":0.3624},{"$f":"IF($C$2=25,misc!AE8,misc!AS8)","v":0.3412},{"$f":"IF($C$2=25,misc!AF8,misc!AT8)","v":0.32}]
[null,null,"utility_pv",null,{"$f":"IF($C$2=25,misc!U9,misc!AI9)","v":9.6000000000000002E-2},{"$f":"IF($C$2=25,misc!V9,misc!AJ9)","v":0.10220064352589828},{"$f":"IF($C$2=25,misc!W9,misc!AK9)","v":0.10840128705179657},{"$f":"IF($C$2=25,misc!X9,misc!AL9)","v":0.1016803220430352},{"$f":"IF($C$2=25,misc!Y9,misc!AM9)","v":9.4959357034273828E-2},{"$f":"IF($C$2=25,misc!Z9,misc!AN9)","v":7.7479678517136913E-2},{"$f":"IF($C$2=25,misc!AA9,misc!AO9)","v":0.06},{"$f":"IF($C$2=25,misc!AB9,misc!AP9)","v":6.08E-2},{"$f":"IF($C$2=25,misc!AC9,misc!AQ9)","v":6.1600000000000002E-2},{"$f":"IF($C$2=25,misc!AD9,misc!AR9)","v":6.2400000000000004E-2},{"$f":"IF($C$2=25,misc!AE9,misc!AS9)","v":6.3200000000000006E-2},{"$f":"IF($C$2=25,misc!AF9,misc!AT9)","v":6.4000000000000001E-2}]
[null,null,"btm_pv",null,{"$f":"IF($C$2=25,misc!U10,misc!AI10)","v":8.8999999999999996E-2},{"$f":"IF($C$2=25,misc!V10,misc!AJ10)","v":9.3703365409453621E-2},{"$f":"IF($C$2=25,misc!W10,misc!AK10)","v":9.8406730818907232E-2},{"$f":"IF($C$2=25,misc!X10,misc!AL10)","v":8.2703365409453611E-2},{"$f":"IF($C$2=25,misc!Y10,misc!AM10)","v":6.7000000000000004E-2},{"$f":"IF($C$2=25,misc!Z10,misc!AN10)","v":5.6000000000000001E-2},{"$f":"IF($C$2=25,misc!AA10,misc!AO10)","v":4.4999999999999998E-2},{"$f":"IF($C$2=25,misc!AB10,misc!AP10)","v":4.7199999999999999E-2},{"$f":"IF($C$2=25,misc!AC10,misc!AQ10)","v":4.9399999999999999E-2},{"$f":"IF($C$2=25,misc!AD10,misc!AR10)","v":5.16E-2},{"$f":"IF($C$2=25,misc!AE10,misc!AS10)","v":5.3800000000000001E-2},{"$f":"IF($C$2=25,misc!AF10,misc!AT10)","v":5.6000000000000001E-2}]
[null,null,"4hr_batteries",null,{"$f":"IF($C$2=25,misc!U11,misc!AI11)","v":0.88500000000000001},{"$f":"IF($C$2=25,misc!V11,misc!AJ11)","v":0.90149999999999997},{"$f":"IF($C$2=25,misc!W11,misc!AK11)","v":0.91800000000000004},{"$f":"IF($C$2=25,misc!X11,misc!AL11)","v":0.84550000000000003},{"$f":"IF($C$2=25,misc!Y11,misc!AM11)","v":0.77300000000000002},{"$f":"IF($C$2=25,misc!Z11,misc!AN11)","v":0.75900000000000001},{"$f":"IF($C$2=25,misc!AA11,misc!AO11)","v":0.745},{"$f":"IF($C$2=25,misc!AB11,misc!AP11)","v":0.67620000000000002},{"$f":"IF($C$2=25,misc!AC11,misc!AQ11)","v":0.60740000000000005},{"$f":"IF($C$2=25,misc!AD11,misc!AR11)","v":0.53860000000000008},{"$f":"IF($C$2=25,misc!AE11,misc!AS11)","v":0.46980000000000011},{"$f":"IF($C$2=25,misc!AF11,misc!AT11)","v":0.40100000000000002}]
[null,null,"5hr_batteries",null,{"$f":"IF($C$2=25,misc!U12,misc!AI12)","v":0.88675000000000004},{"$f":"IF($C$2=25,misc!V12,misc!AJ12)","v":0.90387499999999998},{"$f":"IF($C$2=25,misc!W12,misc!AK12)","v":0.92100000000000004},{"$f":"IF($C$2=25,misc!X12,misc!AL12)","v":0.85887500000000006},{"$f":"IF($C$2=25,misc!Y12,misc!AM12)","v":0.79675000000000007},{"$f":"IF($C$2=25,misc!Z12,misc!AN12)","v":0.78362500000000002},{"$f":"IF($C$2=25,misc!AA12,misc!AO12)","v":0.77049999999999996},{"$f":"IF($C$2=25,misc!AB12,misc!AP12)","v":0.71135000000000004},{"$f":"IF($C$2=25,misc!AC12,misc!AQ12)","v":0.6522},{"$f":"IF($C$2=25,misc!AD12,misc!AR12)","v":0.59305000000000008},{"$f":"IF($C$2=25,misc!AE12,misc!AS12)","v":0.53390000000000004},{"$f":"IF($C$2=25,misc!AF12,misc!AT12)","v":0.47475000000000001}]
[null,null,"6hr_batteries",null,{"$f":"IF($C$2=25,misc!U13,misc!AI13)","v":0.88850000000000007},{"$f":"IF($C$2=25,misc!V13,misc!AJ13)","v":0.90625},{"$f":"IF($C$2=25,misc!W13,misc!AK13)","v":0.92400000000000004},{"$f":"IF($C$2=25,misc!X13,misc!AL13)","v":0.87225000000000008},{"$f":"IF($C$2=25,misc!Y13,misc!AM13)","v":0.82050000000000001},{"$f":"IF($C$2=25,misc!Z13,misc!AN13)","v":0.80825000000000002},{"$f":"IF($C$2=25,misc!AA13,misc!AO13)","v":0.79599999999999993},{"$f":"IF($C$2=25,misc!AB13,misc!AP13)","v":0.74650000000000005},{"$f":"IF($C$2=25,misc!AC13,misc!AQ13)","v":0.69699999999999995},{"$f":"IF($C$2=25,misc!AD13,misc!AR13)","v":0.64750000000000008},{"$f":"IF($C$2=25,misc!AE13,misc!AS13)","v":0.59799999999999998},{"$f":"IF($C$2=25,misc!AF13,misc!AT13)","v":0.54849999999999999}]
[null,null,"7hr_batteries",null,{"$f":"IF($C$2=25,misc!U14,misc!AI14)","v":0.8902500000000001},{"$f":"IF($C$2=25,misc!V14,misc!AJ14)","v":0.90862500000000002},{"$f":"IF($C$2=25,misc!W14,misc!AK14)","v":0.92700000000000005},{"$f":"IF($C$2=25,misc!X14,misc!AL14)","v":0.88562500000000011},{"$f":"IF($C$2=25,misc!Y14,misc!AM14)","v":0.84424999999999994},{"$f":"IF($C$2=25,misc!Z14,misc!AN14)","v":0.83287500000000003},{"$f":"IF($C$2=25,misc!AA14,misc!AO14)","v":0.8214999999999999},{"$f":"IF($C$2=25,misc!AB14,misc!AP14)","v":0.78165000000000007},{"$f":"IF($C$2=25,misc!AC14,misc!AQ14)","v":0.7417999999999999},{"$f":"IF($C$2=25,misc!AD14,misc!AR14)","v":0.70195000000000007},{"$f":"IF($C$2=25,misc!AE14,misc!AS14)","v":0.66209999999999991},{"$f":"IF($C$2=25,misc!AF14,misc!AT14)","v":0.62224999999999997}]
[null,null,"8hr_batteries",null,{"$f":"IF($C$2=25,misc!U15,misc!AI15)","v":0.89200000000000002},{"$f":"IF($C$2=25,misc!V15,misc!AJ15)","v":0.91100000000000003},{"$f":"IF($C$2=25,misc!W15,misc!AK15)","v":0.93},{"$f":"IF($C$2=25,misc!X15,misc!AL15)","v":0.89900000000000002},{"$f":"IF($C$2=25,misc!Y15,misc!AM15)","v":0.86799999999999999},{"$f":"IF($C$2=25,misc!Z15,misc!AN15)","v":0.85749999999999993},{"$f":"IF($C$2=25,misc!AA15,misc!AO15)","v":0.84699999999999998},{"$f":"IF($C$2=25,misc!AB15,misc!AP15)","v":0.81679999999999997},{"$f":"IF($C$2=25,misc!AC15,misc!AQ15)","v":0.78659999999999997},{"$f":"IF($C$2=25,misc!AD15,misc!AR15)","v":0.75639999999999996},{"$f":"IF($C$2=25,misc!AE15,misc!AS15)","v":0.72619999999999996},{"$f":"IF($C$2=25,misc!AF15,misc!AT15)","v":0.69599999999999995}]
[null,null,"pumped_storage",null,{"$f":"IF($C$2=25,misc!U16,misc!AI16)","v":0.89400000000000002},{"$f":"IF($C$2=25,misc!V16,misc!AJ16)","v":0.91400000000000003},{"$f":"IF($C$2=25,misc!W16,misc!AK16)","v":0.93400000000000005},{"$f":"IF($C$2=25,misc!X16,misc!AL16)","v":0.91300000000000003},{"$f":"IF($C$2=25,misc!Y16,misc!AM16)","v":0.89200000000000002},{"$f":"IF($C$2=25,misc!Z16,misc!AN16)","v":0.89050000000000007},{"$f":"IF($C$2=25,misc!AA16,misc!AO16)","v":0.88900000000000001},{"$f":"IF($C$2=25,misc!AB16,misc!AP16)","v":0.85780000000000001},{"$f":"IF($C$2=25,misc!AC16,misc!AQ16)","v":0.8266},{"$f":"IF($C$2=25,misc!AD16,misc!AR16)","v":0.7954},{"$f":"IF($C$2=25,misc!AE16,misc!AS16)","v":0.76419999999999999},{"$f":"IF($C$2=25,misc!AF16,misc!AT16)","v":0.73299999999999998}]
[null,null,"demand_response",null,{"$f":"IF($C$2=25,misc!U17,misc!AI17)","v":0.89300000000000002},{"$f":"IF($C$2=25,misc!V17,misc!AJ17)","v":0.9083512608449148},{"$f":"IF($C$2=25,misc!W17,misc!AK17)","v":0.92370252168982958},{"$f":"IF($C$2=25,misc!X17,misc!AL17)","v":0.77235126084491479},{"$f":"IF($C$2=25,misc!Y17,misc!AM17)","v":0.621},{"$f":"IF($C$2=25,misc!Z17,misc!AN17)","v":0.60599999999999998},{"$f":"IF($C$2=25,misc!AA17,misc!AO17)","v":0.59099999999999997},{"$f":"IF($C$2=25,misc!AB17,misc!AP17)","v":0.50159999999999993},{"$f":"IF($C$2=25,misc!AC17,misc!AQ17)","v":0.41219999999999996},{"$f":"IF($C$2=25,misc!AD17,misc!AR17)","v":0.32279999999999998},{"$f":"IF($C$2=25,misc!AE17,misc!AS17)","v":0.2334},{"$f":"IF($C$2=25,misc!AF17,misc!AT17)","v":0.14399999999999999}]
[null,null,"hydro",null,{"$f":"IF($C$2=25,misc!U18,misc!AI18)","v":0.56660491660133128},{"$f":"IF($C$2=25,misc!V18,misc!AJ18)","v":0.5639186026863886},{"$f":"IF($C$2=25,misc!W18,misc!AK18)","v":0.56123228877144593},{"$f":"IF($C$2=25,misc!X18,misc!AL18)","v":0.53191654140391154},{"$f":"IF($C$2=25,misc!Y18,misc!AM18)","v":0.50260079403637703},{"$f":"IF($C$2=25,misc!Z18,misc!AN18)","v":0.49249487994717378},{"$f":"IF($C$2=25,misc!AA18,misc!AO18)","v":0.48238896585797048},{"$f":"IF($C$2=25,misc!AB18,misc!AP18)","v":0.47187881520519903},{"$f":"IF($C$2=25,misc!AC18,misc!AQ18)","v":0.46136866455242759},{"$f":"IF($C$2=25,misc!AD18,misc!AR18)","v":0.45085851389965614},{"$f":"IF($C$2=25,misc!AE18,misc!AS18)","v":0.4403483632468847},{"$f":"IF($C$2=25,misc!AF18,misc!AT18)","v":0.42983821259411337}]
[null,null,"small_hydro",null,{"$f":"IF($C$2=25,misc!U19,misc!AI19)","v":0.40636580378868559},{"$f":"IF($C$2=25,misc!V19,misc!AJ19)","v":0.40443919482132551},{"$f":"IF($C$2=25,misc!W19,misc!AK19)","v":0.40251258585396549},{"$f":"IF($C$2=25,misc!X19,misc!AL19)","v":0.38148749960139383},{"$f":"IF($C$2=25,misc!Y19,misc!AM19)","v":0.36046241334882212},{"$f":"IF($C$2=25,misc!Z19,misc!AN19)","v":0.35321450959515949},{"$f":"IF($C$2=25,misc!AA19,misc!AO19)","v":0.34596660584149685},{"$f":"IF($C$2=25,misc!AB19,misc!AP19)","v":0.33842878593768772},{"$f":"IF($C$2=25,misc!AC19,misc!AQ19)","v":0.33089096603387858},{"$f":"IF($C$2=25,misc!AD19,misc!AR19)","v":0.32335314613006944},{"$f":"IF($C$2=25,misc!AE19,misc!AS19)","v":0.3158153262262603},{"$f":"IF($C$2=25,misc!AF19,misc!AT19)","v":0.3082775063224511}]
[null,null,"geothermal",null,{"$f":"IF($C$2=25,misc!U20,misc!AI20)","v":0.86400365575892546},{"$f":"IF($C$2=25,misc!V20,misc!AJ20)","v":0.8782620417931235},{"$f":"IF($C$2=25,misc!W20,misc!AK20)","v":0.89252042782732166},{"$f":"IF($C$2=25,misc!X20,misc!AL20)","v":0.91001836007896375},{"$f":"IF($C$2=25,misc!Y20,misc!AM20)","v":0.92751629233060595},{"$f":"IF($C$2=25,misc!Z20,misc!AN20)","v":0.92280590133888829},{"$f":"IF($C$2=25,misc!AA20,misc!AO20)","v":0.91809551034717063},{"$f":"IF($C$2=25,misc!AB20,misc!AP20)","v":0.92538472229861102},{"$f":"IF($C$2=25,misc!AC20,misc!AQ20)","v":0.93267393425005141},{"$f":"IF($C$2=25,misc!AD20,misc!AR20)","v":0.93996314620149179},{"$f":"IF($C$2=25,misc!AE20,misc!AS20)","v":0.94725235815293218},{"$f":"IF($C$2=25,misc!AF20,misc!AT20)","v":0.95454157010437257}]
[null,null,"biomass_wood",null,{"$f":"IF($C$2=25,misc!U21,misc!AI21)","v":0.78777252109464602},{"$f":"IF($C$2=25,misc!V21,misc!AJ21)","v":0.80873519104432079},{"$f":"IF($C$2=25,misc!W21,misc!AK21)","v":0.82969786099399567},{"$f":"IF($C$2=25,misc!X21,misc!AL21)","v":0.83028460488270484},{"$f":"IF($C$2=25,misc!Y21,misc!AM21)","v":0.83087134877141389},{"$f":"IF($C$2=25,misc!Z21,misc!AN21)","v":0.82344593040995451},{"$f":"IF($C$2=25,misc!AA21,misc!AO21)","v":0.81602051204849513},{"$f":"IF($C$2=25,misc!AB21,misc!AP21)","v":0.83149916107410415},{"$f":"IF($C$2=25,misc!AC21,misc!AQ21)","v":0.84697781009971318},{"$f":"IF($C$2=25,misc!AD21,misc!AR21)","v":0.86245645912532221},{"$f":"IF($C$2=25,misc!AE21,misc!AS21)","v":0.87793510815093123},{"$f":"IF($C$2=25,misc!AF21,misc!AT21)","v":0.89341375717654026}]
[null,null,"biogas",null,{"$f":"IF($C$2=25,misc!U22,misc!AI22)","v":0.75849976538356267},{"$f":"IF($C$2=25,misc!V22,misc!AJ22)","v":0.77833009661414909},{"$f":"IF($C$2=25,misc!W22,misc!AK22)","v":0.79816042784473562},{"$f":"IF($C$2=25,misc!X22,misc!AL22)","v":0.79513379797889616},{"$f":"IF($C$2=25,misc!Y22,misc!AM22)","v":0.7921071681130567},{"$f":"IF($C$2=25,misc!Z22,misc!AN22)","v":0.78251806948180391},{"$f":"IF($C$2=25,misc!AA22,misc!AO22)","v":0.77292897085055123},{"$f":"IF($C$2=25,misc!AB22,misc!AP22)","v":0.79192907385472411},{"$f":"IF($C$2=25,misc!AC22,misc!AQ22)","v":0.81092917685889698},{"$f":"IF($C$2=25,misc!AD22,misc!AR22)","v":0.82992927986306986},{"$f":"IF($C$2=25,misc!AE22,misc!AS22)","v":0.84892938286724273},{"$f":"IF($C$2=25,misc!AF22,misc!AT22)","v":0.86792948587141583}]
[null,null,"nuclear",null,{"$f":"IF($C$2=25,misc!U23,misc!AI23)","v":0.93139197880214852},{"$f":"IF($C$2=25,misc!V23,misc!AJ23)","v":0.93996144395127801},{"$f":"IF($C$2=25,misc!W23,misc!AK23)","v":0.9485309091004076},{"$f":"IF($C$2=25,misc!X23,misc!AL23)","v":0.94333376244952838},{"$f":"IF($C$2=25,misc!Y23,misc!AM23)","v":0.93813661579864904},{"$f":"IF($C$2=25,misc!Z23,misc!AN23)","v":0.93575640725694242},{"$f":"IF($C$2=25,misc!AA23,misc!AO23)","v":0.93337619871523581},{"$f":"IF($C$2=25,misc!AB23,misc!AP23)","v":0.93933118321638243},{"$f":"IF($C$2=25,misc!AC23,misc!AQ23)","v":0.94528616771752905},{"$f":"IF($C$2=25,misc!AD23,misc!AR23)","v":0.95124115221867567},{"$f":"IF($C$2=25,misc!AE23,misc!AS23)","v":0.95719613671982229},{"$f":"IF($C$2=25,misc!AF23,misc!AT23)","v":0.96315112122096869}]
[null,null,"gas_cc",null,{"$f":"IF($C$2=25,misc!U24,misc!AI24)","v":0.84814757974875532},{"$f":"IF($C$2=25,misc!V24,misc!AJ24)","v":0.86263887009961904},{"$f":"IF($C$2=25,misc!W24,misc!AK24)","v":0.87713016045048275},{"$f":"IF($C$2=25,misc!X24,misc!AL24)","v":0.87417936920023021},{"$f":"IF($C$2=25,misc!Y24,misc!AM24)","v":0.87122857794997766},{"$f":"IF($C$2=25,misc!Z24,misc!AN24)","v":0.86089172285515003},{"$f":"IF($C$2=25,misc!AA24,misc!AO24)","v":0.85055486776032241},{"$f":"IF($C$2=25,misc!AB24,misc!AP24)","v":0.86298372454380101},{"$f":"IF($C$2=25,misc!AC24,misc!AQ24)","v":0.87541258132727962},{"$f":"IF($C$2=25,misc!AD24,misc!AR24)","v":0.88784143811075822},{"$f":"IF($C$2=25,misc!AE24,misc!AS24)","v":0.90027029489423682},{"$f":"IF($C$2=25,misc!AF24,misc!AT24)","v":0.91269915167771554}]
[null,null,"gas_ct",null,{"$f":"IF($C$2=25,misc!U25,misc!AI25)","v":0.80210397441153047},{"$f":"IF($C$2=25,misc!V25,misc!AJ25)","v":0.8164055166331512},{"$f":"IF($C$2=25,misc!W25,misc!AK25)","v":0.83070705885477203},{"$f":"IF($C$2=25,misc!X25,misc!AL25)","v":0.82614281229582409},{"$f":"IF($C$2=25,misc!Y25,misc!AM25)","v":0.82157856573687627},{"$f":"IF($C$2=25,misc!Z25,misc!AN25)","v":0.80581095377983025},{"$f":"IF($C$2=25,misc!AA25,misc!AO25)","v":0.79004334182278424},{"$f":"IF($C$2=25,misc!AB25,misc!AP25)","v":0.79962832305535969},{"$f":"IF($C$2=25,misc!AC25,misc!AQ25)","v":0.80921330428793514},{"$f":"IF($C$2=25,misc!AD25,misc!AR25)","v":0.81879828552051059},{"$f":"IF($C$2=25,misc!AE25,misc!AS25)","v":0.82838326675308604},{"$f":"IF($C$2=25,misc!AF25,misc!AT25)","v":0.83796824798566139}]
[null,null,"cogen",null,{"$f":"IF($C$2=25,misc!U26,misc!AI26)","v":0.89510595870195142},{"$f":"IF($C$2=25,misc!V26,misc!AJ26)","v":0.92080923604040321},{"$f":"IF($C$2=25,misc!W26,misc!AK26)","v":0.94651251337885489},{"$f":"IF($C$2=25,misc!X26,misc!AL26)","v":0.91922536104575825},{"$f":"IF($C$2=25,misc!Y26,misc!AM26)","v":0.89193820871266161},{"$f":"IF($C$2=25,misc!Z26,misc!AN26)","v":0.89034739869657353},{"$f":"IF($C$2=25,misc!AA26,misc!AO26)","v":0.88875658868048535},{"$f":"IF($C$2=25,misc!AB26,misc!AP26)","v":0.89657566327297322},{"$f":"IF($C$2=25,misc!AC26,misc!AQ26)","v":0.9043947378654611},{"$f":"IF($C$2=25,misc!AD26,misc!AR26)","v":0.91221381245794897},{"$f":"IF($C$2=25,misc!AE26,misc!AS26)","v":0.92003288705043684},{"$f":"IF($C$2=25,misc!AF26,misc!AT26)","v":0.92785196164292472}]
[null,null,"ice",null,{"$f":"IF($C$2=25,misc!U27,misc!AI27)","v":0.92925750703154864},{"$f":"IF($C$2=25,misc!V27,misc!AJ27)","v":0.90155388721725416},{"$f":"IF($C$2=25,misc!W27,misc!AK27)","v":0.87385026740295979},{"$f":"IF($C$2=25,misc!X27,misc!AL27)","v":0.89802819899977204},{"$f":"IF($C$2=25,misc!Y27,misc!AM27)","v":0.92220613059658441},{"$f":"IF($C$2=25,misc!Z27,misc!AN27)","v":0.91831713786770974},{"$f":"IF($C$2=25,misc!AA27,misc!AO27)","v":0.91442814513883497},{"$f":"IF($C$2=25,misc!AB27,misc!AP27)","v":0.90430189637815794},{"$f":"IF($C$2=25,misc!AC27,misc!AQ27)","v":0.89417564761748092},{"$f":"IF($C$2=25,misc!AD27,misc!AR27)","v":0.88404939885680389},{"$f":"IF($C$2=25,misc!AE27,misc!AS27)","v":0.87392315009612687},{"$f":"IF($C$2=25,misc!AF27,misc!AT27)","v":0.86379690133544973}]
[null,null,"coal",null,{"$f":"IF($C$2=25,misc!U28,misc!AI28)","v":0.6905015932630254},{"$f":"IF($C$2=25,misc!V28,misc!AJ28)","v":0.71720881804551684},{"$f":"IF($C$2=25,misc!W28,misc!AK28)","v":0.74391604282800827},{"$f":"IF($C$2=25,misc!X28,misc!AL28)","v":0.73721266741320757},{"$f":"IF($C$2=25,misc!Y28,misc!AM28)","v":0.73050929199840686},{"$f":"IF($C$2=25,misc!Z28,misc!AN28)","v":0.71015565906334177},{"$f":"IF($C$2=25,misc!AA28,misc!AO28)","v":0.68980202612827657},{"$f":"IF($C$2=25,misc!AB28,misc!AP28)","v":0.71688684336924113},{"$f":"IF($C$2=25,misc!AC28,misc!AQ28)","v":0.7439716606102057},{"$f":"IF($C$2=25,misc!AD28,misc!AR28)","v":0.77105647785117026},{"$f":"IF($C$2=25,misc!AE28,misc!AS28)","v":0.79814129509213483},{"$f":"IF($C$2=25,misc!AF28,misc!AT28)","v":0.82522611233309917}]
[null,null,"steam",null,{"$f":"IF($C$2=25,misc!U29,misc!AI29)","v":0.7804543321668751},{"$f":"IF($C$2=25,misc!V29,misc!AJ29)","v":0.79939935861356859},{"$f":"IF($C$2=25,misc!W29,misc!AK29)","v":0.81834438506026208},{"$f":"IF($C$2=25,misc!X29,misc!AL29)","v":0.81358928131774333},{"$f":"IF($C$2=25,misc!Y29,misc!AM29)","v":0.80883417757522458},{"$f":"IF($C$2=25,misc!Z29,misc!AN29)","v":0.79439613253754293},{"$f":"IF($C$2=25,misc!AA29,misc!AO29)","v":0.77995808749986129},{"$f":"IF($C$2=25,misc!AB29,misc!AP29)","v":0.79917096278409228},{"$f":"IF($C$2=25,misc!AC29,misc!AQ29)","v":0.81838383806832327},{"$f":"IF($C$2=25,misc!AD29,misc!AR29)","v":0.83759671335255426},{"$f":"IF($C$2=25,misc!AE29,misc!AS29)","v":0.85680958863678525},{"$f":"IF($C$2=25,misc!AF29,misc!AT29)","v":0.87602246392101613}]
[null,null,"unspecified_import",null,{"$f":"IF($C$2=25,misc!U30,misc!AI30)","v":1},{"$f":"IF($C$2=25,misc!V30,misc!AJ30)","v":1},{"$f":"IF($C$2=25,misc!W30,misc!AK30)","v":1},{"$f":"IF($C$2=25,misc!X30,misc!AL30)","v":1},{"$f":"IF($C$2=25,misc!Y30,misc!AM30)","v":1},{"$f":"IF($C$2=25,misc!Z30,misc!AN30)","v":1},{"$f":"IF($C$2=25,misc!AA30,misc!AO30)","v":1},{"$f":"IF($C$2=25,misc!AB30,misc!AP30)","v":1},{"$f":"IF($C$2=25,misc!AC30,misc!AQ30)","v":1},{"$f":"IF($C$2=25,misc!AD30,misc!AR30)","v":1},{"$f":"IF($C$2=25,misc!AE30,misc!AS30)","v":1},{"$f":"IF($C$2=25,misc!AF30,misc!AT30)","v":1}]
[]
[]
[]
[null,null,"Contract ELCC (effective MW)"]
[null,null,"Resource Type","Conrtact Status",2024,2025,2026,2027,2028,2029,2030,2031,2032,2033,2034,2035]
[null,null,"hybrid","Online",22.125,22.537499999999998,22.95,21.137499999999999,19.324999999999999,18.975000000000001,18.625,16.905000000000001,15.185,13.465000000000002,0,0]
[null,null,"in_state_wind_south","Online",125.95702101129528,124.89003443162991,116.74309465795787,90.674054975622127,64.605015293286414,63.838106176016119,63.071197058745838,57.266414320595779,42.047385451511829,15.511480222552066,13.539360487655474,4.6713856886141611]
[null,null,"in_state_wind_north","Online",0,0,0,0,0,0,0,0,0,0,0,0]
[null,null,"out_of_state_wind_WYID","Online",0,0,0,0,0,0,0,0,0,0,0,0]
[null,null,"out_of_state_wind_WAOR","Online",0,0,0,0,0,0,0,0,0,0,0,0]
[null,null,"out_of_state_wind_AZNM","Online",0,0,0,0,0,0,0,0,0,0,0,0]
[null,null,"offshore_wind","Online",0,0,0,0,0,0,0,0,0,0,0,0]
[null,null,"utility_pv","Online",125.9376,134.07191420944969,142.20622841889931,133.38933047215571,124.57243252541211,101.64171626270605,78.711000000000013,78.544480000000007,79.577960000000004,80.611440000000016,62.116119999999995,62.902400000000021]
[null,null,"btm_pv","Online",0,0,0,0,0,0,0,0,0,0,0,0]
[null,null,"4hr_batteries","Online",161.36647500000001,164.37500249999999,167.38353000000001,154.16424250000003,140.94495500000002,138.39226500000001,135.839575,123.294927,98.602278999999996,87.433631000000005,76.264983000000015,65.096334999999996]
[null,null,"5hr_batteries","Online",0,0,0,0,0,0,0,0,0,0,0,0]
[null,null,"6hr_batteries","Online",0,0,0,0,0,0,0,0,0,0,0,0]
[null,null,"7hr_batteries","Online",0,0,0,0,0,0,0,0,0,0,0,0]
[null,null,"8hr_batteries","Online",0,0,0,0,0,0,0,0,0,0,0,0]
[null,null,"pumped_storage","Online",35.76,36.56,37.36,36.520000000000003,35.68,35.620000000000005,35.56,34.311999999999998,33.064,31.815999999999999,30.567999999999998,29.32]
[null,null,"demand_response","Online",0.97247700000000048,0,0,0,0,0,0,0,0,0,0,0]
[null,null,"hydro","Online",0,0,0,0,0,0,0,0,0,0,0,0]
[null,null,"small_hydro","Online",0,0,0,0,0,0,0,0,0,0,0,0]
[null,null,"geothermal","Online",0,0,0,0,0,0,0,0,0,0,0,0]
[null,null,"biomass_wood","Online",7.0899526898518168,26.688261304462586,27.380029412801857,2.4908538146481147,2.4926140463142419,2.4703377912298636,2.4480615361454854,0,0,0,0,0]
[null,null,"biogas","Online",0,0,0,0,0,0,0,0,0,0,0,0]
[null,null,"nuclear","Online",0,0,0,0,0,0,0,0,0,0,0,0]
[null,null,"gas_cc","Online",910.24046406216166,925.79266177961222,941.34485949706254,938.17804081937913,935.0112221416955,923.91760588537556,912.82398962905563,926.16276301765265,939.50153640624978,952.84030979484692,966.17908318344394,979.51785657204118]
[null,null,"gas_ct","Online",416.48013631198125,423.90599186680765,415.97207390340924,413.68655208594748,411.4010302684859,403.50548372609961,395.60993718371338,400.4095647770269,405.20919237034042,410.00881996365393,414.80844755696728,336.47324526762338]
[null,null,"cogen","Online",44.665787339227371,0,0,0,0,0,0,0,0,0,0,0]
[null,null,"ice","Online",0,0,0,0,0,0,0,0,0,0,0,0]
[null,null,"coal","Online",0,0,0,0,0,0,0,0,0,0,0,0]
[null,null,"steam","Online",0,0,0,0,0,0,0,0,0,0,0,0]
[null,null,"unspecified_import","Online",0,0,0,0,0,0,0,0,0,0,0,0]
[null,null,"hybrid","Development",8.85,9.0150000000000006,9.18,8.4550000000000001,7.73,7.59,7.45,6.7620000000000005,6.0740000000000007,0,0,0]
[null,null,"in_state_wind_south","Development",0,0,0,0,0,0,0,0,0,0,0,0]
[null,null,"in_state_wind_north","Development",0,0,0,0,0,0,0,0,0,0,0,0]
[null,null,"out_of_state_wind_WYID","Development",0,0,0,0,0,0,0,0,0,0,0,0]
[null,null,"out_of_state_wind_WAOR","Development",0,0,0,0,0,0,0,0,0,0,0,0]
[null,null,"out_of_state_wind_AZNM","Development",0,0,0,0,0,0,0,0,0,0,0,0]
[null,null,"offshore_wind","Development",0,0,0,0,0,0,0,0,0,0,0,0]
[null,null,"utility_pv","Development",0,0,0,0,0,0,0,0,0,0,0,0]
[null,null,"btm_pv","Development",0,0,0,0,0,0,0,0,0,0,0,0]
[null,null,"4hr_batteries","Development",132.35352,134.82112800000002,137.28873599999997,126.44621599999998,115.603696,113.509968,111.41623999999999,101.12706240000001,90.837884800000012,32.074707200000013,27.977529600000004,23.880351999999995]
[null,null,"5hr_batteries","Development",0,0,0,0,0,0,0,0,0,0,0,0]
[null,null,"6hr_batteries","Development",2.150170000000001,2.1931250000000002,2.2360799999999994,2.1108449999999994,1.9856100000000003,1.9559649999999991,1.9263199999999996,1.8065300000000004,1.6867400000000004,1.5669500000000003,1.4471599999999993,1.3273699999999993]
[null,null,"7hr_batteries","Development",0,0,0,0,0,0,0,0,0,0,0,0]
[null,null,"8hr_batteries","Development",0,0,0,0,0,0,0,0,0,0,0,0]
[null,null,"pumped_storage","Development",0,0,0,0,0,0,0,0,0,0,0,0]
[null,null,"demand_response","Development",0,0,0,0,0,0,0,0,0,0,0,0]
[null,null,"hydro","Development",0,0,0,0,0,0,0,0,0,0,0,0]
[null,null,"small_hydro","Development",0,0,0,0,0,0,0,0,0,0,0,0]
[null,null,"geothermal","Development",0,0,0,0,0,0,0,0,0,0,0,0]
[null,null,"biomass_wood","Development",0,0,0,0,0,0,0,0,0,0,0,0]
[null,null,"biogas","Development",0,0,0,0,0,0,0,0,0,0,0,0]
[null,null,"nuclear","Development",0,0,0,0,0,0,0,0,0,0,0,0]
[null,null,"gas_cc","Development",0,0,0,0,0,0,0,0,0,0,0,0]
[null,null,"gas_ct","Development",0,0,0,0,0,0,0,0,0,0,0,0]
[null,null,"cogen","Development",0,0,0,0,0,0,0,0,0,0,0,0]
[null,null,"ice","Development",0,0,0,0,0,0,0,0,0,0,0,0]
[null,null,"coal","Development",0,0,0,0,0,0,0,0,0,0,0,0]
[null,null,"steam","Development",0,0,0,0,0,0,0,0,0,0,0,0]
[null,null,"unspecified_import","Development",0,0,0,0,0,0,0,0,0,0,0,0]
[null,null,"hybrid","Review",0,0,0,0,0,0,0,0,0,0,0,0]
[null,null,"in_state_wind_south","Review",0,0,0,0,0,0,0,0,0,0,0,0]
[null,null,"in_state_wind_north","Review",0,0,0,0,0,0,0,0,0,0,0,0]
[null,null,"out_of_state_wind_WYID","Review",0,0,0,0,0,0,0,0,0,0,0,0]
[null,null,"out_of_state_wind_WAOR","Review",0,0,0,0,0,0,0,0,0,0,0,0]
[null,null,"out_of_state_wind_AZNM","Review",0,0,0,0,0,0,0,0,0,0,0,0]
[null,null,"offshore_wind","Review",0,0,0,0,0,0,0,0,0,0,0,0]
[null,null,"utility_pv","Review",0,0,0,0,0,0,0,0,0,0,0,0]
[null,null,"btm_pv","Review",0,0,0,0,0,0,0,0,0,0,0,0]
[null,null,"4hr_batteries","Review",0,0,0,0,0,0,0,0,0,0,0,0]
[null,null,"5hr_batteries","Review",0,0,0,0,0,0,0,0,0,0,0,0]
[null,null,"6hr_batteries","Review",0,0,0,0,0,0,0,0,0,0,0,0]
[null,null,"7hr_batteries","Review",0,0,0,0,0,0,0,0,0,0,0,0]
[null,null,"8hr_batteries","Review",0,0,0,0,0,0,0,0,0,0,0,0]
[null,null,"pumped_storage","Review",0,0,0,0,0,0,0,0,0,0,0,0]
[null,null,"demand_response","Review",0,0,0,0,0,0,0,0,0,0,0,0]
[null,null,"hydro","Review",0,0,0,0,0,0,0,0,0,0,0,0]
[null,null,"small_hydro","Review",0,0,0,0,0,0,0,0,0,0,0,0]
[null,null,"geothermal","Review",0,0,0,0,0,0,0,0,0,0,0,0]
[null,null,"biomass_wood","Review",0,0,0,0,0,0,0,0,0,0,0,0]
[null,null,"biogas","Review",0,0,0,0,0,0,0,0,0,0,0,0]
[null,null,"nuclear","Review",0,0,0,0,0,0,0,0,0,0,0,0]
[null,null,"gas_cc","Review",0,0,0,0,0,0,0,0,0,0,0,0]
[null,null,"gas_ct","Review",0,0,0,0,0,0,0,0,0,0,0,0]
[null,null,"cogen","Review",0,0,0,0,0,0,0,0,0,0,0,0]
[null,null,"ice","Review",0,0,0,0,0,0,0,0,0,0,0,0]
[null,null,"coal","Review",0,0,0,0,0,0,0,0,0,0,0,0]
[null,null,"steam","Review",0,0,0,0,0,0,0,0,0,0,0,0]
[null,null,"unspecified_import","Review",0,0,0,0,0,0,0,0,0,0,0,0]
[null,null,"hybrid","PlannedExisting",0,0,0,0,0,0,0,0,0,0,0,0]
[null,null,"in_state_wind_south","PlannedExisting",0,0,0,0,0,0,0,0,0,0,0,0]
[null,null,"in_state_wind_north","PlannedExisting",0,0,0,0,0,0,0,0,0,0,0,0]
[null,null,"out_of_state_wind_WYID","PlannedExisting",0,0,0,0,0,0,0,0,0,0,0,0]
[null,null,"out_of_state_wind_WAOR","PlannedExisting",0,0,0,0,0,0,0,0,0,0,0,0]
[null,null,"out_of_state_wind_AZNM","PlannedExisting",0,0,0,0,0,0,0,0,0,0,0,0]
[null,null,"offshore_wind","PlannedExisting",0,0,0,0,0,0,0,0,0,0,0,0]
[null,null,"utility_pv","PlannedExisting",0,0,0,0,0,0,0,0,0,0,0,0]
[null,null,"btm_pv","PlannedExisting",0,0,0,0,0,0,0,0,0,0,0,0]
[null,null,"4hr_batteries","PlannedExisting",0,0,0,0,0,0,0,0,0,0,0,0]
[null,null,"5hr_batteries","PlannedExisting",0,0,0,0,0,0,0,0,0,0,0,0]
[null,null,"6hr_batteries","PlannedExisting",0,0,0,0,0,0,0,0,0,0,0,0]
[null,null,"7hr_batteries","PlannedExisting",0,0,0,0,0,0,0,0,0,0,0,0]
[null,null,"8hr_batteries","PlannedExisting",0,0,0,0,0,0,0,0,0,0,0,0]
[null,null,"pumped_storage","PlannedExisting",0,0,0,0,0,0,0,0,0,0,0,0]
[null,null,"demand_response","PlannedExisting",0,0,0,0,0,0,0,0,0,0,0,0]
[null,null,"hydro","PlannedExisting",0,0,0,0,0,0,0,0,0,0,0,0]
[null,null,"small_hydro","PlannedExisting",0,0,0,0,0,0,0,0,0,0,0,0]
[null,null,"geothermal","PlannedExisting",0,0,0,0,0,0,0,0,0,0,0,0]
[null,null,"biomass_wood","PlannedExisting",0,0,0,0,0,0,0,0,0,0,0,0]
[null,null,"biogas","PlannedExisting",0,0,0,0,0,0,0,0,0,0,0,0]
[null,null,"nuclear","PlannedExisting",0,0,0,0,0,0,0,0,0,0,0,0]
[null,null,"gas_cc","PlannedExisting",0,0,0,0,0,0,0,0,0,0,0,0]
[null,null,"gas_ct","PlannedExisting",0,0,0,0,0,0,0,0,0,0,0,0]
[null,null,"cogen","PlannedExisting",0,0,0,0,0,0,0,0,0,0,0,0]
[null,null,"ice","PlannedExisting",0,0,0,0,0,0,0,0,0,0,0,0]
[null,null,"coal","PlannedExisting",0,0,0,0,0,0,0,0,0,0,0,0]
[null,null,"steam","PlannedExisting",0,0,0,0,0,0,0,0,0,0,0,0]
[null,null,"unspecified_import","PlannedExisting",0,0,0,0,0,0,0,0,0,0,0,0]
[null,null,"hybrid","PlannedNew",70.8,179.28581249999999,182.56725,168.14881250000002,153.73037500000001,150.94612499999999,148.16187500000001,134.479275,120.79667500000002,107.11407500000001,93.431475000000034,79.748874999999998]
[null,null,"in_state_wind_south","PlannedNew",0,0,0,17.061589615034283,12.156335771058346,12.012031111534609,21.411356473836278,19.440753754120376,17.470151034404473,15.499548314688568,13.528945594972662,11.558342875256752]
[null,null,"in_state_wind_north","PlannedNew",0,0,0,0,0,0,0,0,0,0,0,0]
[null,null,"out_of_state_wind_WYID","PlannedNew",0,0,0,0,0,0,0,0,0,0,0,0]
[null,null,"out_of_state_wind_WAOR","PlannedNew",0,0,0,0,0,0,0,0,0,0,0,0]
[null,null,"out_of_state_wind_AZNM","PlannedNew",0,0,0,0,0,0,0,0,0,0,0,0]
[null,null,"offshore_wind","PlannedNew",0,0,0,0,0,0,0,0,0,0,0,0]
[null,null,"utility_pv","PlannedNew",0,0,0,0,8.166504704947549,18.905041558181409,25.62,28.576000000000001,30.553600000000003,34.881600000000006,38.1096,38.591999999999999]
[null,null,"btm_pv","PlannedNew",0,0,0,0,0,0,0,0,0,0,0,0]
[null,null,"4hr_batteries","PlannedNew",247.8,252.42,257.04000000000002,236.74,216.44,212.52,208.6,189.33600000000001,170.072,150.80800000000002,131.54400000000004,112.28]
[null,null,"5hr_batteries","PlannedNew",0,0,0,0,0,0,0,0,0,0,0,0]
[null,null,"6hr_batteries","PlannedNew",0,0,0,0,0,0,0,0,0,0,0,0]
[null,null,"7hr_batteries","PlannedNew",0,0,0,0,0,0,0,0,0,0,0,0]
[null,null,"8hr_batteries","PlannedNew",0,0,51.150000000000006,49.445,47.74,47.162499999999994,46.585000000000001,44.923999999999999,43.262999999999998,41.601999999999997,39.940999999999995,38.279999999999994]
[null,null,"pumped_storage","PlannedNew",0,0,0,0,0,0,0,0,0,0,0,0]
[null,null,"demand_response","PlannedNew",0,0,0,51.747534476609289,41.606999999999999,40.601999999999997,39.597000000000001,33.607199999999999,27.617399999999996,21.627599999999997,15.6378,9.6479999999999997]
[null,null,"hydro","PlannedNew",0,0,0,0,0,0,0,0,0,0,0,0]
[null,null,"small_hydro","PlannedNew",0,0,0,0,0,0,0,0,0,0,0,0]
[null,null,"geothermal","PlannedNew",0,0,37.48585796874751,38.220771123316474,38.955684277885453,38.757847856233312,38.560011434581163,38.866158336541666,39.172305238502162,39.478452140462657,39.784599042423153,40.090745944383649]
[null,null,"biomass_wood","PlannedNew",0,0,0,0,0,0,0,0,0,0,0,0]
[null,null,"biogas","PlannedNew",0,0,0,0,0,0,0,0,0,0,0,0]
[null,null,"nuclear","PlannedNew",0,0,0,0,0,0,0,0,0,0,0,0]
[null,null,"gas_cc","PlannedNew",0,0,0,0,0,0,0,0,0,0,0,0]
[null,null,"gas_ct","PlannedNew",0,0,0,0,0,0,0,0,0,0,0,0]
[null,null,"cogen","PlannedNew",0,0,0,0,0,0,0,0,0,0,0,0]
[null,null,"ice","PlannedNew",0,0,0,0,0,0,0,0,0,0,0,0]
[null,null,"coal","PlannedNew",0,0,0,0,0,0,0,0,0,0,0,0]
[null,null,"steam","PlannedNew",0,0,0,0,0,0,0,0,0,0,0,0]
[null,null,"unspecified_import","PlannedNew",0,0,0,0,0,0,0,0,0,0,0,0]
[null,null,"LSE total supply (effective MW)",null,{"$f":"SUM(E56:E200)","v":2312.5486034145179},{"$f":"SUM(F56:F200)","v":2436.5564315919623},{"$f":"SUM(G56:G200)","v":2548.2877398588785},2488.6163433827128,2378.1474750290854,2332.3219933673763,2292.0165633160782,2235.820128605937,2160.7311093010089,2036.3396136362039,1964.8781034654626,{"$f":"SUM(P56:P200)","v":1833.3869083479192}]
[]
[]
[]
[null,null,"Load and Resource Table by Resource Type"]
[null,null,null,null,2024,2025,2026,2027,2028,2029,2030,2031,2032,2033,2034,2035]
[null,null,"LSE reliability need (MW)"]
[null,null,"ELCC by resource type (effective MW)"]
[null,null,"hybrid",null,{"$f":"SUMIFS(E$56:E$200,$C$56:$C$200,$C209)+IF($C209=\"btm_pv\",E$18*E$30,0)","v":101.77500000000001},{"$f":"SUMIFS(F$56:F$200,$C$56:$C$200,$C209)+IF($C209=\"btm_pv\",F$18*F$30,0)","v":210.8383125},214.69725,197.74131250000002,180.78537500000002,177.51112499999999,174.236875,158.146275,142.05567500000001,120.57907500000002,93.431475000000034,79.748874999999998]
[null,null,"in_state_wind_south",null,{"$f":"SUMIFS(E$56:E$200,$C$56:$C$200,$C210)+IF($C210=\"btm_pv\",E$18*E$30,0)","v":125.95702101129528},124.89003443162991,116.74309465795787,107.73564459065641,76.761351064344765,75.850137287550723,84.482553532582116,76.707168074716151,59.517536485916303,31.011028537240634,27.068306082628133,16.229728563870914]
[null,null,"in_state_wind_north",null,0,0,{"$f":"SUMIFS(G$56:G$200,$C$56:$C$200,$C211)+IF($C211=\"btm_pv\",G$18*G$30,0)","v":0},0,0,0,0,0,0,0,0,0]
[null,null,"out_of_state_wind_WYID",null,0,0,0,0,0,0,0,0,0,0,0,0]
[null,null,"out_of_state_wind_WAOR",null,0,0,0,0,0,0,0,0,0,0,0,0]
[null,null,"out_of_state_wind_AZNM",null,0,0,0,0,0,0,0,0,0,0,0,0]
[null,null,"offshore_wind",null,0,0,0,0,0,0,0,0,0,0,0,0]
[null,null,"utility_pv",null,125.9376,134.07191420944969,142.20622841889931,133.38933047215571,132.73893723035965,120.54675782088746,104.33100000000002,107.12048000000001,110.13156000000001,115.49304000000002,100.22572,101.49440000000001]
[null,null,"btm_pv",null,38.96254431735133,43.838697180697366,49.160460199653613,44.047676045211333,37.886587939517987,33.55511983063581,28.487178369605218,31.491279828784652,34.646095212034055,37.952113292139479,41.384401859642054,44.910335604339117]
[null,null,"4hr_batteries",null,541.51999500000011,551.61613049999994,561.712266,517.35045850000006,472.988651,464.42223300000001,455.85581500000001,413.75798940000004,359.5121638,270.31633820000002,235.78651260000007,201.256687]
[null,null,"5hr_batteries",null,0,0,0,0,0,0,0,0,0,0,0,0]
[null,null,"6hr_batteries",null,{"$f":"SUMIFS(E$56:E$200,$C$56:$C$200,$C220)+IF($C220=\"btm_pv\",E$18*E$30,0)","v":2.150170000000001},2.1931250000000002,2.2360799999999994,2.1108449999999994,1.9856100000000003,1.9559649999999991,1.9263199999999996,1.8065300000000004,1.6867400000000004,1.5669500000000003,1.4471599999999993,1.3273699999999993]
[null,null,"7hr_batteries",null,0,0,0,0,0,0,0,0,0,0,0,0]
[null,null,"8hr_batteries",null,0,0,51.150000000000006,49.445,47.74,47.162499999999994,46.585000000000001,44.923999999999999,43.262999999999998,41.601999999999997,39.940999999999995,38.279999999999994]
[null,null,"pumped_storage",null,35.76,36.56,37.36,36.520000000000003,35.68,35.620000000000005,35.56,34.311999999999998,33.064,31.815999999999999,30.567999999999998,29.32]
[null,null,"demand_response",null,0.97247700000000048,0,0,51.747534476609289,41.606999999999999,40.601999999999997,39.597000000000001,33.607199999999999,27.617399999999996,21.627599999999997,15.6378,9.6479999999999997]
[null,null,"hydro",null,0,0,0,0,0,0,0,0,0,0,0,0]
[null,null,"small_hydro",null,0,0,0,0,0,0,0,0,0,0,0,0]
[null,null,"geothermal",null,0,0,37.48585796874751,38.220771123316474,38.955684277885453,38.757847856233312,38.560011434581163,38.866158336541666,39.172305238502162,39.478452140462657,39.784599042423153,40.090745944383649]
[null,null,"biomass_wood",null,7.0899526898518168,26.688261304462586,27.380029412801857,2.4908538146481147,2.4926140463142419,2.4703377912298636,2.4480615361454854,0,0,0,0,0]
[null,null,"biogas",null,0,0,0,0,0,0,0,0,0,0,0,0]
[null,null,"nuclear",null,0,0,0,0,0,0,0,0,0,0,0,0]
[null,null,"gas_cc",null,910.24046406216166,925.79266177961222,941.34485949706254,938.17804081937913,935.0112221416955,923.91760588537556,912.82398962905563,926.16276301765265,939.50153640624978,952.84030979484692,966.17908318344394,979.51785657204118]
[null,null,"gas_ct",null,416.48013631198125,423.90599186680765,415.97207390340924,413.68655208594748,411.4010302684859,403.50548372609961,395.60993718371338,400.4095647770269,405.20919237034042,410.00881996365393,414.80844755696728,336.47324526762338]
[null,null,"cogen",null,44.665787339227371,0,0,0,0,0,0,0,0,0,0,0]
[null,null,"ice",null,0,0,0,0,0,0,0,0,0,0,0,0]
[null,null,"coal",null,0,0,0,0,0,0,0,0,0,0,0,0]
[null,null,"steam",null,0,0,0,0,0,0,0,0,0,0,0,0]
[null,null,"unspecified_import",null,0,0,0,0,0,0,0,0,0,0,0,{"$f":"SUMIFS(P$56:P$200,$C$56:$C$200,$C237)+IF($C237=\"btm_pv\",P$18*P$30,0)","v":0}]
[null,null,"LSE total supply (effective MW)",null,{"$f":"SUM(E209:E237)","v":2351.5111477318687},{"$f":"SUM(F209:F237)","v":2480.3951287726595},2597.4482000585317,2532.6640194279239,2416.0340629686034,2365.8771131980125,2320.5037416856831,2267.3114084347221,2195.3772045130427,2074.2917269283439,2006.2625053251045,{"$f":"SUM(P209:P237)","v":1878.2972439522582}]
[null,null,"Net capacity position (+ve = excess, -ve = shortfall) (effective MW)"]
[]
[]
[]
[]
[]
[]
[null,null,"Load and Resource Table by Contract Status"]
[null,null,null,null,2024,2025,2026,2027,2028,2029,2030,2031,2032,2033,2034,2035]
[null,null,"LSE reliability need (MW)"]
[null,null,"ELCC by contract status (effective MW)"]
[null,null,"Online",null,{"$f":"IF($C250=\"BTM PV\",E$18*E$30,SUMIFS(E$56:E$200,$D$56:$D$200,$C250))","v":1850.5949134145176},{"$f":"IF($C250=\"BTM PV\",F$18*F$30,SUMIFS(F$56:F$200,$D$56:$D$200,$C250))","v":1858.8213660919621},1871.3398158901309,1790.2405746677528,1734.0322692751943,1688.3605148414272,1642.6887604076603,1636.8951491152752,1613.187353228102,1591.6866809810529,1563.4759942280666,1477.981222528279]
[null,null,"Development",null,{"$f":"IF($C251=\"BTM PV\",E$18*E$30,SUMIFS(E$56:E$200,$D$56:$D$200,$C251))","v":143.35369},146.02925300000004,148.70481599999997,137.01206099999999,125.319306,123.05593300000001,120.79255999999999,109.69559240000001,98.59862480000001,33.641657200000012,29.424689600000004,25.207721999999993]
[null,null,"Review",null,0,0,0,0,0,0,0,0,0,0,0,0]
[null,null,"PlannedExisting",null,0,0,0,0,0,0,0,0,0,0,0,0]
[null,null,"PlannedNew",null,318.60000000000002,431.70581249999998,528.24310796874749,561.36370771496001,518.79589975389138,520.90554552594926,528.53524290841744,489.22938709066204,448.94513127290656,411.01127545515118,371.97741963739594,330.19796381964039]
[null,null,"BTM PV",null,38.96254431735133,43.838697180697366,49.160460199653613,44.047676045211333,37.886587939517987,33.55511983063581,28.487178369605218,31.491279828784652,34.646095212034055,37.952113292139479,41.384401859642054,{"$f":"IF($C255=\"BTM PV\",P$18*P$30,SUMIFS(P$56:P$200,$D$56:$D$200,$C255))","v":44.910335604339117}]
[null,null,"LSE total supply (effective MW)",null,{"$f":"SUM(E250:E255)","v":2351.5111477318687},{"$f":"SUM(F250:F255)","v":2480.3951287726591},2597.4482000585322,2532.6640194279239,2416.0340629686038,2365.877113198012,2320.5037416856831,2267.3114084347217,2195.3772045130427,2074.2917269283435,2006.2625053251047,{"$f":"SUM(P250:P255)","v":1878.2972439522584}]
[null,null,"Net capacity position (+ve = excess, -ve = shortfall) (effective MW)"]

{"sheet":"ReportSheet","index":9,"n_rows":1,"n_cols":11,"rows_kept":1,"cut":false,"hidden":false,"merged":[]}
["Duplicated Contract IDs:","Entry with non-positive values:","Invalid resource error rows:","Rows missing required project viability associated data:","Rows missing required hybrid associated data:","Supertype Contract Status Error or Null Rows:","Transaction counterparty error rows:","Rows missing CSP GWh:","Rows with invalid buying_energy_capacity and csp_resource_category:","Rows missing MTR NQC:","Warning-total capacity is equal to or greater then generator plus storage MWs for rows:"]

{"sheet":"CSPReportSheet","index":10,"n_rows":38,"n_cols":22,"rows_kept":38,"cut":false,"hidden":false,"merged":[[2,10,2,13],[2,14,2,17],[2,18,2,21],[1,10,1,21]]}
[]
[null,null,null,null,null,null,null,null,null,null,"NOTE: the below data is provided for troubleshooting purposes only."]
[null,null,null,null,null,null,null,null,null,null,"Bought/Owned",null,null,null,"Sold",null,null,null,"Net\n(GWh, MW, or MWh Energy Capacity)"]
[null,"Resource",2024,2026,2030,2035,"Units","Type",null,null,2024,2026,2030,2035,2024,2026,2030,2035,2024,2026,2030,2035]
[null,"Large Hydro",{"$f":"S5","v":0},{"$f":"T5","v":0},0,0,"GWh","GHG-Free",null,null,{"$f":"SUM(SUMIFS(unique_contracts!BT:BT,unique_contracts!$AB:$AB,{\"Buy\",\"Owned\"},unique_contracts!$BS:$BS,\"=\"&$B5&\" (\"&$G5&\")\",unique_contracts!$AM:$AM,\"<=\"&C$4,unique_contracts!$AP:$AP,\">=\"&C$4), SUMIFS(unique_contracts!BT:BT,unique_contracts!$AB:$AB,\"=\"&\"\",unique_contracts!$BS:$BS,\"=\"&$B5&\" (\"&$G5&\")\",unique_contracts!$AM:$AM,\"<=\"&C$4,unique_contracts!$AP:$AP,\">=\"&C$4))","v":0},{"$f":"SUM(SUMIFS(unique_contracts!BU:BU,unique_contracts!$AB:$AB,{\"Buy\",\"Owned\"},unique_contracts!$BS:$BS,\"=\"&$B5&\" (\"&$G5&\")\",unique_contracts!$AM:$AM,\"<=\"&D$4,unique_contracts!$AP:$AP,\">=\"&D$4), SUMIFS(unique_contracts!BU:BU,unique_contracts!$AB:$AB,\"=\"&\"\",unique_contracts!$BS:$BS,\"=\"&$B5&\" (\"&$G5&\")\",unique_contracts!$AM:$AM,\"<=\"&D$4,unique_contracts!$AP:$AP,\">=\"&D$4))","v":0},{"$f":"SUM(SUMIFS(unique_contracts!BV:BV,unique_contracts!$AB:$AB,{\"Buy\",\"Owned\"},unique_contracts!$BS:$BS,\"=\"&$B5&\" (\"&$G5&\")\",unique_contracts!$AM:$AM,\"<=\"&E$4,unique_contracts!$AP:$AP,\">=\"&E$4), SUMIFS(unique_contracts!BV:BV,unique_contracts!$AB:$AB,\"=\"&\"\",unique_contracts!$BS:$BS,\"=\"&$B5&\" (\"&$G5&\")\",unique_contracts!$AM:$AM,\"<=\"&E$4,unique_contracts!$AP:$AP,\">=\"&E$4))","v":0},{"$f":"SUM(SUMIFS(unique_contracts!BW:BW,unique_contracts!$AB:$AB,{\"Buy\",\"Owned\"},unique_contracts!$BS:$BS,\"=\"&$B5&\" (\"&$G5&\")\",unique_contracts!$AM:$AM,\"<=\"&F$4,unique_contracts!$AP:$AP,\">=\"&F$4), SUMIFS(unique_contracts!BW:BW,unique_contracts!$AB:$AB,\"=\"&\"\",unique_contracts!$BS:$BS,\"=\"&$B5&\" (\"&$G5&\")\",unique_contracts!$AM:$AM,\"<=\"&F$4,unique_contracts!$AP:$AP,\">=\"&F$4))","v":0},{"$f":"SUMIFS(unique_contracts!BT:BT,unique_contracts!$AB:$AB,\"=Sell\",unique_contracts!$BS:$BS,\"=\"&$B5&\" (\"&$G5&\")\",unique_contracts!$AM:$AM,\"<=\"&C$4,unique_contracts!$AP:$AP,\">=\"&C$4)","v":0},{"$f":"SUMIFS(unique_contracts!BU:BU,unique_contracts!$AB:$AB,\"=Sell\",unique_contracts!$BS:$BS,\"=\"&$B5&\" (\"&$G5&\")\",unique_contracts!$AM:$AM,\"<=\"&D$4,unique_contracts!$AP:$AP,\">=\"&D$4)","v":0},{"$f":"SUMIFS(unique_contracts!BV:BV,unique_contracts!$AB:$AB,\"=Sell\",unique_contracts!$BS:$BS,\"=\"&$B5&\" (\"&$G5&\")\",unique_contracts!$AM:$AM,\"<=\"&E$4,unique_contracts!$AP:$AP,\">=\"&E$4)","v":0},{"$f":"SUMIFS(unique_contracts!BW:BW,unique_contracts!$AB:$AB,\"=Sell\",unique_contracts!$BS:$BS,\"=\"&$B5&\" (\"&$G5&\")\",unique_contracts!$AM:$AM,\"<=\"&F$4,unique_contracts!$AP:$AP,\">=\"&F$4)","v":0},{"$f":"K5-O5","v":0},{"$f":"L5-P5","v":0},0,0]
[null,"Imported Hydro",{"$f":"S6","v":0},{"$f":"T6","v":0},0,0,"GWh","GHG-Free",null,null,{"$f":"SUM(SUMIFS(unique_contracts!BT:BT,unique_contracts!$AB:$AB,{\"Buy\",\"Owned\"},unique_contracts!$BS:$BS,\"=\"&$B6&\" (\"&$G6&\")\",unique_contracts!$AM:$AM,\"<=\"&C$4,unique_contracts!$AP:$AP,\">=\"&C$4), SUMIFS(unique_contracts!BT:BT,unique_contracts!$AB:$AB,\"=\"&\"\",unique_contracts!$BS:$BS,\"=\"&$B6&\" (\"&$G6&\")\",unique_contracts!$AM:$AM,\"<=\"&C$4,unique_contracts!$AP:$AP,\">=\"&C$4))","v":0},{"$f":"SUM(SUMIFS(unique_contracts!BU:BU,unique_contracts!$AB:$AB,{\"Buy\",\"Owned\"},unique_contracts!$BS:$BS,\"=\"&$B6&\" (\"&$G6&\")\",unique_contracts!$AM:$AM,\"<=\"&D$4,unique_contracts!$AP:$AP,\">=\"&D$4), SUMIFS(unique_contracts!BU:BU,unique_contracts!$AB:$AB,\"=\"&\"\",unique_contracts!$BS:$BS,\"=\"&$B6&\" (\"&$G6&\")\",unique_contracts!$AM:$AM,\"<=\"&D$4,unique_contracts!$AP:$AP,\">=\"&D$4))","v":0},{"$f":"SUM(SUMIFS(unique_contracts!BV:BV,unique_contracts!$AB:$AB,{\"Buy\",\"Owned\"},unique_contracts!$BS:$BS,\"=\"&$B6&\" (\"&$G6&\")\",unique_contracts!$AM:$AM,\"<=\"&E$4,unique_contracts!$AP:$AP,\">=\"&E$4), SUMIFS(unique_contracts!BV:BV,unique_contracts!$AB:$AB,\"=\"&\"\",unique_contracts!$BS:$BS,\"=\"&$B6&\" (\"&$G6&\")\",unique_contracts!$AM:$AM,\"<=\"&E$4,unique_contracts!$AP:$AP,\">=\"&E$4))","v":0},{"$f":"SUM(SUMIFS(unique_contracts!BW:BW,unique_contracts!$AB:$AB,{\"Buy\",\"Owned\"},unique_contracts!$BS:$BS,\"=\"&$B6&\" (\"&$G6&\")\",unique_contracts!$AM:$AM,\"<=\"&F$4,unique_contracts!$AP:$AP,\">=\"&F$4), SUMIFS(unique_contracts!BW:BW,unique_contracts!$AB:$AB,\"=\"&\"\",unique_contracts!$BS:$BS,\"=\"&$B6&\" (\"&$G6&\")\",unique_contracts!$AM:$AM,\"<=\"&F$4,unique_contracts!$AP:$AP,\">=\"&F$4))","v":0},{"$f":"SUMIFS(unique_contracts!BT:BT,unique_contracts!$AB:$AB,\"=Sell\",unique_contracts!$BS:$BS,\"=\"&$B6&\" (\"&$G6&\")\",unique_contracts!$AM:$AM,\"<=\"&C$4,unique_contracts!$AP:$AP,\">=\"&C$4)","v":0},{"$f":"SUMIFS(unique_contracts!BU:BU,unique_contracts!$AB:$AB,\"=Sell\",unique_contracts!$BS:$BS,\"=\"&$B6&\" (\"&$G6&\")\",unique_contracts!$AM:$AM,\"<=\"&D$4,unique_contracts!$AP:$AP,\">=\"&D$4)","v":0},{"$f":"SUMIFS(unique_contracts!BV:BV,unique_contracts!$AB:$AB,\"=Sell\",unique_contracts!$BS:$BS,\"=\"&$B6&\" (\"&$G6&\")\",unique_contracts!$AM:$AM,\"<=\"&E$4,unique_contracts!$AP:$AP,\">=\"&E$4)","v":0},{"$f":"SUMIFS(unique_contracts!BW:BW,unique_contracts!$AB:$AB,\"=Sell\",unique_contracts!$BS:$BS,\"=\"&$B6&\" (\"&$G6&\")\",unique_contracts!$AM:$AM,\"<=\"&F$4,unique_contracts!$AP:$AP,\">=\"&F$4)","v":0},{"$f":"K6-O6","v":0},{"$f":"L6-P6","v":0},{"$f":"M6-Q6","v":0},{"$f":"N6-R6","v":0}]
[null,"Asset Controlling Supplier",{"$f":"S7","v":0},0,0,0,"GWh","GHG-Free (Partial)",null,null,{"$f":"SUM(SUMIFS(unique_contracts!BT:BT,unique_contracts!$AB:$AB,{\"Buy\",\"Owned\"},unique_contracts!$BS:$BS,\"=\"&$B7&\" (\"&$G7&\")\",unique_contracts!$AM:$AM,\"<=\"&C$4,unique_contracts!$AP:$AP,\">=\"&C$4), SUMIFS(unique_contracts!BT:BT,unique_contracts!$AB:$AB,\"=\"&\"\",unique_contracts!$BS:$BS,\"=\"&$B7&\" (\"&$G7&\")\",unique_contracts!$AM:$AM,\"<=\"&C$4,unique_contracts!$AP:$AP,\">=\"&C$4))","v":0},{"$f":"SUM(SUMIFS(unique_contracts!BU:BU,unique_contracts!$AB:$AB,{\"Buy\",\"Owned\"},unique_contracts!$BS:$BS,\"=\"&$B7&\" (\"&$G7&\")\",unique_contracts!$AM:$AM,\"<=\"&D$4,unique_contracts!$AP:$AP,\">=\"&D$4), SUMIFS(unique_contracts!BU:BU,unique_contracts!$AB:$AB,\"=\"&\"\",unique_contracts!$BS:$BS,\"=\"&$B7&\" (\"&$G7&\")\",unique_contracts!$AM:$AM,\"<=\"&D$4,unique_contracts!$AP:$AP,\">=\"&D$4))","v":0},{"$f":"SUM(SUMIFS(unique_contracts!BV:BV,unique_contracts!$AB:$AB,{\"Buy\",\"Owned\"},unique_contracts!$BS:$BS,\"=\"&$B7&\" (\"&$G7&\")\",unique_contracts!$AM:$AM,\"<=\"&E$4,unique_contracts!$AP:$AP,\">=\"&E$4), SUMIFS(unique_contracts!BV:BV,unique_contracts!$AB:$AB,\"=\"&\"\",unique_contracts!$BS:$BS,\"=\"&$B7&\" (\"&$G7&\")\",unique_contracts!$AM:$AM,\"<=\"&E$4,unique_contracts!$AP:$AP,\">=\"&E$4))","v":0},{"$f":"SUM(SUMIFS(unique_contracts!BW:BW,unique_contracts!$AB:$AB,{\"Buy\",\"Owned\"},unique_contracts!$BS:$BS,\"=\"&$B7&\" (\"&$G7&\")\",unique_contracts!$AM:$AM,\"<=\"&F$4,unique_contracts!$AP:$AP,\">=\"&F$4), SUMIFS(unique_contracts!BW:BW,unique_contracts!$AB:$AB,\"=\"&\"\",unique_contracts!$BS:$BS,\"=\"&$B7&\" (\"&$G7&\")\",unique_contracts!$AM:$AM,\"<=\"&F$4,unique_contracts!$AP:$AP,\">=\"&F$4))","v":0},{"$f":"SUMIFS(unique_contracts!BT:BT,unique_contracts!$AB:$AB,\"=Sell\",unique_contracts!$BS:$BS,\"=\"&$B7&\" (\"&$G7&\")\",unique_contracts!$AM:$AM,\"<=\"&C$4,unique_contracts!$AP:$AP,\">=\"&C$4)","v":0},{"$f":"SUMIFS(unique_contracts!BU:BU,unique_contracts!$AB:$AB,\"=Sell\",unique_contracts!$BS:$BS,\"=\"&$B7&\" (\"&$G7&\")\",unique_contracts!$AM:$AM,\"<=\"&D$4,unique_contracts!$AP:$AP,\">=\"&D$4)","v":0},{"$f":"SUMIFS(unique_contracts!BV:BV,unique_contracts!$AB:$AB,\"=Sell\",unique_contracts!$BS:$BS,\"=\"&$B7&\" (\"&$G7&\")\",unique_contracts!$AM:$AM,\"<=\"&E$4,unique_contracts!$AP:$AP,\">=\"&E$4)","v":0},{"$f":"SUMIFS(unique_contracts!BW:BW,unique_contracts!$AB:$AB,\"=Sell\",unique_contracts!$BS:$BS,\"=\"&$B7&\" (\"&$G7&\")\",unique_contracts!$AM:$AM,\"<=\"&F$4,unique_contracts!$AP:$AP,\">=\"&F$4)","v":0},{"$f":"K7-O7","v":0},{"$f":"L7-P7","v":0},{"$f":"M7-Q7","v":0},{"$f":"N7-R7","v":0}]
[null,"Nuclear",{"$f":"S8","v":0},{"$f":"T8","v":0},{"$f":"U8","v":0},{"$f":"V8","v":0},"GWh","GHG-Free",null,null,{"$f":"SUM(SUMIFS(unique_contracts!BT:BT,unique_contracts!$AB:$AB,{\"Buy\",\"Owned\"},unique_contracts!$BS:$BS,\"=\"&$B8&\" (\"&$G8&\")\",unique_contracts!$AM:$AM,\"<=\"&C$4,unique_contracts!$AP:$AP,\">=\"&C$4), SUMIFS(unique_contracts!BT:BT,unique_contracts!$AB:$AB,\"=\"&\"\",unique_contracts!$BS:$BS,\"=\"&$B8&\" (\"&$G8&\")\",unique_contracts!$AM:$AM,\"<=\"&C$4,unique_contracts!$AP:$AP,\">=\"&C$4))","v":0},{"$f":"SUM(SUMIFS(unique_contracts!BU:BU,unique_contracts!$AB:$AB,{\"Buy\",\"Owned\"},unique_contracts!$BS:$BS,\"=\"&$B8&\" (\"&$G8&\")\",unique_contracts!$AM:$AM,\"<=\"&D$4,unique_contracts!$AP:$AP,\">=\"&D$4), SUMIFS(unique_contracts!BU:BU,unique_contracts!$AB:$AB,\"=\"&\"\",unique_contracts!$BS:$BS,\"=\"&$B8&\" (\"&$G8&\")\",unique_contracts!$AM:$AM,\"<=\"&D$4,unique_contracts!$AP:$AP,\">=\"&D$4))","v":0},{"$f":"SUM(SUMIFS(unique_contracts!BV:BV,unique_contracts!$AB:$AB,{\"Buy\",\"Owned\"},unique_contracts!$BS:$BS,\"=\"&$B8&\" (\"&$G8&\")\",unique_contracts!$AM:$AM,\"<=\"&E$4,unique_contracts!$AP:$AP,\">=\"&E$4), SUMIFS(unique_contracts!BV:BV,unique_contracts!$AB:$AB,\"=\"&\"\",unique_contracts!$BS:$BS,\"=\"&$B8&\" (\"&$G8&\")\",unique_contracts!$AM:$AM,\"<=\"&E$4,unique_contracts!$AP:$AP,\">=\"&E$4))","v":0},{"$f":"SUM(SUMIFS(unique_contracts!BW:BW,unique_contracts!$AB:$AB,{\"Buy\",\"Owned\"},unique_contracts!$BS:$BS,\"=\"&$B8&\" (\"&$G8&\")\",unique_contracts!$AM:$AM,\"<=\"&F$4,unique_contracts!$AP:$AP,\">=\"&F$4), SUMIFS(unique_contracts!BW:BW,unique_contracts!$AB:$AB,\"=\"&\"\",unique_contracts!$BS:$BS,\"=\"&$B8&\" (\"&$G8&\")\",unique_contracts!$AM:$AM,\"<=\"&F$4,unique_contracts!$AP:$AP,\">=\"&F$4))","v":0},{"$f":"SUMIFS(unique_contracts!BT:BT,unique_contracts!$AB:$AB,\"=Sell\",unique_contracts!$BS:$BS,\"=\"&$B8&\" (\"&$G8&\")\",unique_contracts!$AM:$AM,\"<=\"&C$4,unique_contracts!$AP:$AP,\">=\"&C$4)","v":0},{"$f":"SUMIFS(unique_contracts!BU:BU,unique_contracts!$AB:$AB,\"=Sell\",unique_contracts!$BS:$BS,\"=\"&$B8&\" (\"&$G8&\")\",unique_contracts!$AM:$AM,\"<=\"&D$4,unique_contracts!$AP:$AP,\">=\"&D$4)","v":0},{"$f":"SUMIFS(unique_contracts!BV:BV,unique_contracts!$AB:$AB,\"=Sell\",unique_contracts!$BS:$BS,\"=\"&$B8&\" (\"&$G8&\")\",unique_contracts!$AM:$AM,\"<=\"&E$4,unique_contracts!$AP:$AP,\">=\"&E$4)","v":0},{"$f":"SUMIFS(unique_contracts!BW:BW,unique_contracts!$AB:$AB,\"=Sell\",unique_contracts!$BS:$BS,\"=\"&$B8&\" (\"&$G8&\")\",unique_contracts!$AM:$AM,\"<=\"&F$4,unique_contracts!$AP:$AP,\">=\"&F$4)","v":0},0,0,0,0]
[null,"Biogas",17.494213952999985,4.0926141072000011,3.8228381412000054,0,"GWh","RPS Eligible",null,null,{"$f":"SUM(SUMIFS(unique_contracts!BT:BT,unique_contracts!$AB:$AB,{\"Buy\",\"Owned\"},unique_contracts!$BS:$BS,\"=\"&$B9&\" (\"&$G9&\")\",unique_contracts!$AM:$AM,\"<=\"&C$4,unique_contracts!$AP:$AP,\">=\"&C$4), SUMIFS(unique_contracts!BT:BT,unique_contracts!$AB:$AB,\"=\"&\"\",unique_contracts!$BS:$BS,\"=\"&$B9&\" (\"&$G9&\")\",unique_contracts!$AM:$AM,\"<=\"&C$4,unique_contracts!$AP:$AP,\">=\"&C$4))","v":31.049568374999975},{"$f":"SUM(SUMIFS(unique_contracts!BU:BU,unique_contracts!$AB:$AB,{\"Buy\",\"Owned\"},unique_contracts!$BS:$BS,\"=\"&$B9&\" (\"&$G9&\")\",unique_contracts!$AM:$AM,\"<=\"&D$4,unique_contracts!$AP:$AP,\">=\"&D$4), SUMIFS(unique_contracts!BU:BU,unique_contracts!$AB:$AB,\"=\"&\"\",unique_contracts!$BS:$BS,\"=\"&$B9&\" (\"&$G9&\")\",unique_contracts!$AM:$AM,\"<=\"&D$4,unique_contracts!$AP:$AP,\">=\"&D$4))","v":17.341585200000008},{"$f":"SUM(SUMIFS(unique_contracts!BV:BV,unique_contracts!$AB:$AB,{\"Buy\",\"Owned\"},unique_contracts!$BS:$BS,\"=\"&$B9&\" (\"&$G9&\")\",unique_contracts!$AM:$AM,\"<=\"&E$4,unique_contracts!$AP:$AP,\">=\"&E$4), SUMIFS(unique_contracts!BV:BV,unique_contracts!$AB:$AB,\"=\"&\"\",unique_contracts!$BS:$BS,\"=\"&$B9&\" (\"&$G9&\")\",unique_contracts!$AM:$AM,\"<=\"&E$4,unique_contracts!$AP:$AP,\">=\"&E$4))","v":16.198466700000026},{"$f":"SUM(SUMIFS(unique_contracts!BW:BW,unique_contracts!$AB:$AB,{\"Buy\",\"Owned\"},unique_contracts!$BS:$BS,\"=\"&$B9&\" (\"&$G9&\")\",unique_contracts!$AM:$AM,\"<=\"&F$4,unique_contracts!$AP:$AP,\">=\"&F$4), SUMIFS(unique_contracts!BW:BW,unique_contracts!$AB:$AB,\"=\"&\"\",unique_contracts!$BS:$BS,\"=\"&$B9&\" (\"&$G9&\")\",unique_contracts!$AM:$AM,\"<=\"&F$4,unique_contracts!$AP:$AP,\">=\"&F$4))","v":0},{"$f":"SUMIFS(unique_contracts!BT:BT,unique_contracts!$AB:$AB,\"=Sell\",unique_contracts!$BS:$BS,\"=\"&$B9&\" (\"&$G9&\")\",unique_contracts!$AM:$AM,\"<=\"&C$4,unique_contracts!$AP:$AP,\">=\"&C$4)","v":13.555354421999988},{"$f":"SUMIFS(unique_contracts!BU:BU,unique_contracts!$AB:$AB,\"=Sell\",unique_contracts!$BS:$BS,\"=\"&$B9&\" (\"&$G9&\")\",unique_contracts!$AM:$AM,\"<=\"&D$4,unique_contracts!$AP:$AP,\">=\"&D$4)","v":13.248971092800007},{"$f":"SUMIFS(unique_contracts!BV:BV,unique_contracts!$AB:$AB,\"=Sell\",unique_contracts!$BS:$BS,\"=\"&$B9&\" (\"&$G9&\")\",unique_contracts!$AM:$AM,\"<=\"&E$4,unique_contracts!$AP:$AP,\">=\"&E$4)","v":12.37562855880002},{"$f":"SUMIFS(unique_contracts!BW:BW,unique_contracts!$AB:$AB,\"=Sell\",unique_contracts!$BS:$BS,\"=\"&$B9&\" (\"&$G9&\")\",unique_contracts!$AM:$AM,\"<=\"&F$4,unique_contracts!$AP:$AP,\">=\"&F$4)","v":0},17.494213952999985,4.0926141072000011,3.8228381412000054,0]
[null,"Biomass",0,147.50795279999954,0,0,"GWh","RPS Eligible",null,null,{"$f":"SUM(SUMIFS(unique_contracts!BT:BT,unique_contracts!$AB:$AB,{\"Buy\",\"Owned\"},unique_contracts!$BS:$BS,\"=\"&$B10&\" (\"&$G10&\")\",unique_contracts!$AM:$AM,\"<=\"&C$4,unique_contracts!$AP:$AP,\">=\"&C$4), SUMIFS(unique_contracts!BT:BT,unique_contracts!$AB:$AB,\"=\"&\"\",unique_contracts!$BS:$BS,\"=\"&$B10&\" (\"&$G10&\")\",unique_contracts!$AM:$AM,\"<=\"&C$4,unique_contracts!$AP:$AP,\">=\"&C$4))","v":144.1365743999998},{"$f":"SUM(SUMIFS(unique_contracts!BU:BU,unique_contracts!$AB:$AB,{\"Buy\",\"Owned\"},unique_contracts!$BS:$BS,\"=\"&$B10&\" (\"&$G10&\")\",unique_contracts!$AM:$AM,\"<=\"&D$4,unique_contracts!$AP:$AP,\">=\"&D$4), SUMIFS(unique_contracts!BU:BU,unique_contracts!$AB:$AB,\"=\"&\"\",unique_contracts!$BS:$BS,\"=\"&$B10&\" (\"&$G10&\")\",unique_contracts!$AM:$AM,\"<=\"&D$4,unique_contracts!$AP:$AP,\">=\"&D$4))","v":147.50795279999954},{"$f":"SUM(SUMIFS(unique_contracts!BV:BV,unique_contracts!$AB:$AB,{\"Buy\",\"Owned\"},unique_contracts!$BS:$BS,\"=\"&$B10&\" (\"&$G10&\")\",unique_contracts!$AM:$AM,\"<=\"&E$4,unique_contracts!$AP:$AP,\">=\"&E$4), SUMIFS(unique_contracts!BV:BV,unique_contracts!$AB:$AB,\"=\"&\"\",unique_contracts!$BS:$BS,\"=\"&$B10&\" (\"&$G10&\")\",unique_contracts!$AM:$AM,\"<=\"&E$4,unique_contracts!$AP:$AP,\">=\"&E$4))","v":0},{"$f":"SUM(SUMIFS(unique_contracts!BW:BW,unique_contracts!$AB:$AB,{\"Buy\",\"Owned\"},unique_contracts!$BS:$BS,\"=\"&$B10&\" (\"&$G10&\")\",unique_contracts!$AM:$AM,\"<=\"&F$4,unique_contracts!$AP:$AP,\">=\"&F$4), SUMIFS(unique_contracts!BW:BW,unique_contracts!$AB:$AB,\"=\"&\"\",unique_contracts!$BS:$BS,\"=\"&$B10&\" (\"&$G10&\")\",unique_contracts!$AM:$AM,\"<=\"&F$4,unique_contracts!$AP:$AP,\">=\"&F$4))","v":0},{"$f":"SUMIFS(unique_contracts!BT:BT,unique_contracts!$AB:$AB,\"=Sell\",unique_contracts!$BS:$BS,\"=\"&$B10&\" (\"&$G10&\")\",unique_contracts!$AM:$AM,\"<=\"&C$4,unique_contracts!$AP:$AP,\">=\"&C$4)","v":144.1365743999998},{"$f":"SUMIFS(unique_contracts!BU:BU,unique_contracts!$AB:$AB,\"=Sell\",unique_contracts!$BS:$BS,\"=\"&$B10&\" (\"&$G10&\")\",unique_contracts!$AM:$AM,\"<=\"&D$4,unique_contracts!$AP:$AP,\">=\"&D$4)","v":0},{"$f":"SUMIFS(unique_contracts!BV:BV,unique_contracts!$AB:$AB,\"=Sell\",unique_contracts!$BS:$BS,\"=\"&$B10&\" (\"&$G10&\")\",unique_contracts!$AM:$AM,\"<=\"&E$4,unique_contracts!$AP:$AP,\">=\"&E$4)","v":0},{"$f":"SUMIFS(unique_contracts!BW:BW,unique_contracts!$AB:$AB,\"=Sell\",unique_contracts!$BS:$BS,\"=\"&$B10&\" (\"&$G10&\")\",unique_contracts!$AM:$AM,\"<=\"&F$4,unique_contracts!$AP:$AP,\">=\"&F$4)","v":0},0,147.50795279999954,0,0]
[null,"Geothermal",0,335.48693220000172,331.34062920000054,329.23179239999985,"GWh","RPS Eligible",null,null,{"$f":"SUM(SUMIFS(unique_contracts!BT:BT,unique_contracts!$AB:$AB,{\"Buy\",\"Owned\"},unique_contracts!$BS:$BS,\"=\"&$B11&\" (\"&$G11&\")\",unique_contracts!$AM:$AM,\"<=\"&C$4,unique_contracts!$AP:$AP,\">=\"&C$4), SUMIFS(unique_contracts!BT:BT,unique_contracts!$AB:$AB,\"=\"&\"\",unique_contracts!$BS:$BS,\"=\"&$B11&\" (\"&$G11&\")\",unique_contracts!$AM:$AM,\"<=\"&C$4,unique_contracts!$AP:$AP,\">=\"&C$4))","v":0},{"$f":"SUM(SUMIFS(unique_contracts!BU:BU,unique_contracts!$AB:$AB,{\"Buy\",\"Owned\"},unique_contracts!$BS:$BS,\"=\"&$B11&\" (\"&$G11&\")\",unique_contracts!$AM:$AM,\"<=\"&D$4,unique_contracts!$AP:$AP,\">=\"&D$4), SUMIFS(unique_contracts!BU:BU,unique_contracts!$AB:$AB,\"=\"&\"\",unique_contracts!$BS:$BS,\"=\"&$B11&\" (\"&$G11&\")\",unique_contracts!$AM:$AM,\"<=\"&D$4,unique_contracts!$AP:$AP,\">=\"&D$4))","v":335.48693220000172},{"$f":"SUM(SUMIFS(unique_contracts!BV:BV,unique_contracts!$AB:$AB,{\"Buy\",\"Owned\"},unique_contracts!$BS:$BS,\"=\"&$B11&\" (\"&$G11&\")\",unique_contracts!$AM:$AM,\"<=\"&E$4,unique_contracts!$AP:$AP,\">=\"&E$4), SUMIFS(unique_contracts!BV:BV,unique_contracts!$AB:$AB,\"=\"&\"\",unique_contracts!$BS:$BS,\"=\"&$B11&\" (\"&$G11&\")\",unique_contracts!$AM:$AM,\"<=\"&E$4,unique_contracts!$AP:$AP,\">=\"&E$4))","v":331.34062920000054},{"$f":"SUM(SUMIFS(unique_contracts!BW:BW,unique_contracts!$AB:$AB,{\"Buy\",\"Owned\"},unique_contracts!$BS:$BS,\"=\"&$B11&\" (\"&$G11&\")\",unique_contracts!$AM:$AM,\"<=\"&F$4,unique_contracts!$AP:$AP,\">=\"&F$4), SUMIFS(unique_contracts!BW:BW,unique_contracts!$AB:$AB,\"=\"&\"\",unique_contracts!$BS:$BS,\"=\"&$B11&\" (\"&$G11&\")\",unique_contracts!$AM:$AM,\"<=\"&F$4,unique_contracts!$AP:$AP,\">=\"&F$4))","v":329.23179239999985},{"$f":"SUMIFS(unique_contracts!BT:BT,unique_contracts!$AB:$AB,\"=Sell\",unique_contracts!$BS:$BS,\"=\"&$B11&\" (\"&$G11&\")\",unique_contracts!$AM:$AM,\"<=\"&C$4,unique_contracts!$AP:$AP,\">=\"&C$4)","v":0},{"$f":"SUMIFS(unique_contracts!BU:BU,unique_contracts!$AB:$AB,\"=Sell\",unique_contracts!$BS:$BS,\"=\"&$B11&\" (\"&$G11&\")\",unique_contracts!$AM:$AM,\"<=\"&D$4,unique_contracts!$AP:$AP,\">=\"&D$4)","v":0},{"$f":"SUMIFS(unique_contracts!BV:BV,unique_contracts!$AB:$AB,\"=Sell\",unique_contracts!$BS:$BS,\"=\"&$B11&\" (\"&$G11&\")\",unique_contracts!$AM:$AM,\"<=\"&E$4,unique_contracts!$AP:$AP,\">=\"&E$4)","v":0},{"$f":"SUMIFS(unique_contracts!BW:BW,unique_contracts!$AB:$AB,\"=Sell\",unique_contracts!$BS:$BS,\"=\"&$B11&\" (\"&$G11&\")\",unique_contracts!$AM:$AM,\"<=\"&F$4,unique_contracts!$AP:$AP,\">=\"&F$4)","v":0},0,335.48693220000172,331.34062920000054,329.23179239999985]
[null,"Small Hydro",8.5881410969622181,8.5881410969622181,6.8112843182803795,5.4786417342690008,"GWh","RPS Eligible",null,null,{"$f":"SUM(SUMIFS(unique_contracts!BT:BT,unique_contracts!$AB:$AB,{\"Buy\",\"Owned\"},unique_contracts!$BS:$BS,\"=\"&$B12&\" (\"&$G12&\")\",unique_contracts!$AM:$AM,\"<=\"&C$4,unique_contracts!$AP:$AP,\">=\"&C$4), SUMIFS(unique_contracts!BT:BT,unique_contracts!$AB:$AB,\"=\"&\"\",unique_contracts!$BS:$BS,\"=\"&$B12&\" (\"&$G12&\")\",unique_contracts!$AM:$AM,\"<=\"&C$4,unique_contracts!$AP:$AP,\">=\"&C$4))","v":8.5881410969622181},{"$f":"SUM(SUMIFS(unique_contracts!BU:BU,unique_contracts!$AB:$AB,{\"Buy\",\"Owned\"},unique_contracts!$BS:$BS,\"=\"&$B12&\" (\"&$G12&\")\",unique_contracts!$AM:$AM,\"<=\"&D$4,unique_contracts!$AP:$AP,\">=\"&D$4), SUMIFS(unique_contracts!BU:BU,unique_contracts!$AB:$AB,\"=\"&\"\",unique_contracts!$BS:$BS,\"=\"&$B12&\" (\"&$G12&\")\",unique_contracts!$AM:$AM,\"<=\"&D$4,unique_contracts!$AP:$AP,\">=\"&D$4))","v":8.5881410969622181},{"$f":"SUM(SUMIFS(unique_contracts!BV:BV,unique_contracts!$AB:$AB,{\"Buy\",\"Owned\"},unique_contracts!$BS:$BS,\"=\"&$B12&\" (\"&$G12&\")\",unique_contracts!$AM:$AM,\"<=\"&E$4,unique_contracts!$AP:$AP,\">=\"&E$4), SUMIFS(unique_contracts!BV:BV,unique_contracts!$AB:$AB,\"=\"&\"\",unique_contracts!$BS:$BS,\"=\"&$B12&\" (\"&$G12&\")\",unique_contracts!$AM:$AM,\"<=\"&E$4,unique_contracts!$AP:$AP,\">=\"&E$4))","v":6.8112843182803795},{"$f":"SUM(SUMIFS(unique_contracts!BW:BW,unique_contracts!$AB:$AB,{\"Buy\",\"Owned\"},unique_contracts!$BS:$BS,\"=\"&$B12&\" (\"&$G12&\")\",unique_contracts!$AM:$AM,\"<=\"&F$4,unique_contracts!$AP:$AP,\">=\"&F$4), SUMIFS(unique_contracts!BW:BW,unique_contracts!$AB:$AB,\"=\"&\"\",unique_contracts!$BS:$BS,\"=\"&$B12&\" (\"&$G12&\")\",unique_contracts!$AM:$AM,\"<=\"&F$4,unique_contracts!$AP:$AP,\">=\"&F$4))","v":5.4786417342690008},{"$f":"SUMIFS(unique_contracts!BT:BT,unique_contracts!$AB:$AB,\"=Sell\",unique_contracts!$BS:$BS,\"=\"&$B12&\" (\"&$G12&\")\",unique_contracts!$AM:$AM,\"<=\"&C$4,unique_contracts!$AP:$AP,\">=\"&C$4)","v":0},{"$f":"SUMIFS(unique_contracts!BU:BU,unique_contracts!$AB:$AB,\"=Sell\",unique_contracts!$BS:$BS,\"=\"&$B12&\" (\"&$G12&\")\",unique_contracts!$AM:$AM,\"<=\"&D$4,unique_contracts!$AP:$AP,\">=\"&D$4)","v":0},{"$f":"SUMIFS(unique_contracts!BV:BV,unique_contracts!$AB:$AB,\"=Sell\",unique_contracts!$BS:$BS,\"=\"&$B12&\" (\"&$G12&\")\",unique_contracts!$AM:$AM,\"<=\"&E$4,unique_contracts!$AP:$AP,\">=\"&E$4)","v":0},{"$f":"SUMIFS(unique_contracts!BW:BW,unique_contracts!$AB:$AB,\"=Sell\",unique_contracts!$BS:$BS,\"=\"&$B12&\" (\"&$G12&\")\",unique_contracts!$AM:$AM,\"<=\"&F$4,unique_contracts!$AP:$AP,\">=\"&F$4)","v":0},8.5881410969622181,8.5881410969622181,6.8112843182803795,5.4786417342690008]
[null,"Wind Resources"]
[null,"Wind Existing California",{"$f":"S14","v":530.95806835381154},{"$f":"T14","v":489.93908660777083},{"$f":"U14","v":485.18418145946612},{"$f":"V14","v":164.83671180789133},"GWh","RPS Eligible",null,null,{"$f":"SUM(SUMIFS(unique_contracts!BT:BT,unique_contracts!$AB:$AB,{\"Buy\",\"Owned\"},unique_contracts!$BS:$BS,\"=\"&$B14&\" (\"&$G14&\")\",unique_contracts!$AM:$AM,\"<=\"&C$4,unique_contracts!$AP:$AP,\">=\"&C$4), SUMIFS(unique_contracts!BT:BT,unique_contracts!$AB:$AB,\"=\"&\"\",unique_contracts!$BS:$BS,\"=\"&$B14&\" (\"&$G14&\")\",unique_contracts!$AM:$AM,\"<=\"&C$4,unique_contracts!$AP:$AP,\">=\"&C$4))","v":2249.8223235331002},{"$f":"SUM(SUMIFS(unique_contracts!BU:BU,unique_contracts!$AB:$AB,{\"Buy\",\"Owned\"},unique_contracts!$BS:$BS,\"=\"&$B14&\" (\"&$G14&\")\",unique_contracts!$AM:$AM,\"<=\"&D$4,unique_contracts!$AP:$AP,\">=\"&D$4), SUMIFS(unique_contracts!BU:BU,unique_contracts!$AB:$AB,\"=\"&\"\",unique_contracts!$BS:$BS,\"=\"&$B14&\" (\"&$G14&\")\",unique_contracts!$AM:$AM,\"<=\"&D$4,unique_contracts!$AP:$AP,\">=\"&D$4))","v":2076.0130788464871},{"$f":"SUM(SUMIFS(unique_contracts!BV:BV,unique_contracts!$AB:$AB,{\"Buy\",\"Owned\"},unique_contracts!$BS:$BS,\"=\"&$B14&\" (\"&$G14&\")\",unique_contracts!$AM:$AM,\"<=\"&E$4,unique_contracts!$AP:$AP,\">=\"&E$4), SUMIFS(unique_contracts!BV:BV,unique_contracts!$AB:$AB,\"=\"&\"\",unique_contracts!$BS:$BS,\"=\"&$B14&\" (\"&$G14&\")\",unique_contracts!$AM:$AM,\"<=\"&E$4,unique_contracts!$AP:$AP,\">=\"&E$4))","v":2055.8651756757049},{"$f":"SUM(SUMIFS(unique_contracts!BW:BW,unique_contracts!$AB:$AB,{\"Buy\",\"Owned\"},unique_contracts!$BS:$BS,\"=\"&$B14&\" (\"&$G14&\")\",unique_contracts!$AM:$AM,\"<=\"&F$4,unique_contracts!$AP:$AP,\">=\"&F$4), SUMIFS(unique_contracts!BW:BW,unique_contracts!$AB:$AB,\"=\"&\"\",unique_contracts!$BS:$BS,\"=\"&$B14&\" (\"&$G14&\")\",unique_contracts!$AM:$AM,\"<=\"&F$4,unique_contracts!$AP:$AP,\">=\"&F$4))","v":698.46064325377733},{"$f":"SUMIFS(unique_contracts!BT:BT,unique_contracts!$AB:$AB,\"=Sell\",unique_contracts!$BS:$BS,\"=\"&$B14&\" (\"&$G14&\")\",unique_contracts!$AM:$AM,\"<=\"&C$4,unique_contracts!$AP:$AP,\">=\"&C$4)","v":1718.8642551792886},{"$f":"SUMIFS(unique_contracts!BU:BU,unique_contracts!$AB:$AB,\"=Sell\",unique_contracts!$BS:$BS,\"=\"&$B14&\" (\"&$G14&\")\",unique_contracts!$AM:$AM,\"<=\"&D$4,unique_contracts!$AP:$AP,\">=\"&D$4)","v":1586.0739922387163},{"$f":"SUMIFS(unique_contracts!BV:BV,unique_contracts!$AB:$AB,\"=Sell\",unique_contracts!$BS:$BS,\"=\"&$B14&\" (\"&$G14&\")\",unique_contracts!$AM:$AM,\"<=\"&E$4,unique_contracts!$AP:$AP,\">=\"&E$4)","v":1570.6809942162388},{"$f":"SUMIFS(unique_contracts!BW:BW,unique_contracts!$AB:$AB,\"=Sell\",unique_contracts!$BS:$BS,\"=\"&$B14&\" (\"&$G14&\")\",unique_contracts!$AM:$AM,\"<=\"&F$4,unique_contracts!$AP:$AP,\">=\"&F$4)","v":533.623931445886},530.95806835381154,489.93908660777083,485.18418145946612,164.83671180789133]
[null,"Wind New PG&E",0,0,0,0,"GWh","RPS Eligible",null,null,{"$f":"SUM(SUMIFS(unique_contracts!BT:BT,unique_contracts!$AB:$AB,{\"Buy\",\"Owned\"},unique_contracts!$BS:$BS,\"=\"&$B15&\" (\"&$G15&\")\",unique_contracts!$AM:$AM,\"<=\"&C$4,unique_contracts!$AP:$AP,\">=\"&C$4), SUMIFS(unique_contracts!BT:BT,unique_contracts!$AB:$AB,\"=\"&\"\",unique_contracts!$BS:$BS,\"=\"&$B15&\" (\"&$G15&\")\",unique_contracts!$AM:$AM,\"<=\"&C$4,unique_contracts!$AP:$AP,\">=\"&C$4))","v":0},{"$f":"SUM(SUMIFS(unique_contracts!BU:BU,unique_contracts!$AB:$AB,{\"Buy\",\"Owned\"},unique_contracts!$BS:$BS,\"=\"&$B15&\" (\"&$G15&\")\",unique_contracts!$AM:$AM,\"<=\"&D$4,unique_contracts!$AP:$AP,\">=\"&D$4), SUMIFS(unique_contracts!BU:BU,unique_contracts!$AB:$AB,\"=\"&\"\",unique_contracts!$BS:$BS,\"=\"&$B15&\" (\"&$G15&\")\",unique_contracts!$AM:$AM,\"<=\"&D$4,unique_contracts!$AP:$AP,\">=\"&D$4))","v":0},{"$f":"SUM(SUMIFS(unique_contracts!BV:BV,unique_contracts!$AB:$AB,{\"Buy\",\"Owned\"},unique_contracts!$BS:$BS,\"=\"&$B15&\" (\"&$G15&\")\",unique_contracts!$AM:$AM,\"<=\"&E$4,unique_contracts!$AP:$AP,\">=\"&E$4), SUMIFS(unique_contracts!BV:BV,unique_contracts!$AB:$AB,\"=\"&\"\",unique_contracts!$BS:$BS,\"=\"&$B15&\" (\"&$G15&\")\",unique_contracts!$AM:$AM,\"<=\"&E$4,unique_contracts!$AP:$AP,\">=\"&E$4))","v":0},{"$f":"SUM(SUMIFS(unique_contracts!BW:BW,unique_contracts!$AB:$AB,{\"Buy\",\"Owned\"},unique_contracts!$BS:$BS,\"=\"&$B15&\" (\"&$G15&\")\",unique_contracts!$AM:$AM,\"<=\"&F$4,unique_contracts!$AP:$AP,\">=\"&F$4), SUMIFS(unique_contracts!BW:BW,unique_contracts!$AB:$AB,\"=\"&\"\",unique_contracts!$BS:$BS,\"=\"&$B15&\" (\"&$G15&\")\",unique_contracts!$AM:$AM,\"<=\"&F$4,unique_contracts!$AP:$AP,\">=\"&F$4))","v":0},{"$f":"SUMIFS(unique_contracts!BT:BT,unique_contracts!$AB:$AB,\"=Sell\",unique_contracts!$BS:$BS,\"=\"&$B15&\" (\"&$G15&\")\",unique_contracts!$AM:$AM,\"<=\"&C$4,unique_contracts!$AP:$AP,\">=\"&C$4)","v":0},{"$f":"SUMIFS(unique_contracts!BU:BU,unique_contracts!$AB:$AB,\"=Sell\",unique_contracts!$BS:$BS,\"=\"&$B15&\" (\"&$G15&\")\",unique_contracts!$AM:$AM,\"<=\"&D$4,unique_contracts!$AP:$AP,\">=\"&D$4)","v":0},{"$f":"SUMIFS(unique_contracts!BV:BV,unique_contracts!$AB:$AB,\"=Sell\",unique_contracts!$BS:$BS,\"=\"&$B15&\" (\"&$G15&\")\",unique_contracts!$AM:$AM,\"<=\"&E$4,unique_contracts!$AP:$AP,\">=\"&E$4)","v":0},{"$f":"SUMIFS(unique_contracts!BW:BW,unique_contracts!$AB:$AB,\"=Sell\",unique_contracts!$BS:$BS,\"=\"&$B15&\" (\"&$G15&\")\",unique_contracts!$AM:$AM,\"<=\"&F$4,unique_contracts!$AP:$AP,\">=\"&F$4)","v":0},0,0,0,0]
[null,"Wind New SCE SDG&E",0,0,393.73920000000055,393.73920000000055,"GWh","RPS Eligible",null,null,{"$f":"SUM(SUMIFS(unique_contracts!BT:BT,unique_contracts!$AB:$AB,{\"Buy\",\"Owned\"},unique_contracts!$BS:$BS,\"=\"&$B16&\" (\"&$G16&\")\",unique_contracts!$AM:$AM,\"<=\"&C$4,unique_contracts!$AP:$AP,\">=\"&C$4), SUMIFS(unique_contracts!BT:BT,unique_contracts!$AB:$AB,\"=\"&\"\",unique_contracts!$BS:$BS,\"=\"&$B16&\" (\"&$G16&\")\",unique_contracts!$AM:$AM,\"<=\"&C$4,unique_contracts!$AP:$AP,\">=\"&C$4))","v":0},{"$f":"SUM(SUMIFS(unique_contracts!BU:BU,unique_contracts!$AB:$AB,{\"Buy\",\"Owned\"},unique_contracts!$BS:$BS,\"=\"&$B16&\" (\"&$G16&\")\",unique_contracts!$AM:$AM,\"<=\"&D$4,unique_contracts!$AP:$AP,\">=\"&D$4), SUMIFS(unique_contracts!BU:BU,unique_contracts!$AB:$AB,\"=\"&\"\",unique_contracts!$BS:$BS,\"=\"&$B16&\" (\"&$G16&\")\",unique_contracts!$AM:$AM,\"<=\"&D$4,unique_contracts!$AP:$AP,\">=\"&D$4))","v":0},{"$f":"SUM(SUMIFS(unique_contracts!BV:BV,unique_contracts!$AB:$AB,{\"Buy\",\"Owned\"},unique_contracts!$BS:$BS,\"=\"&$B16&\" (\"&$G16&\")\",unique_contracts!$AM:$AM,\"<=\"&E$4,unique_contracts!$AP:$AP,\">=\"&E$4), SUMIFS(unique_contracts!BV:BV,unique_contracts!$AB:$AB,\"=\"&\"\",unique_contracts!$BS:$BS,\"=\"&$B16&\" (\"&$G16&\")\",unique_contracts!$AM:$AM,\"<=\"&E$4,unique_contracts!$AP:$AP,\">=\"&E$4))","v":393.73920000000055},{"$f":"SUM(SUMIFS(unique_contracts!BW:BW,unique_contracts!$AB:$AB,{\"Buy\",\"Owned\"},unique_contracts!$BS:$BS,\"=\"&$B16&\" (\"&$G16&\")\",unique_contracts!$AM:$AM,\"<=\"&F$4,unique_contracts!$AP:$AP,\">=\"&F$4), SUMIFS(unique_contracts!BW:BW,unique_contracts!$AB:$AB,\"=\"&\"\",unique_contracts!$BS:$BS,\"=\"&$B16&\" (\"&$G16&\")\",unique_contracts!$AM:$AM,\"<=\"&F$4,unique_contracts!$AP:$AP,\">=\"&F$4))","v":393.73920000000055},{"$f":"SUMIFS(unique_contracts!BT:BT,unique_contracts!$AB:$AB,\"=Sell\",unique_contracts!$BS:$BS,\"=\"&$B16&\" (\"&$G16&\")\",unique_contracts!$AM:$AM,\"<=\"&C$4,unique_contracts!$AP:$AP,\">=\"&C$4)","v":0},{"$f":"SUMIFS(unique_contracts!BU:BU,unique_contracts!$AB:$AB,\"=Sell\",unique_contracts!$BS:$BS,\"=\"&$B16&\" (\"&$G16&\")\",unique_contracts!$AM:$AM,\"<=\"&D$4,unique_contracts!$AP:$AP,\">=\"&D$4)","v":0},{"$f":"SUMIFS(unique_contracts!BV:BV,unique_contracts!$AB:$AB,\"=Sell\",unique_contracts!$BS:$BS,\"=\"&$B16&\" (\"&$G16&\")\",unique_contracts!$AM:$AM,\"<=\"&E$4,unique_contracts!$AP:$AP,\">=\"&E$4)","v":0},{"$f":"SUMIFS(unique_contracts!BW:BW,unique_contracts!$AB:$AB,\"=Sell\",unique_contracts!$BS:$BS,\"=\"&$B16&\" (\"&$G16&\")\",unique_contracts!$AM:$AM,\"<=\"&F$4,unique_contracts!$AP:$AP,\">=\"&F$4)","v":0},0,0,393.73920000000055,393.73920000000055]
[null,"Wind Pacific Northwest",0,0,0,0,"GWh","RPS Eligible",null,null,{"$f":"SUM(SUMIFS(unique_contracts!BT:BT,unique_contracts!$AB:$AB,{\"Buy\",\"Owned\"},unique_contracts!$BS:$BS,\"=\"&$B17&\" (\"&$G17&\")\",unique_contracts!$AM:$AM,\"<=\"&C$4,unique_contracts!$AP:$AP,\">=\"&C$4), SUMIFS(unique_contracts!BT:BT,unique_contracts!$AB:$AB,\"=\"&\"\",unique_contracts!$BS:$BS,\"=\"&$B17&\" (\"&$G17&\")\",unique_contracts!$AM:$AM,\"<=\"&C$4,unique_contracts!$AP:$AP,\">=\"&C$4))","v":0},{"$f":"SUM(SUMIFS(unique_contracts!BU:BU,unique_contracts!$AB:$AB,{\"Buy\",\"Owned\"},unique_contracts!$BS:$BS,\"=\"&$B17&\" (\"&$G17&\")\",unique_contracts!$AM:$AM,\"<=\"&D$4,unique_contracts!$AP:$AP,\">=\"&D$4), SUMIFS(unique_contracts!BU:BU,unique_contracts!$AB:$AB,\"=\"&\"\",unique_contracts!$BS:$BS,\"=\"&$B17&\" (\"&$G17&\")\",unique_contracts!$AM:$AM,\"<=\"&D$4,unique_contracts!$AP:$AP,\">=\"&D$4))","v":0},{"$f":"SUM(SUMIFS(unique_contracts!BV:BV,unique_contracts!$AB:$AB,{\"Buy\",\"Owned\"},unique_contracts!$BS:$BS,\"=\"&$B17&\" (\"&$G17&\")\",unique_contracts!$AM:$AM,\"<=\"&E$4,unique_contracts!$AP:$AP,\">=\"&E$4), SUMIFS(unique_contracts!BV:BV,unique_contracts!$AB:$AB,\"=\"&\"\",unique_contracts!$BS:$BS,\"=\"&$B17&\" (\"&$G17&\")\",unique_contracts!$AM:$AM,\"<=\"&E$4,unique_contracts!$AP:$AP,\">=\"&E$4))","v":0},{"$f":"SUM(SUMIFS(unique_contracts!BW:BW,unique_contracts!$AB:$AB,{\"Buy\",\"Owned\"},unique_contracts!$BS:$BS,\"=\"&$B17&\" (\"&$G17&\")\",unique_contracts!$AM:$AM,\"<=\"&F$4,unique_contracts!$AP:$AP,\">=\"&F$4), SUMIFS(unique_contracts!BW:BW,unique_contracts!$AB:$AB,\"=\"&\"\",unique_contracts!$BS:$BS,\"=\"&$B17&\" (\"&$G17&\")\",unique_contracts!$AM:$AM,\"<=\"&F$4,unique_contracts!$AP:$AP,\">=\"&F$4))","v":0},{"$f":"SUMIFS(unique_contracts!BT:BT,unique_contracts!$AB:$AB,\"=Sell\",unique_contracts!$BS:$BS,\"=\"&$B17&\" (\"&$G17&\")\",unique_contracts!$AM:$AM,\"<=\"&C$4,unique_contracts!$AP:$AP,\">=\"&C$4)","v":0},{"$f":"SUMIFS(unique_contracts!BU:BU,unique_contracts!$AB:$AB,\"=Sell\",unique_contracts!$BS:$BS,\"=\"&$B17&\" (\"&$G17&\")\",unique_contracts!$AM:$AM,\"<=\"&D$4,unique_contracts!$AP:$AP,\">=\"&D$4)","v":0},{"$f":"SUMIFS(unique_contracts!BV:BV,unique_contracts!$AB:$AB,\"=Sell\",unique_contracts!$BS:$BS,\"=\"&$B17&\" (\"&$G17&\")\",unique_contracts!$AM:$AM,\"<=\"&E$4,unique_contracts!$AP:$AP,\">=\"&E$4)","v":0},{"$f":"SUMIFS(unique_contracts!BW:BW,unique_contracts!$AB:$AB,\"=Sell\",unique_contracts!$BS:$BS,\"=\"&$B17&\" (\"&$G17&\")\",unique_contracts!$AM:$AM,\"<=\"&F$4,unique_contracts!$AP:$AP,\">=\"&F$4)","v":0},0,0,0,0]
[null,"Wind Wyoming",0,0,0,0,"GWh","RPS Eligible",null,null,{"$f":"SUM(SUMIFS(unique_contracts!BT:BT,unique_contracts!$AB:$AB,{\"Buy\",\"Owned\"},unique_contracts!$BS:$BS,\"=\"&$B18&\" (\"&$G18&\")\",unique_contracts!$AM:$AM,\"<=\"&C$4,unique_contracts!$AP:$AP,\">=\"&C$4), SUMIFS(unique_contracts!BT:BT,unique_contracts!$AB:$AB,\"=\"&\"\",unique_contracts!$BS:$BS,\"=\"&$B18&\" (\"&$G18&\")\",unique_contracts!$AM:$AM,\"<=\"&C$4,unique_contracts!$AP:$AP,\">=\"&C$4))","v":0},{"$f":"SUM(SUMIFS(unique_contracts!BU:BU,unique_contracts!$AB:$AB,{\"Buy\",\"Owned\"},unique_contracts!$BS:$BS,\"=\"&$B18&\" (\"&$G18&\")\",unique_contracts!$AM:$AM,\"<=\"&D$4,unique_contracts!$AP:$AP,\">=\"&D$4), SUMIFS(unique_contracts!BU:BU,unique_contracts!$AB:$AB,\"=\"&\"\",unique_contracts!$BS:$BS,\"=\"&$B18&\" (\"&$G18&\")\",unique_contracts!$AM:$AM,\"<=\"&D$4,unique_contracts!$AP:$AP,\">=\"&D$4))","v":0},{"$f":"SUM(SUMIFS(unique_contracts!BV:BV,unique_contracts!$AB:$AB,{\"Buy\",\"Owned\"},unique_contracts!$BS:$BS,\"=\"&$B18&\" (\"&$G18&\")\",unique_contracts!$AM:$AM,\"<=\"&E$4,unique_contracts!$AP:$AP,\">=\"&E$4), SUMIFS(unique_contracts!BV:BV,unique_contracts!$AB:$AB,\"=\"&\"\",unique_contracts!$BS:$BS,\"=\"&$B18&\" (\"&$G18&\")\",unique_contracts!$AM:$AM,\"<=\"&E$4,unique_contracts!$AP:$AP,\">=\"&E$4))","v":0},{"$f":"SUM(SUMIFS(unique_contracts!BW:BW,unique_contracts!$AB:$AB,{\"Buy\",\"Owned\"},unique_contracts!$BS:$BS,\"=\"&$B18&\" (\"&$G18&\")\",unique_contracts!$AM:$AM,\"<=\"&F$4,unique_contracts!$AP:$AP,\">=\"&F$4), SUMIFS(unique_contracts!BW:BW,unique_contracts!$AB:$AB,\"=\"&\"\",unique_contracts!$BS:$BS,\"=\"&$B18&\" (\"&$G18&\")\",unique_contracts!$AM:$AM,\"<=\"&F$4,unique_contracts!$AP:$AP,\">=\"&F$4))","v":0},{"$f":"SUMIFS(unique_contracts!BT:BT,unique_contracts!$AB:$AB,\"=Sell\",unique_contracts!$BS:$BS,\"=\"&$B18&\" (\"&$G18&\")\",unique_contracts!$AM:$AM,\"<=\"&C$4,unique_contracts!$AP:$AP,\">=\"&C$4)","v":0},{"$f":"SUMIFS(unique_contracts!BU:BU,unique_contracts!$AB:$AB,\"=Sell\",unique_contracts!$BS:$BS,\"=\"&$B18&\" (\"&$G18&\")\",unique_contracts!$AM:$AM,\"<=\"&D$4,unique_contracts!$AP:$AP,\">=\"&D$4)","v":0},{"$f":"SUMIFS(unique_contracts!BV:BV,unique_contracts!$AB:$AB,\"=Sell\",unique_contracts!$BS:$BS,\"=\"&$B18&\" (\"&$G18&\")\",unique_contracts!$AM:$AM,\"<=\"&E$4,unique_contracts!$AP:$AP,\">=\"&E$4)","v":0},{"$f":"SUMIFS(unique_contracts!BW:BW,unique_contracts!$AB:$AB,\"=Sell\",unique_contracts!$BS:$BS,\"=\"&$B18&\" (\"&$G18&\")\",unique_contracts!$AM:$AM,\"<=\"&F$4,unique_contracts!$AP:$AP,\">=\"&F$4)","v":0},0,0,0,0]
[null,"Wind New Mexico",0,0,0,0,"GWh","RPS Eligible",null,null,{"$f":"SUM(SUMIFS(unique_contracts!BT:BT,unique_contracts!$AB:$AB,{\"Buy\",\"Owned\"},unique_contracts!$BS:$BS,\"=\"&$B19&\" (\"&$G19&\")\",unique_contracts!$AM:$AM,\"<=\"&C$4,unique_contracts!$AP:$AP,\">=\"&C$4), SUMIFS(unique_contracts!BT:BT,unique_contracts!$AB:$AB,\"=\"&\"\",unique_contracts!$BS:$BS,\"=\"&$B19&\" (\"&$G19&\")\",unique_contracts!$AM:$AM,\"<=\"&C$4,unique_contracts!$AP:$AP,\">=\"&C$4))","v":0},{"$f":"SUM(SUMIFS(unique_contracts!BU:BU,unique_contracts!$AB:$AB,{\"Buy\",\"Owned\"},unique_contracts!$BS:$BS,\"=\"&$B19&\" (\"&$G19&\")\",unique_contracts!$AM:$AM,\"<=\"&D$4,unique_contracts!$AP:$AP,\">=\"&D$4), SUMIFS(unique_contracts!BU:BU,unique_contracts!$AB:$AB,\"=\"&\"\",unique_contracts!$BS:$BS,\"=\"&$B19&\" (\"&$G19&\")\",unique_contracts!$AM:$AM,\"<=\"&D$4,unique_contracts!$AP:$AP,\">=\"&D$4))","v":0},{"$f":"SUM(SUMIFS(unique_contracts!BV:BV,unique_contracts!$AB:$AB,{\"Buy\",\"Owned\"},unique_contracts!$BS:$BS,\"=\"&$B19&\" (\"&$G19&\")\",unique_contracts!$AM:$AM,\"<=\"&E$4,unique_contracts!$AP:$AP,\">=\"&E$4), SUMIFS(unique_contracts!BV:BV,unique_contracts!$AB:$AB,\"=\"&\"\",unique_contracts!$BS:$BS,\"=\"&$B19&\" (\"&$G19&\")\",unique_contracts!$AM:$AM,\"<=\"&E$4,unique_contracts!$AP:$AP,\">=\"&E$4))","v":0},{"$f":"SUM(SUMIFS(unique_contracts!BW:BW,unique_contracts!$AB:$AB,{\"Buy\",\"Owned\"},unique_contracts!$BS:$BS,\"=\"&$B19&\" (\"&$G19&\")\",unique_contracts!$AM:$AM,\"<=\"&F$4,unique_contracts!$AP:$AP,\">=\"&F$4), SUMIFS(unique_contracts!BW:BW,unique_contracts!$AB:$AB,\"=\"&\"\",unique_contracts!$BS:$BS,\"=\"&$B19&\" (\"&$G19&\")\",unique_contracts!$AM:$AM,\"<=\"&F$4,unique_contracts!$AP:$AP,\">=\"&F$4))","v":0},{"$f":"SUMIFS(unique_contracts!BT:BT,unique_contracts!$AB:$AB,\"=Sell\",unique_contracts!$BS:$BS,\"=\"&$B19&\" (\"&$G19&\")\",unique_contracts!$AM:$AM,\"<=\"&C$4,unique_contracts!$AP:$AP,\">=\"&C$4)","v":0},{"$f":"SUMIFS(unique_contracts!BU:BU,unique_contracts!$AB:$AB,\"=Sell\",unique_contracts!$BS:$BS,\"=\"&$B19&\" (\"&$G19&\")\",unique_contracts!$AM:$AM,\"<=\"&D$4,unique_contracts!$AP:$AP,\">=\"&D$4)","v":0},{"$f":"SUMIFS(unique_contracts!BV:BV,unique_contracts!$AB:$AB,\"=Sell\",unique_contracts!$BS:$BS,\"=\"&$B19&\" (\"&$G19&\")\",unique_contracts!$AM:$AM,\"<=\"&E$4,unique_contracts!$AP:$AP,\">=\"&E$4)","v":0},{"$f":"SUMIFS(unique_contracts!BW:BW,unique_contracts!$AB:$AB,\"=Sell\",unique_contracts!$BS:$BS,\"=\"&$B19&\" (\"&$G19&\")\",unique_contracts!$AM:$AM,\"<=\"&F$4,unique_contracts!$AP:$AP,\">=\"&F$4)","v":0},0,0,0,0]
[null,"Wind Offshore Morro Bay",0,0,310.39040160000235,310.39040160000235,"GWh","RPS Eligible",null,null,{"$f":"SUM(SUMIFS(unique_contracts!BT:BT,unique_contracts!$AB:$AB,{\"Buy\",\"Owned\"},unique_contracts!$BS:$BS,\"=\"&$B20&\" (\"&$G20&\")\",unique_contracts!$AM:$AM,\"<=\"&C$4,unique_contracts!$AP:$AP,\">=\"&C$4), SUMIFS(unique_contracts!BT:BT,unique_contracts!$AB:$AB,\"=\"&\"\",unique_contracts!$BS:$BS,\"=\"&$B20&\" (\"&$G20&\")\",unique_contracts!$AM:$AM,\"<=\"&C$4,unique_contracts!$AP:$AP,\">=\"&C$4))","v":0},{"$f":"SUM(SUMIFS(unique_contracts!BU:BU,unique_contracts!$AB:$AB,{\"Buy\",\"Owned\"},unique_contracts!$BS:$BS,\"=\"&$B20&\" (\"&$G20&\")\",unique_contracts!$AM:$AM,\"<=\"&D$4,unique_contracts!$AP:$AP,\">=\"&D$4), SUMIFS(unique_contracts!BU:BU,unique_contracts!$AB:$AB,\"=\"&\"\",unique_contracts!$BS:$BS,\"=\"&$B20&\" (\"&$G20&\")\",unique_contracts!$AM:$AM,\"<=\"&D$4,unique_contracts!$AP:$AP,\">=\"&D$4))","v":0},{"$f":"SUM(SUMIFS(unique_contracts!BV:BV,unique_contracts!$AB:$AB,{\"Buy\",\"Owned\"},unique_contracts!$BS:$BS,\"=\"&$B20&\" (\"&$G20&\")\",unique_contracts!$AM:$AM,\"<=\"&E$4,unique_contracts!$AP:$AP,\">=\"&E$4), SUMIFS(unique_contracts!BV:BV,unique_contracts!$AB:$AB,\"=\"&\"\",unique_contracts!$BS:$BS,\"=\"&$B20&\" (\"&$G20&\")\",unique_contracts!$AM:$AM,\"<=\"&E$4,unique_contracts!$AP:$AP,\">=\"&E$4))","v":310.39040160000235},{"$f":"SUM(SUMIFS(unique_contracts!BW:BW,unique_contracts!$AB:$AB,{\"Buy\",\"Owned\"},unique_contracts!$BS:$BS,\"=\"&$B20&\" (\"&$G20&\")\",unique_contracts!$AM:$AM,\"<=\"&F$4,unique_contracts!$AP:$AP,\">=\"&F$4), SUMIFS(unique_contracts!BW:BW,unique_contracts!$AB:$AB,\"=\"&\"\",unique_contracts!$BS:$BS,\"=\"&$B20&\" (\"&$G20&\")\",unique_contracts!$AM:$AM,\"<=\"&F$4,unique_contracts!$AP:$AP,\">=\"&F$4))","v":310.39040160000235},{"$f":"SUMIFS(unique_contracts!BT:BT,unique_contracts!$AB:$AB,\"=Sell\",unique_contracts!$BS:$BS,\"=\"&$B20&\" (\"&$G20&\")\",unique_contracts!$AM:$AM,\"<=\"&C$4,unique_contracts!$AP:$AP,\">=\"&C$4)","v":0},{"$f":"SUMIFS(unique_contracts!BU:BU,unique_contracts!$AB:$AB,\"=Sell\",unique_contracts!$BS:$BS,\"=\"&$B20&\" (\"&$G20&\")\",unique_contracts!$AM:$AM,\"<=\"&D$4,unique_contracts!$AP:$AP,\">=\"&D$4)","v":0},{"$f":"SUMIFS(unique_contracts!BV:BV,unique_contracts!$AB:$AB,\"=Sell\",unique_contracts!$BS:$BS,\"=\"&$B20&\" (\"&$G20&\")\",unique_contracts!$AM:$AM,\"<=\"&E$4,unique_contracts!$AP:$AP,\">=\"&E$4)","v":0},{"$f":"SUMIFS(unique_contracts!BW:BW,unique_contracts!$AB:$AB,\"=Sell\",unique_contracts!$BS:$BS,\"=\"&$B20&\" (\"&$G20&\")\",unique_contracts!$AM:$AM,\"<=\"&F$4,unique_contracts!$AP:$AP,\">=\"&F$4)","v":0},0,0,310.39040160000235,310.39040160000235]
[null,"Wind Offshore Humboldt",0,0,190.48906577664098,190.48906577664098,"GWh","RPS Eligible",null,null,{"$f":"SUM(SUMIFS(unique_contracts!BT:BT,unique_contracts!$AB:$AB,{\"Buy\",\"Owned\"},unique_contracts!$BS:$BS,\"=\"&$B21&\" (\"&$G21&\")\",unique_contracts!$AM:$AM,\"<=\"&C$4,unique_contracts!$AP:$AP,\">=\"&C$4), SUMIFS(unique_contracts!BT:BT,unique_contracts!$AB:$AB,\"=\"&\"\",unique_contracts!$BS:$BS,\"=\"&$B21&\" (\"&$G21&\")\",unique_contracts!$AM:$AM,\"<=\"&C$4,unique_contracts!$AP:$AP,\">=\"&C$4))","v":0},{"$f":"SUM(SUMIFS(unique_contracts!BU:BU,unique_contracts!$AB:$AB,{\"Buy\",\"Owned\"},unique_contracts!$BS:$BS,\"=\"&$B21&\" (\"&$G21&\")\",unique_contracts!$AM:$AM,\"<=\"&D$4,unique_contracts!$AP:$AP,\">=\"&D$4), SUMIFS(unique_contracts!BU:BU,unique_contracts!$AB:$AB,\"=\"&\"\",unique_contracts!$BS:$BS,\"=\"&$B21&\" (\"&$G21&\")\",unique_contracts!$AM:$AM,\"<=\"&D$4,unique_contracts!$AP:$AP,\">=\"&D$4))","v":0},{"$f":"SUM(SUMIFS(unique_contracts!BV:BV,unique_contracts!$AB:$AB,{\"Buy\",\"Owned\"},unique_contracts!$BS:$BS,\"=\"&$B21&\" (\"&$G21&\")\",unique_contracts!$AM:$AM,\"<=\"&E$4,unique_contracts!$AP:$AP,\">=\"&E$4), SUMIFS(unique_contracts!BV:BV,unique_contracts!$AB:$AB,\"=\"&\"\",unique_contracts!$BS:$BS,\"=\"&$B21&\" (\"&$G21&\")\",unique_contracts!$AM:$AM,\"<=\"&E$4,unique_contracts!$AP:$AP,\">=\"&E$4))","v":190.48906577664098},{"$f":"SUM(SUMIFS(unique_contracts!BW:BW,unique_contracts!$AB:$AB,{\"Buy\",\"Owned\"},unique_contracts!$BS:$BS,\"=\"&$B21&\" (\"&$G21&\")\",unique_contracts!$AM:$AM,\"<=\"&F$4,unique_contracts!$AP:$AP,\">=\"&F$4), SUMIFS(unique_contracts!BW:BW,unique_contracts!$AB:$AB,\"=\"&\"\",unique_contracts!$BS:$BS,\"=\"&$B21&\" (\"&$G21&\")\",unique_contracts!$AM:$AM,\"<=\"&F$4,unique_contracts!$AP:$AP,\">=\"&F$4))","v":190.48906577664098},{"$f":"SUMIFS(unique_contracts!BT:BT,unique_contracts!$AB:$AB,\"=Sell\",unique_contracts!$BS:$BS,\"=\"&$B21&\" (\"&$G21&\")\",unique_contracts!$AM:$AM,\"<=\"&C$4,unique_contracts!$AP:$AP,\">=\"&C$4)","v":0},{"$f":"SUMIFS(unique_contracts!BU:BU,unique_contracts!$AB:$AB,\"=Sell\",unique_contracts!$BS:$BS,\"=\"&$B21&\" (\"&$G21&\")\",unique_contracts!$AM:$AM,\"<=\"&D$4,unique_contracts!$AP:$AP,\">=\"&D$4)","v":0},{"$f":"SUMIFS(unique_contracts!BV:BV,unique_contracts!$AB:$AB,\"=Sell\",unique_contracts!$BS:$BS,\"=\"&$B21&\" (\"&$G21&\")\",unique_contracts!$AM:$AM,\"<=\"&E$4,unique_contracts!$AP:$AP,\">=\"&E$4)","v":0},{"$f":"SUMIFS(unique_contracts!BW:BW,unique_contracts!$AB:$AB,\"=Sell\",unique_contracts!$BS:$BS,\"=\"&$B21&\" (\"&$G21&\")\",unique_contracts!$AM:$AM,\"<=\"&F$4,unique_contracts!$AP:$AP,\">=\"&F$4)","v":0},0,0,190.48906577664098,190.48906577664098]
[null,"Solar Resources"]
[null,"Solar Existing California",854.77484963523011,854.77484963523011,854.77484963523011,637.58178916322481,"GWh","RPS Eligible",null,null,{"$f":"SUM(SUMIFS(unique_contracts!BT:BT,unique_contracts!$AB:$AB,{\"Buy\",\"Owned\"},unique_contracts!$BS:$BS,\"=\"&$B23&\" (\"&$G23&\")\",unique_contracts!$AM:$AM,\"<=\"&C$4,unique_contracts!$AP:$AP,\">=\"&C$4), SUMIFS(unique_contracts!BT:BT,unique_contracts!$AB:$AB,\"=\"&\"\",unique_contracts!$BS:$BS,\"=\"&$B23&\" (\"&$G23&\")\",unique_contracts!$AM:$AM,\"<=\"&C$4,unique_contracts!$AP:$AP,\">=\"&C$4))","v":3576.2303281108743},{"$f":"SUM(SUMIFS(unique_contracts!BU:BU,unique_contracts!$AB:$AB,{\"Buy\",\"Owned\"},unique_contracts!$BS:$BS,\"=\"&$B23&\" (\"&$G23&\")\",unique_contracts!$AM:$AM,\"<=\"&D$4,unique_contracts!$AP:$AP,\">=\"&D$4), SUMIFS(unique_contracts!BU:BU,unique_contracts!$AB:$AB,\"=\"&\"\",unique_contracts!$BS:$BS,\"=\"&$B23&\" (\"&$G23&\")\",unique_contracts!$AM:$AM,\"<=\"&D$4,unique_contracts!$AP:$AP,\">=\"&D$4))","v":3576.2303281108743},{"$f":"SUM(SUMIFS(unique_contracts!BV:BV,unique_contracts!$AB:$AB,{\"Buy\",\"Owned\"},unique_contracts!$BS:$BS,\"=\"&$B23&\" (\"&$G23&\")\",unique_contracts!$AM:$AM,\"<=\"&E$4,unique_contracts!$AP:$AP,\">=\"&E$4), SUMIFS(unique_contracts!BV:BV,unique_contracts!$AB:$AB,\"=\"&\"\",unique_contracts!$BS:$BS,\"=\"&$B23&\" (\"&$G23&\")\",unique_contracts!$AM:$AM,\"<=\"&E$4,unique_contracts!$AP:$AP,\">=\"&E$4))","v":3576.2303281108743},{"$f":"SUM(SUMIFS(unique_contracts!BW:BW,unique_contracts!$AB:$AB,{\"Buy\",\"Owned\"},unique_contracts!$BS:$BS,\"=\"&$B23&\" (\"&$G23&\")\",unique_contracts!$AM:$AM,\"<=\"&F$4,unique_contracts!$AP:$AP,\">=\"&F$4), SUMIFS(unique_contracts!BW:BW,unique_contracts!$AB:$AB,\"=\"&\"\",unique_contracts!$BS:$BS,\"=\"&$B23&\" (\"&$G23&\")\",unique_contracts!$AM:$AM,\"<=\"&F$4,unique_contracts!$AP:$AP,\">=\"&F$4))","v":2655.9207498396636},{"$f":"SUMIFS(unique_contracts!BT:BT,unique_contracts!$AB:$AB,\"=Sell\",unique_contracts!$BS:$BS,\"=\"&$B23&\" (\"&$G23&\")\",unique_contracts!$AM:$AM,\"<=\"&C$4,unique_contracts!$AP:$AP,\">=\"&C$4)","v":2721.4554784756442},{"$f":"SUMIFS(unique_contracts!BU:BU,unique_contracts!$AB:$AB,\"=Sell\",unique_contracts!$BS:$BS,\"=\"&$B23&\" (\"&$G23&\")\",unique_contracts!$AM:$AM,\"<=\"&D$4,unique_contracts!$AP:$AP,\">=\"&D$4)","v":2721.4554784756442},{"$f":"SUMIFS(unique_contracts!BV:BV,unique_contracts!$AB:$AB,\"=Sell\",unique_contracts!$BS:$BS,\"=\"&$B23&\" (\"&$G23&\")\",unique_contracts!$AM:$AM,\"<=\"&E$4,unique_contracts!$AP:$AP,\">=\"&E$4)","v":2721.4554784756442},{"$f":"SUMIFS(unique_contracts!BW:BW,unique_contracts!$AB:$AB,\"=Sell\",unique_contracts!$BS:$BS,\"=\"&$B23&\" (\"&$G23&\")\",unique_contracts!$AM:$AM,\"<=\"&F$4,unique_contracts!$AP:$AP,\">=\"&F$4)","v":2018.3389606764388},854.77484963523011,854.77484963523011,854.77484963523011,637.58178916322481]
[null,"Solar New PG&E",0,0,0,0,"GWh","RPS Eligible",null,null,{"$f":"SUM(SUMIFS(unique_contracts!BT:BT,unique_contracts!$AB:$AB,{\"Buy\",\"Owned\"},unique_contracts!$BS:$BS,\"=\"&$B24&\" (\"&$G24&\")\",unique_contracts!$AM:$AM,\"<=\"&C$4,unique_contracts!$AP:$AP,\">=\"&C$4), SUMIFS(unique_contracts!BT:BT,unique_contracts!$AB:$AB,\"=\"&\"\",unique_contracts!$BS:$BS,\"=\"&$B24&\" (\"&$G24&\")\",unique_contracts!$AM:$AM,\"<=\"&C$4,unique_contracts!$AP:$AP,\">=\"&C$4))","v":0},{"$f":"SUM(SUMIFS(unique_contracts!BU:BU,unique_contracts!$AB:$AB,{\"Buy\",\"Owned\"},unique_contracts!$BS:$BS,\"=\"&$B24&\" (\"&$G24&\")\",unique_contracts!$AM:$AM,\"<=\"&D$4,unique_contracts!$AP:$AP,\">=\"&D$4), SUMIFS(unique_contracts!BU:BU,unique_contracts!$AB:$AB,\"=\"&\"\",unique_contracts!$BS:$BS,\"=\"&$B24&\" (\"&$G24&\")\",unique_contracts!$AM:$AM,\"<=\"&D$4,unique_contracts!$AP:$AP,\">=\"&D$4))","v":0},{"$f":"SUM(SUMIFS(unique_contracts!BV:BV,unique_contracts!$AB:$AB,{\"Buy\",\"Owned\"},unique_contracts!$BS:$BS,\"=\"&$B24&\" (\"&$G24&\")\",unique_contracts!$AM:$AM,\"<=\"&E$4,unique_contracts!$AP:$AP,\">=\"&E$4), SUMIFS(unique_contracts!BV:BV,unique_contracts!$AB:$AB,\"=\"&\"\",unique_contracts!$BS:$BS,\"=\"&$B24&\" (\"&$G24&\")\",unique_contracts!$AM:$AM,\"<=\"&E$4,unique_contracts!$AP:$AP,\">=\"&E$4))","v":0},{"$f":"SUM(SUMIFS(unique_contracts!BW:BW,unique_contracts!$AB:$AB,{\"Buy\",\"Owned\"},unique_contracts!$BS:$BS,\"=\"&$B24&\" (\"&$G24&\")\",unique_contracts!$AM:$AM,\"<=\"&F$4,unique_contracts!$AP:$AP,\">=\"&F$4), SUMIFS(unique_contracts!BW:BW,unique_contracts!$AB:$AB,\"=\"&\"\",unique_contracts!$BS:$BS,\"=\"&$B24&\" (\"&$G24&\")\",unique_contracts!$AM:$AM,\"<=\"&F$4,unique_contracts!$AP:$AP,\">=\"&F$4))","v":0},{"$f":"SUMIFS(unique_contracts!BT:BT,unique_contracts!$AB:$AB,\"=Sell\",unique_contracts!$BS:$BS,\"=\"&$B24&\" (\"&$G24&\")\",unique_contracts!$AM:$AM,\"<=\"&C$4,unique_contracts!$AP:$AP,\">=\"&C$4)","v":0},{"$f":"SUMIFS(unique_contracts!BU:BU,unique_contracts!$AB:$AB,\"=Sell\",unique_contracts!$BS:$BS,\"=\"&$B24&\" (\"&$G24&\")\",unique_contracts!$AM:$AM,\"<=\"&D$4,unique_contracts!$AP:$AP,\">=\"&D$4)","v":0},{"$f":"SUMIFS(unique_contracts!BV:BV,unique_contracts!$AB:$AB,\"=Sell\",unique_contracts!$BS:$BS,\"=\"&$B24&\" (\"&$G24&\")\",unique_contracts!$AM:$AM,\"<=\"&E$4,unique_contracts!$AP:$AP,\">=\"&E$4)","v":0},{"$f":"SUMIFS(unique_contracts!BW:BW,unique_contracts!$AB:$AB,\"=Sell\",unique_contracts!$BS:$BS,\"=\"&$B24&\" (\"&$G24&\")\",unique_contracts!$AM:$AM,\"<=\"&F$4,unique_contracts!$AP:$AP,\">=\"&F$4)","v":0},0,0,0,0]
[null,"Solar New SCE SDG&E",0,0,1271.396343000004,1795.4379270000056,"GWh","RPS Eligible",null,null,{"$f":"SUM(SUMIFS(unique_contracts!BT:BT,unique_contracts!$AB:$AB,{\"Buy\",\"Owned\"},unique_contracts!$BS:$BS,\"=\"&$B25&\" (\"&$G25&\")\",unique_contracts!$AM:$AM,\"<=\"&C$4,unique_contracts!$AP:$AP,\">=\"&C$4), SUMIFS(unique_contracts!BT:BT,unique_contracts!$AB:$AB,\"=\"&\"\",unique_contracts!$BS:$BS,\"=\"&$B25&\" (\"&$G25&\")\",unique_contracts!$AM:$AM,\"<=\"&C$4,unique_contracts!$AP:$AP,\">=\"&C$4))","v":0},{"$f":"SUM(SUMIFS(unique_contracts!BU:BU,unique_contracts!$AB:$AB,{\"Buy\",\"Owned\"},unique_contracts!$BS:$BS,\"=\"&$B25&\" (\"&$G25&\")\",unique_contracts!$AM:$AM,\"<=\"&D$4,unique_contracts!$AP:$AP,\">=\"&D$4), SUMIFS(unique_contracts!BU:BU,unique_contracts!$AB:$AB,\"=\"&\"\",unique_contracts!$BS:$BS,\"=\"&$B25&\" (\"&$G25&\")\",unique_contracts!$AM:$AM,\"<=\"&D$4,unique_contracts!$AP:$AP,\">=\"&D$4))","v":0},{"$f":"SUM(SUMIFS(unique_contracts!BV:BV,unique_contracts!$AB:$AB,{\"Buy\",\"Owned\"},unique_contracts!$BS:$BS,\"=\"&$B25&\" (\"&$G25&\")\",unique_contracts!$AM:$AM,\"<=\"&E$4,unique_contracts!$AP:$AP,\">=\"&E$4), SUMIFS(unique_contracts!BV:BV,unique_contracts!$AB:$AB,\"=\"&\"\",unique_contracts!$BS:$BS,\"=\"&$B25&\" (\"&$G25&\")\",unique_contracts!$AM:$AM,\"<=\"&E$4,unique_contracts!$AP:$AP,\">=\"&E$4))","v":1271.396343000004},{"$f":"SUM(SUMIFS(unique_contracts!BW:BW,unique_contracts!$AB:$AB,{\"Buy\",\"Owned\"},unique_contracts!$BS:$BS,\"=\"&$B25&\" (\"&$G25&\")\",unique_contracts!$AM:$AM,\"<=\"&F$4,unique_contracts!$AP:$AP,\">=\"&F$4), SUMIFS(unique_contracts!BW:BW,unique_contracts!$AB:$AB,\"=\"&\"\",unique_contracts!$BS:$BS,\"=\"&$B25&\" (\"&$G25&\")\",unique_contracts!$AM:$AM,\"<=\"&F$4,unique_contracts!$AP:$AP,\">=\"&F$4))","v":1795.4379270000056},{"$f":"SUMIFS(unique_contracts!BT:BT,unique_contracts!$AB:$AB,\"=Sell\",unique_contracts!$BS:$BS,\"=\"&$B25&\" (\"&$G25&\")\",unique_contracts!$AM:$AM,\"<=\"&C$4,unique_contracts!$AP:$AP,\">=\"&C$4)","v":0},{"$f":"SUMIFS(unique_contracts!BU:BU,unique_contracts!$AB:$AB,\"=Sell\",unique_contracts!$BS:$BS,\"=\"&$B25&\" (\"&$G25&\")\",unique_contracts!$AM:$AM,\"<=\"&D$4,unique_contracts!$AP:$AP,\">=\"&D$4)","v":0},{"$f":"SUMIFS(unique_contracts!BV:BV,unique_contracts!$AB:$AB,\"=Sell\",unique_contracts!$BS:$BS,\"=\"&$B25&\" (\"&$G25&\")\",unique_contracts!$AM:$AM,\"<=\"&E$4,unique_contracts!$AP:$AP,\">=\"&E$4)","v":0},{"$f":"SUMIFS(unique_contracts!BW:BW,unique_contracts!$AB:$AB,\"=Sell\",unique_contracts!$BS:$BS,\"=\"&$B25&\" (\"&$G25&\")\",unique_contracts!$AM:$AM,\"<=\"&F$4,unique_contracts!$AP:$AP,\">=\"&F$4)","v":0},0,0,1271.396343000004,1795.4379270000056]
[null,"Solar Distributed",0,0,0,0,"GWh","RPS Eligible",null,null,{"$f":"SUM(SUMIFS(unique_contracts!BT:BT,unique_contracts!$AB:$AB,{\"Buy\",\"Owned\"},unique_contracts!$BS:$BS,\"=\"&$B26&\" (\"&$G26&\")\",unique_contracts!$AM:$AM,\"<=\"&C$4,unique_contracts!$AP:$AP,\">=\"&C$4), SUMIFS(unique_contracts!BT:BT,unique_contracts!$AB:$AB,\"=\"&\"\",unique_contracts!$BS:$BS,\"=\"&$B26&\" (\"&$G26&\")\",unique_contracts!$AM:$AM,\"<=\"&C$4,unique_contracts!$AP:$AP,\">=\"&C$4))","v":0},{"$f":"SUM(SUMIFS(unique_contracts!BU:BU,unique_contracts!$AB:$AB,{\"Buy\",\"Owned\"},unique_contracts!$BS:$BS,\"=\"&$B26&\" (\"&$G26&\")\",unique_contracts!$AM:$AM,\"<=\"&D$4,unique_contracts!$AP:$AP,\">=\"&D$4), SUMIFS(unique_contracts!BU:BU,unique_contracts!$AB:$AB,\"=\"&\"\",unique_contracts!$BS:$BS,\"=\"&$B26&\" (\"&$G26&\")\",unique_contracts!$AM:$AM,\"<=\"&D$4,unique_contracts!$AP:$AP,\">=\"&D$4))","v":0},{"$f":"SUM(SUMIFS(unique_contracts!BV:BV,unique_contracts!$AB:$AB,{\"Buy\",\"Owned\"},unique_contracts!$BS:$BS,\"=\"&$B26&\" (\"&$G26&\")\",unique_contracts!$AM:$AM,\"<=\"&E$4,unique_contracts!$AP:$AP,\">=\"&E$4), SUMIFS(unique_contracts!BV:BV,unique_contracts!$AB:$AB,\"=\"&\"\",unique_contracts!$BS:$BS,\"=\"&$B26&\" (\"&$G26&\")\",unique_contracts!$AM:$AM,\"<=\"&E$4,unique_contracts!$AP:$AP,\">=\"&E$4))","v":0},{"$f":"SUM(SUMIFS(unique_contracts!BW:BW,unique_contracts!$AB:$AB,{\"Buy\",\"Owned\"},unique_contracts!$BS:$BS,\"=\"&$B26&\" (\"&$G26&\")\",unique_contracts!$AM:$AM,\"<=\"&F$4,unique_contracts!$AP:$AP,\">=\"&F$4), SUMIFS(unique_contracts!BW:BW,unique_contracts!$AB:$AB,\"=\"&\"\",unique_contracts!$BS:$BS,\"=\"&$B26&\" (\"&$G26&\")\",unique_contracts!$AM:$AM,\"<=\"&F$4,unique_contracts!$AP:$AP,\">=\"&F$4))","v":0},{"$f":"SUMIFS(unique_contracts!BT:BT,unique_contracts!$AB:$AB,\"=Sell\",unique_contracts!$BS:$BS,\"=\"&$B26&\" (\"&$G26&\")\",unique_contracts!$AM:$AM,\"<=\"&C$4,unique_contracts!$AP:$AP,\">=\"&C$4)","v":0},{"$f":"SUMIFS(unique_contracts!BU:BU,unique_contracts!$AB:$AB,\"=Sell\",unique_contracts!$BS:$BS,\"=\"&$B26&\" (\"&$G26&\")\",unique_contracts!$AM:$AM,\"<=\"&D$4,unique_contracts!$AP:$AP,\">=\"&D$4)","v":0},{"$f":"SUMIFS(unique_contracts!BV:BV,unique_contracts!$AB:$AB,\"=Sell\",unique_contracts!$BS:$BS,\"=\"&$B26&\" (\"&$G26&\")\",unique_contracts!$AM:$AM,\"<=\"&E$4,unique_contracts!$AP:$AP,\">=\"&E$4)","v":0},{"$f":"SUMIFS(unique_contracts!BW:BW,unique_contracts!$AB:$AB,\"=Sell\",unique_contracts!$BS:$BS,\"=\"&$B26&\" (\"&$G26&\")\",unique_contracts!$AM:$AM,\"<=\"&F$4,unique_contracts!$AP:$AP,\">=\"&F$4)","v":0},0,0,0,0]
[null,"Hybrid",null,null,null,null,null,null,null,null,{"$f":"SUM(SUMIFS(unique_contracts!BT:BT,unique_contracts!$AB:$AB,{\"Buy\",\"Owned\"},unique_contracts!$BS:$BS,\"=\"&$B27&\" (\"&$G27&\")\",unique_contracts!$AM:$AM,\"<=\"&C$4,unique_contracts!$AP:$AP,\">=\"&C$4), SUMIFS(unique_contracts!BT:BT,unique_contracts!$AB:$AB,\"=\"&\"\",unique_contracts!$BS:$BS,\"=\"&$B27&\" (\"&$G27&\")\",unique_contracts!$AM:$AM,\"<=\"&C$4,unique_contracts!$AP:$AP,\">=\"&C$4))","v":0},{"$f":"SUM(SUMIFS(unique_contracts!BU:BU,unique_contracts!$AB:$AB,{\"Buy\",\"Owned\"},unique_contracts!$BS:$BS,\"=\"&$B27&\" (\"&$G27&\")\",unique_contracts!$AM:$AM,\"<=\"&D$4,unique_contracts!$AP:$AP,\">=\"&D$4), SUMIFS(unique_contracts!BU:BU,unique_contracts!$AB:$AB,\"=\"&\"\",unique_contracts!$BS:$BS,\"=\"&$B27&\" (\"&$G27&\")\",unique_contracts!$AM:$AM,\"<=\"&D$4,unique_contracts!$AP:$AP,\">=\"&D$4))","v":0},{"$f":"SUM(SUMIFS(unique_contracts!BV:BV,unique_contracts!$AB:$AB,{\"Buy\",\"Owned\"},unique_contracts!$BS:$BS,\"=\"&$B27&\" (\"&$G27&\")\",unique_contracts!$AM:$AM,\"<=\"&E$4,unique_contracts!$AP:$AP,\">=\"&E$4), SUMIFS(unique_contracts!BV:BV,unique_contracts!$AB:$AB,\"=\"&\"\",unique_contracts!$BS:$BS,\"=\"&$B27&\" (\"&$G27&\")\",unique_contracts!$AM:$AM,\"<=\"&E$4,unique_contracts!$AP:$AP,\">=\"&E$4))","v":0},{"$f":"SUM(SUMIFS(unique_contracts!BW:BW,unique_contracts!$AB:$AB,{\"Buy\",\"Owned\"},unique_contracts!$BS:$BS,\"=\"&$B27&\" (\"&$G27&\")\",unique_contracts!$AM:$AM,\"<=\"&F$4,unique_contracts!$AP:$AP,\">=\"&F$4), SUMIFS(unique_contracts!BW:BW,unique_contracts!$AB:$AB,\"=\"&\"\",unique_contracts!$BS:$BS,\"=\"&$B27&\" (\"&$G27&\")\",unique_contracts!$AM:$AM,\"<=\"&F$4,unique_contracts!$AP:$AP,\">=\"&F$4))","v":0},{"$f":"SUMIFS(unique_contracts!BT:BT,unique_contracts!$AB:$AB,\"=Sell\",unique_contracts!$BS:$BS,\"=\"&$B27&\" (\"&$G27&\")\",unique_contracts!$AM:$AM,\"<=\"&C$4,unique_contracts!$AP:$AP,\">=\"&C$4)","v":0},{"$f":"SUMIFS(unique_contracts!BU:BU,unique_contracts!$AB:$AB,\"=Sell\",unique_contracts!$BS:$BS,\"=\"&$B27&\" (\"&$G27&\")\",unique_contracts!$AM:$AM,\"<=\"&D$4,unique_contracts!$AP:$AP,\">=\"&D$4)","v":0},{"$f":"SUMIFS(unique_contracts!BV:BV,unique_contracts!$AB:$AB,\"=Sell\",unique_contracts!$BS:$BS,\"=\"&$B27&\" (\"&$G27&\")\",unique_contracts!$AM:$AM,\"<=\"&E$4,unique_contracts!$AP:$AP,\">=\"&E$4)","v":0},{"$f":"SUMIFS(unique_contracts!BW:BW,unique_contracts!$AB:$AB,\"=Sell\",unique_contracts!$BS:$BS,\"=\"&$B27&\" (\"&$G27&\")\",unique_contracts!$AM:$AM,\"<=\"&F$4,unique_contracts!$AP:$AP,\">=\"&F$4)","v":0},0,0,0,0]
[null,"Hybrid_or_Paired_Solar_and_Battery",230.86227199999968,690.31946809999999,690.53095400000097,690.52917320000188,"GWh","RPS Eligible",null,null,{"$f":"SUM(SUMIFS(unique_contracts!BT:BT,unique_contracts!$AB:$AB,{\"Buy\",\"Owned\"},unique_contracts!$BS:$BS,\"=\"&$B28&\" (\"&$G28&\")\",unique_contracts!$AM:$AM,\"<=\"&C$4,unique_contracts!$AP:$AP,\">=\"&C$4), SUMIFS(unique_contracts!BT:BT,unique_contracts!$AB:$AB,\"=\"&\"\",unique_contracts!$BS:$BS,\"=\"&$B28&\" (\"&$G28&\")\",unique_contracts!$AM:$AM,\"<=\"&C$4,unique_contracts!$AP:$AP,\">=\"&C$4))","v":230.86227199999968},{"$f":"SUM(SUMIFS(unique_contracts!BU:BU,unique_contracts!$AB:$AB,{\"Buy\",\"Owned\"},unique_contracts!$BS:$BS,\"=\"&$B28&\" (\"&$G28&\")\",unique_contracts!$AM:$AM,\"<=\"&D$4,unique_contracts!$AP:$AP,\">=\"&D$4), SUMIFS(unique_contracts!BU:BU,unique_contracts!$AB:$AB,\"=\"&\"\",unique_contracts!$BS:$BS,\"=\"&$B28&\" (\"&$G28&\")\",unique_contracts!$AM:$AM,\"<=\"&D$4,unique_contracts!$AP:$AP,\">=\"&D$4))","v":690.31946809999999},{"$f":"SUM(SUMIFS(unique_contracts!BV:BV,unique_contracts!$AB:$AB,{\"Buy\",\"Owned\"},unique_contracts!$BS:$BS,\"=\"&$B28&\" (\"&$G28&\")\",unique_contracts!$AM:$AM,\"<=\"&E$4,unique_contracts!$AP:$AP,\">=\"&E$4), SUMIFS(unique_contracts!BV:BV,unique_contracts!$AB:$AB,\"=\"&\"\",unique_contracts!$BS:$BS,\"=\"&$B28&\" (\"&$G28&\")\",unique_contracts!$AM:$AM,\"<=\"&E$4,unique_contracts!$AP:$AP,\">=\"&E$4))","v":690.53095400000097},{"$f":"SUM(SUMIFS(unique_contracts!BW:BW,unique_contracts!$AB:$AB,{\"Buy\",\"Owned\"},unique_contracts!$BS:$BS,\"=\"&$B28&\" (\"&$G28&\")\",unique_contracts!$AM:$AM,\"<=\"&F$4,unique_contracts!$AP:$AP,\">=\"&F$4), SUMIFS(unique_contracts!BW:BW,unique_contracts!$AB:$AB,\"=\"&\"\",unique_contracts!$BS:$BS,\"=\"&$B28&\" (\"&$G28&\")\",unique_contracts!$AM:$AM,\"<=\"&F$4,unique_contracts!$AP:$AP,\">=\"&F$4))","v":690.52917320000188},{"$f":"SUMIFS(unique_contracts!BT:BT,unique_contracts!$AB:$AB,\"=Sell\",unique_contracts!$BS:$BS,\"=\"&$B28&\" (\"&$G28&\")\",unique_contracts!$AM:$AM,\"<=\"&C$4,unique_contracts!$AP:$AP,\">=\"&C$4)","v":0},{"$f":"SUMIFS(unique_contracts!BU:BU,unique_contracts!$AB:$AB,\"=Sell\",unique_contracts!$BS:$BS,\"=\"&$B28&\" (\"&$G28&\")\",unique_contracts!$AM:$AM,\"<=\"&D$4,unique_contracts!$AP:$AP,\">=\"&D$4)","v":0},{"$f":"SUMIFS(unique_contracts!BV:BV,unique_contracts!$AB:$AB,\"=Sell\",unique_contracts!$BS:$BS,\"=\"&$B28&\" (\"&$G28&\")\",unique_contracts!$AM:$AM,\"<=\"&E$4,unique_contracts!$AP:$AP,\">=\"&E$4)","v":0},{"$f":"SUMIFS(unique_contracts!BW:BW,unique_contracts!$AB:$AB,\"=Sell\",unique_contracts!$BS:$BS,\"=\"&$B28&\" (\"&$G28&\")\",unique_contracts!$AM:$AM,\"<=\"&F$4,unique_contracts!$AP:$AP,\">=\"&F$4)","v":0},230.86227199999968,690.31946809999999,690.53095400000097,690.52917320000188]
[null,"Storage & DR"]
[null,"Shed DR",1.089,0,67,67,"MW","GHG-Free",null,null,{"$f":"SUM(SUMIFS(unique_contracts!BT:BT,unique_contracts!$AB:$AB,{\"Buy\",\"Owned\"},unique_contracts!$BS:$BS,\"=\"&$B30&\" (\"&$G30&\")\",unique_contracts!$AM:$AM,\"<=\"&C$4,unique_contracts!$AP:$AP,\">=\"&C$4), SUMIFS(unique_contracts!BT:BT,unique_contracts!$AB:$AB,\"=\"&\"\",unique_contracts!$BS:$BS,\"=\"&$B30&\" (\"&$G30&\")\",unique_contracts!$AM:$AM,\"<=\"&C$4,unique_contracts!$AP:$AP,\">=\"&C$4))","v":4.5},{"$f":"SUM(SUMIFS(unique_contracts!BU:BU,unique_contracts!$AB:$AB,{\"Buy\",\"Owned\"},unique_contracts!$BS:$BS,\"=\"&$B30&\" (\"&$G30&\")\",unique_contracts!$AM:$AM,\"<=\"&D$4,unique_contracts!$AP:$AP,\">=\"&D$4), SUMIFS(unique_contracts!BU:BU,unique_contracts!$AB:$AB,\"=\"&\"\",unique_contracts!$BS:$BS,\"=\"&$B30&\" (\"&$G30&\")\",unique_contracts!$AM:$AM,\"<=\"&D$4,unique_contracts!$AP:$AP,\">=\"&D$4))","v":0},{"$f":"SUM(SUMIFS(unique_contracts!BV:BV,unique_contracts!$AB:$AB,{\"Buy\",\"Owned\"},unique_contracts!$BS:$BS,\"=\"&$B30&\" (\"&$G30&\")\",unique_contracts!$AM:$AM,\"<=\"&E$4,unique_contracts!$AP:$AP,\">=\"&E$4), SUMIFS(unique_contracts!BV:BV,unique_contracts!$AB:$AB,\"=\"&\"\",unique_contracts!$BS:$BS,\"=\"&$B30&\" (\"&$G30&\")\",unique_contracts!$AM:$AM,\"<=\"&E$4,unique_contracts!$AP:$AP,\">=\"&E$4))","v":67},{"$f":"SUM(SUMIFS(unique_contracts!BW:BW,unique_contracts!$AB:$AB,{\"Buy\",\"Owned\"},unique_contracts!$BS:$BS,\"=\"&$B30&\" (\"&$G30&\")\",unique_contracts!$AM:$AM,\"<=\"&F$4,unique_contracts!$AP:$AP,\">=\"&F$4), SUMIFS(unique_contracts!BW:BW,unique_contracts!$AB:$AB,\"=\"&\"\",unique_contracts!$BS:$BS,\"=\"&$B30&\" (\"&$G30&\")\",unique_contracts!$AM:$AM,\"<=\"&F$4,unique_contracts!$AP:$AP,\">=\"&F$4))","v":67},{"$f":"SUMIFS(unique_contracts!BT:BT,unique_contracts!$AB:$AB,\"=Sell\",unique_contracts!$BS:$BS,\"=\"&$B30&\" (\"&$G30&\")\",unique_contracts!$AM:$AM,\"<=\"&C$4,unique_contracts!$AP:$AP,\">=\"&C$4)","v":3.411},{"$f":"SUMIFS(unique_contracts!BU:BU,unique_contracts!$AB:$AB,\"=Sell\",unique_contracts!$BS:$BS,\"=\"&$B30&\" (\"&$G30&\")\",unique_contracts!$AM:$AM,\"<=\"&D$4,unique_contracts!$AP:$AP,\">=\"&D$4)","v":0},{"$f":"SUMIFS(unique_contracts!BV:BV,unique_contracts!$AB:$AB,\"=Sell\",unique_contracts!$BS:$BS,\"=\"&$B30&\" (\"&$G30&\")\",unique_contracts!$AM:$AM,\"<=\"&E$4,unique_contracts!$AP:$AP,\">=\"&E$4)","v":0},{"$f":"SUMIFS(unique_contracts!BW:BW,unique_contracts!$AB:$AB,\"=Sell\",unique_contracts!$BS:$BS,\"=\"&$B30&\" (\"&$G30&\")\",unique_contracts!$AM:$AM,\"<=\"&F$4,unique_contracts!$AP:$AP,\">=\"&F$4)","v":0},1.089,0,67,67]
[null,"Pumped Storage",40,40,40,40,"MW","n/a",null,null,{"$f":"SUM(SUMIFS(unique_contracts!BT:BT,unique_contracts!$AB:$AB,{\"Buy\",\"Owned\"},unique_contracts!$BS:$BS,\"=\"&$B31&\" (\"&$G31&\")\",unique_contracts!$AM:$AM,\"<=\"&C$4,unique_contracts!$AP:$AP,\">=\"&C$4), SUMIFS(unique_contracts!BT:BT,unique_contracts!$AB:$AB,\"=\"&\"\",unique_contracts!$BS:$BS,\"=\"&$B31&\" (\"&$G31&\")\",unique_contracts!$AM:$AM,\"<=\"&C$4,unique_contracts!$AP:$AP,\">=\"&C$4))","v":40},{"$f":"SUM(SUMIFS(unique_contracts!BU:BU,unique_contracts!$AB:$AB,{\"Buy\",\"Owned\"},unique_contracts!$BS:$BS,\"=\"&$B31&\" (\"&$G31&\")\",unique_contracts!$AM:$AM,\"<=\"&D$4,unique_contracts!$AP:$AP,\">=\"&D$4), SUMIFS(unique_contracts!BU:BU,unique_contracts!$AB:$AB,\"=\"&\"\",unique_contracts!$BS:$BS,\"=\"&$B31&\" (\"&$G31&\")\",unique_contracts!$AM:$AM,\"<=\"&D$4,unique_contracts!$AP:$AP,\">=\"&D$4))","v":40},{"$f":"SUM(SUMIFS(unique_contracts!BV:BV,unique_contracts!$AB:$AB,{\"Buy\",\"Owned\"},unique_contracts!$BS:$BS,\"=\"&$B31&\" (\"&$G31&\")\",unique_contracts!$AM:$AM,\"<=\"&E$4,unique_contracts!$AP:$AP,\">=\"&E$4), SUMIFS(unique_contracts!BV:BV,unique_contracts!$AB:$AB,\"=\"&\"\",unique_contracts!$BS:$BS,\"=\"&$B31&\" (\"&$G31&\")\",unique_contracts!$AM:$AM,\"<=\"&E$4,unique_contracts!$AP:$AP,\">=\"&E$4))","v":40},{"$f":"SUM(SUMIFS(unique_contracts!BW:BW,unique_contracts!$AB:$AB,{\"Buy\",\"Owned\"},unique_contracts!$BS:$BS,\"=\"&$B31&\" (\"&$G31&\")\",unique_contracts!$AM:$AM,\"<=\"&F$4,unique_contracts!$AP:$AP,\">=\"&F$4), SUMIFS(unique_contracts!BW:BW,unique_contracts!$AB:$AB,\"=\"&\"\",unique_contracts!$BS:$BS,\"=\"&$B31&\" (\"&$G31&\")\",unique_contracts!$AM:$AM,\"<=\"&F$4,unique_contracts!$AP:$AP,\">=\"&F$4))","v":40},{"$f":"SUMIFS(unique_contracts!BT:BT,unique_contracts!$AB:$AB,\"=Sell\",unique_contracts!$BS:$BS,\"=\"&$B31&\" (\"&$G31&\")\",unique_contracts!$AM:$AM,\"<=\"&C$4,unique_contracts!$AP:$AP,\">=\"&C$4)","v":0},{"$f":"SUMIFS(unique_contracts!BU:BU,unique_contracts!$AB:$AB,\"=Sell\",unique_contracts!$BS:$BS,\"=\"&$B31&\" (\"&$G31&\")\",unique_contracts!$AM:$AM,\"<=\"&D$4,unique_contracts!$AP:$AP,\">=\"&D$4)","v":0},{"$f":"SUMIFS(unique_contracts!BV:BV,unique_contracts!$AB:$AB,\"=Sell\",unique_contracts!$BS:$BS,\"=\"&$B31&\" (\"&$G31&\")\",unique_contracts!$AM:$AM,\"<=\"&E$4,unique_contracts!$AP:$AP,\">=\"&E$4)","v":0},{"$f":"SUMIFS(unique_contracts!BW:BW,unique_contracts!$AB:$AB,\"=Sell\",unique_contracts!$BS:$BS,\"=\"&$B31&\" (\"&$G31&\")\",unique_contracts!$AM:$AM,\"<=\"&F$4,unique_contracts!$AP:$AP,\">=\"&F$4)","v":0},40,40,40,40]
[null,"Battery Storage",1569.34,2009.34,2009.34,1929.34,"MWh Energy Capacity","n/a",null,null,{"$f":"SUM(SUMIFS(unique_contracts!BT:BT,unique_contracts!$AB:$AB,{\"Buy\",\"Owned\"},unique_contracts!$BS:$BS,\"=\"&$B32&\" (\"&$G32&\")\",unique_contracts!$AM:$AM,\"<=\"&C$4,unique_contracts!$AP:$AP,\">=\"&C$4), SUMIFS(unique_contracts!BT:BT,unique_contracts!$AB:$AB,\"=\"&\"\",unique_contracts!$BS:$BS,\"=\"&$B32&\" (\"&$G32&\")\",unique_contracts!$AM:$AM,\"<=\"&C$4,unique_contracts!$AP:$AP,\">=\"&C$4))","v":1774},{"$f":"SUM(SUMIFS(unique_contracts!BU:BU,unique_contracts!$AB:$AB,{\"Buy\",\"Owned\"},unique_contracts!$BS:$BS,\"=\"&$B32&\" (\"&$G32&\")\",unique_contracts!$AM:$AM,\"<=\"&D$4,unique_contracts!$AP:$AP,\">=\"&D$4), SUMIFS(unique_contracts!BU:BU,unique_contracts!$AB:$AB,\"=\"&\"\",unique_contracts!$BS:$BS,\"=\"&$B32&\" (\"&$G32&\")\",unique_contracts!$AM:$AM,\"<=\"&D$4,unique_contracts!$AP:$AP,\">=\"&D$4))","v":2214},{"$f":"SUM(SUMIFS(unique_contracts!BV:BV,unique_contracts!$AB:$AB,{\"Buy\",\"Owned\"},unique_contracts!$BS:$BS,\"=\"&$B32&\" (\"&$G32&\")\",unique_contracts!$AM:$AM,\"<=\"&E$4,unique_contracts!$AP:$AP,\">=\"&E$4), SUMIFS(unique_contracts!BV:BV,unique_contracts!$AB:$AB,\"=\"&\"\",unique_contracts!$BS:$BS,\"=\"&$B32&\" (\"&$G32&\")\",unique_contracts!$AM:$AM,\"<=\"&E$4,unique_contracts!$AP:$AP,\">=\"&E$4))","v":2214},{"$f":"SUM(SUMIFS(unique_contracts!BW:BW,unique_contracts!$AB:$AB,{\"Buy\",\"Owned\"},unique_contracts!$BS:$BS,\"=\"&$B32&\" (\"&$G32&\")\",unique_contracts!$AM:$AM,\"<=\"&F$4,unique_contracts!$AP:$AP,\">=\"&F$4), SUMIFS(unique_contracts!BW:BW,unique_contracts!$AB:$AB,\"=\"&\"\",unique_contracts!$BS:$BS,\"=\"&$B32&\" (\"&$G32&\")\",unique_contracts!$AM:$AM,\"<=\"&F$4,unique_contracts!$AP:$AP,\">=\"&F$4))","v":2134},{"$f":"SUMIFS(unique_contracts!BT:BT,unique_contracts!$AB:$AB,\"=Sell\",unique_contracts!$BS:$BS,\"=\"&$B32&\" (\"&$G32&\")\",unique_contracts!$AM:$AM,\"<=\"&C$4,unique_contracts!$AP:$AP,\">=\"&C$4)","v":204.66},{"$f":"SUMIFS(unique_contracts!BU:BU,unique_contracts!$AB:$AB,\"=Sell\",unique_contracts!$BS:$BS,\"=\"&$B32&\" (\"&$G32&\")\",unique_contracts!$AM:$AM,\"<=\"&D$4,unique_contracts!$AP:$AP,\">=\"&D$4)","v":204.66},{"$f":"SUMIFS(unique_contracts!BV:BV,unique_contracts!$AB:$AB,\"=Sell\",unique_contracts!$BS:$BS,\"=\"&$B32&\" (\"&$G32&\")\",unique_contracts!$AM:$AM,\"<=\"&E$4,unique_contracts!$AP:$AP,\">=\"&E$4)","v":204.66},{"$f":"SUMIFS(unique_contracts!BW:BW,unique_contracts!$AB:$AB,\"=Sell\",unique_contracts!$BS:$BS,\"=\"&$B32&\" (\"&$G32&\")\",unique_contracts!$AM:$AM,\"<=\"&F$4,unique_contracts!$AP:$AP,\">=\"&F$4)","v":204.66},1569.34,2009.34,2009.34,1929.34]
[null,"User-Specified Profies"]
[null,"Storage Resource Custom Profile",0,{"$f":"T34","v":0},{"$f":"U34","v":0},{"$f":"V34","v":0},"MW","n/a",null,null,{"$f":"SUM(SUMIFS(unique_contracts!BT:BT,unique_contracts!$AB:$AB,{\"Buy\",\"Owned\"},unique_contracts!$BS:$BS,\"=\"&$B34&\" (\"&$G34&\")\",unique_contracts!$AM:$AM,\"<=\"&C$4,unique_contracts!$AP:$AP,\">=\"&C$4), SUMIFS(unique_contracts!BT:BT,unique_contracts!$AB:$AB,\"=\"&\"\",unique_contracts!$BS:$BS,\"=\"&$B34&\" (\"&$G34&\")\",unique_contracts!$AM:$AM,\"<=\"&C$4,unique_contracts!$AP:$AP,\">=\"&C$4))","v":0},{"$f":"SUM(SUMIFS(unique_contracts!BU:BU,unique_contracts!$AB:$AB,{\"Buy\",\"Owned\"},unique_contracts!$BS:$BS,\"=\"&$B34&\" (\"&$G34&\")\",unique_contracts!$AM:$AM,\"<=\"&D$4,unique_contracts!$AP:$AP,\">=\"&D$4), SUMIFS(unique_contracts!BU:BU,unique_contracts!$AB:$AB,\"=\"&\"\",unique_contracts!$BS:$BS,\"=\"&$B34&\" (\"&$G34&\")\",unique_contracts!$AM:$AM,\"<=\"&D$4,unique_contracts!$AP:$AP,\">=\"&D$4))","v":0},{"$f":"SUM(SUMIFS(unique_contracts!BV:BV,unique_contracts!$AB:$AB,{\"Buy\",\"Owned\"},unique_contracts!$BS:$BS,\"=\"&$B34&\" (\"&$G34&\")\",unique_contracts!$AM:$AM,\"<=\"&E$4,unique_contracts!$AP:$AP,\">=\"&E$4), SUMIFS(unique_contracts!BV:BV,unique_contracts!$AB:$AB,\"=\"&\"\",unique_contracts!$BS:$BS,\"=\"&$B34&\" (\"&$G34&\")\",unique_contracts!$AM:$AM,\"<=\"&E$4,unique_contracts!$AP:$AP,\">=\"&E$4))","v":0},{"$f":"SUM(SUMIFS(unique_contracts!BW:BW,unique_contracts!$AB:$AB,{\"Buy\",\"Owned\"},unique_contracts!$BS:$BS,\"=\"&$B34&\" (\"&$G34&\")\",unique_contracts!$AM:$AM,\"<=\"&F$4,unique_contracts!$AP:$AP,\">=\"&F$4), SUMIFS(unique_contracts!BW:BW,unique_contracts!$AB:$AB,\"=\"&\"\",unique_contracts!$BS:$BS,\"=\"&$B34&\" (\"&$G34&\")\",unique_contracts!$AM:$AM,\"<=\"&F$4,unique_contracts!$AP:$AP,\">=\"&F$4))","v":0},{"$f":"SUMIFS(unique_contracts!BT:BT,unique_contracts!$AB:$AB,\"=Sell\",unique_contracts!$BS:$BS,\"=\"&$B34&\" (\"&$G34&\")\",unique_contracts!$AM:$AM,\"<=\"&C$4,unique_contracts!$AP:$AP,\">=\"&C$4)","v":0},{"$f":"SUMIFS(unique_contracts!BU:BU,unique_contracts!$AB:$AB,\"=Sell\",unique_contracts!$BS:$BS,\"=\"&$B34&\" (\"&$G34&\")\",unique_contracts!$AM:$AM,\"<=\"&D$4,unique_contracts!$AP:$AP,\">=\"&D$4)","v":0},{"$f":"SUMIFS(unique_contracts!BV:BV,unique_contracts!$AB:$AB,\"=Sell\",unique_contracts!$BS:$BS,\"=\"&$B34&\" (\"&$G34&\")\",unique_contracts!$AM:$AM,\"<=\"&E$4,unique_contracts!$AP:$AP,\">=\"&E$4)","v":0},{"$f":"SUMIFS(unique_contracts!BW:BW,unique_contracts!$AB:$AB,\"=Sell\",unique_contracts!$BS:$BS,\"=\"&$B34&\" (\"&$G34&\")\",unique_contracts!$AM:$AM,\"<=\"&F$4,unique_contracts!$AP:$AP,\">=\"&F$4)","v":0},{"$f":"K34-O34","v":0},{"$f":"L34-P34","v":0},{"$f":"M34-Q34","v":0},{"$f":"N34-R34","v":0}]
[null,"RPS Resource Custom Profile ",0,0,0,0,"GWh","RPS Eligible",null,null,{"$f":"SUM(SUMIFS(unique_contracts!BT:BT,unique_contracts!$AB:$AB,{\"Buy\",\"Owned\"},unique_contracts!$BS:$BS,\"=\"&$B35&\" (\"&$G35&\")\",unique_contracts!$AM:$AM,\"<=\"&C$4,unique_contracts!$AP:$AP,\">=\"&C$4), SUMIFS(unique_contracts!BT:BT,unique_contracts!$AB:$AB,\"=\"&\"\",unique_contracts!$BS:$BS,\"=\"&$B35&\" (\"&$G35&\")\",unique_contracts!$AM:$AM,\"<=\"&C$4,unique_contracts!$AP:$AP,\">=\"&C$4))","v":0},{"$f":"SUM(SUMIFS(unique_contracts!BU:BU,unique_contracts!$AB:$AB,{\"Buy\",\"Owned\"},unique_contracts!$BS:$BS,\"=\"&$B35&\" (\"&$G35&\")\",unique_contracts!$AM:$AM,\"<=\"&D$4,unique_contracts!$AP:$AP,\">=\"&D$4), SUMIFS(unique_contracts!BU:BU,unique_contracts!$AB:$AB,\"=\"&\"\",unique_contracts!$BS:$BS,\"=\"&$B35&\" (\"&$G35&\")\",unique_contracts!$AM:$AM,\"<=\"&D$4,unique_contracts!$AP:$AP,\">=\"&D$4))","v":0},{"$f":"SUM(SUMIFS(unique_contracts!BV:BV,unique_contracts!$AB:$AB,{\"Buy\",\"Owned\"},unique_contracts!$BS:$BS,\"=\"&$B35&\" (\"&$G35&\")\",unique_contracts!$AM:$AM,\"<=\"&E$4,unique_contracts!$AP:$AP,\">=\"&E$4), SUMIFS(unique_contracts!BV:BV,unique_contracts!$AB:$AB,\"=\"&\"\",unique_contracts!$BS:$BS,\"=\"&$B35&\" (\"&$G35&\")\",unique_contracts!$AM:$AM,\"<=\"&E$4,unique_contracts!$AP:$AP,\">=\"&E$4))","v":0},{"$f":"SUM(SUMIFS(unique_contracts!BW:BW,unique_contracts!$AB:$AB,{\"Buy\",\"Owned\"},unique_contracts!$BS:$BS,\"=\"&$B35&\" (\"&$G35&\")\",unique_contracts!$AM:$AM,\"<=\"&F$4,unique_contracts!$AP:$AP,\">=\"&F$4), SUMIFS(unique_contracts!BW:BW,unique_contracts!$AB:$AB,\"=\"&\"\",unique_contracts!$BS:$BS,\"=\"&$B35&\" (\"&$G35&\")\",unique_contracts!$AM:$AM,\"<=\"&F$4,unique_contracts!$AP:$AP,\">=\"&F$4))","v":0},{"$f":"SUMIFS(unique_contracts!BT:BT,unique_contracts!$AB:$AB,\"=Sell\",unique_contracts!$BS:$BS,\"=\"&$B35&\" (\"&$G35&\")\",unique_contracts!$AM:$AM,\"<=\"&C$4,unique_contracts!$AP:$AP,\">=\"&C$4)","v":0},{"$f":"SUMIFS(unique_contracts!BU:BU,unique_contracts!$AB:$AB,\"=Sell\",unique_contracts!$BS:$BS,\"=\"&$B35&\" (\"&$G35&\")\",unique_contracts!$AM:$AM,\"<=\"&D$4,unique_contracts!$AP:$AP,\">=\"&D$4)","v":0},{"$f":"SUMIFS(unique_contracts!BV:BV,unique_contracts!$AB:$AB,\"=Sell\",unique_contracts!$BS:$BS,\"=\"&$B35&\" (\"&$G35&\")\",unique_contracts!$AM:$AM,\"<=\"&E$4,unique_contracts!$AP:$AP,\">=\"&E$4)","v":0},{"$f":"SUMIFS(unique_contracts!BW:BW,unique_contracts!$AB:$AB,\"=Sell\",unique_contracts!$BS:$BS,\"=\"&$B35&\" (\"&$G35&\")\",unique_contracts!$AM:$AM,\"<=\"&F$4,unique_contracts!$AP:$AP,\">=\"&F$4)","v":0},0,0,0,0]
[null,"GHG-free non-RPS Resource",0,0,0,0,"GWh","GHG-Free",null,null,{"$f":"SUM(SUMIFS(unique_contracts!BT:BT,unique_contracts!$AB:$AB,{\"Buy\",\"Owned\"},unique_contracts!$BS:$BS,\"=\"&$B36&\" (\"&$G36&\")\",unique_contracts!$AM:$AM,\"<=\"&C$4,unique_contracts!$AP:$AP,\">=\"&C$4), SUMIFS(unique_contracts!BT:BT,unique_contracts!$AB:$AB,\"=\"&\"\",unique_contracts!$BS:$BS,\"=\"&$B36&\" (\"&$G36&\")\",unique_contracts!$AM:$AM,\"<=\"&C$4,unique_contracts!$AP:$AP,\">=\"&C$4))","v":0},{"$f":"SUM(SUMIFS(unique_contracts!BU:BU,unique_contracts!$AB:$AB,{\"Buy\",\"Owned\"},unique_contracts!$BS:$BS,\"=\"&$B36&\" (\"&$G36&\")\",unique_contracts!$AM:$AM,\"<=\"&D$4,unique_contracts!$AP:$AP,\">=\"&D$4), SUMIFS(unique_contracts!BU:BU,unique_contracts!$AB:$AB,\"=\"&\"\",unique_contracts!$BS:$BS,\"=\"&$B36&\" (\"&$G36&\")\",unique_contracts!$AM:$AM,\"<=\"&D$4,unique_contracts!$AP:$AP,\">=\"&D$4))","v":0},{"$f":"SUM(SUMIFS(unique_contracts!BV:BV,unique_contracts!$AB:$AB,{\"Buy\",\"Owned\"},unique_contracts!$BS:$BS,\"=\"&$B36&\" (\"&$G36&\")\",unique_contracts!$AM:$AM,\"<=\"&E$4,unique_contracts!$AP:$AP,\">=\"&E$4), SUMIFS(unique_contracts!BV:BV,unique_contracts!$AB:$AB,\"=\"&\"\",unique_contracts!$BS:$BS,\"=\"&$B36&\" (\"&$G36&\")\",unique_contracts!$AM:$AM,\"<=\"&E$4,unique_contracts!$AP:$AP,\">=\"&E$4))","v":0},{"$f":"SUM(SUMIFS(unique_contracts!BW:BW,unique_contracts!$AB:$AB,{\"Buy\",\"Owned\"},unique_contracts!$BS:$BS,\"=\"&$B36&\" (\"&$G36&\")\",unique_contracts!$AM:$AM,\"<=\"&F$4,unique_contracts!$AP:$AP,\">=\"&F$4), SUMIFS(unique_contracts!BW:BW,unique_contracts!$AB:$AB,\"=\"&\"\",unique_contracts!$BS:$BS,\"=\"&$B36&\" (\"&$G36&\")\",unique_contracts!$AM:$AM,\"<=\"&F$4,unique_contracts!$AP:$AP,\">=\"&F$4))","v":0},{"$f":"SUMIFS(unique_contracts!BT:BT,unique_contracts!$AB:$AB,\"=Sell\",unique_contracts!$BS:$BS,\"=\"&$B36&\" (\"&$G36&\")\",unique_contracts!$AM:$AM,\"<=\"&C$4,unique_contracts!$AP:$AP,\">=\"&C$4)","v":0},{"$f":"SUMIFS(unique_contracts!BU:BU,unique_contracts!$AB:$AB,\"=Sell\",unique_contracts!$BS:$BS,\"=\"&$B36&\" (\"&$G36&\")\",unique_contracts!$AM:$AM,\"<=\"&D$4,unique_contracts!$AP:$AP,\">=\"&D$4)","v":0},{"$f":"SUMIFS(unique_contracts!BV:BV,unique_contracts!$AB:$AB,\"=Sell\",unique_contracts!$BS:$BS,\"=\"&$B36&\" (\"&$G36&\")\",unique_contracts!$AM:$AM,\"<=\"&E$4,unique_contracts!$AP:$AP,\">=\"&E$4)","v":0},{"$f":"SUMIFS(unique_contracts!BW:BW,unique_contracts!$AB:$AB,\"=Sell\",unique_contracts!$BS:$BS,\"=\"&$B36&\" (\"&$G36&\")\",unique_contracts!$AM:$AM,\"<=\"&F$4,unique_contracts!$AP:$AP,\">=\"&F$4)","v":0},0,0,0,0]
[null,"Coal"]
[null,"Coal",0,0,0,0,"GWh","n/a",null,null,{"$f":"SUM(SUMIFS(unique_contracts!BT:BT,unique_contracts!$AB:$AB,{\"Buy\",\"Owned\"},unique_contracts!$BS:$BS,\"=\"&$B38&\" (\"&$G38&\")\",unique_contracts!$AM:$AM,\"<=\"&C$4,unique_contracts!$AP:$AP,\">=\"&C$4), SUMIFS(unique_contracts!BT:BT,unique_contracts!$AB:$AB,\"=\"&\"\",unique_contracts!$BS:$BS,\"=\"&$B38&\" (\"&$G38&\")\",unique_contracts!$AM:$AM,\"<=\"&C$4,unique_contracts!$AP:$AP,\">=\"&C$4))","v":0},{"$f":"SUM(SUMIFS(unique_contracts!BU:BU,unique_contracts!$AB:$AB,{\"Buy\",\"Owned\"},unique_contracts!$BS:$BS,\"=\"&$B38&\" (\"&$G38&\")\",unique_contracts!$AM:$AM,\"<=\"&D$4,unique_contracts!$AP:$AP,\">=\"&D$4), SUMIFS(unique_contracts!BU:BU,unique_contracts!$AB:$AB,\"=\"&\"\",unique_contracts!$BS:$BS,\"=\"&$B38&\" (\"&$G38&\")\",unique_contracts!$AM:$AM,\"<=\"&D$4,unique_contracts!$AP:$AP,\">=\"&D$4))","v":0},{"$f":"SUM(SUMIFS(unique_contracts!BV:BV,unique_contracts!$AB:$AB,{\"Buy\",\"Owned\"},unique_contracts!$BS:$BS,\"=\"&$B38&\" (\"&$G38&\")\",unique_contracts!$AM:$AM,\"<=\"&E$4,unique_contracts!$AP:$AP,\">=\"&E$4), SUMIFS(unique_contracts!BV:BV,unique_contracts!$AB:$AB,\"=\"&\"\",unique_contracts!$BS:$BS,\"=\"&$B38&\" (\"&$G38&\")\",unique_contracts!$AM:$AM,\"<=\"&E$4,unique_contracts!$AP:$AP,\">=\"&E$4))","v":0},{"$f":"SUM(SUMIFS(unique_contracts!BW:BW,unique_contracts!$AB:$AB,{\"Buy\",\"Owned\"},unique_contracts!$BS:$BS,\"=\"&$B38&\" (\"&$G38&\")\",unique_contracts!$AM:$AM,\"<=\"&F$4,unique_contracts!$AP:$AP,\">=\"&F$4), SUMIFS(unique_contracts!BW:BW,unique_contracts!$AB:$AB,\"=\"&\"\",unique_contracts!$BS:$BS,\"=\"&$B38&\" (\"&$G38&\")\",unique_contracts!$AM:$AM,\"<=\"&F$4,unique_contracts!$AP:$AP,\">=\"&F$4))","v":0},{"$f":"SUMIFS(unique_contracts!BT:BT,unique_contracts!$AB:$AB,\"=Sell\",unique_contracts!$BS:$BS,\"=\"&$B38&\" (\"&$G38&\")\",unique_contracts!$AM:$AM,\"<=\"&C$4,unique_contracts!$AP:$AP,\">=\"&C$4)","v":0},{"$f":"SUMIFS(unique_contracts!BU:BU,unique_contracts!$AB:$AB,\"=Sell\",unique_contracts!$BS:$BS,\"=\"&$B38&\" (\"&$G38&\")\",unique_contracts!$AM:$AM,\"<=\"&D$4,unique_contracts!$AP:$AP,\">=\"&D$4)","v":0},{"$f":"SUMIFS(unique_contracts!BV:BV,unique_contracts!$AB:$AB,\"=Sell\",unique_contracts!$BS:$BS,\"=\"&$B38&\" (\"&$G38&\")\",unique_contracts!$AM:$AM,\"<=\"&E$4,unique_contracts!$AP:$AP,\">=\"&E$4)","v":0},{"$f":"SUMIFS(unique_contracts!BW:BW,unique_contracts!$AB:$AB,\"=Sell\",unique_contracts!$BS:$BS,\"=\"&$B38&\" (\"&$G38&\")\",unique_contracts!$AM:$AM,\"<=\"&F$4,unique_contracts!$AP:$AP,\">=\"&F$4)","v":0},0,0,0,0]